{"text_format":"1","workbook":"xlsx","n_sheets":11,"sheets":["訂單","入貨單","商品","資料庫","客戶","SEND","工作表4","訂貨","庫存計算","SIMBA LIST","SIMBA入庫表"],"not_rendered":{"charts":0,"images":1,"macros":1,"external_links":0,"defined_names":7,"comments":0,"pivot_tables":3},"unopened":[],"bounds":{"document_bytes":16777216,"sheet_cells":100000,"rows_first":2000,"rows_last":500,"rows_between":2000,"halvings":0,"cell_chars":16384,"cell_head_chars":4096},"cells_cut":0,"cells_raw":0,"read":"whole","date_system":"1900"}

{"sheet":"訂單","index":0,"n_rows":27,"n_cols":8,"rows_kept":27,"cut":false,"hidden":false,"merged":[[23,2,23,6],[2,6,2,7]]}
["INVOICE_START"]
[]
[null,null,"INVOICE",null,null,null,"WWW.1683KIDS.COM\nIG: 1683_KIDS"]
[]
[null,null,"客戶電話"]
[null,null,null,null,null,"訂單編號",232]
[null,null,null,null,null,"訂單日期","2024-10-29"]
[]
[null,null,"編號","產品項目","數量","單價","金額"]
["ITEM NOT ENOUGH",null,{"$f":"_xlfn.XLOOKUP(D10,表格2[產品],表格2[編號],\"\")","v":{"$error":"#NAME?"}},"APPLE",10,{"$f":"IFERROR(VLOOKUP(D10,表格2[[產品]:[單價]],3,0),\"\")","v":""},{"$f":"IF(OR(E10=\"\",F10=\"\"),\"\",E10*F10)","v":""}]
["CHECK_OUT_OK",null,{"$f":"_xlfn.XLOOKUP(D11,表格2[產品],表格2[編號],\"\")","v":{"$error":"#NAME?"}},"-小獅王-嬰兒乾溼兩用巾(80抽)粉色包裝-",null,{"$f":"IFERROR(VLOOKUP(D11,表格2[[產品]:[單價]],3,0),\"\")","v":0},{"$f":"IF(OR(E11=\"\",F11=\"\"),\"\",E11*F11)","v":""}]
["PRESALE_NOT_CHECKED",null,{"$f":"_xlfn.XLOOKUP(D12,表格2[產品],表格2[編號],\"\")","v":{"$error":"#NAME?"}},"三合一-粉90-",null,{"$f":"IFERROR(VLOOKUP(D12,表格2[[產品]:[單價]],3,0),\"\")","v":139},""]
["ITEM NOT ENOUGH",null,{"$f":"_xlfn.XLOOKUP(D13,表格2[產品],表格2[編號],\"\")","v":{"$error":"#NAME?"}},"安撫奶嘴-小獅王-蘊蜜超柔拇指安撫奶嘴(晨藍)-初生-",null,{"$f":"IFERROR(VLOOKUP(D13,表格2[[產品]:[單價]],3,0),\"\")","v":45},""]
[null,null,{"$f":"_xlfn.XLOOKUP(D14,表格2[產品],表格2[編號],\"\")","v":""},null,null,{"$f":"IFERROR(VLOOKUP(D14,表格2[[產品]:[單價]],3,0),\"\")","v":""},""]
[null,null,{"$f":"_xlfn.XLOOKUP(D15,表格2[產品],表格2[編號],\"\")","v":""},null,null,{"$f":"IFERROR(VLOOKUP(D15,表格2[[產品]:[單價]],3,0),\"\")","v":""},""]
[null,null,{"$f":"_xlfn.XLOOKUP(D16,表格2[產品],表格2[編號],\"\")","v":""},null,null,{"$f":"IFERROR(VLOOKUP(D16,表格2[[產品]:[單價]],3,0),\"\")","v":""},""]
[null,null,null,"ITEM_END",null,"總金額",{"$f":"SUM(G10:G16)","v":0}]
[null,null,"付款方式:"]
[null,null,"FPS 轉數快: 59831890",null,null,"收件方式:"]
[null,null,"PAYME: 5983180",null,null,"順豐到付"]
[null,null,"ALIPAY: 59831890",null,null,"大埔廣場自提點 (需提前約時間)"]
[]
[null,null,"為免出現棄單情況,請於24小時內或截單前轉數,入數後請whatsapp 收據,否則會視訂單無效🙏🏻"]
[null,null,"訂單細則:\n1.\t訂單已確立後,不可更改尺碼或款式\n2.\t預訂產品有機會延誤或早到,不接受貨期延誤作退款原因\n3.\t貨品不設退換, 寄出前會檢查清楚才寄出\n4.\t寄出前會WHATSAPP拍攝寄出的產品, 請檢查款式是否正確\n5.\t如發現產品有任何問題,請簽收後48小時內通知,逾期通知恕不處理"]
[]
[]
[null,null,null,null,null,null,null,"INVOICE_END"]

{"sheet":"入貨單","index":1,"n_rows":31,"n_cols":8,"rows_kept":31,"cut":false,"hidden":false,"merged":[[2,6,2,7]]}
["INVOICE_START"]
[]
[null,null,"1683KIDS_訂貨單"]
[]
[]
[]
[]
[]
[null,null,"編號","產品項目","數量","入貨價","金額"]
["ITEM_FOUND",null,{"$f":"_xlfn.XLOOKUP(D10,表格2[產品],表格2[編號],\"\")","v":{"$error":"#NAME?"}},"三合一-粉90-",1,null,{"$f":"IF(OR(E10=\"\",F10=\"\"),\"\",E10*F10)","v":""}]
["ITEM_NOT_FOUND",null,{"$f":"_xlfn.XLOOKUP(D11,表格2[產品],表格2[編號],\"\")","v":{"$error":"#NAME?"}},"三合一-橙90-",2,null,""]
[]
[]
[]
[null,null,{"$f":"_xlfn.XLOOKUP(D15,表格2[產品],表格2[編號],\"\")","v":""},null,null,null,""]
[null,null,{"$f":"_xlfn.XLOOKUP(D16,表格2[產品],表格2[編號],\"\")","v":""},null,null,null,""]
[null,null,{"$f":"_xlfn.XLOOKUP(D17,表格2[產品],表格2[編號],\"\")","v":""},null,null,null,""]
[]
[null,null,{"$f":"_xlfn.XLOOKUP(D19,表格2[產品],表格2[編號],\"\")","v":""},null,null,null,""]
[null,null,{"$f":"_xlfn.XLOOKUP(D20,表格2[產品],表格2[編號],\"\")","v":""},null,null,null,""]
[null,null,null,null,null,"總金額",{"$f":"SUM(G10:G20)","v":0}]
[]
[]
[]
[]
[]
[]
[]
[]
[]
[null,null,null,null,null,null,null,"INVOICE_END"]

{"sheet":"商品","index":2,"n_rows":457,"n_cols":11,"rows_kept":457,"cut":false,"hidden":false,"merged":[]}
["編號","產品","入貨價","單價","出POST日期","到貨日","狀態","ITEM","SIZE","顏色","貨源"]
["A0001",{"$f":"表格2[[#This Row],[ITEM]]&\"-\"&表格2[[#This Row],[SIZE]]&\"-\"&表格2[[#This Row],[顏色]]","v":"三合一-粉160-"},null,139,null,null,null,"三合一","粉160"]
["A0001",{"$f":"表格2[[#This Row],[ITEM]]&\"-\"&表格2[[#This Row],[SIZE]]&\"-\"&表格2[[#This Row],[顏色]]","v":"三合一-粉80-"},null,139,null,null,null,"三合一","粉80"]
["A0001",{"$f":"表格2[[#This Row],[ITEM]]&\"-\"&表格2[[#This Row],[SIZE]]&\"-\"&表格2[[#This Row],[顏色]]","v":"三合一-粉90-"},null,139,null,null,null,"三合一","粉90"]
["A0001",{"$f":"表格2[[#This Row],[ITEM]]&\"-\"&表格2[[#This Row],[SIZE]]&\"-\"&表格2[[#This Row],[顏色]]","v":"三合一-橙100-"},null,139,null,null,null,"三合一","橙100"]
["A0001",{"$f":"表格2[[#This Row],[ITEM]]&\"-\"&表格2[[#This Row],[SIZE]]&\"-\"&表格2[[#This Row],[顏色]]","v":"三合一-橙110-"},null,139,null,null,null,"三合一","橙110"]
["A0001",{"$f":"表格2[[#This Row],[ITEM]]&\"-\"&表格2[[#This Row],[SIZE]]&\"-\"&表格2[[#This Row],[顏色]]","v":"三合一-橙90-"},null,139,null,null,null,"三合一","橙90"]
["A0001",{"$f":"表格2[[#This Row],[ITEM]]&\"-\"&表格2[[#This Row],[SIZE]]&\"-\"&表格2[[#This Row],[顏色]]","v":"三合一-藍100-"},null,139,null,null,null,"三合一","藍100"]
["A0001",{"$f":"表格2[[#This Row],[ITEM]]&\"-\"&表格2[[#This Row],[SIZE]]&\"-\"&表格2[[#This Row],[顏色]]","v":"三合一-藍160-"},null,139,null,null,null,"三合一","藍160"]
["A0001",{"$f":"表格2[[#This Row],[ITEM]]&\"-\"&表格2[[#This Row],[SIZE]]&\"-\"&表格2[[#This Row],[顏色]]","v":"三合一-藍80-"},null,139,null,null,null,"三合一","藍80"]
["A0001",{"$f":"表格2[[#This Row],[ITEM]]&\"-\"&表格2[[#This Row],[SIZE]]&\"-\"&表格2[[#This Row],[顏色]]","v":"三合一-藍90-"},null,139,null,null,null,"三合一","藍90"]
["A0002",{"$f":"表格2[[#This Row],[ITEM]]&\"-\"&表格2[[#This Row],[SIZE]]&\"-\"&表格2[[#This Row],[顏色]]","v":"小兵-18-24-"},null,38,null,null,null,"小兵","18-24"]
["A0003",{"$f":"表格2[[#This Row],[ITEM]]&\"-\"&表格2[[#This Row],[SIZE]]&\"-\"&表格2[[#This Row],[顏色]]","v":"小魔怪-100-"},null,85,null,null,null,"小魔怪",100]
["A0003",{"$f":"表格2[[#This Row],[ITEM]]&\"-\"&表格2[[#This Row],[SIZE]]&\"-\"&表格2[[#This Row],[顏色]]","v":"小魔怪-120-"},null,85,null,null,null,"小魔怪",120]
["A0004",{"$f":"表格2[[#This Row],[ITEM]]&\"-\"&表格2[[#This Row],[SIZE]]&\"-\"&表格2[[#This Row],[顏色]]","v":"毛衛衣-MELODY80-"},null,69,null,null,null,"毛衛衣","MELODY80"]
["A0004",{"$f":"表格2[[#This Row],[ITEM]]&\"-\"&表格2[[#This Row],[SIZE]]&\"-\"&表格2[[#This Row],[顏色]]","v":"毛衛衣-MELODY90-"},null,null,null,null,null,"毛衛衣","MELODY90"]
["A0005",{"$f":"表格2[[#This Row],[ITEM]]&\"-\"&表格2[[#This Row],[SIZE]]&\"-\"&表格2[[#This Row],[顏色]]","v":"水怪滿印set-90-"},null,75,null,null,null,"水怪滿印set",90]
["A0006",{"$f":"表格2[[#This Row],[ITEM]]&\"-\"&表格2[[#This Row],[SIZE]]&\"-\"&表格2[[#This Row],[顏色]]","v":"印章--"},null,65,null,null,null,"印章"]
["A0007",{"$f":"表格2[[#This Row],[ITEM]]&\"-\"&表格2[[#This Row],[SIZE]]&\"-\"&表格2[[#This Row],[顏色]]","v":"吊帶褲-水110-"},null,79,null,null,null,"吊帶褲","水110"]
["A0007",{"$f":"表格2[[#This Row],[ITEM]]&\"-\"&表格2[[#This Row],[SIZE]]&\"-\"&表格2[[#This Row],[顏色]]","v":"吊帶褲-水90-"},null,79,null,null,null,"吊帶褲","水90"]
["A0007",{"$f":"表格2[[#This Row],[ITEM]]&\"-\"&表格2[[#This Row],[SIZE]]&\"-\"&表格2[[#This Row],[顏色]]","v":"吊帶褲-HT90-"},null,79,null,null,null,"吊帶褲","HT90"]
["A0008",{"$f":"表格2[[#This Row],[ITEM]]&\"-\"&表格2[[#This Row],[SIZE]]&\"-\"&表格2[[#This Row],[顏色]]","v":"安撫巾-水-"},null,null,null,null,null,"安撫巾","水"]
["A0008",{"$f":"表格2[[#This Row],[ITEM]]&\"-\"&表格2[[#This Row],[SIZE]]&\"-\"&表格2[[#This Row],[顏色]]","v":"安撫巾-玉-"},null,null,null,null,null,"安撫巾","玉"]
["A0008",{"$f":"表格2[[#This Row],[ITEM]]&\"-\"&表格2[[#This Row],[SIZE]]&\"-\"&表格2[[#This Row],[顏色]]","v":"安撫巾-KU-"},null,null,null,null,null,"安撫巾","KU"]
["A0009",{"$f":"表格2[[#This Row],[ITEM]]&\"-\"&表格2[[#This Row],[SIZE]]&\"-\"&表格2[[#This Row],[顏色]]","v":"冷衫-白90-"},null,null,null,null,null,"冷衫","白90"]
["A0009",{"$f":"表格2[[#This Row],[ITEM]]&\"-\"&表格2[[#This Row],[SIZE]]&\"-\"&表格2[[#This Row],[顏色]]","v":"冷衫-粉90-"},null,null,null,null,null,"冷衫","粉90"]
["A0010",{"$f":"表格2[[#This Row],[ITEM]]&\"-\"&表格2[[#This Row],[SIZE]]&\"-\"&表格2[[#This Row],[顏色]]","v":"冷衫-白-90-"},null,null,null,null,null,"冷衫-白",90]
["A0011",{"$f":"表格2[[#This Row],[ITEM]]&\"-\"&表格2[[#This Row],[SIZE]]&\"-\"&表格2[[#This Row],[顏色]]","v":"冷衫-啡-90-"},null,null,null,null,null,"冷衫-啡",90]
["A0012",{"$f":"表格2[[#This Row],[ITEM]]&\"-\"&表格2[[#This Row],[SIZE]]&\"-\"&表格2[[#This Row],[顏色]]","v":"和服-粉90-"},null,null,null,null,null,"和服","粉90"]
["A0013",{"$f":"表格2[[#This Row],[ITEM]]&\"-\"&表格2[[#This Row],[SIZE]]&\"-\"&表格2[[#This Row],[顏色]]","v":"姓名貼--"},null,null,null,null,null,"姓名貼"]
["A0014",{"$f":"表格2[[#This Row],[ITEM]]&\"-\"&表格2[[#This Row],[SIZE]]&\"-\"&表格2[[#This Row],[顏色]]","v":"知母時--"},null,null,null,null,null,"知母時"]
["A0015",{"$f":"表格2[[#This Row],[ITEM]]&\"-\"&表格2[[#This Row],[SIZE]]&\"-\"&表格2[[#This Row],[顏色]]","v":"花邊冷衫-白90-"},null,null,null,null,null,"花邊冷衫","白90"]
["A0015",{"$f":"表格2[[#This Row],[ITEM]]&\"-\"&表格2[[#This Row],[SIZE]]&\"-\"&表格2[[#This Row],[顏色]]","v":"花邊冷衫-粉100-"},null,null,null,null,null,"花邊冷衫","粉100"]
["A0015",{"$f":"表格2[[#This Row],[ITEM]]&\"-\"&表格2[[#This Row],[SIZE]]&\"-\"&表格2[[#This Row],[顏色]]","v":"花邊冷衫-粉90-"},null,null,null,null,null,"花邊冷衫","粉90"]
["A0016",{"$f":"表格2[[#This Row],[ITEM]]&\"-\"&表格2[[#This Row],[SIZE]]&\"-\"&表格2[[#This Row],[顏色]]","v":"星月亮水手-衛衣-灰90-"},null,null,null,null,null,"星月亮水手-衛衣","灰90"]
["A0016",{"$f":"表格2[[#This Row],[ITEM]]&\"-\"&表格2[[#This Row],[SIZE]]&\"-\"&表格2[[#This Row],[顏色]]","v":"星月亮水手-衛衣-藍90-"},null,null,null,null,null,"星月亮水手-衛衣","藍90"]
["A0017",{"$f":"表格2[[#This Row],[ITEM]]&\"-\"&表格2[[#This Row],[SIZE]]&\"-\"&表格2[[#This Row],[顏色]]","v":"星月亮水手-PAT-藍100-"},null,null,null,null,null,"星月亮水手-PAT","藍100"]
["A0018",{"$f":"表格2[[#This Row],[ITEM]]&\"-\"&表格2[[#This Row],[SIZE]]&\"-\"&表格2[[#This Row],[顏色]]","v":"秋褲2條裝-A-90-"},null,null,null,null,null,"秋褲2條裝-A",90]
["A0019",{"$f":"表格2[[#This Row],[ITEM]]&\"-\"&表格2[[#This Row],[SIZE]]&\"-\"&表格2[[#This Row],[顏色]]","v":"面包超人袋--"},null,null,null,null,null,"面包超人袋"]
["A0020",{"$f":"表格2[[#This Row],[ITEM]]&\"-\"&表格2[[#This Row],[SIZE]]&\"-\"&表格2[[#This Row],[顏色]]","v":"唐老鴨背包--"},null,null,null,null,null,"唐老鴨背包"]
["A0021",{"$f":"表格2[[#This Row],[ITEM]]&\"-\"&表格2[[#This Row],[SIZE]]&\"-\"&表格2[[#This Row],[顏色]]","v":"唐老鴨連身-66-"},null,null,null,null,null,"唐老鴨連身",66]
["A0021",{"$f":"表格2[[#This Row],[ITEM]]&\"-\"&表格2[[#This Row],[SIZE]]&\"-\"&表格2[[#This Row],[顏色]]","v":"唐老鴨連身-73-"},null,null,null,null,null,"唐老鴨連身",73]
["A0021",{"$f":"表格2[[#This Row],[ITEM]]&\"-\"&表格2[[#This Row],[SIZE]]&\"-\"&表格2[[#This Row],[顏色]]","v":"唐老鴨連身-80-"},null,null,null,null,null,"唐老鴨連身",80]
["A0021",{"$f":"表格2[[#This Row],[ITEM]]&\"-\"&表格2[[#This Row],[SIZE]]&\"-\"&表格2[[#This Row],[顏色]]","v":"唐老鴨連身-90-"},null,null,null,null,null,"唐老鴨連身",90]
["A0021",{"$f":"表格2[[#This Row],[ITEM]]&\"-\"&表格2[[#This Row],[SIZE]]&\"-\"&表格2[[#This Row],[顏色]]","v":"唐老鴨連身-100-"},null,null,null,null,null,"唐老鴨連身",100]
["A0022",{"$f":"表格2[[#This Row],[ITEM]]&\"-\"&表格2[[#This Row],[SIZE]]&\"-\"&表格2[[#This Row],[顏色]]","v":"現-牛仔花花裙-90-"},null,null,null,null,null,"現-牛仔花花裙",90]
["A0023",{"$f":"表格2[[#This Row],[ITEM]]&\"-\"&表格2[[#This Row],[SIZE]]&\"-\"&表格2[[#This Row],[顏色]]","v":"現-淺藍史迪仔aloha-3-6-"},null,null,null,null,null,"現-淺藍史迪仔aloha","3-6"]
["A0024",{"$f":"表格2[[#This Row],[ITEM]]&\"-\"&表格2[[#This Row],[SIZE]]&\"-\"&表格2[[#This Row],[顏色]]","v":"現-綠龍長袖-90--"},null,null,null,null,null,"現-綠龍長袖-90"]
["A0025",{"$f":"表格2[[#This Row],[ITEM]]&\"-\"&表格2[[#This Row],[SIZE]]&\"-\"&表格2[[#This Row],[顏色]]","v":"現-george-滿印littlemonkey-白-95-"},null,null,null,null,null,"現-george-滿印littlemonkey-白",95]
["A0026",{"$f":"表格2[[#This Row],[ITEM]]&\"-\"&表格2[[#This Row],[SIZE]]&\"-\"&表格2[[#This Row],[顏色]]","v":"單眼仔-包80-"},null,null,null,null,null,"單眼仔","包80"]
["A0026",{"$f":"表格2[[#This Row],[ITEM]]&\"-\"&表格2[[#This Row],[SIZE]]&\"-\"&表格2[[#This Row],[顏色]]","v":"單眼仔-衛100-"},null,null,null,null,null,"單眼仔","衛100"]
["A0026",{"$f":"表格2[[#This Row],[ITEM]]&\"-\"&表格2[[#This Row],[SIZE]]&\"-\"&表格2[[#This Row],[顏色]]","v":"單眼仔-衛130-"},null,null,null,null,null,"單眼仔","衛130"]
["A0027",{"$f":"表格2[[#This Row],[ITEM]]&\"-\"&表格2[[#This Row],[SIZE]]&\"-\"&表格2[[#This Row],[顏色]]","v":"間條連身-青90-"},null,null,null,null,null,"間條連身","青90"]
["A0027",{"$f":"表格2[[#This Row],[ITEM]]&\"-\"&表格2[[#This Row],[SIZE]]&\"-\"&表格2[[#This Row],[顏色]]","v":"間條連身-MELODY90-"},null,null,null,null,null,"間條連身","MELODY90"]
["A0028",{"$f":"表格2[[#This Row],[ITEM]]&\"-\"&表格2[[#This Row],[SIZE]]&\"-\"&表格2[[#This Row],[顏色]]","v":"獅子外套-90-"},null,null,null,null,null,"獅子外套",90]
["A0028",{"$f":"表格2[[#This Row],[ITEM]]&\"-\"&表格2[[#This Row],[SIZE]]&\"-\"&表格2[[#This Row],[顏色]]","v":"獅子外套-100-"},null,null,null,null,null,"獅子外套",100]
["A0029",{"$f":"表格2[[#This Row],[ITEM]]&\"-\"&表格2[[#This Row],[SIZE]]&\"-\"&表格2[[#This Row],[顏色]]","v":"獅子褲-90-"},null,null,null,null,null,"獅子褲",90]
["A0029",{"$f":"表格2[[#This Row],[ITEM]]&\"-\"&表格2[[#This Row],[SIZE]]&\"-\"&表格2[[#This Row],[顏色]]","v":"獅子褲-100-"},null,null,null,null,null,"獅子褲",100]
["A0030",{"$f":"表格2[[#This Row],[ITEM]]&\"-\"&表格2[[#This Row],[SIZE]]&\"-\"&表格2[[#This Row],[顏色]]","v":"睡衣SET B-90-"},null,null,null,null,null,"睡衣SET B",90]
["A0031",{"$f":"表格2[[#This Row],[ITEM]]&\"-\"&表格2[[#This Row],[SIZE]]&\"-\"&表格2[[#This Row],[顏色]]","v":"碎花衫-100-"},null,null,null,null,null,"碎花衫",100]
["A0032",{"$f":"表格2[[#This Row],[ITEM]]&\"-\"&表格2[[#This Row],[SIZE]]&\"-\"&表格2[[#This Row],[顏色]]","v":"聖誕老人連身-70-"},null,null,null,null,null,"聖誕老人連身",70]
["A0033",{"$f":"表格2[[#This Row],[ITEM]]&\"-\"&表格2[[#This Row],[SIZE]]&\"-\"&表格2[[#This Row],[顏色]]","v":"聖誕老人裙-100-"},null,null,null,null,null,"聖誕老人裙",100]
["A0034",{"$f":"表格2[[#This Row],[ITEM]]&\"-\"&表格2[[#This Row],[SIZE]]&\"-\"&表格2[[#This Row],[顏色]]","v":"聖誕鹿-80-"},null,null,null,null,null,"聖誕鹿",80]
["A0034",{"$f":"表格2[[#This Row],[ITEM]]&\"-\"&表格2[[#This Row],[SIZE]]&\"-\"&表格2[[#This Row],[顏色]]","v":"聖誕鹿-90-"},null,null,null,null,null,"聖誕鹿",90]
["A0034",{"$f":"表格2[[#This Row],[ITEM]]&\"-\"&表格2[[#This Row],[SIZE]]&\"-\"&表格2[[#This Row],[顏色]]","v":"聖誕鹿-100-"},null,null,null,null,null,"聖誕鹿",100]
["A0034",{"$f":"表格2[[#This Row],[ITEM]]&\"-\"&表格2[[#This Row],[SIZE]]&\"-\"&表格2[[#This Row],[顏色]]","v":"聖誕鹿-120-"},null,null,null,null,null,"聖誕鹿",120]
["A0035",{"$f":"表格2[[#This Row],[ITEM]]&\"-\"&表格2[[#This Row],[SIZE]]&\"-\"&表格2[[#This Row],[顏色]]","v":"聖誕樹-80-"},null,null,null,null,null,"聖誕樹",80]
["A0035",{"$f":"表格2[[#This Row],[ITEM]]&\"-\"&表格2[[#This Row],[SIZE]]&\"-\"&表格2[[#This Row],[顏色]]","v":"聖誕樹-90-"},null,null,null,null,null,"聖誕樹",90]
["A0035",{"$f":"表格2[[#This Row],[ITEM]]&\"-\"&表格2[[#This Row],[SIZE]]&\"-\"&表格2[[#This Row],[顏色]]","v":"聖誕樹-100-"},null,null,null,null,null,"聖誕樹",100]
["A0036",{"$f":"表格2[[#This Row],[ITEM]]&\"-\"&表格2[[#This Row],[SIZE]]&\"-\"&表格2[[#This Row],[顏色]]","v":"滿印熊-衛-白100-"},null,null,null,null,null,"滿印熊-衛","白100"]
["A0037",{"$f":"表格2[[#This Row],[ITEM]]&\"-\"&表格2[[#This Row],[SIZE]]&\"-\"&表格2[[#This Row],[顏色]]","v":"滿印熊-PAT-白100-"},null,null,null,null,null,"滿印熊-PAT","白100"]
["A0037",{"$f":"表格2[[#This Row],[ITEM]]&\"-\"&表格2[[#This Row],[SIZE]]&\"-\"&表格2[[#This Row],[顏色]]","v":"滿印熊-PAT-啡80-"},null,null,null,null,null,"滿印熊-PAT","啡80"]
["A0038",{"$f":"表格2[[#This Row],[ITEM]]&\"-\"&表格2[[#This Row],[SIZE]]&\"-\"&表格2[[#This Row],[顏色]]","v":"福袋B-110-"},null,null,null,null,null,"福袋B",110]
["A0038",{"$f":"表格2[[#This Row],[ITEM]]&\"-\"&表格2[[#This Row],[SIZE]]&\"-\"&表格2[[#This Row],[顏色]]","v":"福袋D-90-"},null,null,null,null,null,"福袋D",90]
["A0038",{"$f":"表格2[[#This Row],[ITEM]]&\"-\"&表格2[[#This Row],[SIZE]]&\"-\"&表格2[[#This Row],[顏色]]","v":"福袋D-140-"},null,null,null,null,null,"福袋D",140]
["A0039",{"$f":"表格2[[#This Row],[ITEM]]&\"-\"&表格2[[#This Row],[SIZE]]&\"-\"&表格2[[#This Row],[顏色]]","v":"綠仙子SET-90-"},null,null,null,null,null,"綠仙子SET",90]
["A0040",{"$f":"表格2[[#This Row],[ITEM]]&\"-\"&表格2[[#This Row],[SIZE]]&\"-\"&表格2[[#This Row],[顏色]]","v":"豬仔-包70-"},null,null,null,null,null,"豬仔","包70"]
["A0040",{"$f":"表格2[[#This Row],[ITEM]]&\"-\"&表格2[[#This Row],[SIZE]]&\"-\"&表格2[[#This Row],[顏色]]","v":"豬仔-衛90-"},null,null,null,null,null,"豬仔","衛90"]
["A0041",{"$f":"表格2[[#This Row],[ITEM]]&\"-\"&表格2[[#This Row],[SIZE]]&\"-\"&表格2[[#This Row],[顏色]]","v":"豬仔連身-80-"},null,null,null,null,null,"豬仔連身",80]
["A0041",{"$f":"表格2[[#This Row],[ITEM]]&\"-\"&表格2[[#This Row],[SIZE]]&\"-\"&表格2[[#This Row],[顏色]]","v":"豬仔連身-90-"},null,null,null,null,null,"豬仔連身",90]
["A0042",{"$f":"表格2[[#This Row],[ITEM]]&\"-\"&表格2[[#This Row],[SIZE]]&\"-\"&表格2[[#This Row],[顏色]]","v":"褲-啡100-"},null,null,null,null,null,"褲","啡100"]
["A0043",{"$f":"表格2[[#This Row],[ITEM]]&\"-\"&表格2[[#This Row],[SIZE]]&\"-\"&表格2[[#This Row],[顏色]]","v":"頸巾-兔-"},null,null,null,null,null,"頸巾","兔"]
["A0043",{"$f":"表格2[[#This Row],[ITEM]]&\"-\"&表格2[[#This Row],[SIZE]]&\"-\"&表格2[[#This Row],[顏色]]","v":"頸巾-熊-"},null,null,null,null,null,"頸巾","熊"]
["A0044",{"$f":"表格2[[#This Row],[ITEM]]&\"-\"&表格2[[#This Row],[SIZE]]&\"-\"&表格2[[#This Row],[顏色]]","v":"點點筆--"},null,null,null,null,null,"點點筆"]
["A0045",{"$f":"表格2[[#This Row],[ITEM]]&\"-\"&表格2[[#This Row],[SIZE]]&\"-\"&表格2[[#This Row],[顏色]]","v":"蠟筆--"},null,null,null,null,null,"蠟筆"]
["A0046",{"$f":"表格2[[#This Row],[ITEM]]&\"-\"&表格2[[#This Row],[SIZE]]&\"-\"&表格2[[#This Row],[顏色]]","v":"bb 防曬lotion--"},null,null,null,null,null,"bb 防曬lotion"]
["A0047",{"$f":"表格2[[#This Row],[ITEM]]&\"-\"&表格2[[#This Row],[SIZE]]&\"-\"&表格2[[#This Row],[顏色]]","v":"BEAR BEAR 冷衫-100-"},null,null,null,null,null,"BEAR BEAR 冷衫",100]
["A0047",{"$f":"表格2[[#This Row],[ITEM]]&\"-\"&表格2[[#This Row],[SIZE]]&\"-\"&表格2[[#This Row],[顏色]]","v":"BEAR BEAR 冷衫-110-"},null,null,null,null,null,"BEAR BEAR 冷衫",110]
["A0048",{"$f":"表格2[[#This Row],[ITEM]]&\"-\"&表格2[[#This Row],[SIZE]]&\"-\"&表格2[[#This Row],[顏色]]","v":"BEAR BEAR 直間-110-"},null,null,null,null,null,"BEAR BEAR 直間",110]
["A0049",{"$f":"表格2[[#This Row],[ITEM]]&\"-\"&表格2[[#This Row],[SIZE]]&\"-\"&表格2[[#This Row],[顏色]]","v":"BEAR BEAR 風嬲-110-"},null,null,null,null,null,"BEAR BEAR 風嬲",110]
["A0049",{"$f":"表格2[[#This Row],[ITEM]]&\"-\"&表格2[[#This Row],[SIZE]]&\"-\"&表格2[[#This Row],[顏色]]","v":"BEAR BEAR 風嬲-120-"},null,null,null,null,null,"BEAR BEAR 風嬲",120]
["A0050",{"$f":"表格2[[#This Row],[ITEM]]&\"-\"&表格2[[#This Row],[SIZE]]&\"-\"&表格2[[#This Row],[顏色]]","v":"CARE BEAR 毛毛衛衣-白90-"},null,null,null,null,null,"CARE BEAR 毛毛衛衣","白90"]
["A0051",{"$f":"表格2[[#This Row],[ITEM]]&\"-\"&表格2[[#This Row],[SIZE]]&\"-\"&表格2[[#This Row],[顏色]]","v":"CARE BEAR 家居親子裝-粉90-"},null,null,null,null,null,"CARE BEAR 家居親子裝","粉90"]
["A0051",{"$f":"表格2[[#This Row],[ITEM]]&\"-\"&表格2[[#This Row],[SIZE]]&\"-\"&表格2[[#This Row],[顏色]]","v":"CARE BEAR 家居親子裝-粉L-"},null,null,null,null,null,"CARE BEAR 家居親子裝","粉L"]
["A0052",{"$f":"表格2[[#This Row],[ITEM]]&\"-\"&表格2[[#This Row],[SIZE]]&\"-\"&表格2[[#This Row],[顏色]]","v":"CARE BEAR C1-藍100-"},null,null,null,null,null,"CARE BEAR C1","藍100"]
["A0053",{"$f":"表格2[[#This Row],[ITEM]]&\"-\"&表格2[[#This Row],[SIZE]]&\"-\"&表格2[[#This Row],[顏色]]","v":"CART衛衣有帽-110-"},null,null,null,null,null,"CART衛衣有帽",110]
["A0053",{"$f":"表格2[[#This Row],[ITEM]]&\"-\"&表格2[[#This Row],[SIZE]]&\"-\"&表格2[[#This Row],[顏色]]","v":"CART衛衣有帽-藍L-"},null,null,null,null,null,"CART衛衣有帽","藍L"]
["A0053",{"$f":"表格2[[#This Row],[ITEM]]&\"-\"&表格2[[#This Row],[SIZE]]&\"-\"&表格2[[#This Row],[顏色]]","v":"CART衛衣有帽-藍S-"},null,null,null,null,null,"CART衛衣有帽","藍S"]
["A0054",{"$f":"表格2[[#This Row],[ITEM]]&\"-\"&表格2[[#This Row],[SIZE]]&\"-\"&表格2[[#This Row],[顏色]]","v":"cool kids 舒緩膏--"},null,null,null,null,null,"cool kids 舒緩膏"]
["A0055",{"$f":"表格2[[#This Row],[ITEM]]&\"-\"&表格2[[#This Row],[SIZE]]&\"-\"&表格2[[#This Row],[顏色]]","v":"DTD車帶--"},null,null,null,null,null,"DTD車帶"]
["A0056",{"$f":"表格2[[#This Row],[ITEM]]&\"-\"&表格2[[#This Row],[SIZE]]&\"-\"&表格2[[#This Row],[顏色]]","v":"GAP 連身灰-90-"},null,null,null,null,null,"GAP 連身灰",90]
["A0056",{"$f":"表格2[[#This Row],[ITEM]]&\"-\"&表格2[[#This Row],[SIZE]]&\"-\"&表格2[[#This Row],[顏色]]","v":"GAP 連身灰-100-"},null,null,null,null,null,"GAP 連身灰",100]
["A0056",{"$f":"表格2[[#This Row],[ITEM]]&\"-\"&表格2[[#This Row],[SIZE]]&\"-\"&表格2[[#This Row],[顏色]]","v":"GAP 連身米-80-"},null,null,null,null,null,"GAP 連身米",80]
["A0056",{"$f":"表格2[[#This Row],[ITEM]]&\"-\"&表格2[[#This Row],[SIZE]]&\"-\"&表格2[[#This Row],[顏色]]","v":"GAP 連身米-90-"},null,null,null,null,null,"GAP 連身米",90]
["A0056",{"$f":"表格2[[#This Row],[ITEM]]&\"-\"&表格2[[#This Row],[SIZE]]&\"-\"&表格2[[#This Row],[顏色]]","v":"GAP 連身米-100-"},null,null,null,null,null,"GAP 連身米",100]
["A0056",{"$f":"表格2[[#This Row],[ITEM]]&\"-\"&表格2[[#This Row],[SIZE]]&\"-\"&表格2[[#This Row],[顏色]]","v":"GAP 連身紅-90-"},null,null,null,null,null,"GAP 連身紅",90]
["A0056",{"$f":"表格2[[#This Row],[ITEM]]&\"-\"&表格2[[#This Row],[SIZE]]&\"-\"&表格2[[#This Row],[顏色]]","v":"GAP 連身紅-100-"},null,null,null,null,null,"GAP 連身紅",100]
["A0056",{"$f":"表格2[[#This Row],[ITEM]]&\"-\"&表格2[[#This Row],[SIZE]]&\"-\"&表格2[[#This Row],[顏色]]","v":"GAP 連身棒球-80-"},null,null,null,null,null,"GAP 連身棒球",80]
["A0056",{"$f":"表格2[[#This Row],[ITEM]]&\"-\"&表格2[[#This Row],[SIZE]]&\"-\"&表格2[[#This Row],[顏色]]","v":"GAP 連身棒球-90-"},null,null,null,null,null,"GAP 連身棒球",90]
["A0057",{"$f":"表格2[[#This Row],[ITEM]]&\"-\"&表格2[[#This Row],[SIZE]]&\"-\"&表格2[[#This Row],[顏色]]","v":"H2-18-24-"},null,null,null,null,null,"H2","18-24"]
["A0058",{"$f":"表格2[[#This Row],[ITEM]]&\"-\"&表格2[[#This Row],[SIZE]]&\"-\"&表格2[[#This Row],[顏色]]","v":"H3-2-3-"},null,null,null,null,null,"H3","2-3"]
["A0059",{"$f":"表格2[[#This Row],[ITEM]]&\"-\"&表格2[[#This Row],[SIZE]]&\"-\"&表格2[[#This Row],[顏色]]","v":"H4-2-3-"},null,null,null,null,null,"H4","2-3"]
["A0059",{"$f":"表格2[[#This Row],[ITEM]]&\"-\"&表格2[[#This Row],[SIZE]]&\"-\"&表格2[[#This Row],[顏色]]","v":"H4-18-24-"},null,null,null,null,null,"H4","18-24"]
["A0060",{"$f":"表格2[[#This Row],[ITEM]]&\"-\"&表格2[[#This Row],[SIZE]]&\"-\"&表格2[[#This Row],[顏色]]","v":"H5-100-"},null,null,null,null,null,"H5",100]
["A0061",{"$f":"表格2[[#This Row],[ITEM]]&\"-\"&表格2[[#This Row],[SIZE]]&\"-\"&表格2[[#This Row],[顏色]]","v":"h7-6-12-"},null,null,null,null,null,"h7","6-12"]
["A0062",{"$f":"表格2[[#This Row],[ITEM]]&\"-\"&表格2[[#This Row],[SIZE]]&\"-\"&表格2[[#This Row],[顏色]]","v":"H8-0-6-"},null,null,null,null,null,"H8","0-6"]
["A0063",{"$f":"表格2[[#This Row],[ITEM]]&\"-\"&表格2[[#This Row],[SIZE]]&\"-\"&表格2[[#This Row],[顏色]]","v":"konny 咩帶-灰米-"},null,null,null,null,null,"konny 咩帶","灰米"]
["A0064",{"$f":"表格2[[#This Row],[ITEM]]&\"-\"&表格2[[#This Row],[SIZE]]&\"-\"&表格2[[#This Row],[顏色]]","v":"konny口水肩-4-"},null,null,null,null,null,"konny口水肩",4]
["A0065",{"$f":"表格2[[#This Row],[ITEM]]&\"-\"&表格2[[#This Row],[SIZE]]&\"-\"&表格2[[#This Row],[顏色]]","v":"konny碗-綠-"},null,null,null,null,null,"konny碗","綠"]
["A0065",{"$f":"表格2[[#This Row],[ITEM]]&\"-\"&表格2[[#This Row],[SIZE]]&\"-\"&表格2[[#This Row],[顏色]]","v":"konny碗-燕-"},null,null,null,null,null,"konny碗","燕"]
["A0065",{"$f":"表格2[[#This Row],[ITEM]]&\"-\"&表格2[[#This Row],[SIZE]]&\"-\"&表格2[[#This Row],[顏色]]","v":"konny碗-藍-"},null,null,null,null,null,"konny碗","藍"]
["A0066",{"$f":"表格2[[#This Row],[ITEM]]&\"-\"&表格2[[#This Row],[SIZE]]&\"-\"&表格2[[#This Row],[顏色]]","v":"lee 衛衣-灰白130-"},null,null,null,null,null,"lee 衛衣","灰白130"]
["A0066",{"$f":"表格2[[#This Row],[ITEM]]&\"-\"&表格2[[#This Row],[SIZE]]&\"-\"&表格2[[#This Row],[顏色]]","v":"lee 衛衣-灰藍90-"},null,null,null,null,null,"lee 衛衣","灰藍90"]
["A0067",{"$f":"表格2[[#This Row],[ITEM]]&\"-\"&表格2[[#This Row],[SIZE]]&\"-\"&表格2[[#This Row],[顏色]]","v":"LEE吊帶褲-灰100-"},null,null,null,null,null,"LEE吊帶褲","灰100"]
["A0068",{"$f":"表格2[[#This Row],[ITEM]]&\"-\"&表格2[[#This Row],[SIZE]]&\"-\"&表格2[[#This Row],[顏色]]","v":"Linabell 粉外套-110-"},null,null,null,null,null,"Linabell 粉外套",110]
["A0068",{"$f":"表格2[[#This Row],[ITEM]]&\"-\"&表格2[[#This Row],[SIZE]]&\"-\"&表格2[[#This Row],[顏色]]","v":"Linabell 粉外套-120-"},null,null,null,null,null,"Linabell 粉外套",120]
["A0069",{"$f":"表格2[[#This Row],[ITEM]]&\"-\"&表格2[[#This Row],[SIZE]]&\"-\"&表格2[[#This Row],[顏色]]","v":"MELODY紅白衛衣-80-"},null,null,null,null,null,"MELODY紅白衛衣",80]
["A0069",{"$f":"表格2[[#This Row],[ITEM]]&\"-\"&表格2[[#This Row],[SIZE]]&\"-\"&表格2[[#This Row],[顏色]]","v":"MELODY紅白衛衣-90-"},null,null,null,null,null,"MELODY紅白衛衣",90]
["A0070",{"$f":"表格2[[#This Row],[ITEM]]&\"-\"&表格2[[#This Row],[SIZE]]&\"-\"&表格2[[#This Row],[顏色]]","v":"MIFFY 外套-白100-"},null,null,null,null,null,"MIFFY 外套","白100"]
["A0071",{"$f":"表格2[[#This Row],[ITEM]]&\"-\"&表格2[[#This Row],[SIZE]]&\"-\"&表格2[[#This Row],[顏色]]","v":"miffy 拖鞋-白37-"},null,null,null,null,null,"miffy 拖鞋","白37"]
["A0072",{"$f":"表格2[[#This Row],[ITEM]]&\"-\"&表格2[[#This Row],[SIZE]]&\"-\"&表格2[[#This Row],[顏色]]","v":"miffy 書包--"},null,null,null,null,null,"miffy 書包"]
["A0073",{"$f":"表格2[[#This Row],[ITEM]]&\"-\"&表格2[[#This Row],[SIZE]]&\"-\"&表格2[[#This Row],[顏色]]","v":"MIFFY A-粉80-"},null,null,null,null,null,"MIFFY A","粉80"]
["A0073",{"$f":"表格2[[#This Row],[ITEM]]&\"-\"&表格2[[#This Row],[SIZE]]&\"-\"&表格2[[#This Row],[顏色]]","v":"MIFFY A-藍80-"},null,null,null,null,null,"MIFFY A","藍80"]
["A0074",{"$f":"表格2[[#This Row],[ITEM]]&\"-\"&表格2[[#This Row],[SIZE]]&\"-\"&表格2[[#This Row],[顏色]]","v":"MIFFY3件套(1長1短1褲)-粉80-"},null,null,null,null,null,"MIFFY3件套(1長1短1褲)","粉80"]
["A0074",{"$f":"表格2[[#This Row],[ITEM]]&\"-\"&表格2[[#This Row],[SIZE]]&\"-\"&表格2[[#This Row],[顏色]]","v":"MIFFY3件套(1長1短1褲)-黃90-"},null,null,null,null,null,"MIFFY3件套(1長1短1褲)","黃90"]
["A0075",{"$f":"表格2[[#This Row],[ITEM]]&\"-\"&表格2[[#This Row],[SIZE]]&\"-\"&表格2[[#This Row],[顏色]]","v":"MIFFY冷衫-灰80-"},null,null,null,null,null,"MIFFY冷衫","灰80"]
["A0075",{"$f":"表格2[[#This Row],[ITEM]]&\"-\"&表格2[[#This Row],[SIZE]]&\"-\"&表格2[[#This Row],[顏色]]","v":"MIFFY冷衫-杏80-"},null,null,null,null,null,"MIFFY冷衫","杏80"]
["A0076",{"$f":"表格2[[#This Row],[ITEM]]&\"-\"&表格2[[#This Row],[SIZE]]&\"-\"&表格2[[#This Row],[顏色]]","v":"MIFFY杯套-藍--"},null,null,null,null,null,"MIFFY杯套-藍"]
["A0077",{"$f":"表格2[[#This Row],[ITEM]]&\"-\"&表格2[[#This Row],[SIZE]]&\"-\"&表格2[[#This Row],[顏色]]","v":"MIFFY家居服SET-粉80-"},null,null,null,null,null,"MIFFY家居服SET","粉80"]
["A0077",{"$f":"表格2[[#This Row],[ITEM]]&\"-\"&表格2[[#This Row],[SIZE]]&\"-\"&表格2[[#This Row],[顏色]]","v":"MIFFY家居服SET-藍90-"},null,null,null,null,null,"MIFFY家居服SET","藍90"]
["A0078",{"$f":"表格2[[#This Row],[ITEM]]&\"-\"&表格2[[#This Row],[SIZE]]&\"-\"&表格2[[#This Row],[顏色]]","v":"MIFFY滿印-白90-"},null,null,null,null,null,"MIFFY滿印","白90"]
["A0078",{"$f":"表格2[[#This Row],[ITEM]]&\"-\"&表格2[[#This Row],[SIZE]]&\"-\"&表格2[[#This Row],[顏色]]","v":"MIFFY滿印-粉90-"},null,null,null,null,null,"MIFFY滿印","粉90"]
["A0079",{"$f":"表格2[[#This Row],[ITEM]]&\"-\"&表格2[[#This Row],[SIZE]]&\"-\"&表格2[[#This Row],[顏色]]","v":"MIFFYB-白90-"},null,null,null,null,null,"MIFFYB","白90"]
["A0079",{"$f":"表格2[[#This Row],[ITEM]]&\"-\"&表格2[[#This Row],[SIZE]]&\"-\"&表格2[[#This Row],[顏色]]","v":"MIFFYB-粉90-"},null,null,null,null,null,"MIFFYB","粉90"]
["A0080",{"$f":"表格2[[#This Row],[ITEM]]&\"-\"&表格2[[#This Row],[SIZE]]&\"-\"&表格2[[#This Row],[顏色]]","v":"MLB-5外套-黑-"},null,null,null,null,null,"MLB-5外套","黑"]
["A0081",{"$f":"表格2[[#This Row],[ITEM]]&\"-\"&表格2[[#This Row],[SIZE]]&\"-\"&表格2[[#This Row],[顏色]]","v":"NF 被-啡-"},null,null,null,null,null,"NF 被","啡"]
["A0081",{"$f":"表格2[[#This Row],[ITEM]]&\"-\"&表格2[[#This Row],[SIZE]]&\"-\"&表格2[[#This Row],[顏色]]","v":"NF 被-黑-"},null,null,null,null,null,"NF 被","黑"]
["A0082",{"$f":"表格2[[#This Row],[ITEM]]&\"-\"&表格2[[#This Row],[SIZE]]&\"-\"&表格2[[#This Row],[顏色]]","v":"NF 熊仔外套-白100-"},null,null,null,null,null,"NF 熊仔外套","白100"]
["A0082",{"$f":"表格2[[#This Row],[ITEM]]&\"-\"&表格2[[#This Row],[SIZE]]&\"-\"&表格2[[#This Row],[顏色]]","v":"NF 熊仔外套-白110-"},null,null,null,null,null,"NF 熊仔外套","白110"]
["A0082",{"$f":"表格2[[#This Row],[ITEM]]&\"-\"&表格2[[#This Row],[SIZE]]&\"-\"&表格2[[#This Row],[顏色]]","v":"NF 熊仔外套-白90-"},null,null,null,null,null,"NF 熊仔外套","白90"]
["A0082",{"$f":"表格2[[#This Row],[ITEM]]&\"-\"&表格2[[#This Row],[SIZE]]&\"-\"&表格2[[#This Row],[顏色]]","v":"NF 熊仔外套-粉100-"},null,null,null,null,null,"NF 熊仔外套","粉100"]
["A0082",{"$f":"表格2[[#This Row],[ITEM]]&\"-\"&表格2[[#This Row],[SIZE]]&\"-\"&表格2[[#This Row],[顏色]]","v":"NF 熊仔外套-粉90-"},null,null,null,null,null,"NF 熊仔外套","粉90"]
["A0082",{"$f":"表格2[[#This Row],[ITEM]]&\"-\"&表格2[[#This Row],[SIZE]]&\"-\"&表格2[[#This Row],[顏色]]","v":"NF 熊仔外套-啡110-"},null,null,null,null,null,"NF 熊仔外套","啡110"]
["A0082",{"$f":"表格2[[#This Row],[ITEM]]&\"-\"&表格2[[#This Row],[SIZE]]&\"-\"&表格2[[#This Row],[顏色]]","v":"NF 熊仔外套-啡130-"},null,null,null,null,null,"NF 熊仔外套","啡130"]
["A0082",{"$f":"表格2[[#This Row],[ITEM]]&\"-\"&表格2[[#This Row],[SIZE]]&\"-\"&表格2[[#This Row],[顏色]]","v":"NF 熊仔外套-啡90-"},null,null,null,null,null,"NF 熊仔外套","啡90"]
["A0083",{"$f":"表格2[[#This Row],[ITEM]]&\"-\"&表格2[[#This Row],[SIZE]]&\"-\"&表格2[[#This Row],[顏色]]","v":"NF 熊仔爬服-粉100-"},null,null,null,null,null,"NF 熊仔爬服","粉100"]
["A0084",{"$f":"表格2[[#This Row],[ITEM]]&\"-\"&表格2[[#This Row],[SIZE]]&\"-\"&表格2[[#This Row],[顏色]]","v":"nf legging褲-白80-"},null,null,null,null,null,"nf legging褲","白80"]
["A0084",{"$f":"表格2[[#This Row],[ITEM]]&\"-\"&表格2[[#This Row],[SIZE]]&\"-\"&表格2[[#This Row],[顏色]]","v":"nf legging褲-黑100-"},null,null,null,null,null,"nf legging褲","黑100"]
["A0084",{"$f":"表格2[[#This Row],[ITEM]]&\"-\"&表格2[[#This Row],[SIZE]]&\"-\"&表格2[[#This Row],[顏色]]","v":"nf legging褲-黑130-"},null,null,null,null,null,"nf legging褲","黑130"]
["A0085",{"$f":"表格2[[#This Row],[ITEM]]&\"-\"&表格2[[#This Row],[SIZE]]&\"-\"&表格2[[#This Row],[顏色]]","v":"NF雙面棉外套-米杏100-"},null,null,null,null,null,"NF雙面棉外套","米杏100"]
["A0085",{"$f":"表格2[[#This Row],[ITEM]]&\"-\"&表格2[[#This Row],[SIZE]]&\"-\"&表格2[[#This Row],[顏色]]","v":"NF雙面棉外套-米杏L-"},null,null,null,null,null,"NF雙面棉外套","米杏L"]
["A0085",{"$f":"表格2[[#This Row],[ITEM]]&\"-\"&表格2[[#This Row],[SIZE]]&\"-\"&表格2[[#This Row],[顏色]]","v":"NF雙面棉外套-杏M-"},null,null,null,null,null,"NF雙面棉外套","杏M"]
["A0085",{"$f":"表格2[[#This Row],[ITEM]]&\"-\"&表格2[[#This Row],[SIZE]]&\"-\"&表格2[[#This Row],[顏色]]","v":"NF雙面棉外套-粉100-"},null,null,null,null,null,"NF雙面棉外套","粉100"]
["A0085",{"$f":"表格2[[#This Row],[ITEM]]&\"-\"&表格2[[#This Row],[SIZE]]&\"-\"&表格2[[#This Row],[顏色]]","v":"NF雙面棉外套-粉M-"},null,null,null,null,null,"NF雙面棉外套","粉M"]
["A0085",{"$f":"表格2[[#This Row],[ITEM]]&\"-\"&表格2[[#This Row],[SIZE]]&\"-\"&表格2[[#This Row],[顏色]]","v":"NF雙面棉外套-綠100-"},null,null,null,null,null,"NF雙面棉外套","綠100"]
["A0085",{"$f":"表格2[[#This Row],[ITEM]]&\"-\"&表格2[[#This Row],[SIZE]]&\"-\"&表格2[[#This Row],[顏色]]","v":"NF雙面棉外套-綠110-"},null,null,null,null,null,"NF雙面棉外套","綠110"]
["A0085",{"$f":"表格2[[#This Row],[ITEM]]&\"-\"&表格2[[#This Row],[SIZE]]&\"-\"&表格2[[#This Row],[顏色]]","v":"NF雙面棉外套-綠90-"},null,null,null,null,null,"NF雙面棉外套","綠90"]
["A0085",{"$f":"表格2[[#This Row],[ITEM]]&\"-\"&表格2[[#This Row],[SIZE]]&\"-\"&表格2[[#This Row],[顏色]]","v":"NF雙面棉外套-綠L-"},null,null,null,null,null,"NF雙面棉外套","綠L"]
["A0086",{"$f":"表格2[[#This Row],[ITEM]]&\"-\"&表格2[[#This Row],[SIZE]]&\"-\"&表格2[[#This Row],[顏色]]","v":"POLO背心-白110-"},null,null,null,null,null,"POLO背心","白110"]
["A0086",{"$f":"表格2[[#This Row],[ITEM]]&\"-\"&表格2[[#This Row],[SIZE]]&\"-\"&表格2[[#This Row],[顏色]]","v":"POLO背心-白90-"},null,null,null,null,null,"POLO背心","白90"]
["A0086",{"$f":"表格2[[#This Row],[ITEM]]&\"-\"&表格2[[#This Row],[SIZE]]&\"-\"&表格2[[#This Row],[顏色]]","v":"POLO背心-深藍110-"},null,null,null,null,null,"POLO背心","深藍110"]
["A0087",{"$f":"表格2[[#This Row],[ITEM]]&\"-\"&表格2[[#This Row],[SIZE]]&\"-\"&表格2[[#This Row],[顏色]]","v":"POLO純色連身裙-卡其100-"},null,null,null,null,null,"POLO純色連身裙","卡其100"]
["A0087",{"$f":"表格2[[#This Row],[ITEM]]&\"-\"&表格2[[#This Row],[SIZE]]&\"-\"&表格2[[#This Row],[顏色]]","v":"POLO純色連身裙-卡其90-"},null,null,null,null,null,"POLO純色連身裙","卡其90"]
["A0087",{"$f":"表格2[[#This Row],[ITEM]]&\"-\"&表格2[[#This Row],[SIZE]]&\"-\"&表格2[[#This Row],[顏色]]","v":"POLO純色連身裙-藍100-"},null,null,null,null,null,"POLO純色連身裙","藍100"]
["A0087",{"$f":"表格2[[#This Row],[ITEM]]&\"-\"&表格2[[#This Row],[SIZE]]&\"-\"&表格2[[#This Row],[顏色]]","v":"POLO純色連身裙-藍110-"},null,null,null,null,null,"POLO純色連身裙","藍110"]
["A0088",{"$f":"表格2[[#This Row],[ITEM]]&\"-\"&表格2[[#This Row],[SIZE]]&\"-\"&表格2[[#This Row],[顏色]]","v":"POLO條紋衫-90-"},null,null,null,null,null,"POLO條紋衫",90]
["A0089",{"$f":"表格2[[#This Row],[ITEM]]&\"-\"&表格2[[#This Row],[SIZE]]&\"-\"&表格2[[#This Row],[顏色]]","v":"POLO條紋裙-90-"},null,null,null,null,null,"POLO條紋裙",90]
["A0089",{"$f":"表格2[[#This Row],[ITEM]]&\"-\"&表格2[[#This Row],[SIZE]]&\"-\"&表格2[[#This Row],[顏色]]","v":"POLO條紋裙-100-"},null,null,null,null,null,"POLO條紋裙",100]
["A0090",{"$f":"表格2[[#This Row],[ITEM]]&\"-\"&表格2[[#This Row],[SIZE]]&\"-\"&表格2[[#This Row],[顏色]]","v":"POOH 背包--"},null,null,null,null,null,"POOH 背包"]
["A0091",{"$f":"表格2[[#This Row],[ITEM]]&\"-\"&表格2[[#This Row],[SIZE]]&\"-\"&表格2[[#This Row],[顏色]]","v":"pooh pat-18-24-"},null,null,null,null,null,"pooh pat","18-24"]
["A0092",{"$f":"表格2[[#This Row],[ITEM]]&\"-\"&表格2[[#This Row],[SIZE]]&\"-\"&表格2[[#This Row],[顏色]]","v":"SANRIO 滿印-水90-"},null,null,null,null,null,"SANRIO 滿印","水90"]
["A0092",{"$f":"表格2[[#This Row],[ITEM]]&\"-\"&表格2[[#This Row],[SIZE]]&\"-\"&表格2[[#This Row],[顏色]]","v":"SANRIO 滿印-HT80-"},null,null,null,null,null,"SANRIO 滿印","HT80"]
["A0092",{"$f":"表格2[[#This Row],[ITEM]]&\"-\"&表格2[[#This Row],[SIZE]]&\"-\"&表格2[[#This Row],[顏色]]","v":"SANRIO 滿印-HT90-"},null,null,null,null,null,"SANRIO 滿印","HT90"]
["Hello, World!",{"$f":"表格2[[#This Row],[ITEM]]&\"-\"&表格2[[#This Row],[SIZE]]&\"-\"&表格2[[#This Row],[顏色]]","v":"三合一-粉100-"},null,139,null,null,null,"三合一","粉100"]
["HK1",{"$f":"表格2[[#This Row],[ITEM]]&\"-\"&表格2[[#This Row],[SIZE]]&\"-\"&表格2[[#This Row],[顏色]]","v":"BBB車車餐具-黃-"},null,98,null,null,null,"BBB車車餐具","黃"]
["HK1",{"$f":"表格2[[#This Row],[ITEM]]&\"-\"&表格2[[#This Row],[SIZE]]&\"-\"&表格2[[#This Row],[顏色]]","v":"BBB車車餐具-紫-"},null,98,null,null,null,"BBB車車餐具","紫"]
["HK2",{"$f":"表格2[[#This Row],[ITEM]]&\"-\"&表格2[[#This Row],[SIZE]]&\"-\"&表格2[[#This Row],[顏色]]","v":"BBB經典餐具-藍-"},null,88,null,null,null,"BBB經典餐具","藍"]
["HK2",{"$f":"表格2[[#This Row],[ITEM]]&\"-\"&表格2[[#This Row],[SIZE]]&\"-\"&表格2[[#This Row],[顏色]]","v":"BBB經典餐具-粉-"},null,88,null,null,null,"BBB經典餐具","粉"]
["HK2",{"$f":"表格2[[#This Row],[ITEM]]&\"-\"&表格2[[#This Row],[SIZE]]&\"-\"&表格2[[#This Row],[顏色]]","v":"BBB經典餐具-黃-"},null,88,null,null,null,"BBB經典餐具","黃"]
["JP","日本代購"]
["S1213",{"$f":"表格2[[#This Row],[ITEM]]&\"-\"&表格2[[#This Row],[SIZE]]&\"-\"&表格2[[#This Row],[顏色]]","v":"-小獅王-拋棄式雙層奶粉袋(12入)-"},63,38,null,null,null,null,"小獅王-拋棄式雙層奶粉袋(12入)"]
["S1214",{"$f":"表格2[[#This Row],[ITEM]]&\"-\"&表格2[[#This Row],[SIZE]]&\"-\"&表格2[[#This Row],[顏色]]","v":"-小獅王-溜滑梯專利衛生奶粉盒(菈藍)-"},138,null,null,null,null,null,"小獅王-溜滑梯專利衛生奶粉盒(菈藍)"]
["S1215",{"$f":"表格2[[#This Row],[ITEM]]&\"-\"&表格2[[#This Row],[SIZE]]&\"-\"&表格2[[#This Row],[顏色]]","v":"-小獅王-溜滑梯專利衛生奶粉盒(貝粉)-"},138,null,null,null,null,null,"小獅王-溜滑梯專利衛生奶粉盒(貝粉)"]
["S1218G",{"$f":"表格2[[#This Row],[ITEM]]&\"-\"&表格2[[#This Row],[SIZE]]&\"-\"&表格2[[#This Row],[顏色]]","v":"-小獅王-母乳儲存袋150ml(60入)-粉色-"},195,88,null,null,null,null,"小獅王-母乳儲存袋150ml(60入)-粉色"]
["S1219G",{"$f":"表格2[[#This Row],[ITEM]]&\"-\"&表格2[[#This Row],[SIZE]]&\"-\"&表格2[[#This Row],[顏色]]","v":"-小獅王-母乳儲存袋200ml(60入)-藍色(綠色)-"},195,88,null,null,null,null,"小獅王-母乳儲存袋200ml(60入)-藍色(綠色)"]
["S1220G",{"$f":"表格2[[#This Row],[ITEM]]&\"-\"&表格2[[#This Row],[SIZE]]&\"-\"&表格2[[#This Row],[顏色]]","v":"-小獅王-母乳儲存袋250ml(60入)-紫色-"},195,88,null,null,null,null,"小獅王-母乳儲存袋250ml(60入)-紫色"]
["S1221F",{"$f":"表格2[[#This Row],[ITEM]]&\"-\"&表格2[[#This Row],[SIZE]]&\"-\"&表格2[[#This Row],[顏色]]","v":"奶粉盒-小獅王-神奇定量奶粉罐-氣泡水(藍)-"},177,85,null,null,null,"奶粉盒","小獅王-神奇定量奶粉罐-氣泡水(藍)"]
["S1221G",{"$f":"表格2[[#This Row],[ITEM]]&\"-\"&表格2[[#This Row],[SIZE]]&\"-\"&表格2[[#This Row],[顏色]]","v":"奶粉盒-小獅王-神奇定量奶粉罐-酪梨(綠)-"},177,85,null,null,null,"奶粉盒","小獅王-神奇定量奶粉罐-酪梨(綠)"]
["S1221H",{"$f":"表格2[[#This Row],[ITEM]]&\"-\"&表格2[[#This Row],[SIZE]]&\"-\"&表格2[[#This Row],[顏色]]","v":"奶粉盒-小獅王-神奇定量奶粉罐-無花果(粉)-"},177,85,null,null,null,"奶粉盒","小獅王-神奇定量奶粉罐-無花果(粉)"]
["S1221K",{"$f":"表格2[[#This Row],[ITEM]]&\"-\"&表格2[[#This Row],[SIZE]]&\"-\"&表格2[[#This Row],[顏色]]","v":"奶粉盒-小獅王-神奇定量奶粉罐-肉桂捲(米)-"},177,85,null,null,null,"奶粉盒","小獅王-神奇定量奶粉罐-肉桂捲(米)"]
["S1332",{"$f":"表格2[[#This Row],[ITEM]]&\"-\"&表格2[[#This Row],[SIZE]]&\"-\"&表格2[[#This Row],[顏色]]","v":"-小獅王-不倒翁牙刷(綠)-"},49,null,null,null,null,null,"小獅王-不倒翁牙刷(綠)"]
["S1332-1",{"$f":"表格2[[#This Row],[ITEM]]&\"-\"&表格2[[#This Row],[SIZE]]&\"-\"&表格2[[#This Row],[顏色]]","v":"-小獅王-不倒翁牙刷(橘)-"},49,null,null,null,null,null,"小獅王-不倒翁牙刷(橘)"]
["S1341-0",{"$f":"表格2[[#This Row],[ITEM]]&\"-\"&表格2[[#This Row],[SIZE]]&\"-\"&表格2[[#This Row],[顏色]]","v":"-小獅王-矽膠練習牙刷(天空藍)-"},83,49,null,null,null,null,"小獅王-矽膠練習牙刷(天空藍)"]
["S1341-1",{"$f":"表格2[[#This Row],[ITEM]]&\"-\"&表格2[[#This Row],[SIZE]]&\"-\"&表格2[[#This Row],[顏色]]","v":"-小獅王-矽膠練習牙刷(淘氣綠)-"},83,49,null,null,null,null,"小獅王-矽膠練習牙刷(淘氣綠)"]
["S1341-2",{"$f":"表格2[[#This Row],[ITEM]]&\"-\"&表格2[[#This Row],[SIZE]]&\"-\"&表格2[[#This Row],[顏色]]","v":"-小獅王-矽膠練習牙刷(溫暖橘)-"},83,49,null,null,null,null,"小獅王-矽膠練習牙刷(溫暖橘)"]
["S1464F",{"$f":"表格2[[#This Row],[ITEM]]&\"-\"&表格2[[#This Row],[SIZE]]&\"-\"&表格2[[#This Row],[顏色]]","v":"奶樽刷-小獅王-超柔無垢白金矽膠旋轉奶瓶刷(小樹)-綠-"},174,69,null,null,null,"奶樽刷","小獅王-超柔無垢白金矽膠旋轉奶瓶刷(小樹)-綠"]
["S1464G",{"$f":"表格2[[#This Row],[ITEM]]&\"-\"&表格2[[#This Row],[SIZE]]&\"-\"&表格2[[#This Row],[顏色]]","v":"奶樽刷-小獅王-超柔無垢白金矽膠旋轉奶瓶刷(小麥)-米-"},174,69,null,null,null,"奶樽刷","小獅王-超柔無垢白金矽膠旋轉奶瓶刷(小麥)-米"]
["S1464H",{"$f":"表格2[[#This Row],[ITEM]]&\"-\"&表格2[[#This Row],[SIZE]]&\"-\"&表格2[[#This Row],[顏色]]","v":"奶樽刷-小獅王-超柔無垢白金矽膠旋轉奶瓶刷(小櫻)-紅-"},174,69,null,null,null,"奶樽刷","小獅王-超柔無垢白金矽膠旋轉奶瓶刷(小櫻)-紅"]
["S1464K",{"$f":"表格2[[#This Row],[ITEM]]&\"-\"&表格2[[#This Row],[SIZE]]&\"-\"&表格2[[#This Row],[顏色]]","v":"奶樽刷-小獅王-超柔無垢白金矽膠旋轉奶瓶刷(小石)-灰-"},174,69,null,null,null,"奶樽刷","小獅王-超柔無垢白金矽膠旋轉奶瓶刷(小石)-灰"]
["S1465F",{"$f":"表格2[[#This Row],[ITEM]]&\"-\"&表格2[[#This Row],[SIZE]]&\"-\"&表格2[[#This Row],[顏色]]","v":"奶樽刷-小獅王-超柔無垢白金矽膠奶瓶刷(小樹)-綠-"},170,69,null,null,null,"奶樽刷","小獅王-超柔無垢白金矽膠奶瓶刷(小樹)-綠"]
["S1465G",{"$f":"表格2[[#This Row],[ITEM]]&\"-\"&表格2[[#This Row],[SIZE]]&\"-\"&表格2[[#This Row],[顏色]]","v":"奶樽刷-小獅王-超柔無垢白金矽膠奶瓶刷(小麥)-米-"},170,69,null,null,null,"奶樽刷","小獅王-超柔無垢白金矽膠奶瓶刷(小麥)-米"]
["S1465H",{"$f":"表格2[[#This Row],[ITEM]]&\"-\"&表格2[[#This Row],[SIZE]]&\"-\"&表格2[[#This Row],[顏色]]","v":"奶樽刷-小獅王-超柔無垢白金矽膠奶瓶刷(小櫻)-紅-"},170,69,null,null,null,"奶樽刷","小獅王-超柔無垢白金矽膠奶瓶刷(小櫻)-紅"]
["S1465K",{"$f":"表格2[[#This Row],[ITEM]]&\"-\"&表格2[[#This Row],[SIZE]]&\"-\"&表格2[[#This Row],[顏色]]","v":"奶樽刷-小獅王-超柔無垢白金矽膠奶瓶刷(小石)-灰-"},170,69,null,null,null,"奶樽刷","小獅王-超柔無垢白金矽膠奶瓶刷(小石)-灰"]
["S1466F",{"$f":"表格2[[#This Row],[ITEM]]&\"-\"&表格2[[#This Row],[SIZE]]&\"-\"&表格2[[#This Row],[顏色]]","v":"奶嘴刷-小獅王-超柔無垢白金矽膠奶嘴刷(小樹)-綠-"},107,49,null,null,null,"奶嘴刷","小獅王-超柔無垢白金矽膠奶嘴刷(小樹)-綠"]
["S1466G",{"$f":"表格2[[#This Row],[ITEM]]&\"-\"&表格2[[#This Row],[SIZE]]&\"-\"&表格2[[#This Row],[顏色]]","v":"奶嘴刷-小獅王-超柔無垢白金矽膠奶嘴刷(小麥)-米-"},107,49,null,null,null,"奶嘴刷","小獅王-超柔無垢白金矽膠奶嘴刷(小麥)-米"]
["S1466H",{"$f":"表格2[[#This Row],[ITEM]]&\"-\"&表格2[[#This Row],[SIZE]]&\"-\"&表格2[[#This Row],[顏色]]","v":"奶嘴刷-小獅王-超柔無垢白金矽膠奶嘴刷(小櫻)-紅-"},107,49,null,null,null,"奶嘴刷","小獅王-超柔無垢白金矽膠奶嘴刷(小櫻)-紅"]
["S1466K",{"$f":"表格2[[#This Row],[ITEM]]&\"-\"&表格2[[#This Row],[SIZE]]&\"-\"&表格2[[#This Row],[顏色]]","v":"奶嘴刷-小獅王-超柔無垢白金矽膠奶嘴刷(小石)-灰-"},107,49,null,null,null,"奶嘴刷","小獅王-超柔無垢白金矽膠奶嘴刷(小石)-灰"]
["S1737",{"$f":"表格2[[#This Row],[ITEM]]&\"-\"&表格2[[#This Row],[SIZE]]&\"-\"&表格2[[#This Row],[顏色]]","v":"-小獅王-嬰兒剪刀-"},49,null,null,null,null,null,"小獅王-嬰兒剪刀"]
["S1738",{"$f":"表格2[[#This Row],[ITEM]]&\"-\"&表格2[[#This Row],[SIZE]]&\"-\"&表格2[[#This Row],[顏色]]","v":"-小獅王-放大鏡嬰兒剪刀(曲面)-"},63,null,null,null,null,null,"小獅王-放大鏡嬰兒剪刀(曲面)"]
["S1745",{"$f":"表格2[[#This Row],[ITEM]]&\"-\"&表格2[[#This Row],[SIZE]]&\"-\"&表格2[[#This Row],[顏色]]","v":"-小獅王-辛巴指甲剪-"},58,null,null,null,null,null,"小獅王-辛巴指甲剪"]
["S1751",{"$f":"表格2[[#This Row],[ITEM]]&\"-\"&表格2[[#This Row],[SIZE]]&\"-\"&表格2[[#This Row],[顏色]]","v":"-小獅王-蘿蔓夜光奶嘴帶-天藍(香草)-"},81,49,null,null,null,null,"小獅王-蘿蔓夜光奶嘴帶-天藍(香草)"]
["S1752",{"$f":"表格2[[#This Row],[ITEM]]&\"-\"&表格2[[#This Row],[SIZE]]&\"-\"&表格2[[#This Row],[顏色]]","v":"-小獅王-蘿蔓夜光奶嘴帶-粉紅(玫瑰)-"},81,49,null,null,null,null,"小獅王-蘿蔓夜光奶嘴帶-粉紅(玫瑰)"]
["S1753",{"$f":"表格2[[#This Row],[ITEM]]&\"-\"&表格2[[#This Row],[SIZE]]&\"-\"&表格2[[#This Row],[顏色]]","v":"-小獅王-蘿蔓夜光奶嘴帶-咖啡(豔陽)-"},81,49,null,null,null,null,"小獅王-蘿蔓夜光奶嘴帶-咖啡(豔陽)"]
["S1754",{"$f":"表格2[[#This Row],[ITEM]]&\"-\"&表格2[[#This Row],[SIZE]]&\"-\"&表格2[[#This Row],[顏色]]","v":"-小獅王-桃樂絲夜光奶嘴帶-藍(許願精靈)-"},81,49,null,null,null,null,"小獅王-桃樂絲夜光奶嘴帶-藍(許願精靈)"]
["S1755",{"$f":"表格2[[#This Row],[ITEM]]&\"-\"&表格2[[#This Row],[SIZE]]&\"-\"&表格2[[#This Row],[顏色]]","v":"-小獅王-桃樂絲夜光奶嘴帶-粉(美夢成真)-"},81,49,null,null,null,null,"小獅王-桃樂絲夜光奶嘴帶-粉(美夢成真)"]
["S1760",{"$f":"表格2[[#This Row],[ITEM]]&\"-\"&表格2[[#This Row],[SIZE]]&\"-\"&表格2[[#This Row],[顏色]]","v":"奶嘴鍊-小獅王-辛巴防塵奶嘴鍊-經典(橘色)-"},85,45,null,null,null,"奶嘴鍊","小獅王-辛巴防塵奶嘴鍊-經典(橘色)"]
["S1761",{"$f":"表格2[[#This Row],[ITEM]]&\"-\"&表格2[[#This Row],[SIZE]]&\"-\"&表格2[[#This Row],[顏色]]","v":"奶嘴鍊-小獅王-辛巴防塵奶嘴鍊-香草(藍色)-"},85,45,null,null,null,"奶嘴鍊","小獅王-辛巴防塵奶嘴鍊-香草(藍色)"]
["S1762",{"$f":"表格2[[#This Row],[ITEM]]&\"-\"&表格2[[#This Row],[SIZE]]&\"-\"&表格2[[#This Row],[顏色]]","v":"奶嘴鍊-小獅王-辛巴防塵奶嘴鍊-莓果(粉紅)-"},85,45,null,null,null,"奶嘴鍊","小獅王-辛巴防塵奶嘴鍊-莓果(粉紅)"]
["S1763",{"$f":"表格2[[#This Row],[ITEM]]&\"-\"&表格2[[#This Row],[SIZE]]&\"-\"&表格2[[#This Row],[顏色]]","v":"奶嘴鍊-小獅王-辛巴防塵奶嘴鍊-焦糖(咖啡)-"},85,45,null,null,null,"奶嘴鍊","小獅王-辛巴防塵奶嘴鍊-焦糖(咖啡)"]
["S18110",{"$f":"表格2[[#This Row],[ITEM]]&\"-\"&表格2[[#This Row],[SIZE]]&\"-\"&表格2[[#This Row],[顏色]]","v":"安撫奶嘴-小獅王-蘿蔓拇指安撫奶嘴-初生(天藍)(香草)-"},70,45,null,null,null,"安撫奶嘴","小獅王-蘿蔓拇指安撫奶嘴-初生(天藍)(香草)"]
["S18111",{"$f":"表格2[[#This Row],[ITEM]]&\"-\"&表格2[[#This Row],[SIZE]]&\"-\"&表格2[[#This Row],[顏色]]","v":"安撫奶嘴-小獅王-蘿蔓拇指安撫奶嘴-較大(天藍)(香草)-"},70,45,null,null,null,"安撫奶嘴","小獅王-蘿蔓拇指安撫奶嘴-較大(天藍)(香草)"]
["S18120",{"$f":"表格2[[#This Row],[ITEM]]&\"-\"&表格2[[#This Row],[SIZE]]&\"-\"&表格2[[#This Row],[顏色]]","v":"安撫奶嘴-小獅王-蘿蔓拇指安撫奶嘴-初生(粉紅)(玫瑰)-"},70,45,null,null,null,"安撫奶嘴","小獅王-蘿蔓拇指安撫奶嘴-初生(粉紅)(玫瑰)"]
["S18121",{"$f":"表格2[[#This Row],[ITEM]]&\"-\"&表格2[[#This Row],[SIZE]]&\"-\"&表格2[[#This Row],[顏色]]","v":"安撫奶嘴-小獅王-蘿蔓拇指安撫奶嘴-較大(粉紅)(玫瑰)-"},70,45,null,null,null,"安撫奶嘴","小獅王-蘿蔓拇指安撫奶嘴-較大(粉紅)(玫瑰)"]
["S18130",{"$f":"表格2[[#This Row],[ITEM]]&\"-\"&表格2[[#This Row],[SIZE]]&\"-\"&表格2[[#This Row],[顏色]]","v":"安撫奶嘴-小獅王-蘿蔓拇指安撫奶嘴-初生(咖啡)(豔陽)-"},70,45,null,null,null,"安撫奶嘴","小獅王-蘿蔓拇指安撫奶嘴-初生(咖啡)(豔陽)"]
["S18131",{"$f":"表格2[[#This Row],[ITEM]]&\"-\"&表格2[[#This Row],[SIZE]]&\"-\"&表格2[[#This Row],[顏色]]","v":"安撫奶嘴-小獅王-蘿蔓拇指安撫奶嘴-較大(咖啡)(豔陽)-"},70,45,null,null,null,"安撫奶嘴","小獅王-蘿蔓拇指安撫奶嘴-較大(咖啡)(豔陽)"]
["S19010",{"$f":"表格2[[#This Row],[ITEM]]&\"-\"&表格2[[#This Row],[SIZE]]&\"-\"&表格2[[#This Row],[顏色]]","v":"安撫奶嘴-小獅王-小辛巴拇指安撫奶嘴(初生)-"},70,45,null,null,null,"安撫奶嘴","小獅王-小辛巴拇指安撫奶嘴(初生)"]
["S19011",{"$f":"表格2[[#This Row],[ITEM]]&\"-\"&表格2[[#This Row],[SIZE]]&\"-\"&表格2[[#This Row],[顏色]]","v":"安撫奶嘴-小獅王-小辛巴拇指安撫奶嘴(較大)-"},70,45,null,null,null,"安撫奶嘴","小獅王-小辛巴拇指安撫奶嘴(較大)"]
["S2242",{"$f":"表格2[[#This Row],[ITEM]]&\"-\"&表格2[[#This Row],[SIZE]]&\"-\"&表格2[[#This Row],[顏色]]","v":"-小獅王-奶瓶蔬果洗潔液800ml組合包(一組2入)-"},299,null,null,null,null,null,"小獅王-奶瓶蔬果洗潔液800ml組合包(一組2入)"]
["S2244",{"$f":"表格2[[#This Row],[ITEM]]&\"-\"&表格2[[#This Row],[SIZE]]&\"-\"&表格2[[#This Row],[顏色]]","v":"-小獅王-高分解酵素奶瓶清潔劑800ml-"},220,null,null,null,null,null,"小獅王-高分解酵素奶瓶清潔劑800ml"]
["S2245",{"$f":"表格2[[#This Row],[ITEM]]&\"-\"&表格2[[#This Row],[SIZE]]&\"-\"&表格2[[#This Row],[顏色]]","v":"-小獅王-高分解酵素奶瓶清潔劑800ml組合包(2入)-"},410,null,null,null,null,null,"小獅王-高分解酵素奶瓶清潔劑800ml組合包(2入)"]
["S3334",{"$f":"表格2[[#This Row],[ITEM]]&\"-\"&表格2[[#This Row],[SIZE]]&\"-\"&表格2[[#This Row],[顏色]]","v":"-小獅王-啵啵軟質湯匙(藍洋洋)-2入-"},54,45,null,null,null,null,"小獅王-啵啵軟質湯匙(藍洋洋)-2入"]
["S3335",{"$f":"表格2[[#This Row],[ITEM]]&\"-\"&表格2[[#This Row],[SIZE]]&\"-\"&表格2[[#This Row],[顏色]]","v":"-小獅王-啵啵軟質湯匙(啵啵粉)-2入-"},54,45,null,null,null,null,"小獅王-啵啵軟質湯匙(啵啵粉)-2入"]
["S3351",{"$f":"表格2[[#This Row],[ITEM]]&\"-\"&表格2[[#This Row],[SIZE]]&\"-\"&表格2[[#This Row],[顏色]]","v":"-小獅王-美味漢堡碗-樂活海洋堡(藍色)-"},134,85,null,null,null,null,"小獅王-美味漢堡碗-樂活海洋堡(藍色)"]
["S3352",{"$f":"表格2[[#This Row],[ITEM]]&\"-\"&表格2[[#This Row],[SIZE]]&\"-\"&表格2[[#This Row],[顏色]]","v":"-小獅王-美味漢堡碗-青檸桔事堡(綠色)-"},134,85,null,null,null,null,"小獅王-美味漢堡碗-青檸桔事堡(綠色)"]
["S3354",{"$f":"表格2[[#This Row],[ITEM]]&\"-\"&表格2[[#This Row],[SIZE]]&\"-\"&表格2[[#This Row],[顏色]]","v":"-小獅王-美味漢堡碗-粉紅甜心堡(粉紅色)-"},134,85,null,null,null,null,"小獅王-美味漢堡碗-粉紅甜心堡(粉紅色)"]
["S3355",{"$f":"表格2[[#This Row],[ITEM]]&\"-\"&表格2[[#This Row],[SIZE]]&\"-\"&表格2[[#This Row],[顏色]]","v":"-小獅王-美味漢堡碗-花生好事堡(咖啡色)-"},134,85,null,null,null,null,"小獅王-美味漢堡碗-花生好事堡(咖啡色)"]
["S3385",{"$f":"表格2[[#This Row],[ITEM]]&\"-\"&表格2[[#This Row],[SIZE]]&\"-\"&表格2[[#This Row],[顏色]]","v":"-小獅王-美味兒童叉匙組-焦糖(咖啡)-"},58,45,null,null,null,null,"小獅王-美味兒童叉匙組-焦糖(咖啡)"]
["S3391",{"$f":"表格2[[#This Row],[ITEM]]&\"-\"&表格2[[#This Row],[SIZE]]&\"-\"&表格2[[#This Row],[顏色]]","v":"-小獅王-美味軟糖湯匙組-香草(藍色)-"},81,45,null,null,null,null,"小獅王-美味軟糖湯匙組-香草(藍色)"]
["S3394",{"$f":"表格2[[#This Row],[ITEM]]&\"-\"&表格2[[#This Row],[SIZE]]&\"-\"&表格2[[#This Row],[顏色]]","v":"-小獅王-美味軟糖湯匙組-莓果(粉色)-"},81,45,null,null,null,null,"小獅王-美味軟糖湯匙組-莓果(粉色)"]
["S3395",{"$f":"表格2[[#This Row],[ITEM]]&\"-\"&表格2[[#This Row],[SIZE]]&\"-\"&表格2[[#This Row],[顏色]]","v":"-小獅王-美味軟糖湯匙組-焦糖(咖啡)-"},81,45,null,null,null,null,"小獅王-美味軟糖湯匙組-焦糖(咖啡)"]
["S5334",{"$f":"表格2[[#This Row],[ITEM]]&\"-\"&表格2[[#This Row],[SIZE]]&\"-\"&表格2[[#This Row],[顏色]]","v":"-小獅王-透氣棉開襟包屁衣70cm(短袖)-阜灰-"},"",null,null,null,null,null,"小獅王-透氣棉開襟包屁衣70cm(短袖)-阜灰"]
["S606F",{"$f":"表格2[[#This Row],[ITEM]]&\"-\"&表格2[[#This Row],[SIZE]]&\"-\"&表格2[[#This Row],[顏色]]","v":"-UDI  H1智能高效蒸氣烘乾消毒鍋(苜白)-"},3060,null,null,null,null,null,"UDI  H1智能高效蒸氣烘乾消毒鍋(苜白)"]
["S606G",{"$f":"表格2[[#This Row],[ITEM]]&\"-\"&表格2[[#This Row],[SIZE]]&\"-\"&表格2[[#This Row],[顏色]]","v":"-UDI H1智能高效蒸氣烘乾消毒鍋(栗粉)-"},3060,null,null,null,null,null,"UDI H1智能高效蒸氣烘乾消毒鍋(栗粉)"]
["S606H",{"$f":"表格2[[#This Row],[ITEM]]&\"-\"&表格2[[#This Row],[SIZE]]&\"-\"&表格2[[#This Row],[顏色]]","v":"-UDI H1智能高效蒸氣烘乾消毒鍋(杏茶)-"},3060,null,null,null,null,null,"UDI H1智能高效蒸氣烘乾消毒鍋(杏茶)"]
["S8670",{"$f":"表格2[[#This Row],[ITEM]]&\"-\"&表格2[[#This Row],[SIZE]]&\"-\"&表格2[[#This Row],[顏色]]","v":"-小獅王-好樂飲防漏滑蓋替換吸管組(2入)-"},107,null,null,null,null,null,"小獅王-好樂飲防漏滑蓋替換吸管組(2入)"]
["S8671",{"$f":"表格2[[#This Row],[ITEM]]&\"-\"&表格2[[#This Row],[SIZE]]&\"-\"&表格2[[#This Row],[顏色]]","v":"好樂飲-小獅王-好樂飲PPSU防漏滑蓋學習水杯250ml(可可杏)-"},441,170,null,null,null,"好樂飲","小獅王-好樂飲PPSU防漏滑蓋學習水杯250ml(可可杏)"]
["S8672",{"$f":"表格2[[#This Row],[ITEM]]&\"-\"&表格2[[#This Row],[SIZE]]&\"-\"&表格2[[#This Row],[顏色]]","v":"好樂飲-小獅王-好樂飲PPSU防漏滑蓋學習水杯250ml(悠悠粉)-"},441,170,null,null,null,"好樂飲","小獅王-好樂飲PPSU防漏滑蓋學習水杯250ml(悠悠粉)"]
["S8673",{"$f":"表格2[[#This Row],[ITEM]]&\"-\"&表格2[[#This Row],[SIZE]]&\"-\"&表格2[[#This Row],[顏色]]","v":"好樂飲-小獅王-好樂飲PPSU防漏滑蓋學習水杯250ml(安安藍)-"},441,170,null,null,null,"好樂飲","小獅王-好樂飲PPSU防漏滑蓋學習水杯250ml(安安藍)"]
["S9535-5",{"$f":"表格2[[#This Row],[ITEM]]&\"-\"&表格2[[#This Row],[SIZE]]&\"-\"&表格2[[#This Row],[顏色]]","v":"-小獅王-吸乳器(矽膠軟墊)-"},200,null,null,null,null,null,"小獅王-吸乳器(矽膠軟墊)"]
["S9554",{"$f":"表格2[[#This Row],[ITEM]]&\"-\"&表格2[[#This Row],[SIZE]]&\"-\"&表格2[[#This Row],[顏色]]","v":"-小獅王-iFeed極美機超靜音電動吸乳器-"},2950,null,null,null,null,null,"小獅王-iFeed極美機超靜音電動吸乳器"]
["S9554-1",{"$f":"表格2[[#This Row],[ITEM]]&\"-\"&表格2[[#This Row],[SIZE]]&\"-\"&表格2[[#This Row],[顏色]]","v":"-小獅王-iFeed極美機電動吸乳器(吸乳喇叭罩)-"},200,null,null,null,null,null,"小獅王-iFeed極美機電動吸乳器(吸乳喇叭罩)"]
["S9733",{"$f":"表格2[[#This Row],[ITEM]]&\"-\"&表格2[[#This Row],[SIZE]]&\"-\"&表格2[[#This Row],[顏色]]","v":"-小獅王-長效薰衣草精油防蚊貼-恐龍圖鑑(16枚)-"},72,null,null,null,null,null,"小獅王-長效薰衣草精油防蚊貼-恐龍圖鑑(16枚)"]
["S9734",{"$f":"表格2[[#This Row],[ITEM]]&\"-\"&表格2[[#This Row],[SIZE]]&\"-\"&表格2[[#This Row],[顏色]]","v":"-小獅王-長效薰衣草精油防蚊貼-恐龍圖鑑(32枚)-"},125,50,null,null,null,null,"小獅王-長效薰衣草精油防蚊貼-恐龍圖鑑(32枚)"]
["S9817",{"$f":"表格2[[#This Row],[ITEM]]&\"-\"&表格2[[#This Row],[SIZE]]&\"-\"&表格2[[#This Row],[顏色]]","v":"-小獅王-嬰兒防滑浴盆(凱特藍)-"},480,null,null,null,null,null,"小獅王-嬰兒防滑浴盆(凱特藍)"]
["S9818",{"$f":"表格2[[#This Row],[ITEM]]&\"-\"&表格2[[#This Row],[SIZE]]&\"-\"&表格2[[#This Row],[顏色]]","v":"-小獅王-嬰兒防滑浴盆(麗芙粉)-"},480,null,null,null,null,null,"小獅王-嬰兒防滑浴盆(麗芙粉)"]
["S9819",{"$f":"表格2[[#This Row],[ITEM]]&\"-\"&表格2[[#This Row],[SIZE]]&\"-\"&表格2[[#This Row],[顏色]]","v":"-小獅王-可調式沐浴網-"},245,null,null,null,null,null,"小獅王-可調式沐浴網"]
["S9931-B",{"$f":"表格2[[#This Row],[ITEM]]&\"-\"&表格2[[#This Row],[SIZE]]&\"-\"&表格2[[#This Row],[顏色]]","v":"-小獅王-嬰兒乾溼兩用巾(80抽)藍色包裝-"},63,null,null,null,null,null,"小獅王-嬰兒乾溼兩用巾(80抽)藍色包裝"]
["S9931-P",{"$f":"表格2[[#This Row],[ITEM]]&\"-\"&表格2[[#This Row],[SIZE]]&\"-\"&表格2[[#This Row],[顏色]]","v":"-小獅王-嬰兒乾溼兩用巾(80抽)粉色包裝-"},63,null,null,null,null,null,"小獅王-嬰兒乾溼兩用巾(80抽)粉色包裝"]
["S9952",{"$f":"表格2[[#This Row],[ITEM]]&\"-\"&表格2[[#This Row],[SIZE]]&\"-\"&表格2[[#This Row],[顏色]]","v":"-小獅王-智能六段式定溫調乳器(S5 PRO)-"},3850,null,null,null,null,null,"小獅王-智能六段式定溫調乳器(S5 PRO)"]
["S9978",{"$f":"表格2[[#This Row],[ITEM]]&\"-\"&表格2[[#This Row],[SIZE]]&\"-\"&表格2[[#This Row],[顏色]]","v":"-小獅王-薰衣草精油防蚊液組(噴霧型)-"},214,null,null,null,null,null,"小獅王-薰衣草精油防蚊液組(噴霧型)"]
["S9979",{"$f":"表格2[[#This Row],[ITEM]]&\"-\"&表格2[[#This Row],[SIZE]]&\"-\"&表格2[[#This Row],[顏色]]","v":"-小獅王-薰衣草精油防蚊液(噴霧型)60ml-"},116,null,null,null,null,null,"小獅王-薰衣草精油防蚊液(噴霧型)60ml"]
["S9987",{"$f":"表格2[[#This Row],[ITEM]]&\"-\"&表格2[[#This Row],[SIZE]]&\"-\"&表格2[[#This Row],[顏色]]","v":"-小獅王-長效檸檬草精油防蚊貼(16枚)-"},72,null,null,null,null,null,"小獅王-長效檸檬草精油防蚊貼(16枚)"]
["S9988",{"$f":"表格2[[#This Row],[ITEM]]&\"-\"&表格2[[#This Row],[SIZE]]&\"-\"&表格2[[#This Row],[顏色]]","v":"-小獅王-長效檸檬草精油防蚊貼(32枚)-"},125,50,null,null,null,null,"小獅王-長效檸檬草精油防蚊貼(32枚)"]
["sample004001",{"$f":"表格2[[#This Row],[ITEM]]&\"-\"&表格2[[#This Row],[SIZE]]&\"-\"&表格2[[#This Row],[顏色]]","v":"-小獅王-超柔無垢白金矽膠旋轉奶瓶刷(小麥)-米 (樣品)-"},"",null,null,null,null,null,"小獅王-超柔無垢白金矽膠旋轉奶瓶刷(小麥)-米 (樣品)"]
["sample004002",{"$f":"表格2[[#This Row],[ITEM]]&\"-\"&表格2[[#This Row],[SIZE]]&\"-\"&表格2[[#This Row],[顏色]]","v":"-小獅王-超柔無垢白金矽膠奶瓶刷(小石)-灰 (樣品)-"},"",null,null,null,null,null,"小獅王-超柔無垢白金矽膠奶瓶刷(小石)-灰 (樣品)"]
["sample004003",{"$f":"表格2[[#This Row],[ITEM]]&\"-\"&表格2[[#This Row],[SIZE]]&\"-\"&表格2[[#This Row],[顏色]]","v":"-小獅王-智能六段式定溫調乳器(S5 PRO)-"},"",null,null,null,null,null,"小獅王-智能六段式定溫調乳器(S5 PRO)"]
["sample004004",{"$f":"表格2[[#This Row],[ITEM]]&\"-\"&表格2[[#This Row],[SIZE]]&\"-\"&表格2[[#This Row],[顏色]]","v":"-小獅王-UDI H1智能高效蒸氣烘乾消毒鍋(杏茶)-"},"",null,null,null,null,null,"小獅王-UDI H1智能高效蒸氣烘乾消毒鍋(杏茶)"]
["sample004005",{"$f":"表格2[[#This Row],[ITEM]]&\"-\"&表格2[[#This Row],[SIZE]]&\"-\"&表格2[[#This Row],[顏色]]","v":"-小獅王-短袖80-"},"",null,null,null,null,null,"小獅王-短袖80"]
["sample004006",{"$f":"表格2[[#This Row],[ITEM]]&\"-\"&表格2[[#This Row],[SIZE]]&\"-\"&表格2[[#This Row],[顏色]]","v":"-小獅王-無袖80-"},"",null,null,null,null,null,"小獅王-無袖80"]
["sample004007",{"$f":"表格2[[#This Row],[ITEM]]&\"-\"&表格2[[#This Row],[SIZE]]&\"-\"&表格2[[#This Row],[顏色]]","v":"-小獅王-短袖70-"},"",null,null,null,null,null,"小獅王-短袖70"]
["sample004008",{"$f":"表格2[[#This Row],[ITEM]]&\"-\"&表格2[[#This Row],[SIZE]]&\"-\"&表格2[[#This Row],[顏色]]","v":"-小獅王-短袖60-"},"",null,null,null,null,null,"小獅王-短袖60"]
["sample004009",{"$f":"表格2[[#This Row],[ITEM]]&\"-\"&表格2[[#This Row],[SIZE]]&\"-\"&表格2[[#This Row],[顏色]]","v":"-小獅王-無袖70-"},"",null,null,null,null,null,"小獅王-無袖70"]
["sample004010",{"$f":"表格2[[#This Row],[ITEM]]&\"-\"&表格2[[#This Row],[SIZE]]&\"-\"&表格2[[#This Row],[顏色]]","v":"-小獅王-長袖60-"},"",null,null,null,null,null,"小獅王-長袖60"]
["SW1351",{"$f":"表格2[[#This Row],[ITEM]]&\"-\"&表格2[[#This Row],[SIZE]]&\"-\"&表格2[[#This Row],[顏色]]","v":"-小獅王-辛巴 Pointy 嬰兒口腔清潔指套 (100入)-"},201,null,null,null,null,null,"小獅王-辛巴 Pointy 嬰兒口腔清潔指套 (100入)"]
["SW1467",{"$f":"表格2[[#This Row],[ITEM]]&\"-\"&表格2[[#This Row],[SIZE]]&\"-\"&表格2[[#This Row],[顏色]]","v":"-小獅王-超柔無垢海綿快拆旋轉奶瓶刷-"},146,null,null,null,null,null,"小獅王-超柔無垢海綿快拆旋轉奶瓶刷"]
["SW1468",{"$f":"表格2[[#This Row],[ITEM]]&\"-\"&表格2[[#This Row],[SIZE]]&\"-\"&表格2[[#This Row],[顏色]]","v":"-小獅王-超柔無垢海綿旋轉奶瓶刷-"},128,null,null,null,null,null,"小獅王-超柔無垢海綿旋轉奶瓶刷"]
["SW1469",{"$f":"表格2[[#This Row],[ITEM]]&\"-\"&表格2[[#This Row],[SIZE]]&\"-\"&表格2[[#This Row],[顏色]]","v":"-小獅王-超柔無垢海綿奶嘴刷(2入)-"},88,null,null,null,null,null,"小獅王-超柔無垢海綿奶嘴刷(2入)"]
["SW1470",{"$f":"表格2[[#This Row],[ITEM]]&\"-\"&表格2[[#This Row],[SIZE]]&\"-\"&表格2[[#This Row],[顏色]]","v":"-小獅王-超柔無垢海綿快拆旋轉奶瓶刷替換刷頭(1入)-"},41,null,null,null,null,null,"小獅王-超柔無垢海綿快拆旋轉奶瓶刷替換刷頭(1入)"]
["SW1471",{"$f":"表格2[[#This Row],[ITEM]]&\"-\"&表格2[[#This Row],[SIZE]]&\"-\"&表格2[[#This Row],[顏色]]","v":"-小獅王-超柔無垢海綿旋轉奶瓶刷替換包(2入)-"},47,null,null,null,null,null,"小獅王-超柔無垢海綿旋轉奶瓶刷替換包(2入)"]
["SW1472",{"$f":"表格2[[#This Row],[ITEM]]&\"-\"&表格2[[#This Row],[SIZE]]&\"-\"&表格2[[#This Row],[顏色]]","v":"-小獅王-超柔無垢海綿奶嘴刷替換包(3入)-"},30,null,null,null,null,null,"小獅王-超柔無垢海綿奶嘴刷替換包(3入)"]
["SW1473",{"$f":"表格2[[#This Row],[ITEM]]&\"-\"&表格2[[#This Row],[SIZE]]&\"-\"&表格2[[#This Row],[顏色]]","v":"-小獅王-超柔無垢海綿旋轉奶瓶刷組-"},128,null,null,null,null,null,"小獅王-超柔無垢海綿旋轉奶瓶刷組"]
["SW1660",{"$f":"表格2[[#This Row],[ITEM]]&\"-\"&表格2[[#This Row],[SIZE]]&\"-\"&表格2[[#This Row],[顏色]]","v":"-小獅王-平安御守香火袋-恐龍樂園(藍)-"},112,55,null,null,null,null,"小獅王-平安御守香火袋-恐龍樂園(藍)"]
["SW1661",{"$f":"表格2[[#This Row],[ITEM]]&\"-\"&表格2[[#This Row],[SIZE]]&\"-\"&表格2[[#This Row],[顏色]]","v":"-小獅王-平安御守香火袋-蜜桃菠菠(粉)-"},112,55,null,null,null,null,"小獅王-平安御守香火袋-蜜桃菠菠(粉)"]
["SW1662",{"$f":"表格2[[#This Row],[ITEM]]&\"-\"&表格2[[#This Row],[SIZE]]&\"-\"&表格2[[#This Row],[顏色]]","v":"-小獅王-平安御守香火袋-小鳥星球(綠)-"},112,55,null,null,null,null,"小獅王-平安御守香火袋-小鳥星球(綠)"]
["SW1663",{"$f":"表格2[[#This Row],[ITEM]]&\"-\"&表格2[[#This Row],[SIZE]]&\"-\"&表格2[[#This Row],[顏色]]","v":"-小獅王-平安御守香火袋-奶油字母(杏)-"},112,55,null,null,null,null,"小獅王-平安御守香火袋-奶油字母(杏)"]
["SW1710",{"$f":"表格2[[#This Row],[ITEM]]&\"-\"&表格2[[#This Row],[SIZE]]&\"-\"&表格2[[#This Row],[顏色]]","v":"-小獅王-蘊蜜夜光奶嘴帶-晨藍-"},81,49,null,null,null,null,"小獅王-蘊蜜夜光奶嘴帶-晨藍"]
["SW1711",{"$f":"表格2[[#This Row],[ITEM]]&\"-\"&表格2[[#This Row],[SIZE]]&\"-\"&表格2[[#This Row],[顏色]]","v":"-小獅王-蘊蜜夜光奶嘴帶-栗粉-"},81,49,null,null,null,null,"小獅王-蘊蜜夜光奶嘴帶-栗粉"]
["SW1712",{"$f":"表格2[[#This Row],[ITEM]]&\"-\"&表格2[[#This Row],[SIZE]]&\"-\"&表格2[[#This Row],[顏色]]","v":"-小獅王-蘊蜜夜光奶嘴帶-杏茶-"},81,49,null,null,null,null,"小獅王-蘊蜜夜光奶嘴帶-杏茶"]
["SW1714",{"$f":"表格2[[#This Row],[ITEM]]&\"-\"&表格2[[#This Row],[SIZE]]&\"-\"&表格2[[#This Row],[顏色]]","v":"-小獅王-蘊蜜夜光奶嘴帶-綠沐-"},81,49,null,null,null,null,"小獅王-蘊蜜夜光奶嘴帶-綠沐"]
["SW1720",{"$f":"表格2[[#This Row],[ITEM]]&\"-\"&表格2[[#This Row],[SIZE]]&\"-\"&表格2[[#This Row],[顏色]]","v":"-小獅王-蘊蜜萬用防掉雙頭夾(晨藍)-"},98,45,null,null,null,null,"小獅王-蘊蜜萬用防掉雙頭夾(晨藍)"]
["SW1721",{"$f":"表格2[[#This Row],[ITEM]]&\"-\"&表格2[[#This Row],[SIZE]]&\"-\"&表格2[[#This Row],[顏色]]","v":"-小獅王-蘊蜜萬用防掉雙頭夾(栗粉)-"},98,45,null,null,null,null,"小獅王-蘊蜜萬用防掉雙頭夾(栗粉)"]
["SW1722",{"$f":"表格2[[#This Row],[ITEM]]&\"-\"&表格2[[#This Row],[SIZE]]&\"-\"&表格2[[#This Row],[顏色]]","v":"-小獅王-蘊蜜萬用防掉雙頭夾(杏茶)-"},98,45,null,null,null,null,"小獅王-蘊蜜萬用防掉雙頭夾(杏茶)"]
["SW1723",{"$f":"表格2[[#This Row],[ITEM]]&\"-\"&表格2[[#This Row],[SIZE]]&\"-\"&表格2[[#This Row],[顏色]]","v":"-小獅王-蘊蜜萬用防掉雙頭夾(紫芙)-"},98,45,null,null,null,null,"小獅王-蘊蜜萬用防掉雙頭夾(紫芙)"]
["SW1724",{"$f":"表格2[[#This Row],[ITEM]]&\"-\"&表格2[[#This Row],[SIZE]]&\"-\"&表格2[[#This Row],[顏色]]","v":"-小獅王-蘊蜜萬用防掉雙頭夾(綠沐)-"},98,45,null,null,null,null,"小獅王-蘊蜜萬用防掉雙頭夾(綠沐)"]
["SW1910",{"$f":"表格2[[#This Row],[ITEM]]&\"-\"&表格2[[#This Row],[SIZE]]&\"-\"&表格2[[#This Row],[顏色]]","v":"安撫奶嘴-小獅王-蘊蜜超柔拇指安撫奶嘴(晨藍)-初生-"},74,45,null,null,null,"安撫奶嘴","小獅王-蘊蜜超柔拇指安撫奶嘴(晨藍)-初生"]
["SW1911",{"$f":"表格2[[#This Row],[ITEM]]&\"-\"&表格2[[#This Row],[SIZE]]&\"-\"&表格2[[#This Row],[顏色]]","v":"安撫奶嘴-小獅王-蘊蜜超柔拇指安撫奶嘴(栗粉)-初生-"},74,45,null,null,null,"安撫奶嘴","小獅王-蘊蜜超柔拇指安撫奶嘴(栗粉)-初生"]
["SW1912",{"$f":"表格2[[#This Row],[ITEM]]&\"-\"&表格2[[#This Row],[SIZE]]&\"-\"&表格2[[#This Row],[顏色]]","v":"安撫奶嘴-小獅王-蘊蜜超柔拇指安撫奶嘴(杏茶)-初生-"},74,45,null,null,null,"安撫奶嘴","小獅王-蘊蜜超柔拇指安撫奶嘴(杏茶)-初生"]
["SW1914",{"$f":"表格2[[#This Row],[ITEM]]&\"-\"&表格2[[#This Row],[SIZE]]&\"-\"&表格2[[#This Row],[顏色]]","v":"安撫奶嘴-小獅王-蘊蜜超柔拇指安撫奶嘴(綠沐)-初生-"},74,45,null,null,null,"安撫奶嘴","小獅王-蘊蜜超柔拇指安撫奶嘴(綠沐)-初生"]
["SW1920",{"$f":"表格2[[#This Row],[ITEM]]&\"-\"&表格2[[#This Row],[SIZE]]&\"-\"&表格2[[#This Row],[顏色]]","v":"安撫奶嘴-小獅王-蘊蜜超柔拇指安撫奶嘴(晨藍)-較大-"},74,45,null,null,null,"安撫奶嘴","小獅王-蘊蜜超柔拇指安撫奶嘴(晨藍)-較大"]
["SW1921",{"$f":"表格2[[#This Row],[ITEM]]&\"-\"&表格2[[#This Row],[SIZE]]&\"-\"&表格2[[#This Row],[顏色]]","v":"安撫奶嘴-小獅王-蘊蜜超柔拇指安撫奶嘴(栗粉)-較大-"},74,45,null,null,null,"安撫奶嘴","小獅王-蘊蜜超柔拇指安撫奶嘴(栗粉)-較大"]
["SW1922",{"$f":"表格2[[#This Row],[ITEM]]&\"-\"&表格2[[#This Row],[SIZE]]&\"-\"&表格2[[#This Row],[顏色]]","v":"安撫奶嘴-小獅王-蘊蜜超柔拇指安撫奶嘴(杏茶)-較大-"},74,45,null,null,null,"安撫奶嘴","小獅王-蘊蜜超柔拇指安撫奶嘴(杏茶)-較大"]
["SW1924",{"$f":"表格2[[#This Row],[ITEM]]&\"-\"&表格2[[#This Row],[SIZE]]&\"-\"&表格2[[#This Row],[顏色]]","v":"安撫奶嘴-小獅王-蘊蜜超柔拇指安撫奶嘴(綠沐)-較大-"},74,45,null,null,null,"安撫奶嘴","小獅王-蘊蜜超柔拇指安撫奶嘴(綠沐)-較大"]
["SW1930",{"$f":"表格2[[#This Row],[ITEM]]&\"-\"&表格2[[#This Row],[SIZE]]&\"-\"&表格2[[#This Row],[顏色]]","v":"安撫奶嘴-小獅王-蘊蜜超柔拇指安撫奶嘴(晨藍)-耐咬較大型-"},74,45,null,null,null,"安撫奶嘴","小獅王-蘊蜜超柔拇指安撫奶嘴(晨藍)-耐咬較大型"]
["SW1931",{"$f":"表格2[[#This Row],[ITEM]]&\"-\"&表格2[[#This Row],[SIZE]]&\"-\"&表格2[[#This Row],[顏色]]","v":"安撫奶嘴-小獅王-蘊蜜超柔拇指安撫奶嘴(栗粉)-耐咬較大型-"},74,45,null,null,null,"安撫奶嘴","小獅王-蘊蜜超柔拇指安撫奶嘴(栗粉)-耐咬較大型"]
["SW1932",{"$f":"表格2[[#This Row],[ITEM]]&\"-\"&表格2[[#This Row],[SIZE]]&\"-\"&表格2[[#This Row],[顏色]]","v":"安撫奶嘴-小獅王-蘊蜜超柔拇指安撫奶嘴(杏茶)-耐咬較大型-"},74,45,null,null,null,"安撫奶嘴","小獅王-蘊蜜超柔拇指安撫奶嘴(杏茶)-耐咬較大型"]
["SW1934",{"$f":"表格2[[#This Row],[ITEM]]&\"-\"&表格2[[#This Row],[SIZE]]&\"-\"&表格2[[#This Row],[顏色]]","v":"安撫奶嘴-小獅王-蘊蜜超柔拇指安撫奶嘴(綠沐)-耐咬較大型-"},74,45,null,null,null,"安撫奶嘴","小獅王-蘊蜜超柔拇指安撫奶嘴(綠沐)-耐咬較大型"]
["SW3420",{"$f":"表格2[[#This Row],[ITEM]]&\"-\"&表格2[[#This Row],[SIZE]]&\"-\"&表格2[[#This Row],[顏色]]","v":"食物剪刀-小獅王-嬰兒食物金剛剪(晨藍)-"},170,69,null,null,null,"食物剪刀","小獅王-嬰兒食物金剛剪(晨藍)"]
["SW3421",{"$f":"表格2[[#This Row],[ITEM]]&\"-\"&表格2[[#This Row],[SIZE]]&\"-\"&表格2[[#This Row],[顏色]]","v":"食物剪刀-小獅王-嬰兒食物金剛剪(栗粉)-"},170,69,null,null,null,"食物剪刀","小獅王-嬰兒食物金剛剪(栗粉)"]
["SW3422",{"$f":"表格2[[#This Row],[ITEM]]&\"-\"&表格2[[#This Row],[SIZE]]&\"-\"&表格2[[#This Row],[顏色]]","v":"食物剪刀-小獅王-嬰兒食物金剛剪(杏茶)-"},170,69,null,null,null,"食物剪刀","小獅王-嬰兒食物金剛剪(杏茶)"]
["SW3430",{"$f":"表格2[[#This Row],[ITEM]]&\"-\"&表格2[[#This Row],[SIZE]]&\"-\"&表格2[[#This Row],[顏色]]","v":"-小獅王-美味軟質湯匙(晨藍)-"},67,45,null,null,null,null,"小獅王-美味軟質湯匙(晨藍)"]
["SW3431",{"$f":"表格2[[#This Row],[ITEM]]&\"-\"&表格2[[#This Row],[SIZE]]&\"-\"&表格2[[#This Row],[顏色]]","v":"-小獅王-美味軟質湯匙(栗粉)-"},67,45,null,null,null,null,"小獅王-美味軟質湯匙(栗粉)"]
["SW3432",{"$f":"表格2[[#This Row],[ITEM]]&\"-\"&表格2[[#This Row],[SIZE]]&\"-\"&表格2[[#This Row],[顏色]]","v":"-小獅王-美味軟質湯匙(杏茶)-"},67,45,null,null,null,null,"小獅王-美味軟質湯匙(杏茶)"]
["SW3440",{"$f":"表格2[[#This Row],[ITEM]]&\"-\"&表格2[[#This Row],[SIZE]]&\"-\"&表格2[[#This Row],[顏色]]","v":"-小獅王-美味曲奇吸盤碗-晨藍-"},170,85,null,null,null,null,"小獅王-美味曲奇吸盤碗-晨藍"]
["SW3441",{"$f":"表格2[[#This Row],[ITEM]]&\"-\"&表格2[[#This Row],[SIZE]]&\"-\"&表格2[[#This Row],[顏色]]","v":"-小獅王-美味曲奇吸盤碗-栗粉-"},170,85,null,null,null,null,"小獅王-美味曲奇吸盤碗-栗粉"]
["SW3442",{"$f":"表格2[[#This Row],[ITEM]]&\"-\"&表格2[[#This Row],[SIZE]]&\"-\"&表格2[[#This Row],[顏色]]","v":"-小獅王-美味曲奇吸盤碗-杏茶-"},170,85,null,null,null,null,"小獅王-美味曲奇吸盤碗-杏茶"]
["SW3450",{"$f":"表格2[[#This Row],[ITEM]]&\"-\"&表格2[[#This Row],[SIZE]]&\"-\"&表格2[[#This Row],[顏色]]","v":"-小獅王-美味漢堡吸盤碗-晨藍-"},161,85,null,null,null,null,"小獅王-美味漢堡吸盤碗-晨藍"]
["SW3451",{"$f":"表格2[[#This Row],[ITEM]]&\"-\"&表格2[[#This Row],[SIZE]]&\"-\"&表格2[[#This Row],[顏色]]","v":"-小獅王-美味漢堡吸盤碗-栗粉-"},161,85,null,null,null,null,"小獅王-美味漢堡吸盤碗-栗粉"]
["SW3452",{"$f":"表格2[[#This Row],[ITEM]]&\"-\"&表格2[[#This Row],[SIZE]]&\"-\"&表格2[[#This Row],[顏色]]","v":"-小獅王-美味漢堡吸盤碗-杏茶-"},161,85,null,null,null,null,"小獅王-美味漢堡吸盤碗-杏茶"]
["SW3470",{"$f":"表格2[[#This Row],[ITEM]]&\"-\"&表格2[[#This Row],[SIZE]]&\"-\"&表格2[[#This Row],[顏色]]","v":"-小獅王-美味學習叉匙組-晨藍-"},54,45,null,null,null,null,"小獅王-美味學習叉匙組-晨藍"]
["SW3471",{"$f":"表格2[[#This Row],[ITEM]]&\"-\"&表格2[[#This Row],[SIZE]]&\"-\"&表格2[[#This Row],[顏色]]","v":"-小獅王-美味學習叉匙組-栗粉-"},54,45,null,null,null,null,"小獅王-美味學習叉匙組-栗粉"]
["SW3472",{"$f":"表格2[[#This Row],[ITEM]]&\"-\"&表格2[[#This Row],[SIZE]]&\"-\"&表格2[[#This Row],[顏色]]","v":"-小獅王-美味學習叉匙組-杏茶-"},54,45,null,null,null,null,"小獅王-美味學習叉匙組-杏茶"]
["SW3480",{"$f":"表格2[[#This Row],[ITEM]]&\"-\"&表格2[[#This Row],[SIZE]]&\"-\"&表格2[[#This Row],[顏色]]","v":"-小獅王-美味兒童叉匙組-晨藍-"},81,45,null,null,null,null,"小獅王-美味兒童叉匙組-晨藍"]
["SW3481",{"$f":"表格2[[#This Row],[ITEM]]&\"-\"&表格2[[#This Row],[SIZE]]&\"-\"&表格2[[#This Row],[顏色]]","v":"-小獅王-美味兒童叉匙組-栗粉 -"},81,45,null,null,null,null,"小獅王-美味兒童叉匙組-栗粉 "]
["SW3482",{"$f":"表格2[[#This Row],[ITEM]]&\"-\"&表格2[[#This Row],[SIZE]]&\"-\"&表格2[[#This Row],[顏色]]","v":"-小獅王-美味兒童叉匙組-杏茶-"},81,45,null,null,null,null,"小獅王-美味兒童叉匙組-杏茶"]
["SW3490",{"$f":"表格2[[#This Row],[ITEM]]&\"-\"&表格2[[#This Row],[SIZE]]&\"-\"&表格2[[#This Row],[顏色]]","v":"-小獅王-美味軟糖湯匙組-晨藍-"},98,45,null,null,null,null,"小獅王-美味軟糖湯匙組-晨藍"]
["SW3491",{"$f":"表格2[[#This Row],[ITEM]]&\"-\"&表格2[[#This Row],[SIZE]]&\"-\"&表格2[[#This Row],[顏色]]","v":"-小獅王-美味軟糖湯匙組-栗粉-"},98,45,null,null,null,null,"小獅王-美味軟糖湯匙組-栗粉"]
["SW3492",{"$f":"表格2[[#This Row],[ITEM]]&\"-\"&表格2[[#This Row],[SIZE]]&\"-\"&表格2[[#This Row],[顏色]]","v":"-小獅王-美味軟糖湯匙組-杏茶-"},98,45,null,null,null,null,"小獅王-美味軟糖湯匙組-杏茶"]
["SW6120",{"$f":"表格2[[#This Row],[ITEM]]&\"-\"&表格2[[#This Row],[SIZE]]&\"-\"&表格2[[#This Row],[顏色]]","v":"PPSU 普通奶樽-小獅王-蘊蜜鉑金PPSU寬口防脹氣奶瓶200ml(晨藍)-圓S"},267,115,null,null,null,"PPSU 普通奶樽","小獅王-蘊蜜鉑金PPSU寬口防脹氣奶瓶200ml(晨藍)","圓S"]
["SW6121",{"$f":"表格2[[#This Row],[ITEM]]&\"-\"&表格2[[#This Row],[SIZE]]&\"-\"&表格2[[#This Row],[顏色]]","v":"PPSU 普通奶樽-小獅王-蘊蜜鉑金PPSU寬口防脹氣奶瓶200ml(栗粉)-圓S"},267,115,null,null,null,"PPSU 普通奶樽","小獅王-蘊蜜鉑金PPSU寬口防脹氣奶瓶200ml(栗粉)","圓S"]
["SW6122",{"$f":"表格2[[#This Row],[ITEM]]&\"-\"&表格2[[#This Row],[SIZE]]&\"-\"&表格2[[#This Row],[顏色]]","v":"PPSU 普通奶樽-小獅王-蘊蜜鉑金PPSU寬口防脹氣奶瓶200ml(杏茶)-圓S"},267,115,null,null,null,"PPSU 普通奶樽","小獅王-蘊蜜鉑金PPSU寬口防脹氣奶瓶200ml(杏茶)","圓S"]
["SW6123",{"$f":"表格2[[#This Row],[ITEM]]&\"-\"&表格2[[#This Row],[SIZE]]&\"-\"&表格2[[#This Row],[顏色]]","v":"PPSU 普通奶樽-小獅王-蘊蜜鉑金PPSU寬口防脹氣奶瓶200ml(紫芙)-圓S"},267,115,null,null,null,"PPSU 普通奶樽","小獅王-蘊蜜鉑金PPSU寬口防脹氣奶瓶200ml(紫芙)","圓S"]
["SW6124",{"$f":"表格2[[#This Row],[ITEM]]&\"-\"&表格2[[#This Row],[SIZE]]&\"-\"&表格2[[#This Row],[顏色]]","v":"PPSU 普通奶樽-小獅王-蘊蜜鉑金PPSU寬口防脹氣奶瓶200ml(綠沐)-圓S"},267,115,null,null,null,"PPSU 普通奶樽","小獅王-蘊蜜鉑金PPSU寬口防脹氣奶瓶200ml(綠沐)","圓S"]
["SW6130",{"$f":"表格2[[#This Row],[ITEM]]&\"-\"&表格2[[#This Row],[SIZE]]&\"-\"&表格2[[#This Row],[顏色]]","v":"PPSU 普通奶樽-小獅王-蘊蜜鉑金PPSU寬口防脹氣奶瓶270ml(晨藍)-圓S"},290,128,null,null,null,"PPSU 普通奶樽","小獅王-蘊蜜鉑金PPSU寬口防脹氣奶瓶270ml(晨藍)","圓S"]
["SW6131",{"$f":"表格2[[#This Row],[ITEM]]&\"-\"&表格2[[#This Row],[SIZE]]&\"-\"&表格2[[#This Row],[顏色]]","v":"PPSU 普通奶樽-小獅王-蘊蜜鉑金PPSU寬口防脹氣奶瓶270ml(栗粉)-十字M"},290,128,null,null,null,"PPSU 普通奶樽","小獅王-蘊蜜鉑金PPSU寬口防脹氣奶瓶270ml(栗粉)","十字M"]
["SW6132",{"$f":"表格2[[#This Row],[ITEM]]&\"-\"&表格2[[#This Row],[SIZE]]&\"-\"&表格2[[#This Row],[顏色]]","v":"PPSU 普通奶樽-小獅王-蘊蜜鉑金PPSU寬口防脹氣奶瓶270ml(杏茶)-十字M"},290,128,null,null,null,"PPSU 普通奶樽","小獅王-蘊蜜鉑金PPSU寬口防脹氣奶瓶270ml(杏茶)","十字M"]
["SW6133",{"$f":"表格2[[#This Row],[ITEM]]&\"-\"&表格2[[#This Row],[SIZE]]&\"-\"&表格2[[#This Row],[顏色]]","v":"PPSU 普通奶樽-小獅王-蘊蜜鉑金PPSU寬口防脹氣奶瓶270ml(紫芙)-十字M"},290,128,null,null,null,"PPSU 普通奶樽","小獅王-蘊蜜鉑金PPSU寬口防脹氣奶瓶270ml(紫芙)","十字M"]
["SW6134",{"$f":"表格2[[#This Row],[ITEM]]&\"-\"&表格2[[#This Row],[SIZE]]&\"-\"&表格2[[#This Row],[顏色]]","v":"PPSU 普通奶樽-小獅王-蘊蜜鉑金PPSU寬口防脹氣奶瓶270ml(綠沐)-十字M"},290,128,null,null,null,"PPSU 普通奶樽","小獅王-蘊蜜鉑金PPSU寬口防脹氣奶瓶270ml(綠沐)","十字M"]
["SW6150",{"$f":"表格2[[#This Row],[ITEM]]&\"-\"&表格2[[#This Row],[SIZE]]&\"-\"&表格2[[#This Row],[顏色]]","v":"PPSU 普通奶樽-小獅王-蘊蜜鉑金PPSU寬口防脹氣奶瓶360ml(晨藍)-十字M"},312,135,null,null,null,"PPSU 普通奶樽","小獅王-蘊蜜鉑金PPSU寬口防脹氣奶瓶360ml(晨藍)","十字M"]
["SW6151",{"$f":"表格2[[#This Row],[ITEM]]&\"-\"&表格2[[#This Row],[SIZE]]&\"-\"&表格2[[#This Row],[顏色]]","v":"PPSU 普通奶樽-小獅王-蘊蜜鉑金PPSU寬口防脹氣奶瓶360ml(栗粉)-十字M"},312,135,null,null,null,"PPSU 普通奶樽","小獅王-蘊蜜鉑金PPSU寬口防脹氣奶瓶360ml(栗粉)","十字M"]
["SW6152",{"$f":"表格2[[#This Row],[ITEM]]&\"-\"&表格2[[#This Row],[SIZE]]&\"-\"&表格2[[#This Row],[顏色]]","v":"PPSU 普通奶樽-小獅王-蘊蜜鉑金PPSU寬口防脹氣奶瓶360ml(杏茶)-十字M"},312,135,null,null,null,"PPSU 普通奶樽","小獅王-蘊蜜鉑金PPSU寬口防脹氣奶瓶360ml(杏茶)","十字M"]
["SW6153",{"$f":"表格2[[#This Row],[ITEM]]&\"-\"&表格2[[#This Row],[SIZE]]&\"-\"&表格2[[#This Row],[顏色]]","v":"PPSU 普通奶樽-小獅王-蘊蜜鉑金PPSU寬口防脹氣奶瓶360ml(紫芙)-十字M"},312,135,null,null,null,"PPSU 普通奶樽","小獅王-蘊蜜鉑金PPSU寬口防脹氣奶瓶360ml(紫芙)","十字M"]
["SW6154",{"$f":"表格2[[#This Row],[ITEM]]&\"-\"&表格2[[#This Row],[SIZE]]&\"-\"&表格2[[#This Row],[顏色]]","v":"PPSU 普通奶樽-小獅王-蘊蜜鉑金PPSU寬口防脹氣奶瓶360ml(綠沐)-十字M"},312,135,null,null,null,"PPSU 普通奶樽","小獅王-蘊蜜鉑金PPSU寬口防脹氣奶瓶360ml(綠沐)","十字M"]
["SW6160",{"$f":"表格2[[#This Row],[ITEM]]&\"-\"&表格2[[#This Row],[SIZE]]&\"-\"&表格2[[#This Row],[顏色]]","v":"把手奶樽-小獅王-蘊蜜鉑金PPSU寬口吸管把手防脹氣奶瓶200ml(晨藍)-十字S"},299,135,null,null,null,"把手奶樽","小獅王-蘊蜜鉑金PPSU寬口吸管把手防脹氣奶瓶200ml(晨藍)","十字S"]
["SW6161",{"$f":"表格2[[#This Row],[ITEM]]&\"-\"&表格2[[#This Row],[SIZE]]&\"-\"&表格2[[#This Row],[顏色]]","v":"把手奶樽-小獅王-蘊蜜鉑金PPSU寬口吸管把手防脹氣奶瓶200ml(栗粉)-十字S"},299,135,null,null,null,"把手奶樽","小獅王-蘊蜜鉑金PPSU寬口吸管把手防脹氣奶瓶200ml(栗粉)","十字S"]
["SW6162",{"$f":"表格2[[#This Row],[ITEM]]&\"-\"&表格2[[#This Row],[SIZE]]&\"-\"&表格2[[#This Row],[顏色]]","v":"把手奶樽-小獅王-蘊蜜鉑金PPSU寬口吸管把手防脹氣奶瓶200ml(杏茶)-十字S"},299,135,null,null,null,"把手奶樽","小獅王-蘊蜜鉑金PPSU寬口吸管把手防脹氣奶瓶200ml(杏茶)","十字S"]
["SW6164",{"$f":"表格2[[#This Row],[ITEM]]&\"-\"&表格2[[#This Row],[SIZE]]&\"-\"&表格2[[#This Row],[顏色]]","v":"把手奶樽-小獅王-蘊蜜鉑金PPSU寬口吸管把手防脹氣奶瓶200ml(綠沐)-十字S"},299,135,null,null,null,"把手奶樽","小獅王-蘊蜜鉑金PPSU寬口吸管把手防脹氣奶瓶200ml(綠沐)","十字S"]
["SW6170",{"$f":"表格2[[#This Row],[ITEM]]&\"-\"&表格2[[#This Row],[SIZE]]&\"-\"&表格2[[#This Row],[顏色]]","v":"把手奶樽-小獅王-蘊蜜鉑金PPSU寬口吸管把手防脹氣奶瓶270ml(晨藍)-十字M"},321,140,null,null,null,"把手奶樽","小獅王-蘊蜜鉑金PPSU寬口吸管把手防脹氣奶瓶270ml(晨藍)","十字M"]
["SW6171",{"$f":"表格2[[#This Row],[ITEM]]&\"-\"&表格2[[#This Row],[SIZE]]&\"-\"&表格2[[#This Row],[顏色]]","v":"把手奶樽-小獅王-蘊蜜鉑金PPSU寬口吸管把手防脹氣奶瓶270ml(栗粉)-十字M"},321,140,null,null,null,"把手奶樽","小獅王-蘊蜜鉑金PPSU寬口吸管把手防脹氣奶瓶270ml(栗粉)","十字M"]
["SW6172",{"$f":"表格2[[#This Row],[ITEM]]&\"-\"&表格2[[#This Row],[SIZE]]&\"-\"&表格2[[#This Row],[顏色]]","v":"把手奶樽-小獅王-蘊蜜鉑金PPSU寬口吸管把手防脹氣奶瓶270ml(杏茶)-十字M"},321,140,null,null,null,"把手奶樽","小獅王-蘊蜜鉑金PPSU寬口吸管把手防脹氣奶瓶270ml(杏茶)","十字M"]
["SW6174",{"$f":"表格2[[#This Row],[ITEM]]&\"-\"&表格2[[#This Row],[SIZE]]&\"-\"&表格2[[#This Row],[顏色]]","v":"把手奶樽-小獅王-蘊蜜鉑金PPSU寬口吸管把手防脹氣奶瓶270ml(綠沐)-十字M"},321,140,null,null,null,"把手奶樽","小獅王-蘊蜜鉑金PPSU寬口吸管把手防脹氣奶瓶270ml(綠沐)","十字M"]
["SW6180",{"$f":"表格2[[#This Row],[ITEM]]&\"-\"&表格2[[#This Row],[SIZE]]&\"-\"&表格2[[#This Row],[顏色]]","v":"把手奶樽-小獅王-蘊蜜鉑金PPSU寬口吸管把手防脹氣奶瓶360ml(晨藍)-十字M"},343,148,null,null,null,"把手奶樽","小獅王-蘊蜜鉑金PPSU寬口吸管把手防脹氣奶瓶360ml(晨藍)","十字M"]
["SW6181",{"$f":"表格2[[#This Row],[ITEM]]&\"-\"&表格2[[#This Row],[SIZE]]&\"-\"&表格2[[#This Row],[顏色]]","v":"把手奶樽-小獅王-蘊蜜鉑金PPSU寬口吸管把手防脹氣奶瓶360ml(栗粉)-十字M"},343,148,null,null,null,"把手奶樽","小獅王-蘊蜜鉑金PPSU寬口吸管把手防脹氣奶瓶360ml(栗粉)","十字M"]
["SW6182",{"$f":"表格2[[#This Row],[ITEM]]&\"-\"&表格2[[#This Row],[SIZE]]&\"-\"&表格2[[#This Row],[顏色]]","v":"把手奶樽-小獅王-蘊蜜鉑金PPSU寬口吸管把手防脹氣奶瓶360ml(杏茶)-十字M"},343,148,null,null,null,"把手奶樽","小獅王-蘊蜜鉑金PPSU寬口吸管把手防脹氣奶瓶360ml(杏茶)","十字M"]
["SW6184",{"$f":"表格2[[#This Row],[ITEM]]&\"-\"&表格2[[#This Row],[SIZE]]&\"-\"&表格2[[#This Row],[顏色]]","v":"把手奶樽-小獅王-蘊蜜鉑金PPSU寬口吸管把手防脹氣奶瓶360ml(綠沐)-十字M"},343,148,null,null,null,"把手奶樽","小獅王-蘊蜜鉑金PPSU寬口吸管把手防脹氣奶瓶360ml(綠沐)","十字M"]
["SW6331",{"$f":"表格2[[#This Row],[ITEM]]&\"-\"&表格2[[#This Row],[SIZE]]&\"-\"&表格2[[#This Row],[顏色]]","v":"奶樽嘴-小獅王-超柔防脹氣寬口十字奶嘴S-4入(0個月以上)-"},161,85,null,null,null,"奶樽嘴","小獅王-超柔防脹氣寬口十字奶嘴S-4入(0個月以上)"]
["SW6332",{"$f":"表格2[[#This Row],[ITEM]]&\"-\"&表格2[[#This Row],[SIZE]]&\"-\"&表格2[[#This Row],[顏色]]","v":"奶樽嘴-小獅王-超柔防脹氣寬口十字奶嘴M-4入(3個月以上)-"},161,85,null,null,null,"奶樽嘴","小獅王-超柔防脹氣寬口十字奶嘴M-4入(3個月以上)"]
["SW6333",{"$f":"表格2[[#This Row],[ITEM]]&\"-\"&表格2[[#This Row],[SIZE]]&\"-\"&表格2[[#This Row],[顏色]]","v":"奶樽嘴-小獅王-超柔防脹氣寬口十字奶嘴L-4入(6個月以上)-"},161,85,null,null,null,"奶樽嘴","小獅王-超柔防脹氣寬口十字奶嘴L-4入(6個月以上)"]
["SW6334",{"$f":"表格2[[#This Row],[ITEM]]&\"-\"&表格2[[#This Row],[SIZE]]&\"-\"&表格2[[#This Row],[顏色]]","v":"奶樽嘴-小獅王-超柔防脹氣寬口十字奶嘴XL-4入(12個月以上)-"},161,85,null,null,null,"奶樽嘴","小獅王-超柔防脹氣寬口十字奶嘴XL-4入(12個月以上)"]
["SW6335",{"$f":"表格2[[#This Row],[ITEM]]&\"-\"&表格2[[#This Row],[SIZE]]&\"-\"&表格2[[#This Row],[顏色]]","v":"奶樽嘴-小獅王-超柔防脹氣寬口圓孔奶嘴S-4入(0個月以上)-"},161,85,null,null,null,"奶樽嘴","小獅王-超柔防脹氣寬口圓孔奶嘴S-4入(0個月以上)"]
["SW6336",{"$f":"表格2[[#This Row],[ITEM]]&\"-\"&表格2[[#This Row],[SIZE]]&\"-\"&表格2[[#This Row],[顏色]]","v":"奶樽嘴-小獅王-超柔防脹氣寬口圓孔奶嘴M-4入(3個月以上)-"},161,85,null,null,null,"奶樽嘴","小獅王-超柔防脹氣寬口圓孔奶嘴M-4入(3個月以上)"]
["SW6337",{"$f":"表格2[[#This Row],[ITEM]]&\"-\"&表格2[[#This Row],[SIZE]]&\"-\"&表格2[[#This Row],[顏色]]","v":"奶樽嘴-小獅王-超柔防脹氣寬口圓孔奶嘴L-4入(6個月以上)-"},161,85,null,null,null,"奶樽嘴","小獅王-超柔防脹氣寬口圓孔奶嘴L-4入(6個月以上)"]
["SW6338",{"$f":"表格2[[#This Row],[ITEM]]&\"-\"&表格2[[#This Row],[SIZE]]&\"-\"&表格2[[#This Row],[顏色]]","v":"奶樽嘴-小獅王-超柔防脹氣寬口圓孔奶嘴SS-4入(初生學習)-"},161,85,null,null,null,"奶樽嘴","小獅王-超柔防脹氣寬口圓孔奶嘴SS-4入(初生學習)"]
["SW6940",{"$f":"表格2[[#This Row],[ITEM]]&\"-\"&表格2[[#This Row],[SIZE]]&\"-\"&表格2[[#This Row],[顏色]]","v":"玻璃奶樽-小獅王-蘊蜜質金玻璃寬口防脹氣奶瓶180ml(晨藍)-新生專用-"},174,null,null,null,null,"玻璃奶樽","小獅王-蘊蜜質金玻璃寬口防脹氣奶瓶180ml(晨藍)-新生專用"]
["SW6941",{"$f":"表格2[[#This Row],[ITEM]]&\"-\"&表格2[[#This Row],[SIZE]]&\"-\"&表格2[[#This Row],[顏色]]","v":"玻璃奶樽-小獅王-蘊蜜質金玻璃寬口防脹氣奶瓶180ml(栗粉)-新生專用-"},174,null,null,null,null,"玻璃奶樽","小獅王-蘊蜜質金玻璃寬口防脹氣奶瓶180ml(栗粉)-新生專用"]
["SW6942",{"$f":"表格2[[#This Row],[ITEM]]&\"-\"&表格2[[#This Row],[SIZE]]&\"-\"&表格2[[#This Row],[顏色]]","v":"玻璃奶樽-小獅王-蘊蜜質金玻璃寬口防脹氣奶瓶180ml(杏茶)-新生專用-"},174,null,null,null,null,"玻璃奶樽","小獅王-蘊蜜質金玻璃寬口防脹氣奶瓶180ml(杏茶)-新生專用"]
["SW6943",{"$f":"表格2[[#This Row],[ITEM]]&\"-\"&表格2[[#This Row],[SIZE]]&\"-\"&表格2[[#This Row],[顏色]]","v":"玻璃奶樽-小獅王-蘊蜜質金玻璃寬口防脹氣奶瓶180ml(紫芙)-新生專用-"},174,null,null,null,null,"玻璃奶樽","小獅王-蘊蜜質金玻璃寬口防脹氣奶瓶180ml(紫芙)-新生專用"]
["SW6944",{"$f":"表格2[[#This Row],[ITEM]]&\"-\"&表格2[[#This Row],[SIZE]]&\"-\"&表格2[[#This Row],[顏色]]","v":"玻璃奶樽-小獅王-蘊蜜質金玻璃寬口防脹氣奶瓶180ml(綠沐)-新生專用-"},174,null,null,null,null,"玻璃奶樽","小獅王-蘊蜜質金玻璃寬口防脹氣奶瓶180ml(綠沐)-新生專用"]
["SW6950",{"$f":"表格2[[#This Row],[ITEM]]&\"-\"&表格2[[#This Row],[SIZE]]&\"-\"&表格2[[#This Row],[顏色]]","v":"玻璃奶樽-小獅王-蘊蜜質金玻璃寬口防脹氣奶瓶270ml(晨藍)-新生專用-"},178,null,null,null,null,"玻璃奶樽","小獅王-蘊蜜質金玻璃寬口防脹氣奶瓶270ml(晨藍)-新生專用"]
["SW6951",{"$f":"表格2[[#This Row],[ITEM]]&\"-\"&表格2[[#This Row],[SIZE]]&\"-\"&表格2[[#This Row],[顏色]]","v":"玻璃奶樽-小獅王-蘊蜜質金玻璃寬口防脹氣奶瓶270ml(栗粉)-新生專用-"},178,null,null,null,null,"玻璃奶樽","小獅王-蘊蜜質金玻璃寬口防脹氣奶瓶270ml(栗粉)-新生專用"]
["SW6952",{"$f":"表格2[[#This Row],[ITEM]]&\"-\"&表格2[[#This Row],[SIZE]]&\"-\"&表格2[[#This Row],[顏色]]","v":"玻璃奶樽-小獅王-蘊蜜質金玻璃寬口防脹氣奶瓶270ml(杏茶)-新生專用-"},178,null,null,null,null,"玻璃奶樽","小獅王-蘊蜜質金玻璃寬口防脹氣奶瓶270ml(杏茶)-新生專用"]
["SW6953",{"$f":"表格2[[#This Row],[ITEM]]&\"-\"&表格2[[#This Row],[SIZE]]&\"-\"&表格2[[#This Row],[顏色]]","v":"玻璃奶樽-小獅王-蘊蜜質金玻璃寬口防脹氣奶瓶270ml(紫芙)-新生專用-"},178,null,null,null,null,"玻璃奶樽","小獅王-蘊蜜質金玻璃寬口防脹氣奶瓶270ml(紫芙)-新生專用"]
["SW6954",{"$f":"表格2[[#This Row],[ITEM]]&\"-\"&表格2[[#This Row],[SIZE]]&\"-\"&表格2[[#This Row],[顏色]]","v":"玻璃奶樽-小獅王-蘊蜜質金玻璃寬口防脹氣奶瓶270ml(綠沐)-新生專用-"},178,null,null,null,null,"玻璃奶樽","小獅王-蘊蜜質金玻璃寬口防脹氣奶瓶270ml(綠沐)-新生專用"]
["SW7010",{"$f":"表格2[[#This Row],[ITEM]]&\"-\"&表格2[[#This Row],[SIZE]]&\"-\"&表格2[[#This Row],[顏色]]","v":"配件1-小獅王-蘊蜜寬口奶瓶儲乳片5入-"},85,28,null,null,null,"配件1","小獅王-蘊蜜寬口奶瓶儲乳片5入"]
["SW7011",{"$f":"表格2[[#This Row],[ITEM]]&\"-\"&表格2[[#This Row],[SIZE]]&\"-\"&表格2[[#This Row],[顏色]]","v":"配件5-小獅王-蘊蜜寬口奶瓶蝶型吸管組-"},49,35,null,null,null,"配件5","小獅王-蘊蜜寬口奶瓶蝶型吸管組"]
["SW7012",{"$f":"表格2[[#This Row],[ITEM]]&\"-\"&表格2[[#This Row],[SIZE]]&\"-\"&表格2[[#This Row],[顏色]]","v":"配件6-小獅王-蘊蜜寬口奶瓶防漏學習吸管組-"},74,38,null,null,null,"配件6","小獅王-蘊蜜寬口奶瓶防漏學習吸管組"]
["SW7013",{"$f":"表格2[[#This Row],[ITEM]]&\"-\"&表格2[[#This Row],[SIZE]]&\"-\"&表格2[[#This Row],[顏色]]","v":"配件7-小獅王-蘊蜜寬口防漏滑蓋吸管組-"},116,55,null,null,null,"配件7","小獅王-蘊蜜寬口防漏滑蓋吸管組"]
["SW7014",{"$f":"表格2[[#This Row],[ITEM]]&\"-\"&表格2[[#This Row],[SIZE]]&\"-\"&表格2[[#This Row],[顏色]]","v":"-小獅王-蘊蜜寬口防漏滑蓋矽膠墊圈-"},30,28,null,null,null,null,"小獅王-蘊蜜寬口防漏滑蓋矽膠墊圈"]
["SW7015",{"$f":"表格2[[#This Row],[ITEM]]&\"-\"&表格2[[#This Row],[SIZE]]&\"-\"&表格2[[#This Row],[顏色]]","v":"吸管刷-小獅王-蘊蜜清潔刷6入-"},63,38,null,null,null,"吸管刷","小獅王-蘊蜜清潔刷6入"]
["SW7020",{"$f":"表格2[[#This Row],[ITEM]]&\"-\"&表格2[[#This Row],[SIZE]]&\"-\"&表格2[[#This Row],[顏色]]","v":"配件3-小獅王-蘊蜜寬口奶瓶瓶蓋組(晨藍)-"},27,18,null,null,null,"配件3","小獅王-蘊蜜寬口奶瓶瓶蓋組(晨藍)"]
["SW7021",{"$f":"表格2[[#This Row],[ITEM]]&\"-\"&表格2[[#This Row],[SIZE]]&\"-\"&表格2[[#This Row],[顏色]]","v":"配件3-小獅王-蘊蜜寬口奶瓶瓶蓋組(栗粉)-"},27,18,null,null,null,"配件3","小獅王-蘊蜜寬口奶瓶瓶蓋組(栗粉)"]
["SW7022",{"$f":"表格2[[#This Row],[ITEM]]&\"-\"&表格2[[#This Row],[SIZE]]&\"-\"&表格2[[#This Row],[顏色]]","v":"配件3-小獅王-蘊蜜寬口奶瓶瓶蓋組(杏茶)-"},27,18,null,null,null,"配件3","小獅王-蘊蜜寬口奶瓶瓶蓋組(杏茶)"]
["SW7023",{"$f":"表格2[[#This Row],[ITEM]]&\"-\"&表格2[[#This Row],[SIZE]]&\"-\"&表格2[[#This Row],[顏色]]","v":"配件3-小獅王-蘊蜜寬口奶瓶瓶蓋組(紫芙)-"},27,18,null,null,null,"配件3","小獅王-蘊蜜寬口奶瓶瓶蓋組(紫芙)"]
["SW7024",{"$f":"表格2[[#This Row],[ITEM]]&\"-\"&表格2[[#This Row],[SIZE]]&\"-\"&表格2[[#This Row],[顏色]]","v":"配件3-小獅王-蘊蜜寬口奶瓶瓶蓋組(綠沐)-"},27,18,null,null,null,"配件3","小獅王-蘊蜜寬口奶瓶瓶蓋組(綠沐)"]
["SW7025",{"$f":"表格2[[#This Row],[ITEM]]&\"-\"&表格2[[#This Row],[SIZE]]&\"-\"&表格2[[#This Row],[顏色]]","v":"配件3-小獅王-蘊蜜寬口奶瓶瓶蓋組(蒔黑)-"},27,18,null,null,null,"配件3","小獅王-蘊蜜寬口奶瓶瓶蓋組(蒔黑)"]
["SW7026",{"$f":"表格2[[#This Row],[ITEM]]&\"-\"&表格2[[#This Row],[SIZE]]&\"-\"&表格2[[#This Row],[顏色]]","v":"配件3-小獅王-蘊蜜寬口奶瓶瓶蓋組(苜白)-"},27,18,null,null,null,"配件3","小獅王-蘊蜜寬口奶瓶瓶蓋組(苜白)"]
["SW7030",{"$f":"表格2[[#This Row],[ITEM]]&\"-\"&表格2[[#This Row],[SIZE]]&\"-\"&表格2[[#This Row],[顏色]]","v":"配件4-小獅王-蘊蜜寬口奶瓶防滑把手(晨藍)-"},27,18,null,null,null,"配件4","小獅王-蘊蜜寬口奶瓶防滑把手(晨藍)"]
["SW7031",{"$f":"表格2[[#This Row],[ITEM]]&\"-\"&表格2[[#This Row],[SIZE]]&\"-\"&表格2[[#This Row],[顏色]]","v":"配件4-小獅王-蘊蜜寬口奶瓶防滑把手(栗粉)-"},27,18,null,null,null,"配件4","小獅王-蘊蜜寬口奶瓶防滑把手(栗粉)"]
["SW7032",{"$f":"表格2[[#This Row],[ITEM]]&\"-\"&表格2[[#This Row],[SIZE]]&\"-\"&表格2[[#This Row],[顏色]]","v":"配件4-小獅王-蘊蜜寬口奶瓶防滑把手(杏茶)-"},27,18,null,null,null,"配件4","小獅王-蘊蜜寬口奶瓶防滑把手(杏茶)"]
["SW7033",{"$f":"表格2[[#This Row],[ITEM]]&\"-\"&表格2[[#This Row],[SIZE]]&\"-\"&表格2[[#This Row],[顏色]]","v":"配件4-小獅王-蘊蜜寬口奶瓶防滑把手(紫芙)-"},27,18,null,null,null,"配件4","小獅王-蘊蜜寬口奶瓶防滑把手(紫芙)"]
["SW7034",{"$f":"表格2[[#This Row],[ITEM]]&\"-\"&表格2[[#This Row],[SIZE]]&\"-\"&表格2[[#This Row],[顏色]]","v":"配件4-小獅王-蘊蜜寬口奶瓶防滑把手(綠沐)-"},27,18,null,null,null,"配件4","小獅王-蘊蜜寬口奶瓶防滑把手(綠沐)"]
["SW7035",{"$f":"表格2[[#This Row],[ITEM]]&\"-\"&表格2[[#This Row],[SIZE]]&\"-\"&表格2[[#This Row],[顏色]]","v":"配件4-小獅王-蘊蜜寬口奶瓶防滑把手(蒔黑)-"},27,18,null,null,null,"配件4","小獅王-蘊蜜寬口奶瓶防滑把手(蒔黑)"]
["SW7036",{"$f":"表格2[[#This Row],[ITEM]]&\"-\"&表格2[[#This Row],[SIZE]]&\"-\"&表格2[[#This Row],[顏色]]","v":"配件4-小獅王-蘊蜜寬口奶瓶防滑把手(苜白)-"},27,18,null,null,null,"配件4","小獅王-蘊蜜寬口奶瓶防滑把手(苜白)"]
["SW7040",{"$f":"表格2[[#This Row],[ITEM]]&\"-\"&表格2[[#This Row],[SIZE]]&\"-\"&表格2[[#This Row],[顏色]]","v":"配件2-小獅王-蘊蜜寬口奶瓶萬用蓋(晨藍)-"},30,18,null,null,null,"配件2","小獅王-蘊蜜寬口奶瓶萬用蓋(晨藍)"]
["SW7041",{"$f":"表格2[[#This Row],[ITEM]]&\"-\"&表格2[[#This Row],[SIZE]]&\"-\"&表格2[[#This Row],[顏色]]","v":"配件2-小獅王-蘊蜜寬口奶瓶萬用蓋(栗粉)-"},30,18,null,null,null,"配件2","小獅王-蘊蜜寬口奶瓶萬用蓋(栗粉)"]
["SW7042",{"$f":"表格2[[#This Row],[ITEM]]&\"-\"&表格2[[#This Row],[SIZE]]&\"-\"&表格2[[#This Row],[顏色]]","v":"配件2-小獅王-蘊蜜寬口奶瓶萬用蓋(杏茶)-"},30,18,null,null,null,"配件2","小獅王-蘊蜜寬口奶瓶萬用蓋(杏茶)"]
["SW7043",{"$f":"表格2[[#This Row],[ITEM]]&\"-\"&表格2[[#This Row],[SIZE]]&\"-\"&表格2[[#This Row],[顏色]]","v":"配件2-小獅王-蘊蜜寬口奶瓶萬用蓋(紫芙)-"},30,18,null,null,null,"配件2","小獅王-蘊蜜寬口奶瓶萬用蓋(紫芙)"]
["SW7044",{"$f":"表格2[[#This Row],[ITEM]]&\"-\"&表格2[[#This Row],[SIZE]]&\"-\"&表格2[[#This Row],[顏色]]","v":"配件2-小獅王-蘊蜜寬口奶瓶萬用蓋(綠沐)-"},30,18,null,null,null,"配件2","小獅王-蘊蜜寬口奶瓶萬用蓋(綠沐)"]
["SW7045",{"$f":"表格2[[#This Row],[ITEM]]&\"-\"&表格2[[#This Row],[SIZE]]&\"-\"&表格2[[#This Row],[顏色]]","v":"配件2-小獅王-蘊蜜寬口奶瓶萬用蓋(蒔黑)-"},30,18,null,null,null,"配件2","小獅王-蘊蜜寬口奶瓶萬用蓋(蒔黑)"]
["SW7046",{"$f":"表格2[[#This Row],[ITEM]]&\"-\"&表格2[[#This Row],[SIZE]]&\"-\"&表格2[[#This Row],[顏色]]","v":"配件2-小獅王-蘊蜜寬口奶瓶萬用蓋(苜白)-"},30,18,null,null,null,"配件2","小獅王-蘊蜜寬口奶瓶萬用蓋(苜白)"]
["SW7050",{"$f":"表格2[[#This Row],[ITEM]]&\"-\"&表格2[[#This Row],[SIZE]]&\"-\"&表格2[[#This Row],[顏色]]","v":"配件7-小獅王-蘊蜜寬口防漏滑蓋把手吸管組(晨藍)-"},112,55,null,null,null,"配件7","小獅王-蘊蜜寬口防漏滑蓋把手吸管組(晨藍)"]
["SW7051",{"$f":"表格2[[#This Row],[ITEM]]&\"-\"&表格2[[#This Row],[SIZE]]&\"-\"&表格2[[#This Row],[顏色]]","v":"配件7-小獅王-蘊蜜寬口防漏滑蓋把手吸管組(栗粉)-"},112,55,null,null,null,"配件7","小獅王-蘊蜜寬口防漏滑蓋把手吸管組(栗粉)"]
["SW7052",{"$f":"表格2[[#This Row],[ITEM]]&\"-\"&表格2[[#This Row],[SIZE]]&\"-\"&表格2[[#This Row],[顏色]]","v":"配件7-小獅王-蘊蜜寬口防漏滑蓋把手吸管組(杏茶)-"},112,55,null,null,null,"配件7","小獅王-蘊蜜寬口防漏滑蓋把手吸管組(杏茶)"]
["SW7053",{"$f":"表格2[[#This Row],[ITEM]]&\"-\"&表格2[[#This Row],[SIZE]]&\"-\"&表格2[[#This Row],[顏色]]","v":"配件7-小獅王-蘊蜜寬口防漏滑蓋把手吸管組(紫芙)-"},112,55,null,null,null,"配件7","小獅王-蘊蜜寬口防漏滑蓋把手吸管組(紫芙)"]
["SW7054",{"$f":"表格2[[#This Row],[ITEM]]&\"-\"&表格2[[#This Row],[SIZE]]&\"-\"&表格2[[#This Row],[顏色]]","v":"配件7-小獅王-蘊蜜寬口防漏滑蓋把手吸管組(綠沐)-"},112,55,null,null,null,"配件7","小獅王-蘊蜜寬口防漏滑蓋把手吸管組(綠沐)"]
["SW7055",{"$f":"表格2[[#This Row],[ITEM]]&\"-\"&表格2[[#This Row],[SIZE]]&\"-\"&表格2[[#This Row],[顏色]]","v":"配件7-小獅王-蘊蜜寬口防漏滑蓋把手吸管組(蒔黑)-"},112,55,null,null,null,"配件7","小獅王-蘊蜜寬口防漏滑蓋把手吸管組(蒔黑)"]
["SW7056",{"$f":"表格2[[#This Row],[ITEM]]&\"-\"&表格2[[#This Row],[SIZE]]&\"-\"&表格2[[#This Row],[顏色]]","v":"配件7-小獅王-蘊蜜寬口防漏滑蓋把手吸管組(苜白)-"},112,55,null,null,null,"配件7","小獅王-蘊蜜寬口防漏滑蓋把手吸管組(苜白)"]
["SW7060",{"$f":"表格2[[#This Row],[ITEM]]&\"-\"&表格2[[#This Row],[SIZE]]&\"-\"&表格2[[#This Row],[顏色]]","v":"配件8-小獅王-蘊蜜寬口即飲杯蓋組(晨藍)-"},98,48,null,null,null,"配件8","小獅王-蘊蜜寬口即飲杯蓋組(晨藍)"]
["SW7061",{"$f":"表格2[[#This Row],[ITEM]]&\"-\"&表格2[[#This Row],[SIZE]]&\"-\"&表格2[[#This Row],[顏色]]","v":"配件8-小獅王-蘊蜜寬口即飲杯蓋組(栗粉)-"},98,48,null,null,null,"配件8","小獅王-蘊蜜寬口即飲杯蓋組(栗粉)"]
["SW7062",{"$f":"表格2[[#This Row],[ITEM]]&\"-\"&表格2[[#This Row],[SIZE]]&\"-\"&表格2[[#This Row],[顏色]]","v":"配件8-小獅王-蘊蜜寬口即飲杯蓋組(杏茶)-"},98,48,null,null,null,"配件8","小獅王-蘊蜜寬口即飲杯蓋組(杏茶)"]
["SW7063",{"$f":"表格2[[#This Row],[ITEM]]&\"-\"&表格2[[#This Row],[SIZE]]&\"-\"&表格2[[#This Row],[顏色]]","v":"配件8-小獅王-蘊蜜寬口即飲杯蓋組(紫芙)-"},98,48,null,null,null,"配件8","小獅王-蘊蜜寬口即飲杯蓋組(紫芙)"]
["SW7064",{"$f":"表格2[[#This Row],[ITEM]]&\"-\"&表格2[[#This Row],[SIZE]]&\"-\"&表格2[[#This Row],[顏色]]","v":"配件8-小獅王-蘊蜜寬口即飲杯蓋組(綠沐)-"},98,48,null,null,null,"配件8","小獅王-蘊蜜寬口即飲杯蓋組(綠沐)"]
["SW7065",{"$f":"表格2[[#This Row],[ITEM]]&\"-\"&表格2[[#This Row],[SIZE]]&\"-\"&表格2[[#This Row],[顏色]]","v":"配件8-小獅王-蘊蜜寬口即飲杯蓋組(蒔黑)-"},98,48,null,null,null,"配件8","小獅王-蘊蜜寬口即飲杯蓋組(蒔黑)"]
["SW7066",{"$f":"表格2[[#This Row],[ITEM]]&\"-\"&表格2[[#This Row],[SIZE]]&\"-\"&表格2[[#This Row],[顏色]]","v":"配件8-小獅王-蘊蜜寬口即飲杯蓋組(苜白)-"},98,48,null,null,null,"配件8","小獅王-蘊蜜寬口即飲杯蓋組(苜白)"]
["SW8110",{"$f":"表格2[[#This Row],[ITEM]]&\"-\"&表格2[[#This Row],[SIZE]]&\"-\"&表格2[[#This Row],[顏色]]","v":"學習水杯-小獅王-蘊蜜鉑金PPSU防漏滑蓋學習水杯270ml(晨藍)-"},379,155,null,null,null,"學習水杯","小獅王-蘊蜜鉑金PPSU防漏滑蓋學習水杯270ml(晨藍)"]
["SW8111",{"$f":"表格2[[#This Row],[ITEM]]&\"-\"&表格2[[#This Row],[SIZE]]&\"-\"&表格2[[#This Row],[顏色]]","v":"學習水杯-小獅王-蘊蜜鉑金PPSU防漏滑蓋學習水杯270ml(栗粉)-"},379,155,null,null,null,"學習水杯","小獅王-蘊蜜鉑金PPSU防漏滑蓋學習水杯270ml(栗粉)"]
["SW8112",{"$f":"表格2[[#This Row],[ITEM]]&\"-\"&表格2[[#This Row],[SIZE]]&\"-\"&表格2[[#This Row],[顏色]]","v":"學習水杯-小獅王-蘊蜜鉑金PPSU防漏滑蓋學習水杯270ml(杏茶)-"},379,155,null,null,null,"學習水杯","小獅王-蘊蜜鉑金PPSU防漏滑蓋學習水杯270ml(杏茶)"]
["SW8113",{"$f":"表格2[[#This Row],[ITEM]]&\"-\"&表格2[[#This Row],[SIZE]]&\"-\"&表格2[[#This Row],[顏色]]","v":"學習水杯-小獅王-蘊蜜鉑金PPSU防漏滑蓋學習水杯270ml(紫芙)-"},379,155,null,null,null,"學習水杯","小獅王-蘊蜜鉑金PPSU防漏滑蓋學習水杯270ml(紫芙)"]
["SW8114",{"$f":"表格2[[#This Row],[ITEM]]&\"-\"&表格2[[#This Row],[SIZE]]&\"-\"&表格2[[#This Row],[顏色]]","v":"學習水杯-小獅王-蘊蜜鉑金PPSU防漏滑蓋學習水杯270ml(綠沐)-"},379,155,null,null,null,"學習水杯","小獅王-蘊蜜鉑金PPSU防漏滑蓋學習水杯270ml(綠沐)"]
["T0010",{"$f":"表格2[[#This Row],[ITEM]]&\"-\"&表格2[[#This Row],[SIZE]]&\"-\"&表格2[[#This Row],[顏色]]","v":"台連身扣鏤小仙子-90-紫"},null,109,null,null,null,"台連身扣鏤小仙子","90","紫","LATIV"]
["T0011",{"$f":"表格2[[#This Row],[ITEM]]&\"-\"&表格2[[#This Row],[SIZE]]&\"-\"&表格2[[#This Row],[顏色]]","v":"台連身扣鏤小飛象-90-黃"},null,109,null,null,null,"台連身扣鏤小飛象","90","黃","LATIV"]
["T0013",{"$f":"表格2[[#This Row],[ITEM]]&\"-\"&表格2[[#This Row],[SIZE]]&\"-\"&表格2[[#This Row],[顏色]]","v":"台三件套小飛象-80-"},null,145,null,null,null,"台三件套小飛象","80",null,"LATIV"]
["T0014",{"$f":"表格2[[#This Row],[ITEM]]&\"-\"&表格2[[#This Row],[SIZE]]&\"-\"&表格2[[#This Row],[顏色]]","v":"台LINE奶茶衛衣-100-白"},null,109,null,null,null,"台LINE奶茶衛衣","100","白","LATIV"]
["T0014",{"$f":"表格2[[#This Row],[ITEM]]&\"-\"&表格2[[#This Row],[SIZE]]&\"-\"&表格2[[#This Row],[顏色]]","v":"台LINE奶茶衛衣-80-白"},null,109,null,null,null,"台LINE奶茶衛衣","80","白","LATIV"]
["T0014",{"$f":"表格2[[#This Row],[ITEM]]&\"-\"&表格2[[#This Row],[SIZE]]&\"-\"&表格2[[#This Row],[顏色]]","v":"台魚魚上衣-80-藍白"},null,89,null,null,null,"台魚魚上衣","80","藍白","LATIV"]
["T0015",{"$f":"表格2[[#This Row],[ITEM]]&\"-\"&表格2[[#This Row],[SIZE]]&\"-\"&表格2[[#This Row],[顏色]]","v":"台LINE拼色袖-100-粉"},null,99,null,null,null,"台LINE拼色袖","100","粉","LATIV"]
["T0016",{"$f":"表格2[[#This Row],[ITEM]]&\"-\"&表格2[[#This Row],[SIZE]]&\"-\"&表格2[[#This Row],[顏色]]","v":"台SANRIO三色衛衣-100-紫"},null,109,null,null,null,"台SANRIO三色衛衣","100","紫","LATIV"]
["T0016",{"$f":"表格2[[#This Row],[ITEM]]&\"-\"&表格2[[#This Row],[SIZE]]&\"-\"&表格2[[#This Row],[顏色]]","v":"台SANRIO三色衛衣-90-紫"},null,109,null,null,null,"台SANRIO三色衛衣","90","紫","LATIV"]
["T0018",{"$f":"表格2[[#This Row],[ITEM]]&\"-\"&表格2[[#This Row],[SIZE]]&\"-\"&表格2[[#This Row],[顏色]]","v":"台防滑襪-SET B-M"},null,55,null,null,null,"台防滑襪","SET B","M","LATIV"]
["T0018",{"$f":"表格2[[#This Row],[ITEM]]&\"-\"&表格2[[#This Row],[SIZE]]&\"-\"&表格2[[#This Row],[顏色]]","v":"台防滑襪-SET B-S"},null,55,null,null,null,"台防滑襪","SET B","S","LATIV"]
["T005",{"$f":"表格2[[#This Row],[ITEM]]&\"-\"&表格2[[#This Row],[SIZE]]&\"-\"&表格2[[#This Row],[顏色]]","v":"台小飛象外套-90-白"},null,95,null,null,null,"台小飛象外套","90","白","LATIV"]
["T005",{"$f":"表格2[[#This Row],[ITEM]]&\"-\"&表格2[[#This Row],[SIZE]]&\"-\"&表格2[[#This Row],[顏色]]","v":"台小飛象外套-90-粉"},null,95,null,null,null,"台小飛象外套","90","粉","LATIV"]
["T005",{"$f":"表格2[[#This Row],[ITEM]]&\"-\"&表格2[[#This Row],[SIZE]]&\"-\"&表格2[[#This Row],[顏色]]","v":"台小飛象外套-100-粉"},null,95,null,null,null,"台小飛象外套","100","粉","LATIV"]
["T006",{"$f":"表格2[[#This Row],[ITEM]]&\"-\"&表格2[[#This Row],[SIZE]]&\"-\"&表格2[[#This Row],[顏色]]","v":"台怪獸大學綠色包PAT-90-"},null,79,null,null,null,"台怪獸大學綠色包PAT","90",null,"LATIV"]
["T007",{"$f":"表格2[[#This Row],[ITEM]]&\"-\"&表格2[[#This Row],[SIZE]]&\"-\"&表格2[[#This Row],[顏色]]","v":"台LINE熊大啡色衛衣-80-"},null,109,null,null,null,"台LINE熊大啡色衛衣","80",null,"LATIV"]
["TESTING",{"$f":"表格2[[#This Row],[ITEM]]&\"-\"&表格2[[#This Row],[SIZE]]&\"-\"&表格2[[#This Row],[顏色]]","v":"TES-90-Y"},50,10,null,null,null,"TES","90","Y","TBRAND"]
["A0094",{"$f":"表格2[[#This Row],[ITEM]]&\"-\"&表格2[[#This Row],[SIZE]]&\"-\"&表格2[[#This Row],[顏色]]","v":"CUTEMILY秋冬波波冷衫-100-白"},45,89,"2024-10-28","2-3WK",null,"CUTEMILY秋冬波波冷衫","100","白",1688]
["A0095",{"$f":"表格2[[#This Row],[ITEM]]&\"-\"&表格2[[#This Row],[SIZE]]&\"-\"&表格2[[#This Row],[顏色]]","v":"CAREBEAR白色滿印衛衣-100-"},52,89,"2024-10-28","2-3WK",null,"CAREBEAR白色滿印衛衣","100",null,1688]
["A0096",{"$f":"表格2[[#This Row],[ITEM]]&\"-\"&表格2[[#This Row],[SIZE]]&\"-\"&表格2[[#This Row],[顏色]]","v":"LABUBU衛衣-90-淺灰"},32,69,"2024-10-28","2-3WK",null,"LABUBU衛衣","90","淺灰",1688]
["A0093",{"$f":"表格2[[#This Row],[ITEM]]&\"-\"&表格2[[#This Row],[SIZE]]&\"-\"&表格2[[#This Row],[顏色]]","v":"UBMOM矽膠零食杯-米-"},null,108,null,null,null,"UBMOM矽膠零食杯","米"]
["A0097",{"$f":"表格2[[#This Row],[ITEM]]&\"-\"&表格2[[#This Row],[SIZE]]&\"-\"&表格2[[#This Row],[顏色]]","v":"TOMANDJERRY手袖公仔衛衣-90-黃"},32,69,"2024-10-28","2-3WK",null,"TOMANDJERRY手袖公仔衛衣","90","黃",1688]
["A0097",{"$f":"表格2[[#This Row],[ITEM]]&\"-\"&表格2[[#This Row],[SIZE]]&\"-\"&表格2[[#This Row],[顏色]]","v":"TOMANDJERRY手袖公仔衛衣-100-白"},32,69,"2024-10-28","2-3WK",null,"TOMANDJERRY手袖公仔衛衣","100","白",1688]
["A0095",{"$f":"表格2[[#This Row],[ITEM]]&\"-\"&表格2[[#This Row],[SIZE]]&\"-\"&表格2[[#This Row],[顏色]]","v":"CAREBEAR白色滿印衛衣-80-"},52,89,"2024-10-28","2-3WK",null,"CAREBEAR白色滿印衛衣","80"]
["A0095",{"$f":"表格2[[#This Row],[ITEM]]&\"-\"&表格2[[#This Row],[SIZE]]&\"-\"&表格2[[#This Row],[顏色]]","v":"CAREBEAR白色滿印衛衣-110-"},52,89,"2024-10-28","2-3WK",null,"CAREBEAR白色滿印衛衣","110"]
["A0098",{"$f":"表格2[[#This Row],[ITEM]]&\"-\"&表格2[[#This Row],[SIZE]]&\"-\"&表格2[[#This Row],[顏色]]","v":"TOMANDJERRY帶帽睡覺款衛衣-130-黑"},32,69,"2024-10-28","2-3WK",null,"TOMANDJERRY帶帽睡覺款衛衣","130","黑"]
["A0098",{"$f":"表格2[[#This Row],[ITEM]]&\"-\"&表格2[[#This Row],[SIZE]]&\"-\"&表格2[[#This Row],[顏色]]","v":"TOMANDJERRY帶帽睡覺款衛衣-110-白"},32,69,"2024-10-28","2-3WK",null,"TOMANDJERRY帶帽睡覺款衛衣","110","白"]
["A0096",{"$f":"表格2[[#This Row],[ITEM]]&\"-\"&表格2[[#This Row],[SIZE]]&\"-\"&表格2[[#This Row],[顏色]]","v":"LABUBU衛衣-100-米白"},32,69,"2024-10-28","2-3WK",null,"LABUBU衛衣","100","米白"]
["A0099",{"$f":"表格2[[#This Row],[ITEM]]&\"-\"&表格2[[#This Row],[SIZE]]&\"-\"&表格2[[#This Row],[顏色]]","v":"CUTEMILY秋冬短褲-90-黑"},32,75,"2024-10-28","2-3WK",null,"CUTEMILY秋冬短褲","90","黑"]

{"sheet":"資料庫","index":3,"n_rows":1048576,"n_cols":10,"rows_kept":4500,"cut":true,"hidden":false,"merged":[],"bounds":{"rows_first":2000,"rows_last":500,"rows_between":2000,"halvings":0}}
["訂單編號","訂單日期","客戶電話","購買商品","數量","單價","金額","狀態","編號","已付款"]
[1,"2022-12-20","林阿杰","圓領長版上衣",2,490,980,"已寄",{"$f":"_xlfn.XLOOKUP(D2,表格2[產品],表格2[編號],\"\")","v":""},false]
[2,"2024-10-13",null,"寬版條紋T恤",2,350,700,"已寄",{"$f":"_xlfn.XLOOKUP(D3,表格2[產品],表格2[編號],\"\")","v":""},false]
[3,"2024-10-13",96638494,"小木馬",2,60,120,"已寄",{"$f":"_xlfn.XLOOKUP(D4,表格2[產品],表格2[編號],\"\")","v":""},false]
[4,"2024-10-13",68438099,"唐老鴨連身-80",2,50,100,"已寄",{"$f":"_xlfn.XLOOKUP(D5,表格2[產品],表格2[編號],\"\")","v":""},false]
[5,"2024-10-13",96638494,"唐老鴨連身-70",1,50,50,"已寄",{"$f":"_xlfn.XLOOKUP(D6,表格2[產品],表格2[編號],\"\")","v":""},false]
[5,"2024-10-13",96638494,"唐老鴨連身-70",1,50,50,"已寄",{"$f":"_xlfn.XLOOKUP(D7,表格2[產品],表格2[編號],\"\")","v":""},false]
[5,"2024-10-13",96638494,"唐老鴨連身-80",1,50,50,"已寄",{"$f":"_xlfn.XLOOKUP(D8,表格2[產品],表格2[編號],\"\")","v":""},false]
[6,"2024-10-13","TEL1","唐老鴨長袖上衣-60-藍",2,50,100,"已寄",{"$f":"_xlfn.XLOOKUP(D9,表格2[產品],表格2[編號],\"\")","v":""},false]
[7,"2024-10-13",68438099,"唐老鴨長袖上衣-50-粉",1,350,350,"已寄",{"$f":"_xlfn.XLOOKUP(D10,表格2[產品],表格2[編號],\"\")","v":""},false]
[213,"2024-10-21",92639065,"BBB車車餐具-紫-",1,98,98,"預訂－未到貨",null,false]
[210,"2024-10-21",61274142,"BBB車車餐具-黃-",1,98,98,"預訂－未到貨",null,false]
[216,"2024-10-21",61322842,"BBB車車餐具-黃-",1,98,98,"預訂－未到貨",null,false]
[213,"2024-10-21",92639065,"BBB經典餐具-粉-",1,88,88,"預訂－未到貨",null,false]
[12,"2024-10-13",55459945,"三合一-粉90-",1,139,139,"已寄",{"$f":"_xlfn.XLOOKUP(D15,表格2[產品],表格2[編號],\"\")","v":"A0001"},false]
[218,"2024-10-21",68438099,"BBB經典餐具-粉-",1,88,88,"預訂－未到貨",null,false]
[219,"2024-10-22",93826979,"BBB經典餐具-黃-",1,88,88,"預訂－未到貨",null,false]
[211,"2024-10-21",63775251,"BBB經典餐具-藍-",1,88,88,"預訂－未到貨",null,false]
[216,"2024-10-21",61322842,"BBB經典餐具-藍-",1,88,88,"預訂－未到貨",null,false]
[17,"2024-10-13",60377123,"MELODY紅白衛衣-80-",1,0,0,"已到貨",{"$f":"_xlfn.XLOOKUP(D20,表格2[產品],表格2[編號],\"\")","v":"A0069"},false]
[17,"2024-10-13",60377123,"MELODY紅白衛衣-90-",1,0,0,"已到貨",{"$f":"_xlfn.XLOOKUP(D21,表格2[產品],表格2[編號],\"\")","v":"A0069"},false]
[78,"2024-10-13",92748648,"BEAR BEAR 冷衫-100-",1,0,0,"預訂－未到貨",{"$f":"_xlfn.XLOOKUP(D22,表格2[產品],表格2[編號],\"\")","v":"A0047"},false]
[103,"2024-10-13","CHLOE","BEAR BEAR 冷衫-110-",1,0,0,"預訂－未到貨",{"$f":"_xlfn.XLOOKUP(D23,表格2[產品],表格2[編號],\"\")","v":"A0047"},false]
[72,"2024-10-13",91464628,"BEAR BEAR 直間-110-",1,0,0,"預訂－未到貨",{"$f":"_xlfn.XLOOKUP(D24,表格2[產品],表格2[編號],\"\")","v":"A0048"},false]
[78,"2024-10-13",92748648,"BEAR BEAR 風嬲-110-",1,0,0,"預訂－未到貨",{"$f":"_xlfn.XLOOKUP(D25,表格2[產品],表格2[編號],\"\")","v":"A0049"},false]
[103,"2024-10-13","CHLOE","BEAR BEAR 風嬲-110-",1,0,0,"預訂－未到貨",{"$f":"_xlfn.XLOOKUP(D26,表格2[產品],表格2[編號],\"\")","v":"A0049"},false]
[83,"2024-10-13",94445366,"BEAR BEAR 風嬲-120-",1,0,0,"預訂－未到貨",{"$f":"_xlfn.XLOOKUP(D27,表格2[產品],表格2[編號],\"\")","v":"A0049"},false]
[34,"2024-10-13",61997281,"Linabell 粉外套-110-",1,0,0,"預訂－未到貨",{"$f":"_xlfn.XLOOKUP(D28,表格2[產品],表格2[編號],\"\")","v":"A0068"},false]
[22,"2024-10-13",60545685,"Linabell 粉外套-120-",1,0,0,"預訂－未到貨",{"$f":"_xlfn.XLOOKUP(D29,表格2[產品],表格2[編號],\"\")","v":"A0068"},false]
[17,"2024-10-13",60377123,"MIFFY A-粉80-",1,0,0,"預訂－未到貨",{"$f":"_xlfn.XLOOKUP(D30,表格2[產品],表格2[編號],\"\")","v":"A0073"},false]
[17,"2024-10-13",60377123,"MIFFY A-藍80-",1,0,0,"預訂－未到貨",{"$f":"_xlfn.XLOOKUP(D31,表格2[產品],表格2[編號],\"\")","v":"A0073"},false]
[91,"2024-10-13",96293476,"MIFFY 外套-白100-",1,0,0,"預訂－未到貨",{"$f":"_xlfn.XLOOKUP(D32,表格2[產品],表格2[編號],\"\")","v":"A0070"},false]
[18,"2024-10-13",60377123,"MIFFYB-白90-",1,0,0,"預訂－未到貨",{"$f":"_xlfn.XLOOKUP(D33,表格2[產品],表格2[編號],\"\")","v":"A0079"},false]
[18,"2024-10-13",60377123,"MIFFYB-粉90-",1,0,0,"預訂－未到貨",{"$f":"_xlfn.XLOOKUP(D34,表格2[產品],表格2[編號],\"\")","v":"A0079"},false]
[18,"2024-10-13",60377123,"MIFFY滿印-白90-",1,0,0,"預訂－未到貨",{"$f":"_xlfn.XLOOKUP(D35,表格2[產品],表格2[編號],\"\")","v":"A0078"},false]
[18,"2024-10-13",60377123,"MIFFY滿印-粉90-",1,0,0,"預訂－未到貨",{"$f":"_xlfn.XLOOKUP(D36,表格2[產品],表格2[編號],\"\")","v":"A0078"},false]
[66,"2024-10-13",69053111,"MLB-5外套-黑-",1,0,0,"預訂－未到貨",{"$f":"_xlfn.XLOOKUP(D37,表格2[產品],表格2[編號],\"\")","v":"A0080"},false]
[52,"2024-10-13",64765587,"nf legging褲-白80-",1,0,0,"預訂－未到貨",{"$f":"_xlfn.XLOOKUP(D38,表格2[產品],表格2[編號],\"\")","v":"A0084"},false]
[54,"2024-10-13",65360098,"nf legging褲-白80-",1,0,0,"預訂－未到貨",{"$f":"_xlfn.XLOOKUP(D39,表格2[產品],表格2[編號],\"\")","v":"A0084"},false]
[24,"2024-10-13",60895155,"現-牛仔花花裙-90-",1,0,0,"已寄",{"$f":"_xlfn.XLOOKUP(D40,表格2[產品],表格2[編號],\"\")","v":"A0022"},false]
[24,"2024-10-13",60895155,"間條連身-MELODY90-",1,0,0,"已寄",{"$f":"_xlfn.XLOOKUP(D41,表格2[產品],表格2[編號],\"\")","v":"A0027"},false]
[24,"2024-10-13",60895155,"間條連身-青90-",1,0,0,"已寄",{"$f":"_xlfn.XLOOKUP(D42,表格2[產品],表格2[編號],\"\")","v":"A0027"},false]
[25,"2024-10-13",60920829,"印章--",1,65,65,"已寄",{"$f":"_xlfn.XLOOKUP(D43,表格2[產品],表格2[編號],\"\")","v":"A0006"},false]
[26,"2024-10-13",60931124,"konny碗-藍-",1,0,0,"已到貨",{"$f":"_xlfn.XLOOKUP(D44,表格2[產品],表格2[編號],\"\")","v":"A0065"},false]
[26,"2024-10-13",60931124,"印章--",1,65,65,"已到貨",{"$f":"_xlfn.XLOOKUP(D45,表格2[產品],表格2[編號],\"\")","v":"A0006"},false]
[26,"2024-10-13",60931124,"姓名貼--",2,0,0,"已到貨",{"$f":"_xlfn.XLOOKUP(D46,表格2[產品],表格2[編號],\"\")","v":"A0013"},false]
[23,"2024-10-13",60857755,"nf legging褲-黑100-",1,0,0,"預訂－未到貨",{"$f":"_xlfn.XLOOKUP(D47,表格2[產品],表格2[編號],\"\")","v":"A0084"},false]
[43,"2024-10-13",62995454,"nf legging褲-黑100-",1,0,0,"預訂－未到貨",{"$f":"_xlfn.XLOOKUP(D48,表格2[產品],表格2[編號],\"\")","v":"A0084"},false]
[43,"2024-10-13",62995454,"nf legging褲-黑130-",1,0,0,"預訂－未到貨",{"$f":"_xlfn.XLOOKUP(D49,表格2[產品],表格2[編號],\"\")","v":"A0084"},false]
[71,"2024-10-13",91283990,"NF 被-啡-",1,0,0,"預訂－未到貨",{"$f":"_xlfn.XLOOKUP(D50,表格2[產品],表格2[編號],\"\")","v":"A0081"},false]
[28,"2024-10-13",61060504,"水怪滿印set-90-",1,75,75,"已寄",{"$f":"_xlfn.XLOOKUP(D51,表格2[產品],表格2[編號],\"\")","v":"A0005"},false]
[28,"2024-10-13",61060504,"唐老鴨背包--",1,0,0,"已寄",{"$f":"_xlfn.XLOOKUP(D52,表格2[產品],表格2[編號],\"\")","v":"A0020"},false]
[111,"2024-10-13",63568318,"NF 被-啡-",1,0,0,"預訂－未到貨",{"$f":"_xlfn.XLOOKUP(D53,表格2[產品],表格2[編號],\"\")","v":"A0081"},false]
[9,"2024-10-13",51822020,"NF 被-黑-",1,0,0,"預訂－未到貨",{"$f":"_xlfn.XLOOKUP(D54,表格2[產品],表格2[編號],\"\")","v":"A0081"},false]
[30,"2024-10-13",61220054,"DTD車帶--",1,0,0,"已寄",{"$f":"_xlfn.XLOOKUP(D55,表格2[產品],表格2[編號],\"\")","v":"A0055"},false]
[30,"2024-10-13",61220054,"三合一-藍100-",1,139,139,"已寄",{"$f":"_xlfn.XLOOKUP(D56,表格2[產品],表格2[編號],\"\")","v":"A0001"},false]
[30,"2024-10-13",61220054,"間條連身-青90-",1,0,0,"已寄",{"$f":"_xlfn.XLOOKUP(D57,表格2[產品],表格2[編號],\"\")","v":"A0027"},false]
[18,"2024-10-13",60377123,"NF 被-黑-",2,0,0,"預訂－未到貨",{"$f":"_xlfn.XLOOKUP(D58,表格2[產品],表格2[編號],\"\")","v":"A0081"},false]
[26,"2024-10-13",60931124,"NF 被-黑-",1,0,0,"預訂－未到貨",{"$f":"_xlfn.XLOOKUP(D59,表格2[產品],表格2[編號],\"\")","v":"A0081"},false]
[52,"2024-10-13",64765587,"NF 被-黑-",1,0,0,"預訂－未到貨",{"$f":"_xlfn.XLOOKUP(D60,表格2[產品],表格2[編號],\"\")","v":"A0081"},false]
[31,"2024-10-13",61249253,"現-george-滿印littlemonkey-白-95-",1,0,0,"已到貨",{"$f":"_xlfn.XLOOKUP(D61,表格2[產品],表格2[編號],\"\")","v":"A0025"},false]
[32,"2024-10-13",61500548,"MIFFY杯套-藍--",1,0,0,"已到貨",{"$f":"_xlfn.XLOOKUP(D62,表格2[產品],表格2[編號],\"\")","v":"A0076"},false]
[33,"2024-10-13",61869513,"唐老鴨連身-90-",1,0,0,"已寄",{"$f":"_xlfn.XLOOKUP(D63,表格2[產品],表格2[編號],\"\")","v":"A0021"},false]
[33,"2024-10-13",61869513,"豬仔連身-90-",1,0,0,"已寄",{"$f":"_xlfn.XLOOKUP(D64,表格2[產品],表格2[編號],\"\")","v":"A0041"},false]
[62,"2024-10-13",67398830,"NF 被-黑-",1,0,0,"預訂－未到貨",{"$f":"_xlfn.XLOOKUP(D65,表格2[產品],表格2[編號],\"\")","v":"A0081"},false]
[11,"2024-10-13",54236849,"NF 熊仔外套-白100-",1,0,0,"預訂－未到貨",{"$f":"_xlfn.XLOOKUP(D66,表格2[產品],表格2[編號],\"\")","v":"A0082"},false]
[35,"2024-10-13",62004948,"獅子外套-100-",1,0,0,"已到貨",{"$f":"_xlfn.XLOOKUP(D67,表格2[產品],表格2[編號],\"\")","v":"A0028"},false]
[103,"2024-10-13","CHLOE","NF 熊仔外套-白110-",1,0,0,"預訂－未到貨",{"$f":"_xlfn.XLOOKUP(D68,表格2[產品],表格2[編號],\"\")","v":"A0082"},false]
[13,"2024-10-13",56003806,"NF 熊仔外套-白90-",1,0,0,"預訂－未到貨",{"$f":"_xlfn.XLOOKUP(D69,表格2[產品],表格2[編號],\"\")","v":"A0082"},false]
[16,"2024-10-13",60293351,"NF 熊仔外套-白90-",1,0,0,"預訂－未到貨",{"$f":"_xlfn.XLOOKUP(D70,表格2[產品],表格2[編號],\"\")","v":"A0082"},false]
[36,"2024-10-13",62235095,"現-綠龍長袖-90--",1,0,0,"已到貨",{"$f":"_xlfn.XLOOKUP(D71,表格2[產品],表格2[編號],\"\")","v":"A0024"},false]
[37,"2024-10-13",62370523,"印章--",1,65,65,"已到貨",{"$f":"_xlfn.XLOOKUP(D72,表格2[產品],表格2[編號],\"\")","v":"A0006"},false]
[74,"2024-10-13",91760930,"NF 熊仔外套-白90-",1,0,0,"預訂－未到貨",{"$f":"_xlfn.XLOOKUP(D73,表格2[產品],表格2[編號],\"\")","v":"A0082"},false]
[43,"2024-10-13",62995454,"NF 熊仔外套-粉100-",1,0,0,"預訂－未到貨",{"$f":"_xlfn.XLOOKUP(D74,表格2[產品],表格2[編號],\"\")","v":"A0082"},false]
[18,"2024-10-13",60377123,"NF 熊仔外套-粉90-",1,0,0,"預訂－未到貨",{"$f":"_xlfn.XLOOKUP(D75,表格2[產品],表格2[編號],\"\")","v":"A0082"},false]
[38,"2024-10-13",62441454,"GAP 連身米-100-",1,0,0,"已寄",{"$f":"_xlfn.XLOOKUP(D76,表格2[產品],表格2[編號],\"\")","v":"A0056"},false]
[38,"2024-10-13",62441454,"H2-18-24-",1,0,0,"已寄",{"$f":"_xlfn.XLOOKUP(D77,表格2[產品],表格2[編號],\"\")","v":"A0057"},false]
[38,"2024-10-13",62441454,"LEE吊帶褲-灰100-",1,0,0,"已寄",{"$f":"_xlfn.XLOOKUP(D78,表格2[產品],表格2[編號],\"\")","v":"A0067"},false]
[43,"2024-10-13",62995454,"NF 熊仔外套-啡110-",1,0,0,"預訂－未到貨",{"$f":"_xlfn.XLOOKUP(D79,表格2[產品],表格2[編號],\"\")","v":"A0082"},false]
[43,"2024-10-13",62995454,"NF 熊仔外套-啡130-",1,0,0,"預訂－未到貨",{"$f":"_xlfn.XLOOKUP(D80,表格2[產品],表格2[編號],\"\")","v":"A0082"},false]
[18,"2024-10-13",60377123,"NF 熊仔外套-啡90-",1,0,0,"預訂－未到貨",{"$f":"_xlfn.XLOOKUP(D81,表格2[產品],表格2[編號],\"\")","v":"A0082"},false]
[80,"2024-10-13",93146061,"NF 熊仔外套-啡90-",1,0,0,"預訂－未到貨",{"$f":"_xlfn.XLOOKUP(D82,表格2[產品],表格2[編號],\"\")","v":"A0082"},false]
[74,"2024-10-13",91760930,"NF 熊仔爬服-粉100-",1,0,0,"預訂－未到貨",{"$f":"_xlfn.XLOOKUP(D83,表格2[產品],表格2[編號],\"\")","v":"A0083"},false]
[42,"2024-10-13",62991441,"豬仔連身-80-",1,0,0,"已寄",{"$f":"_xlfn.XLOOKUP(D84,表格2[產品],表格2[編號],\"\")","v":"A0041"},false]
[43,"2024-10-13",62995454,"lee 衛衣-灰白130-",1,0,0,"缺貨",{"$f":"_xlfn.XLOOKUP(D85,表格2[產品],表格2[編號],\"\")","v":"A0066"},false]
[29,"2024-10-13",61079988,"NF雙面棉外套-米杏100-",1,0,0,"預訂－未到貨",{"$f":"_xlfn.XLOOKUP(D86,表格2[產品],表格2[編號],\"\")","v":"A0085"},false]
[29,"2024-10-13",61079988,"NF雙面棉外套-米杏L-",1,0,0,"預訂－未到貨",{"$f":"_xlfn.XLOOKUP(D87,表格2[產品],表格2[編號],\"\")","v":"A0085"},false]
[35,"2024-10-13",62004948,"NF雙面棉外套-米杏L-",1,0,0,"預訂－未到貨",{"$f":"_xlfn.XLOOKUP(D88,表格2[產品],表格2[編號],\"\")","v":"A0085"},false]
[57,"2024-10-13",66778200,"NF雙面棉外套-米杏L-",1,0,0,"預訂－未到貨",{"$f":"_xlfn.XLOOKUP(D89,表格2[產品],表格2[編號],\"\")","v":"A0085"},false]
[63,"2024-10-13",67438170,"NF雙面棉外套-杏M-",1,0,0,"預訂－未到貨",{"$f":"_xlfn.XLOOKUP(D90,表格2[產品],表格2[編號],\"\")","v":"A0085"},false]
[57,"2024-10-13",66778200,"NF雙面棉外套-粉100-",1,0,0,"預訂－未到貨",{"$f":"_xlfn.XLOOKUP(D91,表格2[產品],表格2[編號],\"\")","v":"A0085"},false]
[61,"2024-10-13",67300146,"NF雙面棉外套-粉100-",1,0,0,"預訂－未到貨",{"$f":"_xlfn.XLOOKUP(D92,表格2[產品],表格2[編號],\"\")","v":"A0085"},false]
[30,"2024-10-13",61220054,"NF雙面棉外套-粉M-",1,0,0,"預訂－未到貨",{"$f":"_xlfn.XLOOKUP(D93,表格2[產品],表格2[編號],\"\")","v":"A0085"},false]
[35,"2024-10-13",62004948,"NF雙面棉外套-粉M-",1,0,0,"預訂－未到貨",{"$f":"_xlfn.XLOOKUP(D94,表格2[產品],表格2[編號],\"\")","v":"A0085"},false]
[35,"2024-10-13",62004948,"NF雙面棉外套-綠100-",1,0,0,"預訂－未到貨",{"$f":"_xlfn.XLOOKUP(D95,表格2[產品],表格2[編號],\"\")","v":"A0085"},false]
[97,"2024-10-13",97793845,"NF雙面棉外套-綠100-",1,0,0,"預訂－未到貨",{"$f":"_xlfn.XLOOKUP(D96,表格2[產品],表格2[編號],\"\")","v":"A0085"},false]
[46,"2024-10-13",63236944,"唐老鴨連身-80-",1,0,0,"已寄",{"$f":"_xlfn.XLOOKUP(D97,表格2[產品],表格2[編號],\"\")","v":"A0021"},false]
[47,"2024-10-13",63467671,"konny碗-藍-",1,0,"","已寄",{"$f":"_xlfn.XLOOKUP(D98,表格2[產品],表格2[編號],\"\")","v":"A0065"},false]
[47,"2024-10-13",63467671,"唐老鴨連身-90-",1,0,"","已寄",{"$f":"_xlfn.XLOOKUP(D99,表格2[產品],表格2[編號],\"\")","v":"A0021"},false]
[90,"2024-10-13",96256235,"NF雙面棉外套-綠110-",1,0,0,"預訂－未到貨",{"$f":"_xlfn.XLOOKUP(D100,表格2[產品],表格2[編號],\"\")","v":"A0085"},false]
[48,"2024-10-13",63734193,"現-淺藍史迪仔aloha-3-6-",1,0,0,"已到貨",{"$f":"_xlfn.XLOOKUP(D101,表格2[產品],表格2[編號],\"\")","v":"A0023"},false]
[49,"2024-10-13",63775251,"konny口水肩-4-",1,0,0,"已寄",{"$f":"_xlfn.XLOOKUP(D102,表格2[產品],表格2[編號],\"\")","v":"A0064"},false]
[50,"2024-10-13",64096879,"lee 衛衣-灰白130-",1,0,0,"缺貨",{"$f":"_xlfn.XLOOKUP(D103,表格2[產品],表格2[編號],\"\")","v":"A0066"},false]
[50,"2024-10-13",64096879,"lee 衛衣-灰藍90-",1,0,0,"缺貨",{"$f":"_xlfn.XLOOKUP(D104,表格2[產品],表格2[編號],\"\")","v":"A0066"},false]
[51,"2024-10-13",64371840,"CARE BEAR C1-藍100-",1,0,0,"已到貨",{"$f":"_xlfn.XLOOKUP(D105,表格2[產品],表格2[編號],\"\")","v":"A0052"},false]
[51,"2024-10-13",64371840,"GAP 連身紅-100-",1,0,0,"已到貨",{"$f":"_xlfn.XLOOKUP(D106,表格2[產品],表格2[編號],\"\")","v":"A0056"},false]
[30,"2024-10-13",61220054,"NF雙面棉外套-綠90-",1,0,0,"預訂－未到貨",{"$f":"_xlfn.XLOOKUP(D107,表格2[產品],表格2[編號],\"\")","v":"A0085"},false]
[63,"2024-10-13",67438170,"NF雙面棉外套-綠90-",1,0,0,"預訂－未到貨",{"$f":"_xlfn.XLOOKUP(D108,表格2[產品],表格2[編號],\"\")","v":"A0085"},false]
[63,"2024-10-13",67438170,"NF雙面棉外套-綠L-",1,0,0,"預訂－未到貨",{"$f":"_xlfn.XLOOKUP(D109,表格2[產品],表格2[編號],\"\")","v":"A0085"},false]
[44,"2024-10-13",63060103,"POLO純色連身裙-卡其100-",1,0,0,"預訂－未到貨",{"$f":"_xlfn.XLOOKUP(D110,表格2[產品],表格2[編號],\"\")","v":"A0087"},false]
[37,"2024-10-13",62370523,"POLO純色連身裙-卡其90-",1,0,0,"預訂－未到貨",{"$f":"_xlfn.XLOOKUP(D111,表格2[產品],表格2[編號],\"\")","v":"A0087"},false]
[54,"2024-10-13",65360098,"lee 衛衣-灰藍90-",1,0,0,"缺貨",{"$f":"_xlfn.XLOOKUP(D112,表格2[產品],表格2[編號],\"\")","v":"A0066"},false]
[111,"2024-10-13",63568318,"POLO純色連身裙-卡其90-",1,0,0,"預訂－未到貨",{"$f":"_xlfn.XLOOKUP(D113,表格2[產品],表格2[編號],\"\")","v":"A0087"},false]
[55,"2024-10-13",66272332,"三合一-粉90-",1,139,139,"已寄",{"$f":"_xlfn.XLOOKUP(D114,表格2[產品],表格2[編號],\"\")","v":"A0001"},false]
[14,"2024-10-13",60212108,"POLO純色連身裙-藍100-",1,0,0,"預訂－未到貨",{"$f":"_xlfn.XLOOKUP(D115,表格2[產品],表格2[編號],\"\")","v":"A0087"},false]
[37,"2024-10-13",62370523,"POLO純色連身裙-藍110-",1,0,0,"預訂－未到貨",{"$f":"_xlfn.XLOOKUP(D116,表格2[產品],表格2[編號],\"\")","v":"A0087"},false]
[56,"2024-10-13",66297983,"點點筆--",1,0,0,"已寄",{"$f":"_xlfn.XLOOKUP(D117,表格2[產品],表格2[編號],\"\")","v":"A0044"},false]
[56,"2024-10-13",66297983,"蠟筆--",1,0,0,"已寄",{"$f":"_xlfn.XLOOKUP(D118,表格2[產品],表格2[編號],\"\")","v":"A0045"},false]
[44,"2024-10-13",63060103,"POLO純色連身裙-藍110-",1,0,0,"預訂－未到貨",{"$f":"_xlfn.XLOOKUP(D119,表格2[產品],表格2[編號],\"\")","v":"A0087"},false]
[111,"2024-10-13",63568318,"POLO條紋衫-90-",1,0,0,"預訂－未到貨",{"$f":"_xlfn.XLOOKUP(D120,表格2[產品],表格2[編號],\"\")","v":"A0088"},false]
[58,"2024-10-13",66826841,"GAP 連身米-90-",1,0,0,"已寄",{"$f":"_xlfn.XLOOKUP(D121,表格2[產品],表格2[編號],\"\")","v":"A0056"},false]
[58,"2024-10-13",66826841,"POLO背心-白90-",1,0,0,"已寄",{"$f":"_xlfn.XLOOKUP(D122,表格2[產品],表格2[編號],\"\")","v":"A0086"},false]
[58,"2024-10-13",66826841,"印章--",1,65,65,"已寄",{"$f":"_xlfn.XLOOKUP(D123,表格2[產品],表格2[編號],\"\")","v":"A0006"},false]
[58,"2024-10-13",66826841,"獅子外套-90-",1,0,0,"已寄",{"$f":"_xlfn.XLOOKUP(D124,表格2[產品],表格2[編號],\"\")","v":"A0028"},false]
[58,"2024-10-13",66826841,"獅子褲-90-",1,0,0,"已寄",{"$f":"_xlfn.XLOOKUP(D125,表格2[產品],表格2[編號],\"\")","v":"A0029"},false]
[14,"2024-10-13",60212108,"POLO條紋裙-100-",1,0,0,"預訂－未到貨",{"$f":"_xlfn.XLOOKUP(D126,表格2[產品],表格2[編號],\"\")","v":"A0089"},false]
[60,"2024-10-13",67086999,"bb 防曬lotion--",1,0,0,"已到貨",{"$f":"_xlfn.XLOOKUP(D127,表格2[產品],表格2[編號],\"\")","v":"A0046"},false]
[60,"2024-10-13",67086999,"小兵-18-24-",1,38,38,"已到貨",{"$f":"_xlfn.XLOOKUP(D128,表格2[產品],表格2[編號],\"\")","v":"A0002"},false]
[45,"2024-10-13",63195972,"POLO條紋裙-100-",1,0,0,"預訂－未到貨",{"$f":"_xlfn.XLOOKUP(D129,表格2[產品],表格2[編號],\"\")","v":"A0089"},false]
[61,"2024-10-13",67300146,"秋褲2條裝-A-90-",1,0,0,"已到貨",{"$f":"_xlfn.XLOOKUP(D130,表格2[產品],表格2[編號],\"\")","v":"A0018"},false]
[19,"2024-10-13",60377123,"POLO條紋裙-90-",2,0,0,"預訂－未到貨",{"$f":"_xlfn.XLOOKUP(D131,表格2[產品],表格2[編號],\"\")","v":"A0089"},false]
[62,"2024-10-13",67398830,"H8-0-6-",1,0,0,"已寄",{"$f":"_xlfn.XLOOKUP(D132,表格2[產品],表格2[編號],\"\")","v":"A0062"},false]
[62,"2024-10-13",67398830,"miffy 拖鞋-白37-",1,0,0,"已寄",{"$f":"_xlfn.XLOOKUP(D133,表格2[產品],表格2[編號],\"\")","v":"A0071"},false]
[62,"2024-10-13",67398830,"唐老鴨連身-73-",1,0,0,"已寄",{"$f":"_xlfn.XLOOKUP(D134,表格2[產品],表格2[編號],\"\")","v":"A0021"},false]
[39,"2024-10-13",62748251,"POLO條紋裙-90-",1,0,0,"預訂－未到貨",{"$f":"_xlfn.XLOOKUP(D135,表格2[產品],表格2[編號],\"\")","v":"A0089"},false]
[111,"2024-10-13",63568318,"POLO條紋裙-90-",1,0,0,"預訂－未到貨",{"$f":"_xlfn.XLOOKUP(D136,表格2[產品],表格2[編號],\"\")","v":"A0089"},false]
[41,"2024-10-13",62834583,"SANRIO 滿印-HT80-",1,0,0,"預訂－未到貨",{"$f":"_xlfn.XLOOKUP(D137,表格2[產品],表格2[編號],\"\")","v":"A0092"},false]
[109,"2024-10-13",61319677,"SANRIO 滿印-HT90-",1,0,0,"預訂－未到貨",{"$f":"_xlfn.XLOOKUP(D138,表格2[產品],表格2[編號],\"\")","v":"A0092"},false]
[64,"2024-10-13",67623732,"唐老鴨背包--",1,0,0,"已寄",{"$f":"_xlfn.XLOOKUP(D139,表格2[產品],表格2[編號],\"\")","v":"A0020"},false]
[65,"2024-10-13",68822283,"印章--",1,65,65,"已寄",{"$f":"_xlfn.XLOOKUP(D140,表格2[產品],表格2[編號],\"\")","v":"A0006"},false]
[53,"2024-10-13",64776663,"SANRIO 滿印-水90-",1,0,0,"預訂－未到貨",{"$f":"_xlfn.XLOOKUP(D141,表格2[產品],表格2[編號],\"\")","v":"A0092"},false]
[67,"2024-10-13",69330401,"POOH 背包--",2,0,0,"已寄",{"$f":"_xlfn.XLOOKUP(D142,表格2[產品],表格2[編號],\"\")","v":"A0090"},false]
[222,"2024-10-28",93146061,"UBMOM矽膠零食杯-米-",1,108,108,"預訂－未到貨",null,false]
[69,"2024-10-13",90166250,"GAP 連身灰-100-",1,0,0,"已寄",{"$f":"_xlfn.XLOOKUP(D144,表格2[產品],表格2[編號],\"\")","v":"A0056"},false]
[69,"2024-10-13",90166250,"三合一-橙100-",1,139,139,"已寄",{"$f":"_xlfn.XLOOKUP(D145,表格2[產品],表格2[編號],\"\")","v":"A0001"},false]
[69,"2024-10-13",90166250,"唐老鴨背包--",1,0,0,"已寄",{"$f":"_xlfn.XLOOKUP(D146,表格2[產品],表格2[編號],\"\")","v":"A0020"},false]
[26,"2024-10-13",60931124,"小魔怪-100-",1,85,85,"預訂－未到貨",{"$f":"_xlfn.XLOOKUP(D147,表格2[產品],表格2[編號],\"\")","v":"A0003"},false]
[95,"2024-10-13",97166744,"小魔怪-100-",1,85,85,"預訂－未到貨",{"$f":"_xlfn.XLOOKUP(D148,表格2[產品],表格2[編號],\"\")","v":"A0003"},false]
[105,"2024-10-13","MAISY","小魔怪-120-",1,85,85,"預訂－未到貨",{"$f":"_xlfn.XLOOKUP(D149,表格2[產品],表格2[編號],\"\")","v":"A0003"},false]
[73,"2024-10-13",91760930,"三合一-粉100-",1,139,139,"已寄",{"$f":"_xlfn.XLOOKUP(D150,表格2[產品],表格2[編號],\"\")","v":"Hello, World!"},false]
[73,"2024-10-13",91760930,"三合一-粉160-",1,139,139,"已寄",{"$f":"_xlfn.XLOOKUP(D151,表格2[產品],表格2[編號],\"\")","v":"A0001"},false]
[73,"2024-10-13",91760930,"三合一-藍160-",1,139,139,"已寄",{"$f":"_xlfn.XLOOKUP(D152,表格2[產品],表格2[編號],\"\")","v":"A0001"},false]
[73,"2024-10-13",91760930,"印章--",1,65,65,"已寄",{"$f":"_xlfn.XLOOKUP(D153,表格2[產品],表格2[編號],\"\")","v":"A0006"},false]
[148,"2024-10-16",60862790,"日本代購",1,null,null,null,null,false]
[156,"2024-10-16",61567271,"日本代購",1,null,null,null,null,false]
[157,"2024-10-16",62277840,"日本代購",1,null,null,null,null,false]
[158,"2024-10-16",62370523,"日本代購",1,null,null,null,null,false]
[159,"2024-10-16",62441454,"日本代購",1,null,null,null,null,false]
[75,"2024-10-13",91865815,"miffy 書包--",1,0,0,"已寄",{"$f":"_xlfn.XLOOKUP(D159,表格2[產品],表格2[編號],\"\")","v":"A0072"},false]
[75,"2024-10-13",91865815,"花邊冷衫-粉100-",1,0,0,"已寄",{"$f":"_xlfn.XLOOKUP(D160,表格2[產品],表格2[編號],\"\")","v":"A0015"},false]
[75,"2024-10-13",91865815,"碎花衫-100-",1,0,0,"已寄",{"$f":"_xlfn.XLOOKUP(D161,表格2[產品],表格2[編號],\"\")","v":"A0031"},false]
[75,"2024-10-13",91865815,"褲-啡100-",1,0,0,"已寄",{"$f":"_xlfn.XLOOKUP(D162,表格2[產品],表格2[編號],\"\")","v":"A0042"},false]
[76,"2024-10-13",92116493,"獅子外套-100-",1,0,0,"已寄",{"$f":"_xlfn.XLOOKUP(D163,表格2[產品],表格2[編號],\"\")","v":"A0028"},false]
[76,"2024-10-13",92116493,"獅子褲-100-",1,0,0,"已寄",{"$f":"_xlfn.XLOOKUP(D164,表格2[產品],表格2[編號],\"\")","v":"A0029"},false]
[77,"2024-10-13",92247990,"三合一-橙110-",1,139,139,"已到貨",{"$f":"_xlfn.XLOOKUP(D165,表格2[產品],表格2[編號],\"\")","v":"A0001"},false]
[163,"2024-10-16",63060103,"日本代購",1,null,null,null,null,false]
[165,"2024-10-16",63775251,"日本代購",1,null,null,null,null,false]
[79,"2024-10-13",93084927,"GAP 連身棒球-90-",1,0,0,"已到貨",{"$f":"_xlfn.XLOOKUP(D168,表格2[產品],表格2[編號],\"\")","v":"A0056"},false]
[80,"2024-10-13",93146061,"三合一-藍90-",1,139,139,"已寄",{"$f":"_xlfn.XLOOKUP(D169,表格2[產品],表格2[編號],\"\")","v":"A0001"},false]
[80,"2024-10-13",93146061,"印章--",1,65,65,"已寄",{"$f":"_xlfn.XLOOKUP(D170,表格2[產品],表格2[編號],\"\")","v":"A0006"},false]
[80,"2024-10-13",93146061,"唐老鴨背包--",1,0,0,"已寄",{"$f":"_xlfn.XLOOKUP(D171,表格2[產品],表格2[編號],\"\")","v":"A0020"},false]
[172,"2024-10-16",67311512,"日本代購",1,null,null,null,null,false]
[81,"2024-10-13",93235598,"konny 咩帶-灰米-",1,0,0,"已寄",{"$f":"_xlfn.XLOOKUP(D173,表格2[產品],表格2[編號],\"\")","v":"A0063"},false]
[82,"2024-10-13",93451014,"星月亮水手-衛衣-藍90-",1,0,0,"已到貨",{"$f":"_xlfn.XLOOKUP(D174,表格2[產品],表格2[編號],\"\")","v":"A0016"},false]
[181,"2024-10-16",90821275,"日本代購",1,null,null,null,null,false]
[84,"2024-10-13",94511204,"h7-6-12-",1,0,0,"已寄",{"$f":"_xlfn.XLOOKUP(D176,表格2[產品],表格2[編號],\"\")","v":"A0061"},false]
[84,"2024-10-13",94511204,"印章--",1,65,65,"已寄",{"$f":"_xlfn.XLOOKUP(D177,表格2[產品],表格2[編號],\"\")","v":"A0006"},false]
[85,"2024-10-13",94525765,"星月亮水手-PAT-藍100-",1,0,0,"已到貨",{"$f":"_xlfn.XLOOKUP(D178,表格2[產品],表格2[編號],\"\")","v":"A0017"},false]
[185,"2024-10-16",91760930,"日本代購",1,null,null,null,null,false]
[188,"2024-10-16",92667411,"日本代購",1,null,null,null,null,false]
[189,"2024-10-16",92748648,"日本代購",1,null,null,null,null,false]
[192,"2024-10-16",96101095,"日本代購",1,null,null,null,null,false]
[193,"2024-10-16",96105577,"日本代購",1,null,null,null,null,false]
[89,"2024-10-13",96155952,"印章--",1,65,65,"已到貨",{"$f":"_xlfn.XLOOKUP(D184,表格2[產品],表格2[編號],\"\")","v":"A0006"},false]
[202,"2024-10-16",98314743,"日本代購",1,null,null,null,null,false]
[208,"2024-10-17",63775251,"日本代購(LEG SUPPORT)",1,null,null,null,null,false]
[92,"2024-10-13",96327298,"POOH 背包--",1,0,0,"已寄",{"$f":"_xlfn.XLOOKUP(D187,表格2[產品],表格2[編號],\"\")","v":"A0090"},false]
[93,"2024-10-13",96531080,"唐老鴨背包--",1,0,0,"已到貨",{"$f":"_xlfn.XLOOKUP(D188,表格2[產品],表格2[編號],\"\")","v":"A0020"},false]
[204,"2024-10-17",974571611,"日本代購(花SET)",1,null,null,null,null,false]
[94,"2024-10-13",96855563,"姓名貼--",1,0,0,"已到貨",{"$f":"_xlfn.XLOOKUP(D190,表格2[產品],表格2[編號],\"\")","v":"A0013"},false]
[207,"2024-10-17",61319677,"日本代購(被)",1,null,null,null,null,false]
[96,"2024-10-13",97457161,"三合一-橙90-",1,139,139,"已寄",{"$f":"_xlfn.XLOOKUP(D192,表格2[產品],表格2[編號],\"\")","v":"A0001"},false]
[205,"2024-10-17",61220054,"日本代購(腳尺)",1,null,null,null,null,false]
[98,"2024-10-13",98034806,"pooh pat-18-24-",1,0,0,"已寄",{"$f":"_xlfn.XLOOKUP(D194,表格2[產品],表格2[編號],\"\")","v":"A0091"},false]
[98,"2024-10-13",98034806,"唐老鴨連身-90-",1,0,0,"已寄",{"$f":"_xlfn.XLOOKUP(D195,表格2[產品],表格2[編號],\"\")","v":"A0021"},false]
[99,"2024-10-13",98369540,"三合一-粉80-",1,139,139,"已寄",{"$f":"_xlfn.XLOOKUP(D196,表格2[產品],表格2[編號],\"\")","v":"A0001"},false]
[100,"2024-10-13",98378445,"miffy 書包--",1,0,0,"已到貨",{"$f":"_xlfn.XLOOKUP(D197,表格2[產品],表格2[編號],\"\")","v":"A0072"},false]
[101,"2024-10-13",98654310,"H4-18-24-",1,0,0,"已寄",{"$f":"_xlfn.XLOOKUP(D198,表格2[產品],表格2[編號],\"\")","v":"A0059"},false]
[101,"2024-10-13",98654310,"H5-100-",1,0,0,"已寄",{"$f":"_xlfn.XLOOKUP(D199,表格2[產品],表格2[編號],\"\")","v":"A0060"},false]
[102,"2024-10-13",98725367,"唐老鴨連身-80-",1,0,0,"已寄",{"$f":"_xlfn.XLOOKUP(D200,表格2[產品],表格2[編號],\"\")","v":"A0021"},false]
[103,"2024-10-13","CHLOE","CART衛衣有帽-110-",1,0,0,"已到貨",{"$f":"_xlfn.XLOOKUP(D201,表格2[產品],表格2[編號],\"\")","v":"A0053"},false]
[103,"2024-10-13","CHLOE","CART衛衣有帽-藍L-",1,0,0,"已到貨",{"$f":"_xlfn.XLOOKUP(D202,表格2[產品],表格2[編號],\"\")","v":"A0053"},false]
[103,"2024-10-13","CHLOE","CART衛衣有帽-藍S-",1,0,0,"已到貨",{"$f":"_xlfn.XLOOKUP(D203,表格2[產品],表格2[編號],\"\")","v":"A0053"},false]
[103,"2024-10-13","CHLOE","POLO背心-白110-",1,0,0,"已到貨",{"$f":"_xlfn.XLOOKUP(D204,表格2[產品],表格2[編號],\"\")","v":"A0086"},false]
[206,"2024-10-17",61274142,"日本代購(襪+綠白)",1,null,null,null,null,false]
[8,"2024-10-13",51047798,"毛衛衣-MELODY80-",1,69,69,"預訂－未到貨",{"$f":"_xlfn.XLOOKUP(D206,表格2[產品],表格2[編號],\"\")","v":"A0004"},false]
[20,"2024-10-13",60377123,"毛衛衣-MELODY80-",1,69,69,"預訂－未到貨",{"$f":"_xlfn.XLOOKUP(D207,表格2[產品],表格2[編號],\"\")","v":"A0004"},false]
[104,"2024-10-13","CHLOE","POLO背心-深藍110-",1,0,0,"已到貨",{"$f":"_xlfn.XLOOKUP(D208,表格2[產品],表格2[編號],\"\")","v":"A0086"},false]
[20,"2024-10-13",60377123,"毛衛衣-MELODY90-",1,0,0,"預訂－未到貨",{"$f":"_xlfn.XLOOKUP(D209,表格2[產品],表格2[編號],\"\")","v":"A0004"},false]
[124,"2024-10-14",64371840,"台LINE奶茶衛衣-100-白",1,109,109,"預訂－未到貨",null,false]
[106,"2024-10-13",54481922,"奶樽嘴-小獅王-超柔防脹氣寬口十字奶嘴M-4入(3個月以上)-",1,85,85,"已寄",{"$f":"_xlfn.XLOOKUP(D211,表格2[產品],表格2[編號],\"\")","v":"SW6332"},false]
[106,"2024-10-13",54481922,"知母時--",1,0,0,"已寄",{"$f":"_xlfn.XLOOKUP(D212,表格2[產品],表格2[編號],\"\")","v":"A0014"},false]
[106,"2024-10-13",54481922,"配件5-小獅王-蘊蜜寬口奶瓶蝶型吸管組 -",1,35,35,"已寄",{"$f":"_xlfn.XLOOKUP(D213,表格2[產品],表格2[編號],\"\")","v":""},false]
[107,"2024-10-13",60338174,"香火平安符袋--粉",1,55,55,"已寄",{"$f":"_xlfn.XLOOKUP(D214,表格2[產品],表格2[編號],\"\")","v":""},false]
[107,"2024-10-13",60338174,"唐老鴨連身-80",1,0,0,"已寄",{"$f":"_xlfn.XLOOKUP(D215,表格2[產品],表格2[編號],\"\")","v":""},false]
[107,"2024-10-13",60338174,"唐老鴨連身-90-",1,0,0,"已寄",{"$f":"_xlfn.XLOOKUP(D216,表格2[產品],表格2[編號],\"\")","v":"A0021"},false]
[128,"2024-10-14",63775251,"台LINE奶茶衛衣-80-白",1,109,109,"預訂－未到貨",{"$f":"_xlfn.XLOOKUP(D217,表格2[產品],表格2[編號],\"\")","v":"T0014"},false]
[108,"2024-10-13",60534562,"三合一-藍80-",1,139,139,"已寄",{"$f":"_xlfn.XLOOKUP(D218,表格2[產品],表格2[編號],\"\")","v":"A0001"},false]
[108,"2024-10-13",60534562,"香火平安符袋--杏",1,55,55,"已寄",{"$f":"_xlfn.XLOOKUP(D219,表格2[產品],表格2[編號],\"\")","v":""},false]
[108,"2024-10-13",60534562,"唐老鴨背包--",1,0,0,"已寄",{"$f":"_xlfn.XLOOKUP(D220,表格2[產品],表格2[編號],\"\")","v":"A0020"},false]
[109,"2024-10-13",61319677,"和服-粉90-",1,0,0,"已寄",{"$f":"_xlfn.XLOOKUP(D221,表格2[產品],表格2[編號],\"\")","v":"A0012"},false]
[109,"2024-10-13",61319677,"配件7-小獅王-蘊蜜寬口防漏滑蓋把手吸管組(紫)-",1,55,55,"已寄",{"$f":"_xlfn.XLOOKUP(D222,表格2[產品],表格2[編號],\"\")","v":""},false]
[130,"2024-10-15",55933211,"台LINE拼色袖-100-粉",1,99,99,"預訂－未到貨",null,false]
[131,"2024-10-16",93451014,"台LINE熊大啡色衛衣-80-",1,109,109,"預訂－未到貨",null,false]
[110,"2024-10-13",61381096,"唐老鴨背包--",1,0,0,"已到貨",{"$f":"_xlfn.XLOOKUP(D225,表格2[產品],表格2[編號],\"\")","v":"A0020"},false]
[110,"2024-10-13",61381096,"配件7-小獅王-蘊蜜寬口防漏滑蓋把手吸管組(晨藍)-",1,55,55,"已到貨",{"$f":"_xlfn.XLOOKUP(D226,表格2[產品],表格2[編號],\"\")","v":"SW7050"},false]
[110,"2024-10-13",61381096,"配件7-小獅王-蘊蜜寬口防漏滑蓋把手吸管組(黑)-",1,55,55,"已到貨",{"$f":"_xlfn.XLOOKUP(D227,表格2[產品],表格2[編號],\"\")","v":""},false]
[111,"2024-10-13",63568318,"食物剪刀-小獅王-嬰兒食物金剛剪(杏茶)-",1,69,69,"已到貨",{"$f":"_xlfn.XLOOKUP(D228,表格2[產品],表格2[編號],\"\")","v":"SW3422"},false]
[122,"2024-10-14",55933211,"台SANRIO三色衛衣-100-紫",1,109,109,"預訂－未到貨",{"$f":"_xlfn.XLOOKUP(D229,表格2[產品],表格2[編號],\"\")","v":"T0016"},false]
[125,"2024-10-14",56003806,"台SANRIO三色衛衣-90-紫",1,109,109,"預訂－未到貨",{"$f":"_xlfn.XLOOKUP(D230,表格2[產品],表格2[編號],\"\")","v":"T0016"},false]
[128,"2024-10-14",63775251,"台三件套小飛象-80-",1,145,145,"預訂－未到貨",{"$f":"_xlfn.XLOOKUP(D231,表格2[產品],表格2[編號],\"\")","v":"T0013"},false]
[123,"2024-10-14",69331107,"台小飛象外套-100-粉",1,95,95,"預訂－未到貨",{"$f":"_xlfn.XLOOKUP(D232,表格2[產品],表格2[編號],\"\")","v":"T005"},true]
[112,"2024-10-13",67681197,"餐具組--粉",1,45,45,"已寄",{"$f":"_xlfn.XLOOKUP(D233,表格2[產品],表格2[編號],\"\")","v":""},false]
[113,"2024-10-13",90234611," 安撫奶嘴-小獅王-蘊蜜超柔拇指安撫奶嘴(杏茶)-耐咬較大型-",1,45,45,"已寄",{"$f":"_xlfn.XLOOKUP(D234,表格2[產品],表格2[編號],\"\")","v":""},false]
[113,"2024-10-13",90234611," 安撫奶嘴-小獅王-蘊蜜超柔拇指安撫奶嘴(綠沐)-耐咬較大型-",1,45,45,"已寄",{"$f":"_xlfn.XLOOKUP(D235,表格2[產品],表格2[編號],\"\")","v":""},false]
[113,"2024-10-13",90234611," 安撫奶嘴-獅子頭奶嘴-6M",1,45,45,"已寄",{"$f":"_xlfn.XLOOKUP(D236,表格2[產品],表格2[編號],\"\")","v":""},false]
[113,"2024-10-13",90234611,"三合一-橙90-",1,139,139,"已寄",{"$f":"_xlfn.XLOOKUP(D237,表格2[產品],表格2[編號],\"\")","v":"A0001"},false]
[113,"2024-10-13",90234611,"奶嘴鍊-小獅王-辛巴防塵奶嘴鍊-杏-",1,45,45,"已寄",{"$f":"_xlfn.XLOOKUP(D238,表格2[產品],表格2[編號],\"\")","v":""},false]
[113,"2024-10-13",90234611,"防漏滑蓋學習水杯-小獅王-蘊蜜鉑金PPSU防漏滑蓋學習水杯270ml(杏茶)-",1,155,155,"已寄",{"$f":"_xlfn.XLOOKUP(D239,表格2[產品],表格2[編號],\"\")","v":""},false]
[113,"2024-10-13",90234611,"配件7-小獅王-蘊蜜寬口防漏滑蓋把手吸管組(杏茶)-",1,55,55,"已寄",{"$f":"_xlfn.XLOOKUP(D240,表格2[產品],表格2[編號],\"\")","v":"SW7052"},false]
[114,"2024-10-13",90234611," 安撫奶嘴- 蘿蔓拇指型安撫奶嘴(香草)6m-",1,45,45,"已寄",{"$f":"_xlfn.XLOOKUP(D241,表格2[產品],表格2[編號],\"\")","v":""},false]
[114,"2024-10-13",90234611,"GAP 連身紅-90-",1,0,"","已寄",{"$f":"_xlfn.XLOOKUP(D242,表格2[產品],表格2[編號],\"\")","v":"A0056"},false]
[115,"2024-10-13",91478376,"好樂飲-小獅王-好樂飲PPSU防漏滑蓋學習水杯250ml(可可杏)-",1,170,170,"已寄",{"$f":"_xlfn.XLOOKUP(D243,表格2[產品],表格2[編號],\"\")","v":"S8671"},false]
[116,"2024-10-13",92639065,"cool kids 舒緩膏--",1,0,0,"已寄",{"$f":"_xlfn.XLOOKUP(D244,表格2[產品],表格2[編號],\"\")","v":"A0054"},false]
[116,"2024-10-13",92639065,"H4-2-3-",1,0,0,"已寄",{"$f":"_xlfn.XLOOKUP(D245,表格2[產品],表格2[編號],\"\")","v":"A0059"},false]
[116,"2024-10-13",92639065,"印章--",2,65,130,"已寄",{"$f":"_xlfn.XLOOKUP(D246,表格2[產品],表格2[編號],\"\")","v":"A0006"},false]
[116,"2024-10-13",92639065,"食物剪刀-小獅王-嬰兒食物金剛剪(栗粉)-",1,69,69,"已寄",{"$f":"_xlfn.XLOOKUP(D247,表格2[產品],表格2[編號],\"\")","v":"SW3421"},false]
[116,"2024-10-13",92639065,"食物剪刀-小獅王-嬰兒食物金剛剪(晨藍)-",1,69,69,"已寄",{"$f":"_xlfn.XLOOKUP(D248,表格2[產品],表格2[編號],\"\")","v":"SW3420"},false]
[117,"2024-10-13",95832157,"香火平安符袋--杏",1,55,55,"已寄",{"$f":"_xlfn.XLOOKUP(D249,表格2[產品],表格2[編號],\"\")","v":""},false]
[118,"2024-10-13",98314743,"GAP 連身米-80-",1,0,0,"已到貨",{"$f":"_xlfn.XLOOKUP(D250,表格2[產品],表格2[編號],\"\")","v":"A0056"},false]
[118,"2024-10-13",98314743,"GAP 連身棒球-80-",1,0,0,"已到貨",{"$f":"_xlfn.XLOOKUP(D251,表格2[產品],表格2[編號],\"\")","v":"A0056"},false]
[118,"2024-10-13",98314743,"konny碗-燕-",1,0,0,"已到貨",{"$f":"_xlfn.XLOOKUP(D252,表格2[產品],表格2[編號],\"\")","v":"A0065"},false]
[118,"2024-10-13",98314743,"配件7-小獅王-蘊蜜寬口防漏滑蓋把手吸管組(杏茶)-",1,55,55,"已到貨",{"$f":"_xlfn.XLOOKUP(D253,表格2[產品],表格2[編號],\"\")","v":"SW7052"},false]
[123,"2024-10-14",69331107,"台小飛象外套-90-白",1,95,95,"預訂－未到貨",null,true]
[119,"2024-10-13","YUEN KIU","配件7-小獅王-蘊蜜寬口防漏滑蓋把手吸管組(黑)-",1,55,55,"已寄",{"$f":"_xlfn.XLOOKUP(D255,表格2[產品],表格2[編號],\"\")","v":""},false]
[120,"2024-10-13",51187205,"把手奶樽-小獅王-蘊蜜鉑金PPSU寬口吸管把手防脹氣奶瓶360ml(杏茶)-十字M-",1,148,148,"已寄",{"$f":"_xlfn.XLOOKUP(D256,表格2[產品],表格2[編號],\"\")","v":""},false]
[120,"2024-10-13",51187205,"把手奶樽-小獅王-蘊蜜鉑金PPSU寬口吸管把手防脹氣奶瓶360ml(晨藍)-十字M-",1,148,148,"已寄",{"$f":"_xlfn.XLOOKUP(D257,表格2[產品],表格2[編號],\"\")","v":""},false]
[132,"2024-10-16",63324564,"台小飛象外套-90-白",1,95,95,"預訂－未到貨",null,false]
[126,"2024-10-14",62255544,"台小飛象外套-90-粉",1,95,95,"預訂－未到貨",{"$f":"_xlfn.XLOOKUP(D259,表格2[產品],表格2[編號],\"\")","v":"T005"},true]
[121,"2024-10-14",61997281,"台防滑襪-SET B-M",1,55,55,"預訂－未到貨",{"$f":"_xlfn.XLOOKUP(D260,表格2[產品],表格2[編號],\"\")","v":"T0018"},true]
[131,"2024-10-16",93451014,"台防滑襪-SET B-M",1,55,55,"預訂－未到貨",null,false]
[128,"2024-10-14",63775251,"台防滑襪-SET B-S",1,55,55,"預訂－未到貨",{"$f":"_xlfn.XLOOKUP(D262,表格2[產品],表格2[編號],\"\")","v":"T0018"},false]
[132,"2024-10-16",63324564,"台防滑襪-SET B-S",1,55,55,"預訂－未到貨",null,false]
[132,"2024-10-16",63324564,"台怪獸大學綠色包PAT-90-",1,79,79,"預訂－未到貨",null,false]
[127,"2024-10-14",63060103,"台連身扣鏤小仙子-90-紫",1,109,109,"預訂－未到貨",{"$f":"_xlfn.XLOOKUP(D265,表格2[產品],表格2[編號],\"\")","v":"T0010"},false]
[127,"2024-10-14",63060103,"台連身扣鏤小飛象-90-黃",1,109,109,"預訂－未到貨",{"$f":"_xlfn.XLOOKUP(D266,表格2[產品],表格2[編號],\"\")","v":"T0011"},false]
[128,"2024-10-14",63775251,"台魚魚上衣-80-藍白",1,89,89,"預訂－未到貨",{"$f":"_xlfn.XLOOKUP(D267,表格2[產品],表格2[編號],\"\")","v":"T0014"},false]
[109,"2024-10-13",61319677,"吊帶褲-HT90-",1,79,79,"預訂－未到貨",{"$f":"_xlfn.XLOOKUP(D268,表格2[產品],表格2[編號],\"\")","v":"A0007"},false]
[88,"2024-10-13",96101095,"吊帶褲-水110-",1,79,79,"預訂－未到貨",{"$f":"_xlfn.XLOOKUP(D269,表格2[產品],表格2[編號],\"\")","v":"A0007"},false]
[53,"2024-10-13",64776663,"吊帶褲-水90-",1,79,79,"預訂－未到貨",{"$f":"_xlfn.XLOOKUP(D270,表格2[產品],表格2[編號],\"\")","v":"A0007"},false]
[44,"2024-10-13",63060103,"安撫巾-KU-",1,0,0,"預訂－未到貨",{"$f":"_xlfn.XLOOKUP(D271,表格2[產品],表格2[編號],\"\")","v":"A0008"},false]
[47,"2024-10-13",63467671,"安撫巾-水-",1,0,"","預訂－未到貨",{"$f":"_xlfn.XLOOKUP(D272,表格2[產品],表格2[編號],\"\")","v":"A0008"},false]
[68,"2024-10-13",69331107,"安撫巾-水-",1,0,0,"預訂－未到貨",{"$f":"_xlfn.XLOOKUP(D273,表格2[產品],表格2[編號],\"\")","v":"A0008"},false]
[44,"2024-10-13",63060103,"安撫巾-玉-",1,0,0,"預訂－未到貨",{"$f":"_xlfn.XLOOKUP(D274,表格2[產品],表格2[編號],\"\")","v":"A0008"},false]
[209,"2024-10-21",61220054,"安撫奶嘴-小獅王-蘊蜜超柔拇指安撫奶嘴(杏茶)-耐咬較大型-",1,45,45,"已到貨",{"$f":"_xlfn.XLOOKUP(D275,表格2[產品],表格2[編號],\"\")","v":"SW1932"},false]
[209,"2024-10-21",61220054,"安撫奶嘴-小獅王-蘊蜜超柔拇指安撫奶嘴(晨藍)-耐咬較大型-",1,45,45,"已到貨",null,false]
[133,"2024-10-16",55459945,"學習水杯-小獅王-蘊蜜鉑金PPSU防漏滑蓋學習水杯270ml(紫芙)-",1,155,155,"已寄",null,false]
[134,"2024-10-16",64067410,"唐老鴨連身-66-",1,0,0,"已寄",{"$f":"_xlfn.XLOOKUP(D278,表格2[產品],表格2[編號],\"\")","v":"A0021"},false]
[135,"2024-10-16",46141219,"日本代購",1,0,0,"已寄",null,false]
[136,"2024-10-16",51063162,"日本代購",1,0,0,"已寄",null,false]
[137,"2024-10-16",51334135,"日本代購",1,null,null,"已寄",null,false]
[138,"2024-10-16",51724523,"日本代購",1,null,null,"已寄",null,false]
[139,"2024-10-16",53310661,"日本代購",1,null,null,"已寄",null,false]
[140,"2024-10-16",53358282,"日本代購",1,null,null,"已寄",null,false]
[141,"2024-10-16",54050245,"日本代購",1,null,null,"已寄",null,false]
[142,"2024-10-16",55110419,"日本代購",1,null,null,"已寄",null,false]
[143,"2024-10-16",55238767,"日本代購",1,null,null,"已寄",null,false]
[144,"2024-10-16",60122974,"日本代購",1,null,null,"已寄",null,false]
[145,"2024-10-16",60377123,"日本代購",1,null,null,"已寄",null,false]
[147,"2024-10-16",60407078,"日本代購",1,null,null,"已寄",null,false]
[209,"2024-10-21",61220054,"安撫奶嘴-小獅王-蘊蜜超柔拇指安撫奶嘴(綠沐)-耐咬較大型-",1,45,45,"已到貨",{"$f":"_xlfn.XLOOKUP(D291,表格2[產品],表格2[編號],\"\")","v":"SW1934"},false]
[149,"2024-10-16",60922980,"日本代購",1,null,null,"已寄",null,false]
[150,"2024-10-16",61038231,"日本代購",1,null,null,"已寄",null,false]
[151,"2024-10-16",61220054,"日本代購",1,null,null,"已寄",null,false]
[152,"2024-10-16",61274142,"日本代購",1,null,null,"已寄",null,false]
[153,"2024-10-16",61319677,"日本代購",1,null,null,"已寄",null,false]
[154,"2024-10-16",61322842,"日本代購",1,null,null,"已到貨",null,false]
[155,"2024-10-16",61331563,"日本代購",1,null,null,"已寄",null,false]
[21,"2024-10-13",60512140,"面包超人袋--",1,0,0,"預訂－未到貨",{"$f":"_xlfn.XLOOKUP(D299,表格2[產品],表格2[編號],\"\")","v":"A0019"},false]
[30,"2024-10-13",61220054,"面包超人袋--",1,0,0,"預訂－未到貨",{"$f":"_xlfn.XLOOKUP(D300,表格2[產品],表格2[編號],\"\")","v":"A0019"},false]
[55,"2024-10-13",66272332,"面包超人袋--",1,0,0,"預訂－未到貨",{"$f":"_xlfn.XLOOKUP(D301,表格2[產品],表格2[編號],\"\")","v":"A0019"},false]
[34,"2024-10-13",61997281,"唐老鴨連身-100-",1,0,0,"預訂－未到貨",{"$f":"_xlfn.XLOOKUP(D302,表格2[產品],表格2[編號],\"\")","v":"A0021"},false]
[160,"2024-10-16",62703263,"日本代購",1,null,null,"已到貨",null,false]
[161,"2024-10-16",62834583,"日本代購",1,null,null,"已寄",null,false]
[162,"2024-10-16",62995454,"日本代購",1,null,null,"缺貨",null,false]
[87,"2024-10-13",95069532,"唐老鴨連身-100-",1,0,0,"預訂－未到貨",{"$f":"_xlfn.XLOOKUP(D306,表格2[產品],表格2[編號],\"\")","v":"A0021"},false]
[164,"2024-10-16",63568251,"日本代購",1,null,null,"已寄",null,false]
[221,"2024-10-28",60377123,"配件6-小獅王-蘊蜜寬口奶瓶防漏學習吸管組-",4,38,152,"預訂－未到貨",null,false]
[166,"2024-10-16",64111534,"日本代購",1,null,null,"已寄",null,false]
[167,"2024-10-16",64267782,"日本代購",1,null,null,"已寄",null,false]
[168,"2024-10-16",65775107,"日本代購",1,null,null,"已寄",null,false]
[169,"2024-10-16",65933828,"日本代購",1,null,null,"已寄",null,false]
[170,"2024-10-16",66297983,"日本代購",1,null,null,"已寄",null,false]
[171,"2024-10-16",67300146,"日本代購",1,null,null,"已到貨",null,false]
[40,"2024-10-13",62750318,"單眼仔-包80-",1,0,0,"預訂－未到貨",{"$f":"_xlfn.XLOOKUP(D315,表格2[產品],表格2[編號],\"\")","v":"A0026"},false]
[173,"2024-10-16",67681197,"日本代購",1,null,null,"已寄",null,false]
[174,"2024-10-16",68438099,"日本代購",1,null,null,"已寄",null,false]
[175,"2024-10-16",68822283,"日本代購",1,null,null,"已寄",null,false]
[176,"2024-10-16",68988359,"日本代購",1,null,null,"已寄",null,false]
[177,"2024-10-16",69930596,"日本代購",1,null,null,"已寄",null,false]
[178,"2024-10-16",69984177,"日本代購",1,null,null,"已寄",null,false]
[179,"2024-10-16",90166250,"日本代購",1,null,null,"已寄",null,false]
[180,"2024-10-16",90230421,"日本代購",1,null,null,"已寄",null,false]
[40,"2024-10-13",62750318,"單眼仔-衛100-",2,0,0,"預訂－未到貨",{"$f":"_xlfn.XLOOKUP(D324,表格2[產品],表格2[編號],\"\")","v":"A0026"},false]
[182,"2024-10-16",91267970,"日本代購",1,null,null,"已寄",null,false]
[183,"2024-10-16",91283990,"日本代購",1,null,null,"已寄",null,false]
[184,"2024-10-16",91488559,"日本代購",1,null,null,"已寄",null,false]
[40,"2024-10-13",62750318,"單眼仔-衛130-",1,0,0,"預訂－未到貨",{"$f":"_xlfn.XLOOKUP(D328,表格2[產品],表格2[編號],\"\")","v":"A0026"},false]
[186,"2024-10-16",91865815,"日本代購",1,null,null,"已寄",null,false]
[187,"2024-10-16",92639065,"日本代購",1,null,null,"已寄",null,false]
[73,"2024-10-13",91760930,"聖誕老人連身-70-",1,0,0,"預訂－未到貨",{"$f":"_xlfn.XLOOKUP(D331,表格2[產品],表格2[編號],\"\")","v":"A0032"},false]
[44,"2024-10-13",63060103,"聖誕老人裙-100-",1,0,0,"預訂－未到貨",{"$f":"_xlfn.XLOOKUP(D332,表格2[產品],表格2[編號],\"\")","v":"A0033"},false]
[190,"2024-10-16",93451014,"日本代購",1,null,null,"已到貨",null,false]
[73,"2024-10-13",91760930,"聖誕老人裙-100-",1,0,0,"預訂－未到貨",{"$f":"_xlfn.XLOOKUP(D334,表格2[產品],表格2[編號],\"\")","v":"A0033"},false]
[73,"2024-10-13",91760930,"聖誕鹿-100-",1,0,0,"預訂－未到貨",{"$f":"_xlfn.XLOOKUP(D335,表格2[產品],表格2[編號],\"\")","v":"A0034"},false]
[194,"2024-10-16",96427340,"日本代購",1,null,null,"已寄",null,false]
[195,"2024-10-16",96877422,"日本代購",1,null,null,"已寄",null,false]
[196,"2024-10-16",97040118,"日本代購",1,null,null,"已寄",null,false]
[197,"2024-10-16",97457161,"日本代購",1,null,null,"已寄",null,false]
[198,"2024-10-16",97675720,"日本代購",1,null,null,"已寄",null,false]
[199,"2024-10-16",97811152,"日本代購",1,null,null,"已寄",null,false]
[200,"2024-10-16",98287157,"日本代購",1,null,null,"已寄",null,false]
[201,"2024-10-16",98296339,"日本代購",1,null,null,"已寄",null,false]
[86,"2024-10-13",95020312,"聖誕鹿-100-",1,0,0,"預訂－未到貨",{"$f":"_xlfn.XLOOKUP(D344,表格2[產品],表格2[編號],\"\")","v":"A0034"},false]
[203,"2024-10-16",98855791,"日本代購",1,null,null,"已寄",null,false]
[26,"2024-10-13",60931124,"聖誕鹿-120-",1,0,0,"預訂－未到貨",{"$f":"_xlfn.XLOOKUP(D346,表格2[產品],表格2[編號],\"\")","v":"A0034"},false]
[118,"2024-10-13",98314743,"聖誕鹿-80-",1,0,0,"預訂－未到貨",{"$f":"_xlfn.XLOOKUP(D347,表格2[產品],表格2[編號],\"\")","v":"A0034"},false]
[60,"2024-10-13",67086999,"聖誕樹-100-",1,0,0,"預訂－未到貨",{"$f":"_xlfn.XLOOKUP(D348,表格2[產品],表格2[編號],\"\")","v":"A0035"},false]
[85,"2024-10-13",94525765,"聖誕樹-100-",1,0,0,"預訂－未到貨",{"$f":"_xlfn.XLOOKUP(D349,表格2[產品],表格2[編號],\"\")","v":"A0035"},false]
[93,"2024-10-13",96531080,"聖誕樹-100-",1,0,0,"預訂－未到貨",{"$f":"_xlfn.XLOOKUP(D350,表格2[產品],表格2[編號],\"\")","v":"A0035"},false]
[105,"2024-10-13","MAISY","聖誕樹-80-",1,0,0,"預訂－未到貨",{"$f":"_xlfn.XLOOKUP(D351,表格2[產品],表格2[編號],\"\")","v":"A0035"},false]
[27,"2024-10-13",60956161,"聖誕樹-90-",1,0,0,"預訂－未到貨",{"$f":"_xlfn.XLOOKUP(D352,表格2[產品],表格2[編號],\"\")","v":"A0035"},false]
[70,"2024-10-13",90474586,"聖誕樹-90-",1,0,0,"預訂－未到貨",{"$f":"_xlfn.XLOOKUP(D353,表格2[產品],表格2[編號],\"\")","v":"A0035"},false]
[51,"2024-10-13",64371840,"滿印熊-PAT-白100-",1,0,0,"預訂－未到貨",{"$f":"_xlfn.XLOOKUP(D354,表格2[產品],表格2[編號],\"\")","v":"A0037"},false]
[210,"2024-10-21",61274142,"學習水杯-小獅王-蘊蜜鉑金PPSU防漏滑蓋學習水杯270ml(晨藍)-",1,155,155,"已到貨",null,false]
[37,"2024-10-13",62370523,"滿印熊-PAT-啡80-",1,0,0,"預訂－未到貨",{"$f":"_xlfn.XLOOKUP(D356,表格2[產品],表格2[編號],\"\")","v":"A0037"},false]
[212,"2024-10-21",66826841,"奶樽刷-小獅王-超柔無垢白金矽膠奶瓶刷(小櫻)-紅-",1,69,69,"已寄",null,false]
[85,"2024-10-13",94525765,"滿印熊-衛-白100-",1,0,0,"預訂－未到貨",{"$f":"_xlfn.XLOOKUP(D358,表格2[產品],表格2[編號],\"\")","v":"A0036"},false]
[59,"2024-10-13",67063660,"睡衣SET B-90-",1,0,0,"預訂－未到貨",{"$f":"_xlfn.XLOOKUP(D359,表格2[產品],表格2[編號],\"\")","v":"A0030"},false]
[214,"2024-10-21",91283990,"配件7-小獅王-蘊蜜寬口防漏滑蓋吸管組-",1,55,55,"已到貨",null,false]
[215,"2024-10-21",67681197,"配件7-小獅王-蘊蜜寬口防漏滑蓋把手吸管組(栗粉)-",1,55,55,"已到貨",null,false]
[17,"2024-10-13",60377123,"福袋D-90-",2,0,0,"預訂－未到貨",{"$f":"_xlfn.XLOOKUP(D362,表格2[產品],表格2[編號],\"\")","v":"A0038"},false]
[55,"2024-10-13",66272332,"綠仙子SET-90-",1,0,0,"預訂－未到貨",{"$f":"_xlfn.XLOOKUP(D363,表格2[產品],表格2[編號],\"\")","v":"A0039"},false]
[217,"2024-10-21",96449760,"學習水杯-小獅王-蘊蜜鉑金PPSU防漏滑蓋學習水杯270ml(綠沐)-",1,155,155,"已寄",null,false]
[9,"2024-10-13",51822020,"豬仔-包70-",1,0,0,"預訂－未到貨",{"$f":"_xlfn.XLOOKUP(D365,表格2[產品],表格2[編號],\"\")","v":"A0040"},false]
[107,"2024-10-13",60338174,"豬仔-衛90-",1,0,0,"預訂－未到貨",{"$f":"_xlfn.XLOOKUP(D366,表格2[產品],表格2[編號],\"\")","v":"A0040"},false]
[220,"2024-10-27","ritatatatahui","把手奶樽-小獅王-蘊蜜鉑金PPSU寬口吸管把手防脹氣奶瓶270ml(栗粉)-十字M",1,140,140,"已寄",null,false]
[220,"2024-10-27","ritatatatahui","把手奶樽-小獅王-蘊蜜鉑金PPSU寬口吸管把手防脹氣奶瓶270ml(杏茶)-十字M",1,140,140,"已寄",null,false]
[220,"2024-10-27","ritatatatahui","奶樽嘴-小獅王-超柔防脹氣寬口十字奶嘴L-4入(6個月以上)-",1,85,85,"已寄",null,false]
[17,"2024-10-13",60377123,"頸巾-兔-",1,0,0,"預訂－未到貨",{"$f":"_xlfn.XLOOKUP(D370,表格2[產品],表格2[編號],\"\")","v":"A0043"},false]
[17,"2024-10-13",60377123,"頸巾-熊-",1,0,0,"預訂－未到貨",{"$f":"_xlfn.XLOOKUP(D371,表格2[產品],表格2[編號],\"\")","v":"A0043"},false]
[222,"2024-10-28",93146061,"好樂飲-小獅王-好樂飲PPSU防漏滑蓋學習水杯250ml(可可杏)-",1,170,170,"已到貨",null,false]
[223,"2024-10-28",91760930,"CUTEMILY秋冬波波冷衫-100-白",1,89,89,null,null,false]
[223,"2024-10-28",91760930,"CAREBEAR白色滿印衛衣-100-",1,89,89,null,null,false]
[224,"2024-10-28",63723318,"TOMANDJERRY手袖公仔衛衣-90-黃",1,69,69,null,null,false]
[224,"2024-10-28",63723318,"LABUBU衛衣-90-淺灰",1,69,69,null,null,false]
[225,"2024-10-28",63236944,"TOMANDJERRY手袖公仔衛衣-100-白",1,69,69,null,null,false]
[226,"2024-10-28",53403193,"CAREBEAR白色滿印衛衣-80-",1,89,89,null,null,false]
[227,"2024-10-28",93826979,"CAREBEAR白色滿印衛衣-110-",1,89,89,null,null,false]
[228,"2024-10-29",62995454,"TOMANDJERRY帶帽睡覺款衛衣-130-黑",1,69,69,null,null,false]
[228,"2024-10-29",62995454,"TOMANDJERRY帶帽睡覺款衛衣-110-白",1,69,69,null,null,false]
[229,"2024-10-29",92247990,"LABUBU衛衣-100-米白",1,69,69,null,null,false]
[230,"2024-10-29",95659964,"CUTEMILY秋冬短褲-90-黑",1,75,75,null,null,false]
[null,null,null,null,null,null,"",null,null,false]
[null,null,null,null,null,null,null,null,null,false]
[null,null,null,null,null,null,null,null,null,false]
[null,null,null,null,null,null,null,null,null,false]
[null,null,null,null,null,null,null,null,null,false]
[null,null,null,null,null,null,null,null,null,false]
[null,null,null,null,null,null,null,null,null,false]
[null,null,null,null,null,null,null,null,null,false]
[null,null,null,null,null,null,null,null,null,false]
[null,null,null,null,null,null,null,null,null,false]
[null,null,null,null,null,null,null,null,null,false]
[null,null,null,null,null,null,null,null,null,false]
[null,null,null,null,null,null,null,null,null,false]
[null,null,null,null,null,null,null,null,null,false]
[null,null,null,null,null,null,null,null,null,false]
[null,null,null,null,null,null,null,null,null,false]
[null,null,null,null,null,null,null,null,null,false]
[null,null,null,null,null,null,null,null,null,false]
[null,null,null,null,null,null,null,null,null,false]
[null,null,null,null,null,null,null,null,null,false]
[null,null,null,null,null,null,null,null,null,false]
[null,null,null,null,null,null,null,null,null,false]
[null,null,null,null,null,null,null,null,null,false]
[null,null,null,null,null,null,null,null,null,false]
[null,null,null,null,null,null,null,null,null,false]
[null,null,null,null,null,null,null,null,null,false]
[null,null,null,null,null,null,null,null,null,false]
[null,null,null,null,null,null,null,null,null,false]
[null,null,null,null,null,null,null,null,null,false]
[null,null,null,null,null,null,null,null,null,false]
[null,null,null,null,null,null,null,null,null,false]
[null,null,null,null,null,null,null,null,null,false]
[null,null,null,null,null,null,null,null,null,false]
[null,null,null,null,null,null,null,null,null,false]
[null,null,null,null,null,null,null,null,null,false]
[null,null,null,null,null,null,null,null,null,false]
[null,null,null,null,null,null,null,null,null,false]
[null,null,null,null,null,null,null,null,null,false]
[null,null,null,null,null,null,null,null,null,false]
[null,null,null,null,null,null,null,null,null,false]
[null,null,null,null,null,null,null,null,null,false]
[null,null,null,null,null,null,null,null,null,false]
[null,null,null,null,null,null,null,null,null,false]
[null,null,null,null,null,null,null,null,null,false]
[null,null,null,null,null,null,null,null,null,false]
[null,null,null,null,null,null,null,null,null,false]
[null,null,null,null,null,null,null,null,null,false]
[null,null,null,null,null,null,null,null,null,false]
[null,null,null,null,null,null,null,null,null,false]
[null,null,null,null,null,null,null,null,null,false]
[null,null,null,null,null,null,null,null,null,false]
[null,null,null,null,null,null,null,null,null,false]
[null,null,null,null,null,null,null,null,null,false]
[null,null,null,null,null,null,null,null,null,false]
[null,null,null,null,null,null,null,null,null,false]
[null,null,null,null,null,null,null,null,null,false]
[null,null,null,null,null,null,null,null,null,false]
[null,null,null,null,null,null,null,null,null,false]
[null,null,null,null,null,null,null,null,null,false]
[null,null,null,null,null,null,null,null,null,false]
[null,null,null,null,null,null,null,null,null,false]
[null,null,null,null,null,null,null,null,null,false]
[null,null,null,null,null,null,null,null,null,false]
[null,null,null,null,null,null,null,null,null,false]
[null,null,null,null,null,null,null,null,null,false]
[null,null,null,null,null,null,null,null,null,false]
[null,null,null,null,null,null,null,null,null,false]
[null,null,null,null,null,null,null,null,null,false]
[null,null,null,null,null,null,null,null,null,false]
[null,null,null,null,null,null,null,null,null,false]
[null,null,null,null,null,null,null,null,null,false]
[null,null,null,null,null,null,null,null,null,false]
[null,null,null,null,null,null,null,null,null,false]
[null,null,null,null,null,null,null,null,null,false]
[null,null,null,null,null,null,null,null,null,false]
[null,null,null,null,null,null,null,null,null,false]
[null,null,null,null,null,null,null,null,null,false]
[null,null,null,null,null,null,null,null,null,false]
[null,null,null,null,null,null,null,null,null,false]
[null,null,null,null,null,null,null,null,null,false]
[null,null,null,null,null,null,null,null,null,false]
[null,null,null,null,null,null,null,null,null,false]
[null,null,null,null,null,null,null,null,null,false]
[null,null,null,null,null,null,null,null,null,false]
[null,null,null,null,null,null,null,null,null,false]
[null,null,null,null,null,null,null,null,null,false]
[null,null,null,null,null,null,null,null,null,false]
[null,null,null,null,null,null,null,null,null,false]
[null,null,null,null,null,null,null,null,null,false]
[null,null,null,null,null,null,null,null,null,false]
[null,null,null,null,null,null,null,null,null,false]
[null,null,null,null,null,null,null,null,null,false]
[null,null,null,null,null,null,null,null,null,false]
[null,null,null,null,null,null,null,null,null,false]
[null,null,null,null,null,null,null,null,null,false]
[null,null,null,null,null,null,null,null,null,false]
[null,null,null,null,null,null,null,null,null,false]
[null,null,null,null,null,null,null,null,null,false]
[null,null,null,null,null,null,null,null,null,false]
[null,null,null,null,null,null,null,null,null,false]
[null,null,null,null,null,null,null,null,null,false]
[null,null,null,null,null,null,null,null,null,false]
[null,null,null,null,null,null,null,null,null,false]
[null,null,null,null,null,null,null,null,null,false]
[null,null,null,null,null,null,null,null,null,false]
[null,null,null,null,null,null,null,null,null,false]
[null,null,null,null,null,null,null,null,null,false]
[null,null,null,null,null,null,null,null,null,false]
[null,null,null,null,null,null,null,null,null,false]
[null,null,null,null,null,null,null,null,null,false]
[null,null,null,null,null,null,null,null,null,false]
[null,null,null,null,null,null,null,null,null,false]
[null,null,null,null,null,null,null,null,null,false]
[null,null,null,null,null,null,null,null,null,false]
[null,null,null,null,null,null,null,null,null,false]
[null,null,null,null,null,null,null,null,null,false]
[null,null,null,null,null,null,null,null,null,false]
[null,null,null,null,null,null,null,null,null,false]
[null,null,null,null,null,null,null,null,null,false]
[null,null,null,null,null,null,null,null,null,false]
[null,null,null,null,null,null,null,null,null,false]
[null,null,null,null,null,null,null,null,null,false]
[null,null,null,null,null,null,null,null,null,false]
[null,null,null,null,null,null,null,null,null,false]
[null,null,null,null,null,null,null,null,null,false]
[null,null,null,null,null,null,null,null,null,false]
[null,null,null,null,null,null,null,null,null,false]
[null,null,null,null,null,null,null,null,null,false]
[null,null,null,null,null,null,null,null,null,false]
[null,null,null,null,null,null,null,null,null,false]
[null,null,null,null,null,null,null,null,null,false]
[null,null,null,null,null,null,null,null,null,false]
[null,null,null,null,null,null,null,null,null,false]
[null,null,null,null,null,null,null,null,null,false]
[null,null,null,null,null,null,null,null,null,false]
[null,null,null,null,null,null,null,null,null,false]
[null,null,null,null,null,null,null,null,null,false]
[null,null,null,null,null,null,null,null,null,false]
[null,null,null,null,null,null,null,null,null,false]
[null,null,null,null,null,null,null,null,null,false]
[null,null,null,null,null,null,null,null,null,false]
[null,null,null,null,null,null,null,null,null,false]
[null,null,null,null,null,null,null,null,null,false]
[null,null,null,null,null,null,null,null,null,false]
[null,null,null,null,null,null,null,null,null,false]
[null,null,null,null,null,null,null,null,null,false]
[null,null,null,null,null,null,null,null,null,false]
[null,null,null,null,null,null,null,null,null,false]
[null,null,null,null,null,null,null,null,null,false]
[null,null,null,null,null,null,null,null,null,false]
[null,null,null,null,null,null,null,null,null,false]
[null,null,null,null,null,null,null,null,null,false]
[null,null,null,null,null,null,null,null,null,false]
[null,null,null,null,null,null,null,null,null,false]
[null,null,null,null,null,null,null,null,null,false]
[null,null,null,null,null,null,null,null,null,false]
[null,null,null,null,null,null,null,null,null,false]
[null,null,null,null,null,null,null,null,null,false]
[null,null,null,null,null,null,null,null,null,false]
[null,null,null,null,null,null,null,null,null,false]
[null,null,null,null,null,null,null,null,null,false]
[null,null,null,null,null,null,null,null,null,false]
[null,null,null,null,null,null,null,null,null,false]
[null,null,null,null,null,null,null,null,null,false]
[null,null,null,null,null,null,null,null,null,false]
[null,null,null,null,null,null,null,null,null,false]
[null,null,null,null,null,null,null,null,null,false]
[null,null,null,null,null,null,null,null,null,false]
[null,null,null,null,null,null,null,null,null,false]
[null,null,null,null,null,null,null,null,null,false]
[null,null,null,null,null,null,null,null,null,false]
[null,null,null,null,null,null,null,null,null,false]
[null,null,null,null,null,null,null,null,null,false]
[null,null,null,null,null,null,null,null,null,false]
[null,null,null,null,null,null,null,null,null,false]
[null,null,null,null,null,null,null,null,null,false]
[null,null,null,null,null,null,null,null,null,false]
[null,null,null,null,null,null,null,null,null,false]
[null,null,null,null,null,null,null,null,null,false]
[null,null,null,null,null,null,null,null,null,false]
[null,null,null,null,null,null,null,null,null,false]
[null,null,null,null,null,null,null,null,null,false]
[null,null,null,null,null,null,null,null,null,false]
[null,null,null,null,null,null,null,null,null,false]
[null,null,null,null,null,null,null,null,null,false]
[null,null,null,null,null,null,null,null,null,false]
[null,null,null,null,null,null,null,null,null,false]
[null,null,null,null,null,null,null,null,null,false]
[null,null,null,null,null,null,null,null,null,false]
[null,null,null,null,null,null,null,null,null,false]
[null,null,null,null,null,null,null,null,null,false]
[null,null,null,null,null,null,null,null,null,false]
[null,null,null,null,null,null,null,null,null,false]
[null,null,null,null,null,null,null,null,null,false]
[null,null,null,null,null,null,null,null,null,false]
[null,null,null,null,null,null,null,null,null,false]
[null,null,null,null,null,null,null,null,null,false]
[null,null,null,null,null,null,null,null,null,false]
[null,null,null,null,null,null,null,null,null,false]
[null,null,null,null,null,null,null,null,null,false]
[null,null,null,null,null,null,null,null,null,false]
[null,null,null,null,null,null,null,null,null,false]
[null,null,null,null,null,null,null,null,null,false]
[null,null,null,null,null,null,null,null,null,false]
[null,null,null,null,null,null,null,null,null,false]
[null,null,null,null,null,null,null,null,null,false]
[null,null,null,null,null,null,null,null,null,false]
[null,null,null,null,null,null,null,null,null,false]
[null,null,null,null,null,null,null,null,null,false]
[null,null,null,null,null,null,null,null,null,false]
[null,null,null,null,null,null,null,null,null,false]
[null,null,null,null,null,null,null,null,null,false]
[null,null,null,null,null,null,null,null,null,false]
[null,null,null,null,null,null,null,null,null,false]
[null,null,null,null,null,null,null,null,null,false]
[null,null,null,null,null,null,null,null,null,false]
[null,null,null,null,null,null,null,null,null,false]
[null,null,null,null,null,null,null,null,null,false]
[null,null,null,null,null,null,null,null,null,false]
[null,null,null,null,null,null,null,null,null,false]
[null,null,null,null,null,null,null,null,null,false]
[null,null,null,null,null,null,null,null,null,false]
[null,null,null,null,null,null,null,null,null,false]
[null,null,null,null,null,null,null,null,null,false]
[null,null,null,null,null,null,null,null,null,false]
[null,null,null,null,null,null,null,null,null,false]
[null,null,null,null,null,null,null,null,null,false]
[null,null,null,null,null,null,null,null,null,false]
[null,null,null,null,null,null,null,null,null,false]
[null,null,null,null,null,null,null,null,null,false]
[null,null,null,null,null,null,null,null,null,false]
[null,null,null,null,null,null,null,null,null,false]
[null,null,null,null,null,null,null,null,null,false]
[null,null,null,null,null,null,null,null,null,false]
[null,null,null,null,null,null,null,null,null,false]
[null,null,null,null,null,null,null,null,null,false]
[null,null,null,null,null,null,null,null,null,false]
[null,null,null,null,null,null,null,null,null,false]
[null,null,null,null,null,null,null,null,null,false]
[null,null,null,null,null,null,null,null,null,false]
[null,null,null,null,null,null,null,null,null,false]
[null,null,null,null,null,null,null,null,null,false]
[null,null,null,null,null,null,null,null,null,false]
[null,null,null,null,null,null,null,null,null,false]
[null,null,null,null,null,null,null,null,null,false]
[null,null,null,null,null,null,null,null,null,false]
[null,null,null,null,null,null,null,null,null,false]
[null,null,null,null,null,null,null,null,null,false]
[null,null,null,null,null,null,null,null,null,false]
[null,null,null,null,null,null,null,null,null,false]
[null,null,null,null,null,null,null,null,null,false]
[null,null,null,null,null,null,null,null,null,false]
[null,null,null,null,null,null,null,null,null,false]
[null,null,null,null,null,null,null,null,null,false]
[null,null,null,null,null,null,null,null,null,false]
[null,null,null,null,null,null,null,null,null,false]
[null,null,null,null,null,null,null,null,null,false]
[null,null,null,null,null,null,null,null,null,false]
[null,null,null,null,null,null,null,null,null,false]
[null,null,null,null,null,null,null,null,null,false]
[null,null,null,null,null,null,null,null,null,false]
[null,null,null,null,null,null,null,null,null,false]
[null,null,null,null,null,null,null,null,null,false]
[null,null,null,null,null,null,null,null,null,false]
[null,null,null,null,null,null,null,null,null,false]
[null,null,null,null,null,null,null,null,null,false]
[null,null,null,null,null,null,null,null,null,false]
[null,null,null,null,null,null,null,null,null,false]
[null,null,null,null,null,null,null,null,null,false]
[null,null,null,null,null,null,null,null,null,false]
[null,null,null,null,null,null,null,null,null,false]
[null,null,null,null,null,null,null,null,null,false]
[null,null,null,null,null,null,null,null,null,false]
[null,null,null,null,null,null,null,null,null,false]
[null,null,null,null,null,null,null,null,null,false]
[null,null,null,null,null,null,null,null,null,false]
[null,null,null,null,null,null,null,null,null,false]
[null,null,null,null,null,null,null,null,null,false]
[null,null,null,null,null,null,null,null,null,false]
[null,null,null,null,null,null,null,null,null,false]
[null,null,null,null,null,null,null,null,null,false]
[null,null,null,null,null,null,null,null,null,false]
[null,null,null,null,null,null,null,null,null,false]
[null,null,null,null,null,null,null,null,null,false]
[null,null,null,null,null,null,null,null,null,false]
[null,null,null,null,null,null,null,null,null,false]
[null,null,null,null,null,null,null,null,null,false]
[null,null,null,null,null,null,null,null,null,false]
[null,null,null,null,null,null,null,null,null,false]
[null,null,null,null,null,null,null,null,null,false]
[null,null,null,null,null,null,null,null,null,false]
[null,null,null,null,null,null,null,null,null,false]
[null,null,null,null,null,null,null,null,null,false]
[null,null,null,null,null,null,null,null,null,false]
[null,null,null,null,null,null,null,null,null,false]
[null,null,null,null,null,null,null,null,null,false]
[null,null,null,null,null,null,null,null,null,false]
[null,null,null,null,null,null,null,null,null,false]
[null,null,null,null,null,null,null,null,null,false]
[null,null,null,null,null,null,null,null,null,false]
[null,null,null,null,null,null,null,null,null,false]
[null,null,null,null,null,null,null,null,null,false]
[null,null,null,null,null,null,null,null,null,false]
[null,null,null,null,null,null,null,null,null,false]
[null,null,null,null,null,null,null,null,null,false]
[null,null,null,null,null,null,null,null,null,false]
[null,null,null,null,null,null,null,null,null,false]
[null,null,null,null,null,null,null,null,null,false]
[null,null,null,null,null,null,null,null,null,false]
[null,null,null,null,null,null,null,null,null,false]
[null,null,null,null,null,null,null,null,null,false]
[null,null,null,null,null,null,null,null,null,false]
[null,null,null,null,null,null,null,null,null,false]
[null,null,null,null,null,null,null,null,null,false]
[null,null,null,null,null,null,null,null,null,false]
[null,null,null,null,null,null,null,null,null,false]
[null,null,null,null,null,null,null,null,null,false]
[null,null,null,null,null,null,null,null,null,false]
[null,null,null,null,null,null,null,null,null,false]
[null,null,null,null,null,null,null,null,null,false]
[null,null,null,null,null,null,null,null,null,false]
[null,null,null,null,null,null,null,null,null,false]
[null,null,null,null,null,null,null,null,null,false]
[null,null,null,null,null,null,null,null,null,false]
[null,null,null,null,null,null,null,null,null,false]
[null,null,null,null,null,null,null,null,null,false]
[null,null,null,null,null,null,null,null,null,false]
[null,null,null,null,null,null,null,null,null,false]
[null,null,null,null,null,null,null,null,null,false]
[null,null,null,null,null,null,null,null,null,false]
[null,null,null,null,null,null,null,null,null,false]
[null,null,null,null,null,null,null,null,null,false]
[null,null,null,null,null,null,null,null,null,false]
[null,null,null,null,null,null,null,null,null,false]
[null,null,null,null,null,null,null,null,null,false]
[null,null,null,null,null,null,null,null,null,false]
[null,null,null,null,null,null,null,null,null,false]
[null,null,null,null,null,null,null,null,null,false]
[null,null,null,null,null,null,null,null,null,false]
[null,null,null,null,null,null,null,null,null,false]
[null,null,null,null,null,null,null,null,null,false]
[null,null,null,null,null,null,null,null,null,false]
[null,null,null,null,null,null,null,null,null,false]
[null,null,null,null,null,null,null,null,null,false]
[null,null,null,null,null,null,null,null,null,false]
[null,null,null,null,null,null,null,null,null,false]
[null,null,null,null,null,null,null,null,null,false]
[null,null,null,null,null,null,null,null,null,false]
[null,null,null,null,null,null,null,null,null,false]
[null,null,null,null,null,null,null,null,null,false]
[null,null,null,null,null,null,null,null,null,false]
[null,null,null,null,null,null,null,null,null,false]
[null,null,null,null,null,null,null,null,null,false]
[null,null,null,null,null,null,null,null,null,false]
[null,null,null,null,null,null,null,null,null,false]
[null,null,null,null,null,null,null,null,null,false]
[null,null,null,null,null,null,null,null,null,false]
[null,null,null,null,null,null,null,null,null,false]
[null,null,null,null,null,null,null,null,null,false]
[null,null,null,null,null,null,null,null,null,false]
[null,null,null,null,null,null,null,null,null,false]
[null,null,null,null,null,null,null,null,null,false]
[null,null,null,null,null,null,null,null,null,false]
[null,null,null,null,null,null,null,null,null,false]
[null,null,null,null,null,null,null,null,null,false]
[null,null,null,null,null,null,null,null,null,false]
[null,null,null,null,null,null,null,null,null,false]
[null,null,null,null,null,null,null,null,null,false]
[null,null,null,null,null,null,null,null,null,false]
[null,null,null,null,null,null,null,null,null,false]
[null,null,null,null,null,null,null,null,null,false]
[null,null,null,null,null,null,null,null,null,false]
[null,null,null,null,null,null,null,null,null,false]
[null,null,null,null,null,null,null,null,null,false]
[null,null,null,null,null,null,null,null,null,false]
[null,null,null,null,null,null,null,null,null,false]
[null,null,null,null,null,null,null,null,null,false]
[null,null,null,null,null,null,null,null,null,false]
[null,null,null,null,null,null,null,null,null,false]
[null,null,null,null,null,null,null,null,null,false]
[null,null,null,null,null,null,null,null,null,false]
[null,null,null,null,null,null,null,null,null,false]
[null,null,null,null,null,null,null,null,null,false]
[null,null,null,null,null,null,null,null,null,false]
[null,null,null,null,null,null,null,null,null,false]
[null,null,null,null,null,null,null,null,null,false]
[null,null,null,null,null,null,null,null,null,false]
[null,null,null,null,null,null,null,null,null,false]
[null,null,null,null,null,null,null,null,null,false]
[null,null,null,null,null,null,null,null,null,false]
[null,null,null,null,null,null,null,null,null,false]
[null,null,null,null,null,null,null,null,null,false]
[null,null,null,null,null,null,null,null,null,false]
[null,null,null,null,null,null,null,null,null,false]
[null,null,null,null,null,null,null,null,null,false]
[null,null,null,null,null,null,null,null,null,false]
[null,null,null,null,null,null,null,null,null,false]
[null,null,null,null,null,null,null,null,null,false]
[null,null,null,null,null,null,null,null,null,false]
[null,null,null,null,null,null,null,null,null,false]
[null,null,null,null,null,null,null,null,null,false]
[null,null,null,null,null,null,null,null,null,false]
[null,null,null,null,null,null,null,null,null,false]
[null,null,null,null,null,null,null,null,null,false]
[null,null,null,null,null,null,null,null,null,false]
[null,null,null,null,null,null,null,null,null,false]
[null,null,null,null,null,null,null,null,null,false]
[null,null,null,null,null,null,null,null,null,false]
[null,null,null,null,null,null,null,null,null,false]
[null,null,null,null,null,null,null,null,null,false]
[null,null,null,null,null,null,null,null,null,false]
[null,null,null,null,null,null,null,null,null,false]
[null,null,null,null,null,null,null,null,null,false]
[null,null,null,null,null,null,null,null,null,false]
[null,null,null,null,null,null,null,null,null,false]
[null,null,null,null,null,null,null,null,null,false]
[null,null,null,null,null,null,null,null,null,false]
[null,null,null,null,null,null,null,null,null,false]
[null,null,null,null,null,null,null,null,null,false]
[null,null,null,null,null,null,null,null,null,false]
[null,null,null,null,null,null,null,null,null,false]
[null,null,null,null,null,null,null,null,null,false]
[null,null,null,null,null,null,null,null,null,false]
[null,null,null,null,null,null,null,null,null,false]
[null,null,null,null,null,null,null,null,null,false]
[null,null,null,null,null,null,null,null,null,false]
[null,null,null,null,null,null,null,null,null,false]
[null,null,null,null,null,null,null,null,null,false]
[null,null,null,null,null,null,null,null,null,false]
[null,null,null,null,null,null,null,null,null,false]
[null,null,null,null,null,null,null,null,null,false]
[null,null,null,null,null,null,null,null,null,false]
[null,null,null,null,null,null,null,null,null,false]
[null,null,null,null,null,null,null,null,null,false]
[null,null,null,null,null,null,null,null,null,false]
[null,null,null,null,null,null,null,null,null,false]
[null,null,null,null,null,null,null,null,null,false]
[null,null,null,null,null,null,null,null,null,false]
[null,null,null,null,null,null,null,null,null,false]
[null,null,null,null,null,null,null,null,null,false]
[null,null,null,null,null,null,null,null,null,false]
[null,null,null,null,null,null,null,null,null,false]
[null,null,null,null,null,null,null,null,null,false]
[null,null,null,null,null,null,null,null,null,false]
[null,null,null,null,null,null,null,null,null,false]
[null,null,null,null,null,null,null,null,null,false]
[null,null,null,null,null,null,null,null,null,false]
[null,null,null,null,null,null,null,null,null,false]
[null,null,null,null,null,null,null,null,null,false]
[null,null,null,null,null,null,null,null,null,false]
[null,null,null,null,null,null,null,null,null,false]
[null,null,null,null,null,null,null,null,null,false]
[null,null,null,null,null,null,null,null,null,false]
[null,null,null,null,null,null,null,null,null,false]
[null,null,null,null,null,null,null,null,null,false]
[null,null,null,null,null,null,null,null,null,false]
[null,null,null,null,null,null,null,null,null,false]
[null,null,null,null,null,null,null,null,null,false]
[null,null,null,null,null,null,null,null,null,false]
[null,null,null,null,null,null,null,null,null,false]
[null,null,null,null,null,null,null,null,null,false]
[null,null,null,null,null,null,null,null,null,false]
[null,null,null,null,null,null,null,null,null,false]
[null,null,null,null,null,null,null,null,null,false]
[null,null,null,null,null,null,null,null,null,false]
[null,null,null,null,null,null,null,null,null,false]
[null,null,null,null,null,null,null,null,null,false]
[null,null,null,null,null,null,null,null,null,false]
[null,null,null,null,null,null,null,null,null,false]
[null,null,null,null,null,null,null,null,null,false]
[null,null,null,null,null,null,null,null,null,false]
[null,null,null,null,null,null,null,null,null,false]
[null,null,null,null,null,null,null,null,null,false]
[null,null,null,null,null,null,null,null,null,false]
[null,null,null,null,null,null,null,null,null,false]
[null,null,null,null,null,null,null,null,null,false]
[null,null,null,null,null,null,null,null,null,false]
[null,null,null,null,null,null,null,null,null,false]
[null,null,null,null,null,null,null,null,null,false]
[null,null,null,null,null,null,null,null,null,false]
[null,null,null,null,null,null,null,null,null,false]
[null,null,null,null,null,null,null,null,null,false]
[null,null,null,null,null,null,null,null,null,false]
[null,null,null,null,null,null,null,null,null,false]
[null,null,null,null,null,null,null,null,null,false]
[null,null,null,null,null,null,null,null,null,false]
[null,null,null,null,null,null,null,null,null,false]
[null,null,null,null,null,null,null,null,null,false]
[null,null,null,null,null,null,null,null,null,false]
[null,null,null,null,null,null,null,null,null,false]
[null,null,null,null,null,null,null,null,null,false]
[null,null,null,null,null,null,null,null,null,false]
[null,null,null,null,null,null,null,null,null,false]
[null,null,null,null,null,null,null,null,null,false]
[null,null,null,null,null,null,null,null,null,false]
[null,null,null,null,null,null,null,null,null,false]
[null,null,null,null,null,null,null,null,null,false]
[null,null,null,null,null,null,null,null,null,false]
[null,null,null,null,null,null,null,null,null,false]
[null,null,null,null,null,null,null,null,null,false]
[null,null,null,null,null,null,null,null,null,false]
[null,null,null,null,null,null,null,null,null,false]
[null,null,null,null,null,null,null,null,null,false]
[null,null,null,null,null,null,null,null,null,false]
[null,null,null,null,null,null,null,null,null,false]
[null,null,null,null,null,null,null,null,null,false]
[null,null,null,null,null,null,null,null,null,false]
[null,null,null,null,null,null,null,null,null,false]
[null,null,null,null,null,null,null,null,null,false]
[null,null,null,null,null,null,null,null,null,false]
[null,null,null,null,null,null,null,null,null,false]
[null,null,null,null,null,null,null,null,null,false]
[null,null,null,null,null,null,null,null,null,false]
[null,null,null,null,null,null,null,null,null,false]
[null,null,null,null,null,null,null,null,null,false]
[null,null,null,null,null,null,null,null,null,false]
[null,null,null,null,null,null,null,null,null,false]
[null,null,null,null,null,null,null,null,null,false]
[null,null,null,null,null,null,null,null,null,false]
[null,null,null,null,null,null,null,null,null,false]
[null,null,null,null,null,null,null,null,null,false]
[null,null,null,null,null,null,null,null,null,false]
[null,null,null,null,null,null,null,null,null,false]
[null,null,null,null,null,null,null,null,null,false]
[null,null,null,null,null,null,null,null,null,false]
[null,null,null,null,null,null,null,null,null,false]
[null,null,null,null,null,null,null,null,null,false]
[null,null,null,null,null,null,null,null,null,false]
[null,null,null,null,null,null,null,null,null,false]
[null,null,null,null,null,null,null,null,null,false]
[null,null,null,null,null,null,null,null,null,false]
[null,null,null,null,null,null,null,null,null,false]
[null,null,null,null,null,null,null,null,null,false]
[null,null,null,null,null,null,null,null,null,false]
[null,null,null,null,null,null,null,null,null,false]
[null,null,null,null,null,null,null,null,null,false]
[null,null,null,null,null,null,null,null,null,false]
[null,null,null,null,null,null,null,null,null,false]
[null,null,null,null,null,null,null,null,null,false]
[null,null,null,null,null,null,null,null,null,false]
[null,null,null,null,null,null,null,null,null,false]
[null,null,null,null,null,null,null,null,null,false]
[null,null,null,null,null,null,null,null,null,false]
[null,null,null,null,null,null,null,null,null,false]
[null,null,null,null,null,null,null,null,null,false]
[null,null,null,null,null,null,null,null,null,false]
[null,null,null,null,null,null,null,null,null,false]
[null,null,null,null,null,null,null,null,null,false]
[null,null,null,null,null,null,null,null,null,false]
[null,null,null,null,null,null,null,null,null,false]
[null,null,null,null,null,null,null,null,null,false]
[null,null,null,null,null,null,null,null,null,false]
[null,null,null,null,null,null,null,null,null,false]
[null,null,null,null,null,null,null,null,null,false]
[null,null,null,null,null,null,null,null,null,false]
[null,null,null,null,null,null,null,null,null,false]
[null,null,null,null,null,null,null,null,null,false]
[null,null,null,null,null,null,null,null,null,false]
[null,null,null,null,null,null,null,null,null,false]
[null,null,null,null,null,null,null,null,null,false]
[null,null,null,null,null,null,null,null,null,false]
[null,null,null,null,null,null,null,null,null,false]
[null,null,null,null,null,null,null,null,null,false]
[null,null,null,null,null,null,null,null,null,false]
[null,null,null,null,null,null,null,null,null,false]
[null,null,null,null,null,null,null,null,null,false]
[null,null,null,null,null,null,null,null,null,false]
[null,null,null,null,null,null,null,null,null,false]
[null,null,null,null,null,null,null,null,null,false]
[null,null,null,null,null,null,null,null,null,false]
[null,null,null,null,null,null,null,null,null,false]
[null,null,null,null,null,null,null,null,null,false]
[null,null,null,null,null,null,null,null,null,false]
[null,null,null,null,null,null,null,null,null,false]
[null,null,null,null,null,null,null,null,null,false]
[null,null,null,null,null,null,null,null,null,false]
[null,null,null,null,null,null,null,null,null,false]
[null,null,null,null,null,null,null,null,null,false]
[null,null,null,null,null,null,null,null,null,false]
[null,null,null,null,null,null,null,null,null,false]
[null,null,null,null,null,null,null,null,null,false]
[null,null,null,null,null,null,null,null,null,false]
[null,null,null,null,null,null,null,null,null,false]
[null,null,null,null,null,null,null,null,null,false]
[null,null,null,null,null,null,null,null,null,false]
[null,null,null,null,null,null,null,null,null,false]
[null,null,null,null,null,null,null,null,null,false]
[null,null,null,null,null,null,null,null,null,false]
[null,null,null,null,null,null,null,null,null,false]
[null,null,null,null,null,null,null,null,null,false]
[null,null,null,null,null,null,null,null,null,false]
[null,null,null,null,null,null,null,null,null,false]
[null,null,null,null,null,null,null,null,null,false]
[null,null,null,null,null,null,null,null,null,false]
[null,null,null,null,null,null,null,null,null,false]
[null,null,null,null,null,null,null,null,null,false]
[null,null,null,null,null,null,null,null,null,false]
[null,null,null,null,null,null,null,null,null,false]
[null,null,null,null,null,null,null,null,null,false]
[null,null,null,null,null,null,null,null,null,false]
[null,null,null,null,null,null,null,null,null,false]
[null,null,null,null,null,null,null,null,null,false]
[null,null,null,null,null,null,null,null,null,false]
[null,null,null,null,null,null,null,null,null,false]
[null,null,null,null,null,null,null,null,null,false]
[null,null,null,null,null,null,null,null,null,false]
[null,null,null,null,null,null,null,null,null,false]
[null,null,null,null,null,null,null,null,null,false]
[null,null,null,null,null,null,null,null,null,false]
[null,null,null,null,null,null,null,null,null,false]
[null,null,null,null,null,null,null,null,null,false]
[null,null,null,null,null,null,null,null,null,false]
[null,null,null,null,null,null,null,null,null,false]
[null,null,null,null,null,null,null,null,null,false]
[null,null,null,null,null,null,null,null,null,false]
[null,null,null,null,null,null,null,null,null,false]
[null,null,null,null,null,null,null,null,null,false]
[null,null,null,null,null,null,null,null,null,false]
[null,null,null,null,null,null,null,null,null,false]
[null,null,null,null,null,null,null,null,null,false]
[null,null,null,null,null,null,null,null,null,false]
[null,null,null,null,null,null,null,null,null,false]
[null,null,null,null,null,null,null,null,null,false]
[null,null,null,null,null,null,null,null,null,false]
[null,null,null,null,null,null,null,null,null,false]
[null,null,null,null,null,null,null,null,null,false]
[null,null,null,null,null,null,null,null,null,false]
[null,null,null,null,null,null,null,null,null,false]
[null,null,null,null,null,null,null,null,null,false]
[null,null,null,null,null,null,null,null,null,false]
[null,null,null,null,null,null,null,null,null,false]
[null,null,null,null,null,null,null,null,null,false]
[null,null,null,null,null,null,null,null,null,false]
[null,null,null,null,null,null,null,null,null,false]
[null,null,null,null,null,null,null,null,null,false]
[null,null,null,null,null,null,null,null,null,false]
[null,null,null,null,null,null,null,null,null,false]
[null,null,null,null,null,null,null,null,null,false]
[null,null,null,null,null,null,null,null,null,false]
[null,null,null,null,null,null,null,null,null,false]
[null,null,null,null,null,null,null,null,null,false]
[null,null,null,null,null,null,null,null,null,false]
[null,null,null,null,null,null,null,null,null,false]
[null,null,null,null,null,null,null,null,null,false]
[null,null,null,null,null,null,null,null,null,false]
[null,null,null,null,null,null,null,null,null,false]
[null,null,null,null,null,null,null,null,null,false]
[null,null,null,null,null,null,null,null,null,false]
[null,null,null,null,null,null,null,null,null,false]
[null,null,null,null,null,null,null,null,null,false]
[null,null,null,null,null,null,null,null,null,false]
[null,null,null,null,null,null,null,null,null,false]
[null,null,null,null,null,null,null,null,null,false]
[null,null,null,null,null,null,null,null,null,false]
[null,null,null,null,null,null,null,null,null,false]
[null,null,null,null,null,null,null,null,null,false]
[null,null,null,null,null,null,null,null,null,false]
[null,null,null,null,null,null,null,null,null,false]
[null,null,null,null,null,null,null,null,null,false]
[null,null,null,null,null,null,null,null,null,false]
[null,null,null,null,null,null,null,null,null,false]
[null,null,null,null,null,null,null,null,null,false]
[null,null,null,null,null,null,null,null,null,false]
[null,null,null,null,null,null,null,null,null,false]
[null,null,null,null,null,null,null,null,null,false]
[null,null,null,null,null,null,null,null,null,false]
[null,null,null,null,null,null,null,null,null,false]
[null,null,null,null,null,null,null,null,null,false]
[null,null,null,null,null,null,null,null,null,false]
[null,null,null,null,null,null,null,null,null,false]
[null,null,null,null,null,null,null,null,null,false]
[null,null,null,null,null,null,null,null,null,false]
[null,null,null,null,null,null,null,null,null,false]
[null,null,null,null,null,null,null,null,null,false]
[null,null,null,null,null,null,null,null,null,false]
[null,null,null,null,null,null,null,null,null,false]
[null,null,null,null,null,null,null,null,null,false]
[null,null,null,null,null,null,null,null,null,false]
[null,null,null,null,null,null,null,null,null,false]
[null,null,null,null,null,null,null,null,null,false]
[null,null,null,null,null,null,null,null,null,false]
[null,null,null,null,null,null,null,null,null,false]
[null,null,null,null,null,null,null,null,null,false]
[null,null,null,null,null,null,null,null,null,false]
[null,null,null,null,null,null,null,null,null,false]
[null,null,null,null,null,null,null,null,null,false]
[null,null,null,null,null,null,null,null,null,false]
[null,null,null,null,null,null,null,null,null,false]
[null,null,null,null,null,null,null,null,null,false]
[null,null,null,null,null,null,null,null,null,false]
[null,null,null,null,null,null,null,null,null,false]
[null,null,null,null,null,null,null,null,null,false]
[null,null,null,null,null,null,null,null,null,false]
[null,null,null,null,null,null,null,null,null,false]
[null,null,null,null,null,null,null,null,null,false]
[null,null,null,null,null,null,null,null,null,false]
[null,null,null,null,null,null,null,null,null,false]
[null,null,null,null,null,null,null,null,null,false]
[null,null,null,null,null,null,null,null,null,false]
[null,null,null,null,null,null,null,null,null,false]
[null,null,null,null,null,null,null,null,null,false]
[null,null,null,null,null,null,null,null,null,false]
[null,null,null,null,null,null,null,null,null,false]
[null,null,null,null,null,null,null,null,null,false]
[null,null,null,null,null,null,null,null,null,false]
[null,null,null,null,null,null,null,null,null,false]
[null,null,null,null,null,null,null,null,null,false]
[null,null,null,null,null,null,null,null,null,false]
[null,null,null,null,null,null,null,null,null,false]
[null,null,null,null,null,null,null,null,null,false]
[null,null,null,null,null,null,null,null,null,false]
[null,null,null,null,null,null,null,null,null,false]
[null,null,null,null,null,null,null,null,null,false]
[null,null,null,null,null,null,null,null,null,false]
[null,null,null,null,null,null,null,null,null,false]
[null,null,null,null,null,null,null,null,null,false]
[null,null,null,null,null,null,null,null,null,false]
[null,null,null,null,null,null,null,null,null,false]
[null,null,null,null,null,null,null,null,null,false]
[null,null,null,null,null,null,null,null,null,false]
[null,null,null,null,null,null,null,null,null,false]
[null,null,null,null,null,null,null,null,null,false]
[null,null,null,null,null,null,null,null,null,false]
[null,null,null,null,null,null,null,null,null,false]
[null,null,null,null,null,null,null,null,null,false]
[null,null,null,null,null,null,null,null,null,false]
[null,null,null,null,null,null,null,null,null,false]
[null,null,null,null,null,null,null,null,null,false]
[null,null,null,null,null,null,null,null,null,false]
[null,null,null,null,null,null,null,null,null,false]
[null,null,null,null,null,null,null,null,null,false]
[null,null,null,null,null,null,null,null,null,false]
[null,null,null,null,null,null,null,null,null,false]
[null,null,null,null,null,null,null,null,null,false]
[null,null,null,null,null,null,null,null,null,false]
[null,null,null,null,null,null,null,null,null,false]
[null,null,null,null,null,null,null,null,null,false]
[null,null,null,null,null,null,null,null,null,false]
[null,null,null,null,null,null,null,null,null,false]
[null,null,null,null,null,null,null,null,null,false]
[null,null,null,null,null,null,null,null,null,false]
[null,null,null,null,null,null,null,null,null,false]
[null,null,null,null,null,null,null,null,null,false]
[null,null,null,null,null,null,null,null,null,false]
[null,null,null,null,null,null,null,null,null,false]
[null,null,null,null,null,null,null,null,null,false]
[null,null,null,null,null,null,null,null,null,false]
[null,null,null,null,null,null,null,null,null,false]
[null,null,null,null,null,null,null,null,null,false]
[null,null,null,null,null,null,null,null,null,false]
[null,null,null,null,null,null,null,null,null,false]
[null,null,null,null,null,null,null,null,null,false]
[null,null,null,null,null,null,null,null,null,false]
[null,null,null,null,null,null,null,null,null,false]
[null,null,null,null,null,null,null,null,null,false]
[null,null,null,null,null,null,null,null,null,false]
[null,null,null,null,null,null,null,null,null,false]
[null,null,null,null,null,null,null,null,null,false]
[null,null,null,null,null,null,null,null,null,false]
[null,null,null,null,null,null,null,null,null,false]
[null,null,null,null,null,null,null,null,null,false]
[null,null,null,null,null,null,null,null,null,false]
[null,null,null,null,null,null,null,null,null,false]
[null,null,null,null,null,null,null,null,null,false]
[null,null,null,null,null,null,null,null,null,false]
[null,null,null,null,null,null,null,null,null,false]
[null,null,null,null,null,null,null,null,null,false]
[null,null,null,null,null,null,null,null,null,false]
[null,null,null,null,null,null,null,null,null,false]
[null,null,null,null,null,null,null,null,null,false]
[null,null,null,null,null,null,null,null,null,false]
[null,null,null,null,null,null,null,null,null,false]
[null,null,null,null,null,null,null,null,null,false]
[null,null,null,null,null,null,null,null,null,false]
[null,null,null,null,null,null,null,null,null,false]
[null,null,null,null,null,null,null,null,null,false]
[null,null,null,null,null,null,null,null,null,false]
[null,null,null,null,null,null,null,null,null,false]
[null,null,null,null,null,null,null,null,null,false]
[null,null,null,null,null,null,null,null,null,false]
[null,null,null,null,null,null,null,null,null,false]
[null,null,null,null,null,null,null,null,null,false]
[null,null,null,null,null,null,null,null,null,false]
[null,null,null,null,null,null,null,null,null,false]
[null,null,null,null,null,null,null,null,null,false]
[null,null,null,null,null,null,null,null,null,false]
[null,null,null,null,null,null,null,null,null,false]
[null,null,null,null,null,null,null,null,null,false]
[null,null,null,null,null,null,null,null,null,false]
[null,null,null,null,null,null,null,null,null,false]
[null,null,null,null,null,null,null,null,null,false]
[null,null,null,null,null,null,null,null,null,false]
[null,null,null,null,null,null,null,null,null,false]
[null,null,null,null,null,null,null,null,null,false]
[null,null,null,null,null,null,null,null,null,false]
[null,null,null,null,null,null,null,null,null,false]
[null,null,null,null,null,null,null,null,null,false]
[null,null,null,null,null,null,null,null,null,false]
[null,null,null,null,null,null,null,null,null,false]
[null,null,null,null,null,null,null,null,null,false]
[null,null,null,null,null,null,null,null,null,false]
[null,null,null,null,null,null,null,null,null,false]
[null,null,null,null,null,null,null,null,null,false]
[null,null,null,null,null,null,null,null,null,false]
[null,null,null,null,null,null,null,null,null,false]
[null,null,null,null,null,null,null,null,null,false]
[null,null,null,null,null,null,null,null,null,false]
[null,null,null,null,null,null,null,null,null,false]
[null,null,null,null,null,null,null,null,null,false]
[null,null,null,null,null,null,null,null,null,false]
[null,null,null,null,null,null,null,null,null,false]
[null,null,null,null,null,null,null,null,null,false]
[null,null,null,null,null,null,null,null,null,false]
[null,null,null,null,null,null,null,null,null,false]
[null,null,null,null,null,null,null,null,null,false]
[null,null,null,null,null,null,null,null,null,false]
[null,null,null,null,null,null,null,null,null,false]
[null,null,null,null,null,null,null,null,null,false]
[null,null,null,null,null,null,null,null,null,false]
[null,null,null,null,null,null,null,null,null,false]
[null,null,null,null,null,null,null,null,null,false]
[null,null,null,null,null,null,null,null,null,false]
[null,null,null,null,null,null,null,null,null,false]
[null,null,null,null,null,null,null,null,null,false]
[null,null,null,null,null,null,null,null,null,false]
[null,null,null,null,null,null,null,null,null,false]
[null,null,null,null,null,null,null,null,null,false]
[null,null,null,null,null,null,null,null,null,false]
[null,null,null,null,null,null,null,null,null,false]
[null,null,null,null,null,null,null,null,null,false]
[null,null,null,null,null,null,null,null,null,false]
[null,null,null,null,null,null,null,null,null,false]
[null,null,null,null,null,null,null,null,null,false]
[null,null,null,null,null,null,null,null,null,false]
[null,null,null,null,null,null,null,null,null,false]
[null,null,null,null,null,null,null,null,null,false]
[null,null,null,null,null,null,null,null,null,false]
[null,null,null,null,null,null,null,null,null,false]
[null,null,null,null,null,null,null,null,null,false]
[null,null,null,null,null,null,null,null,null,false]
[null,null,null,null,null,null,null,null,null,false]
[null,null,null,null,null,null,null,null,null,false]
[null,null,null,null,null,null,null,null,null,false]
[null,null,null,null,null,null,null,null,null,false]
[null,null,null,null,null,null,null,null,null,false]
[null,null,null,null,null,null,null,null,null,false]
[null,null,null,null,null,null,null,null,null,false]
[null,null,null,null,null,null,null,null,null,false]
[null,null,null,null,null,null,null,null,null,false]
[null,null,null,null,null,null,null,null,null,false]
[null,null,null,null,null,null,null,null,null,false]
[null,null,null,null,null,null,null,null,null,false]
[null,null,null,null,null,null,null,null,null,false]
[null,null,null,null,null,null,null,null,null,false]
[null,null,null,null,null,null,null,null,null,false]
[null,null,null,null,null,null,null,null,null,false]
[null,null,null,null,null,null,null,null,null,false]
[null,null,null,null,null,null,null,null,null,false]
[null,null,null,null,null,null,null,null,null,false]
[null,null,null,null,null,null,null,null,null,false]
[null,null,null,null,null,null,null,null,null,false]
[null,null,null,null,null,null,null,null,null,false]
[null,null,null,null,null,null,null,null,null,false]
[null,null,null,null,null,null,null,null,null,false]
[null,null,null,null,null,null,null,null,null,false]
[null,null,null,null,null,null,null,null,null,false]
[null,null,null,null,null,null,null,null,null,false]
[null,null,null,null,null,null,null,null,null,false]
[null,null,null,null,null,null,null,null,null,false]
[null,null,null,null,null,null,null,null,null,false]
[null,null,null,null,null,null,null,null,null,false]
[null,null,null,null,null,null,null,null,null,false]
[null,null,null,null,null,null,null,null,null,false]
[null,null,null,null,null,null,null,null,null,false]
[null,null,null,null,null,null,null,null,null,false]
[null,null,null,null,null,null,null,null,null,false]
[null,null,null,null,null,null,null,null,null,false]
[null,null,null,null,null,null,null,null,null,false]
[null,null,null,null,null,null,null,null,null,false]
[null,null,null,null,null,null,null,null,null,false]
[null,null,null,null,null,null,null,null,null,false]
[null,null,null,null,null,null,null,null,null,false]
[null,null,null,null,null,null,null,null,null,false]
[null,null,null,null,null,null,null,null,null,false]
[null,null,null,null,null,null,null,null,null,false]
[null,null,null,null,null,null,null,null,null,false]
[null,null,null,null,null,null,null,null,null,false]
[null,null,null,null,null,null,null,null,null,false]
[null,null,null,null,null,null,null,null,null,false]
[null,null,null,null,null,null,null,null,null,false]
[null,null,null,null,null,null,null,null,null,false]
[null,null,null,null,null,null,null,null,null,false]
[null,null,null,null,null,null,null,null,null,false]
[null,null,null,null,null,null,null,null,null,false]
[null,null,null,null,null,null,null,null,null,false]
[null,null,null,null,null,null,null,null,null,false]
[null,null,null,null,null,null,null,null,null,false]
[null,null,null,null,null,null,null,null,null,false]
[null,null,null,null,null,null,null,null,null,false]
[null,null,null,null,null,null,null,null,null,false]
[null,null,null,null,null,null,null,null,null,false]
[null,null,null,null,null,null,null,null,null,false]
[null,null,null,null,null,null,null,null,null,false]
[null,null,null,null,null,null,null,null,null,false]
[null,null,null,null,null,null,null,null,null,false]
[null,null,null,null,null,null,null,null,null,false]
[null,null,null,null,null,null,null,null,null,false]
[null,null,null,null,null,null,null,null,null,false]
[null,null,null,null,null,null,null,null,null,false]
[null,null,null,null,null,null,null,null,null,false]
[null,null,null,null,null,null,null,null,null,false]
[null,null,null,null,null,null,null,null,null,false]
[null,null,null,null,null,null,null,null,null,false]
[null,null,null,null,null,null,null,null,null,false]
[null,null,null,null,null,null,null,null,null,false]
[null,null,null,null,null,null,null,null,null,false]
[null,null,null,null,null,null,null,null,null,false]
[null,null,null,null,null,null,null,null,null,false]
[null,null,null,null,null,null,null,null,null,false]
[null,null,null,null,null,null,null,null,null,false]
[null,null,null,null,null,null,null,null,null,false]
[null,null,null,null,null,null,null,null,null,false]
[null,null,null,null,null,null,null,null,null,false]
[null,null,null,null,null,null,null,null,null,false]
[null,null,null,null,null,null,null,null,null,false]
[null,null,null,null,null,null,null,null,null,false]
[null,null,null,null,null,null,null,null,null,false]
[null,null,null,null,null,null,null,null,null,false]
[null,null,null,null,null,null,null,null,null,false]
[null,null,null,null,null,null,null,null,null,false]
[null,null,null,null,null,null,null,null,null,false]
[null,null,null,null,null,null,null,null,null,false]
[null,null,null,null,null,null,null,null,null,false]
[null,null,null,null,null,null,null,null,null,false]
[null,null,null,null,null,null,null,null,null,false]
[null,null,null,null,null,null,null,null,null,false]
[null,null,null,null,null,null,null,null,null,false]
[null,null,null,null,null,null,null,null,null,false]
[null,null,null,null,null,null,null,null,null,false]
[null,null,null,null,null,null,null,null,null,false]
[null,null,null,null,null,null,null,null,null,false]
[null,null,null,null,null,null,null,null,null,false]
[null,null,null,null,null,null,null,null,null,false]
[null,null,null,null,null,null,null,null,null,false]
[null,null,null,null,null,null,null,null,null,false]
[null,null,null,null,null,null,null,null,null,false]
[null,null,null,null,null,null,null,null,null,false]
[null,null,null,null,null,null,null,null,null,false]
[null,null,null,null,null,null,null,null,null,false]
[null,null,null,null,null,null,null,null,null,false]
[null,null,null,null,null,null,null,null,null,false]
[null,null,null,null,null,null,null,null,null,false]
[null,null,null,null,null,null,null,null,null,false]
[null,null,null,null,null,null,null,null,null,false]
[null,null,null,null,null,null,null,null,null,false]
[null,null,null,null,null,null,null,null,null,false]
[null,null,null,null,null,null,null,null,null,false]
[null,null,null,null,null,null,null,null,null,false]
[null,null,null,null,null,null,null,null,null,false]
[null,null,null,null,null,null,null,null,null,false]
[null,null,null,null,null,null,null,null,null,false]
[null,null,null,null,null,null,null,null,null,false]
[null,null,null,null,null,null,null,null,null,false]
[null,null,null,null,null,null,null,null,null,false]
[null,null,null,null,null,null,null,null,null,false]
[null,null,null,null,null,null,null,null,null,false]
[null,null,null,null,null,null,null,null,null,false]
[null,null,null,null,null,null,null,null,null,false]
[null,null,null,null,null,null,null,null,null,false]
[null,null,null,null,null,null,null,null,null,false]
[null,null,null,null,null,null,null,null,null,false]
[null,null,null,null,null,null,null,null,null,false]
[null,null,null,null,null,null,null,null,null,false]
[null,null,null,null,null,null,null,null,null,false]
[null,null,null,null,null,null,null,null,null,false]
[null,null,null,null,null,null,null,null,null,false]
[null,null,null,null,null,null,null,null,null,false]
[null,null,null,null,null,null,null,null,null,false]
[null,null,null,null,null,null,null,null,null,false]
[null,null,null,null,null,null,null,null,null,false]
[null,null,null,null,null,null,null,null,null,false]
[null,null,null,null,null,null,null,null,null,false]
[null,null,null,null,null,null,null,null,null,false]
[null,null,null,null,null,null,null,null,null,false]
[null,null,null,null,null,null,null,null,null,false]
[null,null,null,null,null,null,null,null,null,false]
[null,null,null,null,null,null,null,null,null,false]
[null,null,null,null,null,null,null,null,null,false]
[null,null,null,null,null,null,null,null,null,false]
[null,null,null,null,null,null,null,null,null,false]
[null,null,null,null,null,null,null,null,null,false]
[null,null,null,null,null,null,null,null,null,false]
[null,null,null,null,null,null,null,null,null,false]
[null,null,null,null,null,null,null,null,null,false]
[null,null,null,null,null,null,null,null,null,false]
[null,null,null,null,null,null,null,null,null,false]
[null,null,null,null,null,null,null,null,null,false]
[null,null,null,null,null,null,null,null,null,false]
[null,null,null,null,null,null,null,null,null,false]
[null,null,null,null,null,null,null,null,null,false]
[null,null,null,null,null,null,null,null,null,false]
[null,null,null,null,null,null,null,null,null,false]
[null,null,null,null,null,null,null,null,null,false]
[null,null,null,null,null,null,null,null,null,false]
[null,null,null,null,null,null,null,null,null,false]
[null,null,null,null,null,null,null,null,null,false]
[null,null,null,null,null,null,null,null,null,false]
[null,null,null,null,null,null,null,null,null,false]
[null,null,null,null,null,null,null,null,null,false]
[null,null,null,null,null,null,null,null,null,false]
[null,null,null,null,null,null,null,null,null,false]
[null,null,null,null,null,null,null,null,null,false]
[null,null,null,null,null,null,null,null,null,false]
[null,null,null,null,null,null,null,null,null,false]
[null,null,null,null,null,null,null,null,null,false]
[null,null,null,null,null,null,null,null,null,false]
[null,null,null,null,null,null,null,null,null,false]
[null,null,null,null,null,null,null,null,null,false]
[null,null,null,null,null,null,null,null,null,false]
[null,null,null,null,null,null,null,null,null,false]
[null,null,null,null,null,null,null,null,null,false]
[null,null,null,null,null,null,null,null,null,false]
[null,null,null,null,null,null,null,null,null,false]
[null,null,null,null,null,null,null,null,null,false]
[null,null,null,null,null,null,null,null,null,false]
[null,null,null,null,null,null,null,null,null,false]
[null,null,null,null,null,null,null,null,null,false]
[null,null,null,null,null,null,null,null,null,false]
[null,null,null,null,null,null,null,null,null,false]
[null,null,null,null,null,null,null,null,null,false]
[null,null,null,null,null,null,null,null,null,false]
[null,null,null,null,null,null,null,null,null,false]
[null,null,null,null,null,null,null,null,null,false]
[null,null,null,null,null,null,null,null,null,false]
[null,null,null,null,null,null,null,null,null,false]
[null,null,null,null,null,null,null,null,null,false]
[null,null,null,null,null,null,null,null,null,false]
[null,null,null,null,null,null,null,null,null,false]
[null,null,null,null,null,null,null,null,null,false]
[null,null,null,null,null,null,null,null,null,false]
[null,null,null,null,null,null,null,null,null,false]
[null,null,null,null,null,null,null,null,null,false]
[null,null,null,null,null,null,null,null,null,false]
[null,null,null,null,null,null,null,null,null,false]
[null,null,null,null,null,null,null,null,null,false]
[null,null,null,null,null,null,null,null,null,false]
[null,null,null,null,null,null,null,null,null,false]
[null,null,null,null,null,null,null,null,null,false]
[null,null,null,null,null,null,null,null,null,false]
[null,null,null,null,null,null,null,null,null,false]
[null,null,null,null,null,null,null,null,null,false]
[null,null,null,null,null,null,null,null,null,false]
[null,null,null,null,null,null,null,null,null,false]
[null,null,null,null,null,null,null,null,null,false]
[null,null,null,null,null,null,null,null,null,false]
[null,null,null,null,null,null,null,null,null,false]
[null,null,null,null,null,null,null,null,null,false]
[null,null,null,null,null,null,null,null,null,false]
[null,null,null,null,null,null,null,null,null,false]
[null,null,null,null,null,null,null,null,null,false]
[null,null,null,null,null,null,null,null,null,false]
[null,null,null,null,null,null,null,null,null,false]
[null,null,null,null,null,null,null,null,null,false]
[null,null,null,null,null,null,null,null,null,false]
[null,null,null,null,null,null,null,null,null,false]
[null,null,null,null,null,null,null,null,null,false]
[null,null,null,null,null,null,null,null,null,false]
[null,null,null,null,null,null,null,null,null,false]
[null,null,null,null,null,null,null,null,null,false]
[null,null,null,null,null,null,null,null,null,false]
[null,null,null,null,null,null,null,null,null,false]
[null,null,null,null,null,null,null,null,null,false]
[null,null,null,null,null,null,null,null,null,false]
[null,null,null,null,null,null,null,null,null,false]
[null,null,null,null,null,null,null,null,null,false]
[null,null,null,null,null,null,null,null,null,false]
[null,null,null,null,null,null,null,null,null,false]
[null,null,null,null,null,null,null,null,null,false]
[null,null,null,null,null,null,null,null,null,false]
[null,null,null,null,null,null,null,null,null,false]
[null,null,null,null,null,null,null,null,null,false]
[null,null,null,null,null,null,null,null,null,false]
[null,null,null,null,null,null,null,null,null,false]
[null,null,null,null,null,null,null,null,null,false]
[null,null,null,null,null,null,null,null,null,false]
[null,null,null,null,null,null,null,null,null,false]
[null,null,null,null,null,null,null,null,null,false]
[null,null,null,null,null,null,null,null,null,false]
[null,null,null,null,null,null,null,null,null,false]
[null,null,null,null,null,null,null,null,null,false]
[null,null,null,null,null,null,null,null,null,false]
[null,null,null,null,null,null,null,null,null,false]
[null,null,null,null,null,null,null,null,null,false]
[null,null,null,null,null,null,null,null,null,false]
[null,null,null,null,null,null,null,null,null,false]
[null,null,null,null,null,null,null,null,null,false]
[null,null,null,null,null,null,null,null,null,false]
[null,null,null,null,null,null,null,null,null,false]
[null,null,null,null,null,null,null,null,null,false]
[null,null,null,null,null,null,null,null,null,false]
[null,null,null,null,null,null,null,null,null,false]
[null,null,null,null,null,null,null,null,null,false]
[null,null,null,null,null,null,null,null,null,false]
[null,null,null,null,null,null,null,null,null,false]
[null,null,null,null,null,null,null,null,null,false]
[null,null,null,null,null,null,null,null,null,false]
[null,null,null,null,null,null,null,null,null,false]
[null,null,null,null,null,null,null,null,null,false]
[null,null,null,null,null,null,null,null,null,false]
[null,null,null,null,null,null,null,null,null,false]
[null,null,null,null,null,null,null,null,null,false]
[null,null,null,null,null,null,null,null,null,false]
[null,null,null,null,null,null,null,null,null,false]
[null,null,null,null,null,null,null,null,null,false]
[null,null,null,null,null,null,null,null,null,false]
[null,null,null,null,null,null,null,null,null,false]
[null,null,null,null,null,null,null,null,null,false]
[null,null,null,null,null,null,null,null,null,false]
[null,null,null,null,null,null,null,null,null,false]
[null,null,null,null,null,null,null,null,null,false]
[null,null,null,null,null,null,null,null,null,false]
[null,null,null,null,null,null,null,null,null,false]
[null,null,null,null,null,null,null,null,null,false]
[null,null,null,null,null,null,null,null,null,false]
[null,null,null,null,null,null,null,null,null,false]
[null,null,null,null,null,null,null,null,null,false]
[null,null,null,null,null,null,null,null,null,false]
[null,null,null,null,null,null,null,null,null,false]
[null,null,null,null,null,null,null,null,null,false]
[null,null,null,null,null,null,null,null,null,false]
[null,null,null,null,null,null,null,null,null,false]
[null,null,null,null,null,null,null,null,null,false]
[null,null,null,null,null,null,null,null,null,false]
[null,null,null,null,null,null,null,null,null,false]
[null,null,null,null,null,null,null,null,null,false]
[null,null,null,null,null,null,null,null,null,false]
[null,null,null,null,null,null,null,null,null,false]
[null,null,null,null,null,null,null,null,null,false]
[null,null,null,null,null,null,null,null,null,false]
[null,null,null,null,null,null,null,null,null,false]
[null,null,null,null,null,null,null,null,null,false]
[null,null,null,null,null,null,null,null,null,false]
[null,null,null,null,null,null,null,null,null,false]
[null,null,null,null,null,null,null,null,null,false]
[null,null,null,null,null,null,null,null,null,false]
[null,null,null,null,null,null,null,null,null,false]
[null,null,null,null,null,null,null,null,null,false]
[null,null,null,null,null,null,null,null,null,false]
[null,null,null,null,null,null,null,null,null,false]
[null,null,null,null,null,null,null,null,null,false]
[null,null,null,null,null,null,null,null,null,false]
[null,null,null,null,null,null,null,null,null,false]
[null,null,null,null,null,null,null,null,null,false]
[null,null,null,null,null,null,null,null,null,false]
[null,null,null,null,null,null,null,null,null,false]
[null,null,null,null,null,null,null,null,null,false]
[null,null,null,null,null,null,null,null,null,false]
[null,null,null,null,null,null,null,null,null,false]
[null,null,null,null,null,null,null,null,null,false]
[null,null,null,null,null,null,null,null,null,false]
[null,null,null,null,null,null,null,null,null,false]
[null,null,null,null,null,null,null,null,null,false]
[null,null,null,null,null,null,null,null,null,false]
[null,null,null,null,null,null,null,null,null,false]
[null,null,null,null,null,null,null,null,null,false]
[null,null,null,null,null,null,null,null,null,false]
[null,null,null,null,null,null,null,null,null,false]
[null,null,null,null,null,null,null,null,null,false]
[null,null,null,null,null,null,null,null,null,false]
[null,null,null,null,null,null,null,null,null,false]
[null,null,null,null,null,null,null,null,null,false]
[null,null,null,null,null,null,null,null,null,false]
[null,null,null,null,null,null,null,null,null,false]
[null,null,null,null,null,null,null,null,null,false]
[null,null,null,null,null,null,null,null,null,false]
[null,null,null,null,null,null,null,null,null,false]
[null,null,null,null,null,null,null,null,null,false]
[null,null,null,null,null,null,null,null,null,false]
[null,null,null,null,null,null,null,null,null,false]
[null,null,null,null,null,null,null,null,null,false]
[null,null,null,null,null,null,null,null,null,false]
[null,null,null,null,null,null,null,null,null,false]
[null,null,null,null,null,null,null,null,null,false]
[null,null,null,null,null,null,null,null,null,false]
[null,null,null,null,null,null,null,null,null,false]
[null,null,null,null,null,null,null,null,null,false]
[null,null,null,null,null,null,null,null,null,false]
[null,null,null,null,null,null,null,null,null,false]
[null,null,null,null,null,null,null,null,null,false]
[null,null,null,null,null,null,null,null,null,false]
[null,null,null,null,null,null,null,null,null,false]
[null,null,null,null,null,null,null,null,null,false]
[null,null,null,null,null,null,null,null,null,false]
[null,null,null,null,null,null,null,null,null,false]
[null,null,null,null,null,null,null,null,null,false]
[null,null,null,null,null,null,null,null,null,false]
[null,null,null,null,null,null,null,null,null,false]
[null,null,null,null,null,null,null,null,null,false]
[null,null,null,null,null,null,null,null,null,false]
[null,null,null,null,null,null,null,null,null,false]
[null,null,null,null,null,null,null,null,null,false]
[null,null,null,null,null,null,null,null,null,false]
[null,null,null,null,null,null,null,null,null,false]
[null,null,null,null,null,null,null,null,null,false]
[null,null,null,null,null,null,null,null,null,false]
[null,null,null,null,null,null,null,null,null,false]
[null,null,null,null,null,null,null,null,null,false]
[null,null,null,null,null,null,null,null,null,false]
[null,null,null,null,null,null,null,null,null,false]
[null,null,null,null,null,null,null,null,null,false]
[null,null,null,null,null,null,null,null,null,false]
[null,null,null,null,null,null,null,null,null,false]
[null,null,null,null,null,null,null,null,null,false]
[null,null,null,null,null,null,null,null,null,false]
[null,null,null,null,null,null,null,null,null,false]
[null,null,null,null,null,null,null,null,null,false]
[null,null,null,null,null,null,null,null,null,false]
[null,null,null,null,null,null,null,null,null,false]
[null,null,null,null,null,null,null,null,null,false]
[null,null,null,null,null,null,null,null,null,false]
[null,null,null,null,null,null,null,null,null,false]
[null,null,null,null,null,null,null,null,null,false]
[null,null,null,null,null,null,null,null,null,false]
[null,null,null,null,null,null,null,null,null,false]
[null,null,null,null,null,null,null,null,null,false]
[null,null,null,null,null,null,null,null,null,false]
[null,null,null,null,null,null,null,null,null,false]
[null,null,null,null,null,null,null,null,null,false]
[null,null,null,null,null,null,null,null,null,false]
[null,null,null,null,null,null,null,null,null,false]
[null,null,null,null,null,null,null,null,null,false]
[null,null,null,null,null,null,null,null,null,false]
[null,null,null,null,null,null,null,null,null,false]
[null,null,null,null,null,null,null,null,null,false]
[null,null,null,null,null,null,null,null,null,false]
[null,null,null,null,null,null,null,null,null,false]
[null,null,null,null,null,null,null,null,null,false]
[null,null,null,null,null,null,null,null,null,false]
[null,null,null,null,null,null,null,null,null,false]
[null,null,null,null,null,null,null,null,null,false]
[null,null,null,null,null,null,null,null,null,false]
[null,null,null,null,null,null,null,null,null,false]
[null,null,null,null,null,null,null,null,null,false]
[null,null,null,null,null,null,null,null,null,false]
[null,null,null,null,null,null,null,null,null,false]
[null,null,null,null,null,null,null,null,null,false]
[null,null,null,null,null,null,null,null,null,false]
[null,null,null,null,null,null,null,null,null,false]
[null,null,null,null,null,null,null,null,null,false]
[null,null,null,null,null,null,null,null,null,false]
[null,null,null,null,null,null,null,null,null,false]
[null,null,null,null,null,null,null,null,null,false]
[null,null,null,null,null,null,null,null,null,false]
[null,null,null,null,null,null,null,null,null,false]
[null,null,null,null,null,null,null,null,null,false]
[null,null,null,null,null,null,null,null,null,false]
[null,null,null,null,null,null,null,null,null,false]
[null,null,null,null,null,null,null,null,null,false]
[null,null,null,null,null,null,null,null,null,false]
[null,null,null,null,null,null,null,null,null,false]
[null,null,null,null,null,null,null,null,null,false]
[null,null,null,null,null,null,null,null,null,false]
[null,null,null,null,null,null,null,null,null,false]
[null,null,null,null,null,null,null,null,null,false]
[null,null,null,null,null,null,null,null,null,false]
[null,null,null,null,null,null,null,null,null,false]
[null,null,null,null,null,null,null,null,null,false]
[null,null,null,null,null,null,null,null,null,false]
[null,null,null,null,null,null,null,null,null,false]
[null,null,null,null,null,null,null,null,null,false]
[null,null,null,null,null,null,null,null,null,false]
[null,null,null,null,null,null,null,null,null,false]
[null,null,null,null,null,null,null,null,null,false]
[null,null,null,null,null,null,null,null,null,false]
[null,null,null,null,null,null,null,null,null,false]
[null,null,null,null,null,null,null,null,null,false]
[null,null,null,null,null,null,null,null,null,false]
[null,null,null,null,null,null,null,null,null,false]
[null,null,null,null,null,null,null,null,null,false]
[null,null,null,null,null,null,null,null,null,false]
[null,null,null,null,null,null,null,null,null,false]
[null,null,null,null,null,null,null,null,null,false]
[null,null,null,null,null,null,null,null,null,false]
[null,null,null,null,null,null,null,null,null,false]
[null,null,null,null,null,null,null,null,null,false]
[null,null,null,null,null,null,null,null,null,false]
[null,null,null,null,null,null,null,null,null,false]
[null,null,null,null,null,null,null,null,null,false]
[null,null,null,null,null,null,null,null,null,false]
[null,null,null,null,null,null,null,null,null,false]
[null,null,null,null,null,null,null,null,null,false]
[null,null,null,null,null,null,null,null,null,false]
[null,null,null,null,null,null,null,null,null,false]
[null,null,null,null,null,null,null,null,null,false]
[null,null,null,null,null,null,null,null,null,false]
[null,null,null,null,null,null,null,null,null,false]
[null,null,null,null,null,null,null,null,null,false]
[null,null,null,null,null,null,null,null,null,false]
[null,null,null,null,null,null,null,null,null,false]
[null,null,null,null,null,null,null,null,null,false]
[null,null,null,null,null,null,null,null,null,false]
[null,null,null,null,null,null,null,null,null,false]
[null,null,null,null,null,null,null,null,null,false]
[null,null,null,null,null,null,null,null,null,false]
[null,null,null,null,null,null,null,null,null,false]
[null,null,null,null,null,null,null,null,null,false]
[null,null,null,null,null,null,null,null,null,false]
[null,null,null,null,null,null,null,null,null,false]
[null,null,null,null,null,null,null,null,null,false]
[null,null,null,null,null,null,null,null,null,false]
[null,null,null,null,null,null,null,null,null,false]
[null,null,null,null,null,null,null,null,null,false]
[null,null,null,null,null,null,null,null,null,false]
[null,null,null,null,null,null,null,null,null,false]
[null,null,null,null,null,null,null,null,null,false]
[null,null,null,null,null,null,null,null,null,false]
[null,null,null,null,null,null,null,null,null,false]
[null,null,null,null,null,null,null,null,null,false]
[null,null,null,null,null,null,null,null,null,false]
[null,null,null,null,null,null,null,null,null,false]
[null,null,null,null,null,null,null,null,null,false]
[null,null,null,null,null,null,null,null,null,false]
[null,null,null,null,null,null,null,null,null,false]
[null,null,null,null,null,null,null,null,null,false]
[null,null,null,null,null,null,null,null,null,false]
[null,null,null,null,null,null,null,null,null,false]
[null,null,null,null,null,null,null,null,null,false]
[null,null,null,null,null,null,null,null,null,false]
[null,null,null,null,null,null,null,null,null,false]
[null,null,null,null,null,null,null,null,null,false]
[null,null,null,null,null,null,null,null,null,false]
[null,null,null,null,null,null,null,null,null,false]
[null,null,null,null,null,null,null,null,null,false]
[null,null,null,null,null,null,null,null,null,false]
[null,null,null,null,null,null,null,null,null,false]
[null,null,null,null,null,null,null,null,null,false]
[null,null,null,null,null,null,null,null,null,false]
[null,null,null,null,null,null,null,null,null,false]
[null,null,null,null,null,null,null,null,null,false]
[null,null,null,null,null,null,null,null,null,false]
[null,null,null,null,null,null,null,null,null,false]
[null,null,null,null,null,null,null,null,null,false]
[null,null,null,null,null,null,null,null,null,false]
[null,null,null,null,null,null,null,null,null,false]
[null,null,null,null,null,null,null,null,null,false]
[null,null,null,null,null,null,null,null,null,false]
[null,null,null,null,null,null,null,null,null,false]
[null,null,null,null,null,null,null,null,null,false]
[null,null,null,null,null,null,null,null,null,false]
[null,null,null,null,null,null,null,null,null,false]
[null,null,null,null,null,null,null,null,null,false]
[null,null,null,null,null,null,null,null,null,false]
[null,null,null,null,null,null,null,null,null,false]
[null,null,null,null,null,null,null,null,null,false]
[null,null,null,null,null,null,null,null,null,false]
[null,null,null,null,null,null,null,null,null,false]
[null,null,null,null,null,null,null,null,null,false]
[null,null,null,null,null,null,null,null,null,false]
[null,null,null,null,null,null,null,null,null,false]
[null,null,null,null,null,null,null,null,null,false]
[null,null,null,null,null,null,null,null,null,false]
[null,null,null,null,null,null,null,null,null,false]
[null,null,null,null,null,null,null,null,null,false]
[null,null,null,null,null,null,null,null,null,false]
[null,null,null,null,null,null,null,null,null,false]
[null,null,null,null,null,null,null,null,null,false]
[null,null,null,null,null,null,null,null,null,false]
[null,null,null,null,null,null,null,null,null,false]
[null,null,null,null,null,null,null,null,null,false]
[null,null,null,null,null,null,null,null,null,false]
[null,null,null,null,null,null,null,null,null,false]
[null,null,null,null,null,null,null,null,null,false]
[null,null,null,null,null,null,null,null,null,false]
[null,null,null,null,null,null,null,null,null,false]
[null,null,null,null,null,null,null,null,null,false]
[null,null,null,null,null,null,null,null,null,false]
[null,null,null,null,null,null,null,null,null,false]
[null,null,null,null,null,null,null,null,null,false]
[null,null,null,null,null,null,null,null,null,false]
[null,null,null,null,null,null,null,null,null,false]
[null,null,null,null,null,null,null,null,null,false]
[null,null,null,null,null,null,null,null,null,false]
[null,null,null,null,null,null,null,null,null,false]
[null,null,null,null,null,null,null,null,null,false]
[null,null,null,null,null,null,null,null,null,false]
[null,null,null,null,null,null,null,null,null,false]
[null,null,null,null,null,null,null,null,null,false]
[null,null,null,null,null,null,null,null,null,false]
[null,null,null,null,null,null,null,null,null,false]
[null,null,null,null,null,null,null,null,null,false]
[null,null,null,null,null,null,null,null,null,false]
[null,null,null,null,null,null,null,null,null,false]
[null,null,null,null,null,null,null,null,null,false]
[null,null,null,null,null,null,null,null,null,false]
[null,null,null,null,null,null,null,null,null,false]
[null,null,null,null,null,null,null,null,null,false]
[null,null,null,null,null,null,null,null,null,false]
[null,null,null,null,null,null,null,null,null,false]
[null,null,null,null,null,null,null,null,null,false]
[null,null,null,null,null,null,null,null,null,false]
[null,null,null,null,null,null,null,null,null,false]
[null,null,null,null,null,null,null,null,null,false]
[null,null,null,null,null,null,null,null,null,false]
[null,null,null,null,null,null,null,null,null,false]
[null,null,null,null,null,null,null,null,null,false]
[null,null,null,null,null,null,null,null,null,false]
[null,null,null,null,null,null,null,null,null,false]
[null,null,null,null,null,null,null,null,null,false]
[null,null,null,null,null,null,null,null,null,false]
[null,null,null,null,null,null,null,null,null,false]
[null,null,null,null,null,null,null,null,null,false]
[null,null,null,null,null,null,null,null,null,false]
[null,null,null,null,null,null,null,null,null,false]
[null,null,null,null,null,null,null,null,null,false]
[null,null,null,null,null,null,null,null,null,false]
[null,null,null,null,null,null,null,null,null,false]
[null,null,null,null,null,null,null,null,null,false]
[null,null,null,null,null,null,null,null,null,false]
[null,null,null,null,null,null,null,null,null,false]
[null,null,null,null,null,null,null,null,null,false]
[null,null,null,null,null,null,null,null,null,false]
[null,null,null,null,null,null,null,null,null,false]
[null,null,null,null,null,null,null,null,null,false]
[null,null,null,null,null,null,null,null,null,false]
[null,null,null,null,null,null,null,null,null,false]
[null,null,null,null,null,null,null,null,null,false]
[null,null,null,null,null,null,null,null,null,false]
[null,null,null,null,null,null,null,null,null,false]
[null,null,null,null,null,null,null,null,null,false]
[null,null,null,null,null,null,null,null,null,false]
[null,null,null,null,null,null,null,null,null,false]
[null,null,null,null,null,null,null,null,null,false]
[null,null,null,null,null,null,null,null,null,false]
[null,null,null,null,null,null,null,null,null,false]
[null,null,null,null,null,null,null,null,null,false]
[null,null,null,null,null,null,null,null,null,false]
[null,null,null,null,null,null,null,null,null,false]
[null,null,null,null,null,null,null,null,null,false]
[null,null,null,null,null,null,null,null,null,false]
[null,null,null,null,null,null,null,null,null,false]
[null,null,null,null,null,null,null,null,null,false]
[null,null,null,null,null,null,null,null,null,false]
[null,null,null,null,null,null,null,null,null,false]
[null,null,null,null,null,null,null,null,null,false]
[null,null,null,null,null,null,null,null,null,false]
[null,null,null,null,null,null,null,null,null,false]
[null,null,null,null,null,null,null,null,null,false]
[null,null,null,null,null,null,null,null,null,false]
[null,null,null,null,null,null,null,null,null,false]
[null,null,null,null,null,null,null,null,null,false]
[null,null,null,null,null,null,null,null,null,false]
[null,null,null,null,null,null,null,null,null,false]
[null,null,null,null,null,null,null,null,null,false]
[null,null,null,null,null,null,null,null,null,false]
[null,null,null,null,null,null,null,null,null,false]
[null,null,null,null,null,null,null,null,null,false]
[null,null,null,null,null,null,null,null,null,false]
[null,null,null,null,null,null,null,null,null,false]
[null,null,null,null,null,null,null,null,null,false]
[null,null,null,null,null,null,null,null,null,false]
[null,null,null,null,null,null,null,null,null,false]
[null,null,null,null,null,null,null,null,null,false]
[null,null,null,null,null,null,null,null,null,false]
[null,null,null,null,null,null,null,null,null,false]
[null,null,null,null,null,null,null,null,null,false]
[null,null,null,null,null,null,null,null,null,false]
[null,null,null,null,null,null,null,null,null,false]
[null,null,null,null,null,null,null,null,null,false]
[null,null,null,null,null,null,null,null,null,false]
[null,null,null,null,null,null,null,null,null,false]
[null,null,null,null,null,null,null,null,null,false]
[null,null,null,null,null,null,null,null,null,false]
[null,null,null,null,null,null,null,null,null,false]
[null,null,null,null,null,null,null,null,null,false]
[null,null,null,null,null,null,null,null,null,false]
[null,null,null,null,null,null,null,null,null,false]
[null,null,null,null,null,null,null,null,null,false]
[null,null,null,null,null,null,null,null,null,false]
[null,null,null,null,null,null,null,null,null,false]
[null,null,null,null,null,null,null,null,null,false]
[null,null,null,null,null,null,null,null,null,false]
[null,null,null,null,null,null,null,null,null,false]
[null,null,null,null,null,null,null,null,null,false]
[null,null,null,null,null,null,null,null,null,false]
[null,null,null,null,null,null,null,null,null,false]
[null,null,null,null,null,null,null,null,null,false]
[null,null,null,null,null,null,null,null,null,false]
[null,null,null,null,null,null,null,null,null,false]
[null,null,null,null,null,null,null,null,null,false]
[null,null,null,null,null,null,null,null,null,false]
[null,null,null,null,null,null,null,null,null,false]
[null,null,null,null,null,null,null,null,null,false]
[null,null,null,null,null,null,null,null,null,false]
[null,null,null,null,null,null,null,null,null,false]
[null,null,null,null,null,null,null,null,null,false]
[null,null,null,null,null,null,null,null,null,false]
[null,null,null,null,null,null,null,null,null,false]
[null,null,null,null,null,null,null,null,null,false]
[null,null,null,null,null,null,null,null,null,false]
[null,null,null,null,null,null,null,null,null,false]
[null,null,null,null,null,null,null,null,null,false]
[null,null,null,null,null,null,null,null,null,false]
[null,null,null,null,null,null,null,null,null,false]
[null,null,null,null,null,null,null,null,null,false]
[null,null,null,null,null,null,null,null,null,false]
[null,null,null,null,null,null,null,null,null,false]
[null,null,null,null,null,null,null,null,null,false]
[null,null,null,null,null,null,null,null,null,false]
[null,null,null,null,null,null,null,null,null,false]
[null,null,null,null,null,null,null,null,null,false]
[null,null,null,null,null,null,null,null,null,false]
[null,null,null,null,null,null,null,null,null,false]
[null,null,null,null,null,null,null,null,null,false]
[null,null,null,null,null,null,null,null,null,false]
[null,null,null,null,null,null,null,null,null,false]
[null,null,null,null,null,null,null,null,null,false]
[null,null,null,null,null,null,null,null,null,false]
[null,null,null,null,null,null,null,null,null,false]
[null,null,null,null,null,null,null,null,null,false]
[null,null,null,null,null,null,null,null,null,false]
[null,null,null,null,null,null,null,null,null,false]
[null,null,null,null,null,null,null,null,null,false]
[null,null,null,null,null,null,null,null,null,false]
[null,null,null,null,null,null,null,null,null,false]
[null,null,null,null,null,null,null,null,null,false]
[null,null,null,null,null,null,null,null,null,false]
[null,null,null,null,null,null,null,null,null,false]
[null,null,null,null,null,null,null,null,null,false]
[null,null,null,null,null,null,null,null,null,false]
[null,null,null,null,null,null,null,null,null,false]
[null,null,null,null,null,null,null,null,null,false]
[null,null,null,null,null,null,null,null,null,false]
[null,null,null,null,null,null,null,null,null,false]
[null,null,null,null,null,null,null,null,null,false]
[null,null,null,null,null,null,null,null,null,false]
[null,null,null,null,null,null,null,null,null,false]
[null,null,null,null,null,null,null,null,null,false]
[null,null,null,null,null,null,null,null,null,false]
[null,null,null,null,null,null,null,null,null,false]
[null,null,null,null,null,null,null,null,null,false]
[null,null,null,null,null,null,null,null,null,false]
[null,null,null,null,null,null,null,null,null,false]
[null,null,null,null,null,null,null,null,null,false]
[null,null,null,null,null,null,null,null,null,false]
[null,null,null,null,null,null,null,null,null,false]
[null,null,null,null,null,null,null,null,null,false]
[null,null,null,null,null,null,null,null,null,false]
[null,null,null,null,null,null,null,null,null,false]
[null,null,null,null,null,null,null,null,null,false]
[null,null,null,null,null,null,null,null,null,false]
[null,null,null,null,null,null,null,null,null,false]
[null,null,null,null,null,null,null,null,null,false]
[null,null,null,null,null,null,null,null,null,false]
[null,null,null,null,null,null,null,null,null,false]
[null,null,null,null,null,null,null,null,null,false]
[null,null,null,null,null,null,null,null,null,false]
[null,null,null,null,null,null,null,null,null,false]
[null,null,null,null,null,null,null,null,null,false]
[null,null,null,null,null,null,null,null,null,false]
[null,null,null,null,null,null,null,null,null,false]
[null,null,null,null,null,null,null,null,null,false]
[null,null,null,null,null,null,null,null,null,false]
[null,null,null,null,null,null,null,null,null,false]
[null,null,null,null,null,null,null,null,null,false]
[null,null,null,null,null,null,null,null,null,false]
[null,null,null,null,null,null,null,null,null,false]
[null,null,null,null,null,null,null,null,null,false]
[null,null,null,null,null,null,null,null,null,false]
[null,null,null,null,null,null,null,null,null,false]
[null,null,null,null,null,null,null,null,null,false]
[null,null,null,null,null,null,null,null,null,false]
[null,null,null,null,null,null,null,null,null,false]
[null,null,null,null,null,null,null,null,null,false]
[null,null,null,null,null,null,null,null,null,false]
[null,null,null,null,null,null,null,null,null,false]
[null,null,null,null,null,null,null,null,null,false]
[null,null,null,null,null,null,null,null,null,false]
[null,null,null,null,null,null,null,null,null,false]
[null,null,null,null,null,null,null,null,null,false]
[null,null,null,null,null,null,null,null,null,false]
[null,null,null,null,null,null,null,null,null,false]
[null,null,null,null,null,null,null,null,null,false]
[null,null,null,null,null,null,null,null,null,false]
[null,null,null,null,null,null,null,null,null,false]
[null,null,null,null,null,null,null,null,null,false]
[null,null,null,null,null,null,null,null,null,false]
[null,null,null,null,null,null,null,null,null,false]
[null,null,null,null,null,null,null,null,null,false]
[null,null,null,null,null,null,null,null,null,false]
[null,null,null,null,null,null,null,null,null,false]
[null,null,null,null,null,null,null,null,null,false]
[null,null,null,null,null,null,null,null,null,false]
[null,null,null,null,null,null,null,null,null,false]
[null,null,null,null,null,null,null,null,null,false]
[null,null,null,null,null,null,null,null,null,false]
[null,null,null,null,null,null,null,null,null,false]
[null,null,null,null,null,null,null,null,null,false]
[null,null,null,null,null,null,null,null,null,false]
[null,null,null,null,null,null,null,null,null,false]
[null,null,null,null,null,null,null,null,null,false]
[null,null,null,null,null,null,null,null,null,false]
[null,null,null,null,null,null,null,null,null,false]
[null,null,null,null,null,null,null,null,null,false]
[null,null,null,null,null,null,null,null,null,false]
[null,null,null,null,null,null,null,null,null,false]
[null,null,null,null,null,null,null,null,null,false]
[null,null,null,null,null,null,null,null,null,false]
[null,null,null,null,null,null,null,null,null,false]
[null,null,null,null,null,null,null,null,null,false]
[null,null,null,null,null,null,null,null,null,false]
[null,null,null,null,null,null,null,null,null,false]
[null,null,null,null,null,null,null,null,null,false]
[null,null,null,null,null,null,null,null,null,false]
[null,null,null,null,null,null,null,null,null,false]
[null,null,null,null,null,null,null,null,null,false]
[null,null,null,null,null,null,null,null,null,false]
[null,null,null,null,null,null,null,null,null,false]
[null,null,null,null,null,null,null,null,null,false]
[null,null,null,null,null,null,null,null,null,false]
[null,null,null,null,null,null,null,null,null,false]
[null,null,null,null,null,null,null,null,null,false]
[null,null,null,null,null,null,null,null,null,false]
[null,null,null,null,null,null,null,null,null,false]
[null,null,null,null,null,null,null,null,null,false]
[null,null,null,null,null,null,null,null,null,false]
[null,null,null,null,null,null,null,null,null,false]
[null,null,null,null,null,null,null,null,null,false]
[null,null,null,null,null,null,null,null,null,false]
[null,null,null,null,null,null,null,null,null,false]
[null,null,null,null,null,null,null,null,null,false]
[null,null,null,null,null,null,null,null,null,false]
[null,null,null,null,null,null,null,null,null,false]
[null,null,null,null,null,null,null,null,null,false]
[null,null,null,null,null,null,null,null,null,false]
[null,null,null,null,null,null,null,null,null,false]
[null,null,null,null,null,null,null,null,null,false]
[null,null,null,null,null,null,null,null,null,false]
[null,null,null,null,null,null,null,null,null,false]
[null,null,null,null,null,null,null,null,null,false]
[null,null,null,null,null,null,null,null,null,false]
[null,null,null,null,null,null,null,null,null,false]
[null,null,null,null,null,null,null,null,null,false]
[null,null,null,null,null,null,null,null,null,false]
[null,null,null,null,null,null,null,null,null,false]
[null,null,null,null,null,null,null,null,null,false]
[null,null,null,null,null,null,null,null,null,false]
[null,null,null,null,null,null,null,null,null,false]
[null,null,null,null,null,null,null,null,null,false]
[null,null,null,null,null,null,null,null,null,false]
[null,null,null,null,null,null,null,null,null,false]
[null,null,null,null,null,null,null,null,null,false]
[null,null,null,null,null,null,null,null,null,false]
[null,null,null,null,null,null,null,null,null,false]
[null,null,null,null,null,null,null,null,null,false]
[null,null,null,null,null,null,null,null,null,false]
[null,null,null,null,null,null,null,null,null,false]
[null,null,null,null,null,null,null,null,null,false]
[null,null,null,null,null,null,null,null,null,false]
[null,null,null,null,null,null,null,null,null,false]
[null,null,null,null,null,null,null,null,null,false]
[null,null,null,null,null,null,null,null,null,false]
[null,null,null,null,null,null,null,null,null,false]
[null,null,null,null,null,null,null,null,null,false]
[null,null,null,null,null,null,null,null,null,false]
[null,null,null,null,null,null,null,null,null,false]
[null,null,null,null,null,null,null,null,null,false]
[null,null,null,null,null,null,null,null,null,false]
[null,null,null,null,null,null,null,null,null,false]
[null,null,null,null,null,null,null,null,null,false]
[null,null,null,null,null,null,null,null,null,false]
[null,null,null,null,null,null,null,null,null,false]
[null,null,null,null,null,null,null,null,null,false]
[null,null,null,null,null,null,null,null,null,false]
[null,null,null,null,null,null,null,null,null,false]
[null,null,null,null,null,null,null,null,null,false]
[null,null,null,null,null,null,null,null,null,false]
[null,null,null,null,null,null,null,null,null,false]
[null,null,null,null,null,null,null,null,null,false]
[null,null,null,null,null,null,null,null,null,false]
[null,null,null,null,null,null,null,null,null,false]
[null,null,null,null,null,null,null,null,null,false]
[null,null,null,null,null,null,null,null,null,false]
[null,null,null,null,null,null,null,null,null,false]
[null,null,null,null,null,null,null,null,null,false]
[null,null,null,null,null,null,null,null,null,false]
[null,null,null,null,null,null,null,null,null,false]
[null,null,null,null,null,null,null,null,null,false]
[null,null,null,null,null,null,null,null,null,false]
[null,null,null,null,null,null,null,null,null,false]
[null,null,null,null,null,null,null,null,null,false]
[null,null,null,null,null,null,null,null,null,false]
[null,null,null,null,null,null,null,null,null,false]
[null,null,null,null,null,null,null,null,null,false]
[null,null,null,null,null,null,null,null,null,false]
[null,null,null,null,null,null,null,null,null,false]
[null,null,null,null,null,null,null,null,null,false]
[null,null,null,null,null,null,null,null,null,false]
[null,null,null,null,null,null,null,null,null,false]
[null,null,null,null,null,null,null,null,null,false]
[null,null,null,null,null,null,null,null,null,false]
[null,null,null,null,null,null,null,null,null,false]
[null,null,null,null,null,null,null,null,null,false]
[null,null,null,null,null,null,null,null,null,false]
[null,null,null,null,null,null,null,null,null,false]
[null,null,null,null,null,null,null,null,null,false]
[null,null,null,null,null,null,null,null,null,false]
[null,null,null,null,null,null,null,null,null,false]
[null,null,null,null,null,null,null,null,null,false]
[null,null,null,null,null,null,null,null,null,false]
[null,null,null,null,null,null,null,null,null,false]
[null,null,null,null,null,null,null,null,null,false]
[null,null,null,null,null,null,null,null,null,false]
[null,null,null,null,null,null,null,null,null,false]
[null,null,null,null,null,null,null,null,null,false]
[null,null,null,null,null,null,null,null,null,false]
[null,null,null,null,null,null,null,null,null,false]
[null,null,null,null,null,null,null,null,null,false]
[null,null,null,null,null,null,null,null,null,false]
[null,null,null,null,null,null,null,null,null,false]
[null,null,null,null,null,null,null,null,null,false]
[null,null,null,null,null,null,null,null,null,false]
[null,null,null,null,null,null,null,null,null,false]
[null,null,null,null,null,null,null,null,null,false]
[null,null,null,null,null,null,null,null,null,false]
[null,null,null,null,null,null,null,null,null,false]
[null,null,null,null,null,null,null,null,null,false]
[null,null,null,null,null,null,null,null,null,false]
[null,null,null,null,null,null,null,null,null,false]
[null,null,null,null,null,null,null,null,null,false]
[null,null,null,null,null,null,null,null,null,false]
[null,null,null,null,null,null,null,null,null,false]
[null,null,null,null,null,null,null,null,null,false]
[null,null,null,null,null,null,null,null,null,false]
[null,null,null,null,null,null,null,null,null,false]
[null,null,null,null,null,null,null,null,null,false]
[null,null,null,null,null,null,null,null,null,false]
[null,null,null,null,null,null,null,null,null,false]
[null,null,null,null,null,null,null,null,null,false]
[null,null,null,null,null,null,null,null,null,false]
[null,null,null,null,null,null,null,null,null,false]
[null,null,null,null,null,null,null,null,null,false]
[null,null,null,null,null,null,null,null,null,false]
[null,null,null,null,null,null,null,null,null,false]
[null,null,null,null,null,null,null,null,null,false]
[null,null,null,null,null,null,null,null,null,false]
[null,null,null,null,null,null,null,null,null,false]
[null,null,null,null,null,null,null,null,null,false]
[null,null,null,null,null,null,null,null,null,false]
[null,null,null,null,null,null,null,null,null,false]
[null,null,null,null,null,null,null,null,null,false]
[null,null,null,null,null,null,null,null,null,false]
[null,null,null,null,null,null,null,null,null,false]
[null,null,null,null,null,null,null,null,null,false]
[null,null,null,null,null,null,null,null,null,false]
[null,null,null,null,null,null,null,null,null,false]
[null,null,null,null,null,null,null,null,null,false]
[null,null,null,null,null,null,null,null,null,false]
[null,null,null,null,null,null,null,null,null,false]
[null,null,null,null,null,null,null,null,null,false]
[null,null,null,null,null,null,null,null,null,false]
[null,null,null,null,null,null,null,null,null,false]
[null,null,null,null,null,null,null,null,null,false]
[null,null,null,null,null,null,null,null,null,false]
[null,null,null,null,null,null,null,null,null,false]
[null,null,null,null,null,null,null,null,null,false]
[null,null,null,null,null,null,null,null,null,false]
[null,null,null,null,null,null,null,null,null,false]
[null,null,null,null,null,null,null,null,null,false]
[null,null,null,null,null,null,null,null,null,false]
[null,null,null,null,null,null,null,null,null,false]
[null,null,null,null,null,null,null,null,null,false]
[null,null,null,null,null,null,null,null,null,false]
[null,null,null,null,null,null,null,null,null,false]
[null,null,null,null,null,null,null,null,null,false]
[null,null,null,null,null,null,null,null,null,false]
[null,null,null,null,null,null,null,null,null,false]
[null,null,null,null,null,null,null,null,null,false]
[null,null,null,null,null,null,null,null,null,false]
[null,null,null,null,null,null,null,null,null,false]
[null,null,null,null,null,null,null,null,null,false]
[null,null,null,null,null,null,null,null,null,false]
[null,null,null,null,null,null,null,null,null,false]
[null,null,null,null,null,null,null,null,null,false]
[null,null,null,null,null,null,null,null,null,false]
[null,null,null,null,null,null,null,null,null,false]
[null,null,null,null,null,null,null,null,null,false]
[null,null,null,null,null,null,null,null,null,false]
[null,null,null,null,null,null,null,null,null,false]
[null,null,null,null,null,null,null,null,null,false]
[null,null,null,null,null,null,null,null,null,false]
[null,null,null,null,null,null,null,null,null,false]
[null,null,null,null,null,null,null,null,null,false]
[null,null,null,null,null,null,null,null,null,false]
[null,null,null,null,null,null,null,null,null,false]
[null,null,null,null,null,null,null,null,null,false]
[null,null,null,null,null,null,null,null,null,false]
[null,null,null,null,null,null,null,null,null,false]
[null,null,null,null,null,null,null,null,null,false]
[null,null,null,null,null,null,null,null,null,false]
[null,null,null,null,null,null,null,null,null,false]
[null,null,null,null,null,null,null,null,null,false]
[null,null,null,null,null,null,null,null,null,false]
[null,null,null,null,null,null,null,null,null,false]
[null,null,null,null,null,null,null,null,null,false]
[null,null,null,null,null,null,null,null,null,false]
[null,null,null,null,null,null,null,null,null,false]
[null,null,null,null,null,null,null,null,null,false]
[null,null,null,null,null,null,null,null,null,false]
[null,null,null,null,null,null,null,null,null,false]
[null,null,null,null,null,null,null,null,null,false]
[null,null,null,null,null,null,null,null,null,false]
[null,null,null,null,null,null,null,null,null,false]
[null,null,null,null,null,null,null,null,null,false]
[null,null,null,null,null,null,null,null,null,false]
[null,null,null,null,null,null,null,null,null,false]
[null,null,null,null,null,null,null,null,null,false]
[null,null,null,null,null,null,null,null,null,false]
[null,null,null,null,null,null,null,null,null,false]
[null,null,null,null,null,null,null,null,null,false]
[null,null,null,null,null,null,null,null,null,false]
[null,null,null,null,null,null,null,null,null,false]
[null,null,null,null,null,null,null,null,null,false]
[null,null,null,null,null,null,null,null,null,false]
[null,null,null,null,null,null,null,null,null,false]
[null,null,null,null,null,null,null,null,null,false]
[null,null,null,null,null,null,null,null,null,false]
[null,null,null,null,null,null,null,null,null,false]
[null,null,null,null,null,null,null,null,null,false]
[null,null,null,null,null,null,null,null,null,false]
[null,null,null,null,null,null,null,null,null,false]
[null,null,null,null,null,null,null,null,null,false]
[null,null,null,null,null,null,null,null,null,false]
[null,null,null,null,null,null,null,null,null,false]
[null,null,null,null,null,null,null,null,null,false]
[null,null,null,null,null,null,null,null,null,false]
[null,null,null,null,null,null,null,null,null,false]
[null,null,null,null,null,null,null,null,null,false]
[null,null,null,null,null,null,null,null,null,false]
[null,null,null,null,null,null,null,null,null,false]
[null,null,null,null,null,null,null,null,null,false]
[null,null,null,null,null,null,null,null,null,false]
[null,null,null,null,null,null,null,null,null,false]
[null,null,null,null,null,null,null,null,null,false]
[null,null,null,null,null,null,null,null,null,false]
[null,null,null,null,null,null,null,null,null,false]
[null,null,null,null,null,null,null,null,null,false]
[null,null,null,null,null,null,null,null,null,false]
[null,null,null,null,null,null,null,null,null,false]
[null,null,null,null,null,null,null,null,null,false]
[null,null,null,null,null,null,null,null,null,false]
[null,null,null,null,null,null,null,null,null,false]
[null,null,null,null,null,null,null,null,null,false]
[null,null,null,null,null,null,null,null,null,false]
[null,null,null,null,null,null,null,null,null,false]
[null,null,null,null,null,null,null,null,null,false]
[null,null,null,null,null,null,null,null,null,false]
[null,null,null,null,null,null,null,null,null,false]
[null,null,null,null,null,null,null,null,null,false]
[null,null,null,null,null,null,null,null,null,false]
[null,null,null,null,null,null,null,null,null,false]
[null,null,null,null,null,null,null,null,null,false]
[null,null,null,null,null,null,null,null,null,false]
[null,null,null,null,null,null,null,null,null,false]
[null,null,null,null,null,null,null,null,null,false]
[null,null,null,null,null,null,null,null,null,false]
[null,null,null,null,null,null,null,null,null,false]
[null,null,null,null,null,null,null,null,null,false]
[null,null,null,null,null,null,null,null,null,false]
[null,null,null,null,null,null,null,null,null,false]
[null,null,null,null,null,null,null,null,null,false]
[null,null,null,null,null,null,null,null,null,false]
[null,null,null,null,null,null,null,null,null,false]
[null,null,null,null,null,null,null,null,null,false]
[null,null,null,null,null,null,null,null,null,false]
[null,null,null,null,null,null,null,null,null,false]
[null,null,null,null,null,null,null,null,null,false]
[null,null,null,null,null,null,null,null,null,false]
[null,null,null,null,null,null,null,null,null,false]
[null,null,null,null,null,null,null,null,null,false]
[null,null,null,null,null,null,null,null,null,false]
[null,null,null,null,null,null,null,null,null,false]
[null,null,null,null,null,null,null,null,null,false]
[null,null,null,null,null,null,null,null,null,false]
[null,null,null,null,null,null,null,null,null,false]
[null,null,null,null,null,null,null,null,null,false]
[null,null,null,null,null,null,null,null,null,false]
[null,null,null,null,null,null,null,null,null,false]
[null,null,null,null,null,null,null,null,null,false]
[null,null,null,null,null,null,null,null,null,false]
[null,null,null,null,null,null,null,null,null,false]
[null,null,null,null,null,null,null,null,null,false]
[null,null,null,null,null,null,null,null,null,false]
[null,null,null,null,null,null,null,null,null,false]
[null,null,null,null,null,null,null,null,null,false]
[null,null,null,null,null,null,null,null,null,false]
[null,null,null,null,null,null,null,null,null,false]
[null,null,null,null,null,null,null,null,null,false]
[null,null,null,null,null,null,null,null,null,false]
[null,null,null,null,null,null,null,null,null,false]
[null,null,null,null,null,null,null,null,null,false]
[null,null,null,null,null,null,null,null,null,false]
[null,null,null,null,null,null,null,null,null,false]
[null,null,null,null,null,null,null,null,null,false]
[null,null,null,null,null,null,null,null,null,false]
[null,null,null,null,null,null,null,null,null,false]
[null,null,null,null,null,null,null,null,null,false]
[null,null,null,null,null,null,null,null,null,false]
[null,null,null,null,null,null,null,null,null,false]
[null,null,null,null,null,null,null,null,null,false]
[null,null,null,null,null,null,null,null,null,false]
[null,null,null,null,null,null,null,null,null,false]
[null,null,null,null,null,null,null,null,null,false]
[null,null,null,null,null,null,null,null,null,false]
[null,null,null,null,null,null,null,null,null,false]
[null,null,null,null,null,null,null,null,null,false]
[null,null,null,null,null,null,null,null,null,false]
[null,null,null,null,null,null,null,null,null,false]
[null,null,null,null,null,null,null,null,null,false]
[null,null,null,null,null,null,null,null,null,false]
[null,null,null,null,null,null,null,null,null,false]
[null,null,null,null,null,null,null,null,null,false]
[null,null,null,null,null,null,null,null,null,false]
[null,null,null,null,null,null,null,null,null,false]
[null,null,null,null,null,null,null,null,null,false]
[null,null,null,null,null,null,null,null,null,false]
[null,null,null,null,null,null,null,null,null,false]
[null,null,null,null,null,null,null,null,null,false]
[null,null,null,null,null,null,null,null,null,false]
[null,null,null,null,null,null,null,null,null,false]
[null,null,null,null,null,null,null,null,null,false]
[null,null,null,null,null,null,null,null,null,false]
[null,null,null,null,null,null,null,null,null,false]
[null,null,null,null,null,null,null,null,null,false]
[null,null,null,null,null,null,null,null,null,false]
[null,null,null,null,null,null,null,null,null,false]
[null,null,null,null,null,null,null,null,null,false]
[null,null,null,null,null,null,null,null,null,false]
[null,null,null,null,null,null,null,null,null,false]
[null,null,null,null,null,null,null,null,null,false]
[null,null,null,null,null,null,null,null,null,false]
[null,null,null,null,null,null,null,null,null,false]
[null,null,null,null,null,null,null,null,null,false]
[null,null,null,null,null,null,null,null,null,false]
[null,null,null,null,null,null,null,null,null,false]
[null,null,null,null,null,null,null,null,null,false]
[null,null,null,null,null,null,null,null,null,false]
[null,null,null,null,null,null,null,null,null,false]
[null,null,null,null,null,null,null,null,null,false]
[null,null,null,null,null,null,null,null,null,false]
[null,null,null,null,null,null,null,null,null,false]
[null,null,null,null,null,null,null,null,null,false]
[null,null,null,null,null,null,null,null,null,false]
[null,null,null,null,null,null,null,null,null,false]
[null,null,null,null,null,null,null,null,null,false]
[null,null,null,null,null,null,null,null,null,false]
[null,null,null,null,null,null,null,null,null,false]
[null,null,null,null,null,null,null,null,null,false]
[null,null,null,null,null,null,null,null,null,false]
[null,null,null,null,null,null,null,null,null,false]
[null,null,null,null,null,null,null,null,null,false]
[null,null,null,null,null,null,null,null,null,false]
[null,null,null,null,null,null,null,null,null,false]
[null,null,null,null,null,null,null,null,null,false]
[null,null,null,null,null,null,null,null,null,false]
[null,null,null,null,null,null,null,null,null,false]
[null,null,null,null,null,null,null,null,null,false]
[null,null,null,null,null,null,null,null,null,false]
[null,null,null,null,null,null,null,null,null,false]
[null,null,null,null,null,null,null,null,null,false]
[null,null,null,null,null,null,null,null,null,false]
[null,null,null,null,null,null,null,null,null,false]
[null,null,null,null,null,null,null,null,null,false]
[null,null,null,null,null,null,null,null,null,false]
[null,null,null,null,null,null,null,null,null,false]
[null,null,null,null,null,null,null,null,null,false]
[null,null,null,null,null,null,null,null,null,false]
[null,null,null,null,null,null,null,null,null,false]
[null,null,null,null,null,null,null,null,null,false]
[null,null,null,null,null,null,null,null,null,false]
[null,null,null,null,null,null,null,null,null,false]
[null,null,null,null,null,null,null,null,null,false]
[null,null,null,null,null,null,null,null,null,false]
[null,null,null,null,null,null,null,null,null,false]
[null,null,null,null,null,null,null,null,null,false]
[null,null,null,null,null,null,null,null,null,false]
[null,null,null,null,null,null,null,null,null,false]
[null,null,null,null,null,null,null,null,null,false]
[null,null,null,null,null,null,null,null,null,false]
[null,null,null,null,null,null,null,null,null,false]
[null,null,null,null,null,null,null,null,null,false]
[null,null,null,null,null,null,null,null,null,false]
[null,null,null,null,null,null,null,null,null,false]
[null,null,null,null,null,null,null,null,null,false]
[null,null,null,null,null,null,null,null,null,false]
[null,null,null,null,null,null,null,null,null,false]
[null,null,null,null,null,null,null,null,null,false]
[null,null,null,null,null,null,null,null,null,false]
[null,null,null,null,null,null,null,null,null,false]
[null,null,null,null,null,null,null,null,null,false]
[null,null,null,null,null,null,null,null,null,false]
[null,null,null,null,null,null,null,null,null,false]
[null,null,null,null,null,null,null,null,null,false]
[null,null,null,null,null,null,null,null,null,false]
[null,null,null,null,null,null,null,null,null,false]
[null,null,null,null,null,null,null,null,null,false]
[null,null,null,null,null,null,null,null,null,false]
[null,null,null,null,null,null,null,null,null,false]
[null,null,null,null,null,null,null,null,null,false]
[null,null,null,null,null,null,null,null,null,false]
[null,null,null,null,null,null,null,null,null,false]
[null,null,null,null,null,null,null,null,null,false]
[null,null,null,null,null,null,null,null,null,false]
[null,null,null,null,null,null,null,null,null,false]
[null,null,null,null,null,null,null,null,null,false]
[null,null,null,null,null,null,null,null,null,false]
[null,null,null,null,null,null,null,null,null,false]
[null,null,null,null,null,null,null,null,null,false]
[null,null,null,null,null,null,null,null,null,false]
[null,null,null,null,null,null,null,null,null,false]
[null,null,null,null,null,null,null,null,null,false]
[null,null,null,null,null,null,null,null,null,false]
[null,null,null,null,null,null,null,null,null,false]
[null,null,null,null,null,null,null,null,null,false]
[null,null,null,null,null,null,null,null,null,false]
[null,null,null,null,null,null,null,null,null,false]
[null,null,null,null,null,null,null,null,null,false]
[null,null,null,null,null,null,null,null,null,false]
[null,null,null,null,null,null,null,null,null,false]
[null,null,null,null,null,null,null,null,null,false]
[null,null,null,null,null,null,null,null,null,false]
[null,null,null,null,null,null,null,null,null,false]
[null,null,null,null,null,null,null,null,null,false]
[null,null,null,null,null,null,null,null,null,false]
[null,null,null,null,null,null,null,null,null,false]
[null,null,null,null,null,null,null,null,null,false]
[null,null,null,null,null,null,null,null,null,false]
[null,null,null,null,null,null,null,null,null,false]
[null,null,null,null,null,null,null,null,null,false]
[null,null,null,null,null,null,null,null,null,false]
[null,null,null,null,null,null,null,null,null,false]
[null,null,null,null,null,null,null,null,null,false]
[null,null,null,null,null,null,null,null,null,false]
[null,null,null,null,null,null,null,null,null,false]
[null,null,null,null,null,null,null,null,null,false]
[null,null,null,null,null,null,null,null,null,false]
[null,null,null,null,null,null,null,null,null,false]
[null,null,null,null,null,null,null,null,null,false]
[null,null,null,null,null,null,null,null,null,false]
[null,null,null,null,null,null,null,null,null,false]
[null,null,null,null,null,null,null,null,null,false]
[null,null,null,null,null,null,null,null,null,false]
[null,null,null,null,null,null,null,null,null,false]
[null,null,null,null,null,null,null,null,null,false]
[null,null,null,null,null,null,null,null,null,false]
[null,null,null,null,null,null,null,null,null,false]
[null,null,null,null,null,null,null,null,null,false]
[null,null,null,null,null,null,null,null,null,false]
[null,null,null,null,null,null,null,null,null,false]
[null,null,null,null,null,null,null,null,null,false]
[null,null,null,null,null,null,null,null,null,false]
[null,null,null,null,null,null,null,null,null,false]
[null,null,null,null,null,null,null,null,null,false]
[null,null,null,null,null,null,null,null,null,false]
[null,null,null,null,null,null,null,null,null,false]
[null,null,null,null,null,null,null,null,null,false]
[null,null,null,null,null,null,null,null,null,false]
[null,null,null,null,null,null,null,null,null,false]
[null,null,null,null,null,null,null,null,null,false]
[null,null,null,null,null,null,null,null,null,false]
[null,null,null,null,null,null,null,null,null,false]
[null,null,null,null,null,null,null,null,null,false]
[null,null,null,null,null,null,null,null,null,false]
[null,null,null,null,null,null,null,null,null,false]
[null,null,null,null,null,null,null,null,null,false]
[null,null,null,null,null,null,null,null,null,false]
[null,null,null,null,null,null,null,null,null,false]
[null,null,null,null,null,null,null,null,null,false]
[null,null,null,null,null,null,null,null,null,false]
[null,null,null,null,null,null,null,null,null,false]
[null,null,null,null,null,null,null,null,null,false]
[null,null,null,null,null,null,null,null,null,false]
[null,null,null,null,null,null,null,null,null,false]
[null,null,null,null,null,null,null,null,null,false]
[null,null,null,null,null,null,null,null,null,false]
[null,null,null,null,null,null,null,null,null,false]
[null,null,null,null,null,null,null,null,null,false]
[null,null,null,null,null,null,null,null,null,false]
[null,null,null,null,null,null,null,null,null,false]
[null,null,null,null,null,null,null,null,null,false]
[null,null,null,null,null,null,null,null,null,false]
[null,null,null,null,null,null,null,null,null,false]
[null,null,null,null,null,null,null,null,null,false]
[null,null,null,null,null,null,null,null,null,false]
[null,null,null,null,null,null,null,null,null,false]
[null,null,null,null,null,null,null,null,null,false]
[null,null,null,null,null,null,null,null,null,false]
[null,null,null,null,null,null,null,null,null,false]
[null,null,null,null,null,null,null,null,null,false]
[null,null,null,null,null,null,null,null,null,false]
[null,null,null,null,null,null,null,null,null,false]
[null,null,null,null,null,null,null,null,null,false]
[null,null,null,null,null,null,null,null,null,false]
[null,null,null,null,null,null,null,null,null,false]
[null,null,null,null,null,null,null,null,null,false]
[null,null,null,null,null,null,null,null,null,false]
[null,null,null,null,null,null,null,null,null,false]
[null,null,null,null,null,null,null,null,null,false]
[null,null,null,null,null,null,null,null,null,false]
[null,null,null,null,null,null,null,null,null,false]
[null,null,null,null,null,null,null,null,null,false]
[null,null,null,null,null,null,null,null,null,false]
[null,null,null,null,null,null,null,null,null,false]
[null,null,null,null,null,null,null,null,null,false]
[null,null,null,null,null,null,null,null,null,false]
[null,null,null,null,null,null,null,null,null,false]
[null,null,null,null,null,null,null,null,null,false]
[null,null,null,null,null,null,null,null,null,false]
[null,null,null,null,null,null,null,null,null,false]
[null,null,null,null,null,null,null,null,null,false]
[null,null,null,null,null,null,null,null,null,false]
[null,null,null,null,null,null,null,null,null,false]
[null,null,null,null,null,null,null,null,null,false]
[null,null,null,null,null,null,null,null,null,false]
[null,null,null,null,null,null,null,null,null,false]
[null,null,null,null,null,null,null,null,null,false]
[null,null,null,null,null,null,null,null,null,false]
[null,null,null,null,null,null,null,null,null,false]
[null,null,null,null,null,null,null,null,null,false]
[null,null,null,null,null,null,null,null,null,false]
[null,null,null,null,null,null,null,null,null,false]
[null,null,null,null,null,null,null,null,null,false]
[null,null,null,null,null,null,null,null,null,false]
[null,null,null,null,null,null,null,null,null,false]
[null,null,null,null,null,null,null,null,null,false]
[null,null,null,null,null,null,null,null,null,false]
[null,null,null,null,null,null,null,null,null,false]
[null,null,null,null,null,null,null,null,null,false]
[null,null,null,null,null,null,null,null,null,false]
[null,null,null,null,null,null,null,null,null,false]
[null,null,null,null,null,null,null,null,null,false]
[null,null,null,null,null,null,null,null,null,false]
[null,null,null,null,null,null,null,null,null,false]
[null,null,null,null,null,null,null,null,null,false]
[null,null,null,null,null,null,null,null,null,false]
[null,null,null,null,null,null,null,null,null,false]
[null,null,null,null,null,null,null,null,null,false]
[null,null,null,null,null,null,null,null,null,false]
[null,null,null,null,null,null,null,null,null,false]
[null,null,null,null,null,null,null,null,null,false]
[null,null,null,null,null,null,null,null,null,false]
[null,null,null,null,null,null,null,null,null,false]
[null,null,null,null,null,null,null,null,null,false]
[null,null,null,null,null,null,null,null,null,false]
[null,null,null,null,null,null,null,null,null,false]
[null,null,null,null,null,null,null,null,null,false]
[null,null,null,null,null,null,null,null,null,false]
[null,null,null,null,null,null,null,null,null,false]
[null,null,null,null,null,null,null,null,null,false]
[null,null,null,null,null,null,null,null,null,false]
[null,null,null,null,null,null,null,null,null,false]
[null,null,null,null,null,null,null,null,null,false]
[null,null,null,null,null,null,null,null,null,false]
[null,null,null,null,null,null,null,null,null,false]
[null,null,null,null,null,null,null,null,null,false]
[null,null,null,null,null,null,null,null,null,false]
[null,null,null,null,null,null,null,null,null,false]
[null,null,null,null,null,null,null,null,null,false]
[null,null,null,null,null,null,null,null,null,false]
[null,null,null,null,null,null,null,null,null,false]
[null,null,null,null,null,null,null,null,null,false]
[null,null,null,null,null,null,null,null,null,false]
[null,null,null,null,null,null,null,null,null,false]
[null,null,null,null,null,null,null,null,null,false]
[null,null,null,null,null,null,null,null,null,false]
[null,null,null,null,null,null,null,null,null,false]
[null,null,null,null,null,null,null,null,null,false]
[null,null,null,null,null,null,null,null,null,false]
[null,null,null,null,null,null,null,null,null,false]
[null,null,null,null,null,null,null,null,null,false]
[null,null,null,null,null,null,null,null,null,false]
[null,null,null,null,null,null,null,null,null,false]
[null,null,null,null,null,null,null,null,null,false]
[null,null,null,null,null,null,null,null,null,false]
[null,null,null,null,null,null,null,null,null,false]
[null,null,null,null,null,null,null,null,null,false]
[null,null,null,null,null,null,null,null,null,false]
[null,null,null,null,null,null,null,null,null,false]
[null,null,null,null,null,null,null,null,null,false]
[null,null,null,null,null,null,null,null,null,false]
[null,null,null,null,null,null,null,null,null,false]
[null,null,null,null,null,null,null,null,null,false]
[null,null,null,null,null,null,null,null,null,false]
[null,null,null,null,null,null,null,null,null,false]
[null,null,null,null,null,null,null,null,null,false]
[null,null,null,null,null,null,null,null,null,false]
[null,null,null,null,null,null,null,null,null,false]
[null,null,null,null,null,null,null,null,null,false]
[null,null,null,null,null,null,null,null,null,false]
[null,null,null,null,null,null,null,null,null,false]
[null,null,null,null,null,null,null,null,null,false]
[null,null,null,null,null,null,null,null,null,false]
[null,null,null,null,null,null,null,null,null,false]
[null,null,null,null,null,null,null,null,null,false]
[null,null,null,null,null,null,null,null,null,false]
[null,null,null,null,null,null,null,null,null,false]
[null,null,null,null,null,null,null,null,null,false]
[null,null,null,null,null,null,null,null,null,false]
[null,null,null,null,null,null,null,null,null,false]
[null,null,null,null,null,null,null,null,null,false]
[null,null,null,null,null,null,null,null,null,false]
[null,null,null,null,null,null,null,null,null,false]
[null,null,null,null,null,null,null,null,null,false]
[null,null,null,null,null,null,null,null,null,false]
[null,null,null,null,null,null,null,null,null,false]
[null,null,null,null,null,null,null,null,null,false]
[null,null,null,null,null,null,null,null,null,false]
[null,null,null,null,null,null,null,null,null,false]
[null,null,null,null,null,null,null,null,null,false]
[null,null,null,null,null,null,null,null,null,false]
[null,null,null,null,null,null,null,null,null,false]
[null,null,null,null,null,null,null,null,null,false]
[null,null,null,null,null,null,null,null,null,false]
[null,null,null,null,null,null,null,null,null,false]
[null,null,null,null,null,null,null,null,null,false]
[null,null,null,null,null,null,null,null,null,false]
[null,null,null,null,null,null,null,null,null,false]
[null,null,null,null,null,null,null,null,null,false]
[null,null,null,null,null,null,null,null,null,false]
[null,null,null,null,null,null,null,null,null,false]
[null,null,null,null,null,null,null,null,null,false]
[null,null,null,null,null,null,null,null,null,false]
[null,null,null,null,null,null,null,null,null,false]
[null,null,null,null,null,null,null,null,null,false]
[null,null,null,null,null,null,null,null,null,false]
[null,null,null,null,null,null,null,null,null,false]
[null,null,null,null,null,null,null,null,null,false]
[null,null,null,null,null,null,null,null,null,false]
[null,null,null,null,null,null,null,null,null,false]
[null,null,null,null,null,null,null,null,null,false]
[null,null,null,null,null,null,null,null,null,false]
[null,null,null,null,null,null,null,null,null,false]
[null,null,null,null,null,null,null,null,null,false]
[null,null,null,null,null,null,null,null,null,false]
[null,null,null,null,null,null,null,null,null,false]
[null,null,null,null,null,null,null,null,null,false]
[null,null,null,null,null,null,null,null,null,false]
[null,null,null,null,null,null,null,null,null,false]
[null,null,null,null,null,null,null,null,null,false]
[null,null,null,null,null,null,null,null,null,false]
[null,null,null,null,null,null,null,null,null,false]
[null,null,null,null,null,null,null,null,null,false]
[null,null,null,null,null,null,null,null,null,false]
[null,null,null,null,null,null,null,null,null,false]
[null,null,null,null,null,null,null,null,null,false]
[null,null,null,null,null,null,null,null,null,false]
[null,null,null,null,null,null,null,null,null,false]
[null,null,null,null,null,null,null,null,null,false]
[null,null,null,null,null,null,null,null,null,false]
[null,null,null,null,null,null,null,null,null,false]
[null,null,null,null,null,null,null,null,null,false]
[null,null,null,null,null,null,null,null,null,false]
[null,null,null,null,null,null,null,null,null,false]
[null,null,null,null,null,null,null,null,null,false]
[null,null,null,null,null,null,null,null,null,false]
[null,null,null,null,null,null,null,null,null,false]
[null,null,null,null,null,null,null,null,null,false]
[null,null,null,null,null,null,null,null,null,false]
[null,null,null,null,null,null,null,null,null,false]
[null,null,null,null,null,null,null,null,null,false]
[null,null,null,null,null,null,null,null,null,false]
[null,null,null,null,null,null,null,null,null,false]
[null,null,null,null,null,null,null,null,null,false]
[null,null,null,null,null,null,null,null,null,false]
[null,null,null,null,null,null,null,null,null,false]
[null,null,null,null,null,null,null,null,null,false]
[null,null,null,null,null,null,null,null,null,false]
[null,null,null,null,null,null,null,null,null,false]
[null,null,null,null,null,null,null,null,null,false]
[null,null,null,null,null,null,null,null,null,false]
[null,null,null,null,null,null,null,null,null,false]
[null,null,null,null,null,null,null,null,null,false]
[null,null,null,null,null,null,null,null,null,false]
[null,null,null,null,null,null,null,null,null,false]
[null,null,null,null,null,null,null,null,null,false]
[null,null,null,null,null,null,null,null,null,false]
[null,null,null,null,null,null,null,null,null,false]
[null,null,null,null,null,null,null,null,null,false]
[null,null,null,null,null,null,null,null,null,false]
[null,null,null,null,null,null,null,null,null,false]
[null,null,null,null,null,null,null,null,null,false]
[null,null,null,null,null,null,null,null,null,false]
[null,null,null,null,null,null,null,null,null,false]
[null,null,null,null,null,null,null,null,null,false]
[null,null,null,null,null,null,null,null,null,false]
[null,null,null,null,null,null,null,null,null,false]
[null,null,null,null,null,null,null,null,null,false]
[null,null,null,null,null,null,null,null,null,false]
[null,null,null,null,null,null,null,null,null,false]
[null,null,null,null,null,null,null,null,null,false]
[null,null,null,null,null,null,null,null,null,false]
[null,null,null,null,null,null,null,null,null,false]
[null,null,null,null,null,null,null,null,null,false]
[null,null,null,null,null,null,null,null,null,false]
[null,null,null,null,null,null,null,null,null,false]
[null,null,null,null,null,null,null,null,null,false]
[null,null,null,null,null,null,null,null,null,false]
[null,null,null,null,null,null,null,null,null,false]
[null,null,null,null,null,null,null,null,null,false]
[null,null,null,null,null,null,null,null,null,false]
[null,null,null,null,null,null,null,null,null,false]
[null,null,null,null,null,null,null,null,null,false]
[null,null,null,null,null,null,null,null,null,false]
[null,null,null,null,null,null,null,null,null,false]
[null,null,null,null,null,null,null,null,null,false]
[null,null,null,null,null,null,null,null,null,false]
[null,null,null,null,null,null,null,null,null,false]
[null,null,null,null,null,null,null,null,null,false]
[null,null,null,null,null,null,null,null,null,false]
[null,null,null,null,null,null,null,null,null,false]
[null,null,null,null,null,null,null,null,null,false]
[null,null,null,null,null,null,null,null,null,false]
[null,null,null,null,null,null,null,null,null,false]
[null,null,null,null,null,null,null,null,null,false]
[null,null,null,null,null,null,null,null,null,false]
[null,null,null,null,null,null,null,null,null,false]
[null,null,null,null,null,null,null,null,null,false]
[null,null,null,null,null,null,null,null,null,false]
[null,null,null,null,null,null,null,null,null,false]
[null,null,null,null,null,null,null,null,null,false]
[null,null,null,null,null,null,null,null,null,false]
[null,null,null,null,null,null,null,null,null,false]
[null,null,null,null,null,null,null,null,null,false]
[null,null,null,null,null,null,null,null,null,false]
[null,null,null,null,null,null,null,null,null,false]
[null,null,null,null,null,null,null,null,null,false]
[null,null,null,null,null,null,null,null,null,false]
[null,null,null,null,null,null,null,null,null,false]
[null,null,null,null,null,null,null,null,null,false]
[null,null,null,null,null,null,null,null,null,false]
[null,null,null,null,null,null,null,null,null,false]
[null,null,null,null,null,null,null,null,null,false]
[null,null,null,null,null,null,null,null,null,false]
[null,null,null,null,null,null,null,null,null,false]
[null,null,null,null,null,null,null,null,null,false]
[null,null,null,null,null,null,null,null,null,false]
[null,null,null,null,null,null,null,null,null,false]
[null,null,null,null,null,null,null,null,null,false]
[null,null,null,null,null,null,null,null,null,false]
[null,null,null,null,null,null,null,null,null,false]
[null,null,null,null,null,null,null,null,null,false]
[null,null,null,null,null,null,null,null,null,false]
[null,null,null,null,null,null,null,null,null,false]
[null,null,null,null,null,null,null,null,null,false]
[null,null,null,null,null,null,null,null,null,false]
[null,null,null,null,null,null,null,null,null,false]
[null,null,null,null,null,null,null,null,null,false]
[null,null,null,null,null,null,null,null,null,false]
[null,null,null,null,null,null,null,null,null,false]
[null,null,null,null,null,null,null,null,null,false]
[null,null,null,null,null,null,null,null,null,false]
[null,null,null,null,null,null,null,null,null,false]
[null,null,null,null,null,null,null,null,null,false]
[null,null,null,null,null,null,null,null,null,false]
[null,null,null,null,null,null,null,null,null,false]
[null,null,null,null,null,null,null,null,null,false]
[null,null,null,null,null,null,null,null,null,false]
[null,null,null,null,null,null,null,null,null,false]
[null,null,null,null,null,null,null,null,null,false]
[null,null,null,null,null,null,null,null,null,false]
[null,null,null,null,null,null,null,null,null,false]
[null,null,null,null,null,null,null,null,null,false]
[null,null,null,null,null,null,null,null,null,false]
[null,null,null,null,null,null,null,null,null,false]
[null,null,null,null,null,null,null,null,null,false]
[null,null,null,null,null,null,null,null,null,false]
[null,null,null,null,null,null,null,null,null,false]
[null,null,null,null,null,null,null,null,null,false]
[null,null,null,null,null,null,null,null,null,false]
[null,null,null,null,null,null,null,null,null,false]
[null,null,null,null,null,null,null,null,null,false]
[null,null,null,null,null,null,null,null,null,false]
[null,null,null,null,null,null,null,null,null,false]
[null,null,null,null,null,null,null,null,null,false]
[null,null,null,null,null,null,null,null,null,false]
[null,null,null,null,null,null,null,null,null,false]
[null,null,null,null,null,null,null,null,null,false]
[null,null,null,null,null,null,null,null,null,false]
[null,null,null,null,null,null,null,null,null,false]
[null,null,null,null,null,null,null,null,null,false]
[null,null,null,null,null,null,null,null,null,false]
[null,null,null,null,null,null,null,null,null,false]
[null,null,null,null,null,null,null,null,null,false]
[null,null,null,null,null,null,null,null,null,false]
[null,null,null,null,null,null,null,null,null,false]
[null,null,null,null,null,null,null,null,null,false]
[null,null,null,null,null,null,null,null,null,false]
[null,null,null,null,null,null,null,null,null,false]
[null,null,null,null,null,null,null,null,null,false]
[null,null,null,null,null,null,null,null,null,false]
[null,null,null,null,null,null,null,null,null,false]
[null,null,null,null,null,null,null,null,null,false]
[null,null,null,null,null,null,null,null,null,false]
[null,null,null,null,null,null,null,null,null,false]
[null,null,null,null,null,null,null,null,null,false]
[null,null,null,null,null,null,null,null,null,false]
[null,null,null,null,null,null,null,null,null,false]
[null,null,null,null,null,null,null,null,null,false]
[null,null,null,null,null,null,null,null,null,false]
[null,null,null,null,null,null,null,null,null,false]
[null,null,null,null,null,null,null,null,null,false]
[null,null,null,null,null,null,null,null,null,false]
[null,null,null,null,null,null,null,null,null,false]
[null,null,null,null,null,null,null,null,null,false]
[null,null,null,null,null,null,null,null,null,false]
[null,null,null,null,null,null,null,null,null,false]
[null,null,null,null,null,null,null,null,null,false]
[null,null,null,null,null,null,null,null,null,false]
[null,null,null,null,null,null,null,null,null,false]
[null,null,null,null,null,null,null,null,null,false]
[null,null,null,null,null,null,null,null,null,false]
[null,null,null,null,null,null,null,null,null,false]
[null,null,null,null,null,null,null,null,null,false]
[null,null,null,null,null,null,null,null,null,false]
[null,null,null,null,null,null,null,null,null,false]
[null,null,null,null,null,null,null,null,null,false]
[null,null,null,null,null,null,null,null,null,false]
[null,null,null,null,null,null,null,null,null,false]
[null,null,null,null,null,null,null,null,null,false]
[null,null,null,null,null,null,null,null,null,false]
[null,null,null,null,null,null,null,null,null,false]
[null,null,null,null,null,null,null,null,null,false]
[null,null,null,null,null,null,null,null,null,false]
[null,null,null,null,null,null,null,null,null,false]
[null,null,null,null,null,null,null,null,null,false]
[null,null,null,null,null,null,null,null,null,false]
[null,null,null,null,null,null,null,null,null,false]
[null,null,null,null,null,null,null,null,null,false]
[null,null,null,null,null,null,null,null,null,false]
[null,null,null,null,null,null,null,null,null,false]
[null,null,null,null,null,null,null,null,null,false]
[null,null,null,null,null,null,null,null,null,false]
[null,null,null,null,null,null,null,null,null,false]
[null,null,null,null,null,null,null,null,null,false]
[null,null,null,null,null,null,null,null,null,false]
[null,null,null,null,null,null,null,null,null,false]
[null,null,null,null,null,null,null,null,null,false]
[null,null,null,null,null,null,null,null,null,false]
[null,null,null,null,null,null,null,null,null,false]
[null,null,null,null,null,null,null,null,null,false]
[null,null,null,null,null,null,null,null,null,false]
[null,null,null,null,null,null,null,null,null,false]
[null,null,null,null,null,null,null,null,null,false]
[null,null,null,null,null,null,null,null,null,false]
[null,null,null,null,null,null,null,null,null,false]
[null,null,null,null,null,null,null,null,null,false]
[null,null,null,null,null,null,null,null,null,false]
[null,null,null,null,null,null,null,null,null,false]
[null,null,null,null,null,null,null,null,null,false]
[null,null,null,null,null,null,null,null,null,false]
[null,null,null,null,null,null,null,null,null,false]
[null,null,null,null,null,null,null,null,null,false]
[null,null,null,null,null,null,null,null,null,false]
[null,null,null,null,null,null,null,null,null,false]
[null,null,null,null,null,null,null,null,null,false]
[null,null,null,null,null,null,null,null,null,false]
[null,null,null,null,null,null,null,null,null,false]
[null,null,null,null,null,null,null,null,null,false]
[null,null,null,null,null,null,null,null,null,false]
[null,null,null,null,null,null,null,null,null,false]
[null,null,null,null,null,null,null,null,null,false]
[null,null,null,null,null,null,null,null,null,false]
[null,null,null,null,null,null,null,null,null,false]
[null,null,null,null,null,null,null,null,null,false]
[null,null,null,null,null,null,null,null,null,false]
[null,null,null,null,null,null,null,null,null,false]
[null,null,null,null,null,null,null,null,null,false]
[null,null,null,null,null,null,null,null,null,false]
[null,null,null,null,null,null,null,null,null,false]
[null,null,null,null,null,null,null,null,null,false]
[null,null,null,null,null,null,null,null,null,false]
[null,null,null,null,null,null,null,null,null,false]
[null,null,null,null,null,null,null,null,null,false]
[null,null,null,null,null,null,null,null,null,false]
[null,null,null,null,null,null,null,null,null,false]
[null,null,null,null,null,null,null,null,null,false]
[null,null,null,null,null,null,null,null,null,false]
[null,null,null,null,null,null,null,null,null,false]
[null,null,null,null,null,null,null,null,null,false]
[null,null,null,null,null,null,null,null,null,false]
[null,null,null,null,null,null,null,null,null,false]
[null,null,null,null,null,null,null,null,null,false]
[null,null,null,null,null,null,null,null,null,false]
[null,null,null,null,null,null,null,null,null,false]
[null,null,null,null,null,null,null,null,null,false]
[null,null,null,null,null,null,null,null,null,false]
[null,null,null,null,null,null,null,null,null,false]
[null,null,null,null,null,null,null,null,null,false]
[null,null,null,null,null,null,null,null,null,false]
[null,null,null,null,null,null,null,null,null,false]
[null,null,null,null,null,null,null,null,null,false]
[null,null,null,null,null,null,null,null,null,false]
[null,null,null,null,null,null,null,null,null,false]
[null,null,null,null,null,null,null,null,null,false]
[null,null,null,null,null,null,null,null,null,false]
[null,null,null,null,null,null,null,null,null,false]
[null,null,null,null,null,null,null,null,null,false]
[null,null,null,null,null,null,null,null,null,false]
[null,null,null,null,null,null,null,null,null,false]
[null,null,null,null,null,null,null,null,null,false]
[null,null,null,null,null,null,null,null,null,false]
[null,null,null,null,null,null,null,null,null,false]
[null,null,null,null,null,null,null,null,null,false]
[null,null,null,null,null,null,null,null,null,false]
[null,null,null,null,null,null,null,null,null,false]
[null,null,null,null,null,null,null,null,null,false]
[null,null,null,null,null,null,null,null,null,false]
[null,null,null,null,null,null,null,null,null,false]
[null,null,null,null,null,null,null,null,null,false]
[null,null,null,null,null,null,null,null,null,false]
[null,null,null,null,null,null,null,null,null,false]
[null,null,null,null,null,null,null,null,null,false]
[null,null,null,null,null,null,null,null,null,false]
[null,null,null,null,null,null,null,null,null,false]
[null,null,null,null,null,null,null,null,null,false]
[null,null,null,null,null,null,null,null,null,false]
[null,null,null,null,null,null,null,null,null,false]
[null,null,null,null,null,null,null,null,null,false]
[null,null,null,null,null,null,null,null,null,false]
[null,null,null,null,null,null,null,null,null,false]
[null,null,null,null,null,null,null,null,null,false]
[null,null,null,null,null,null,null,null,null,false]
[null,null,null,null,null,null,null,null,null,false]
[null,null,null,null,null,null,null,null,null,false]
[null,null,null,null,null,null,null,null,null,false]
[null,null,null,null,null,null,null,null,null,false]
[null,null,null,null,null,null,null,null,null,false]
[null,null,null,null,null,null,null,null,null,false]
[null,null,null,null,null,null,null,null,null,false]
[null,null,null,null,null,null,null,null,null,false]
[null,null,null,null,null,null,null,null,null,false]
[null,null,null,null,null,null,null,null,null,false]
[null,null,null,null,null,null,null,null,null,false]
[null,null,null,null,null,null,null,null,null,false]
[null,null,null,null,null,null,null,null,null,false]
[null,null,null,null,null,null,null,null,null,false]
[null,null,null,null,null,null,null,null,null,false]
[null,null,null,null,null,null,null,null,null,false]
[null,null,null,null,null,null,null,null,null,false]
[null,null,null,null,null,null,null,null,null,false]
[null,null,null,null,null,null,null,null,null,false]
[null,null,null,null,null,null,null,null,null,false]
[null,null,null,null,null,null,null,null,null,false]
[null,null,null,null,null,null,null,null,null,false]
[null,null,null,null,null,null,null,null,null,false]
[null,null,null,null,null,null,null,null,null,false]
[null,null,null,null,null,null,null,null,null,false]
[null,null,null,null,null,null,null,null,null,false]
[null,null,null,null,null,null,null,null,null,false]
[null,null,null,null,null,null,null,null,null,false]
[null,null,null,null,null,null,null,null,null,false]
[null,null,null,null,null,null,null,null,null,false]
[null,null,null,null,null,null,null,null,null,false]
[null,null,null,null,null,null,null,null,null,false]
[null,null,null,null,null,null,null,null,null,false]
[null,null,null,null,null,null,null,null,null,false]
[null,null,null,null,null,null,null,null,null,false]
[null,null,null,null,null,null,null,null,null,false]
[null,null,null,null,null,null,null,null,null,false]
[null,null,null,null,null,null,null,null,null,false]
[null,null,null,null,null,null,null,null,null,false]
[null,null,null,null,null,null,null,null,null,false]
[null,null,null,null,null,null,null,null,null,false]
[null,null,null,null,null,null,null,null,null,false]
[null,null,null,null,null,null,null,null,null,false]
[null,null,null,null,null,null,null,null,null,false]
[null,null,null,null,null,null,null,null,null,false]
[null,null,null,null,null,null,null,null,null,false]
[null,null,null,null,null,null,null,null,null,false]
[null,null,null,null,null,null,null,null,null,false]
[null,null,null,null,null,null,null,null,null,false]
[null,null,null,null,null,null,null,null,null,false]
[null,null,null,null,null,null,null,null,null,false]
[null,null,null,null,null,null,null,null,null,false]
[null,null,null,null,null,null,null,null,null,false]
[null,null,null,null,null,null,null,null,null,false]
[null,null,null,null,null,null,null,null,null,false]
[null,null,null,null,null,null,null,null,null,false]
[null,null,null,null,null,null,null,null,null,false]
[null,null,null,null,null,null,null,null,null,false]
[null,null,null,null,null,null,null,null,null,false]
[null,null,null,null,null,null,null,null,null,false]
[null,null,null,null,null,null,null,null,null,false]
[null,null,null,null,null,null,null,null,null,false]
[null,null,null,null,null,null,null,null,null,false]
[null,null,null,null,null,null,null,null,null,false]
[null,null,null,null,null,null,null,null,null,false]
[null,null,null,null,null,null,null,null,null,false]
[null,null,null,null,null,null,null,null,null,false]
[null,null,null,null,null,null,null,null,null,false]
[null,null,null,null,null,null,null,null,null,false]
[null,null,null,null,null,null,null,null,null,false]
[null,null,null,null,null,null,null,null,null,false]
[null,null,null,null,null,null,null,null,null,false]
[null,null,null,null,null,null,null,null,null,false]
[null,null,null,null,null,null,null,null,null,false]
[null,null,null,null,null,null,null,null,null,false]
[null,null,null,null,null,null,null,null,null,false]
[null,null,null,null,null,null,null,null,null,false]
[null,null,null,null,null,null,null,null,null,false]
[null,null,null,null,null,null,null,null,null,false]
[null,null,null,null,null,null,null,null,null,false]
[null,null,null,null,null,null,null,null,null,false]
[null,null,null,null,null,null,null,null,null,false]
[null,null,null,null,null,null,null,null,null,false]
[null,null,null,null,null,null,null,null,null,false]
[null,null,null,null,null,null,null,null,null,false]
[null,null,null,null,null,null,null,null,null,false]
[null,null,null,null,null,null,null,null,null,false]
[null,null,null,null,null,null,null,null,null,false]
[null,null,null,null,null,null,null,null,null,false]
[null,null,null,null,null,null,null,null,null,false]
[null,null,null,null,null,null,null,null,null,false]
[null,null,null,null,null,null,null,null,null,false]
[null,null,null,null,null,null,null,null,null,false]
[null,null,null,null,null,null,null,null,null,false]
[null,null,null,null,null,null,null,null,null,false]
[null,null,null,null,null,null,null,null,null,false]
[null,null,null,null,null,null,null,null,null,false]
[null,null,null,null,null,null,null,null,null,false]
[null,null,null,null,null,null,null,null,null,false]
[null,null,null,null,null,null,null,null,null,false]
[null,null,null,null,null,null,null,null,null,false]
[null,null,null,null,null,null,null,null,null,false]
[null,null,null,null,null,null,null,null,null,false]
[null,null,null,null,null,null,null,null,null,false]
[null,null,null,null,null,null,null,null,null,false]
[null,null,null,null,null,null,null,null,null,false]
[null,null,null,null,null,null,null,null,null,false]
[null,null,null,null,null,null,null,null,null,false]
[null,null,null,null,null,null,null,null,null,false]
[null,null,null,null,null,null,null,null,null,false]
[null,null,null,null,null,null,null,null,null,false]
[null,null,null,null,null,null,null,null,null,false]
[null,null,null,null,null,null,null,null,null,false]
[null,null,null,null,null,null,null,null,null,false]
[null,null,null,null,null,null,null,null,null,false]
[null,null,null,null,null,null,null,null,null,false]
[null,null,null,null,null,null,null,null,null,false]
[null,null,null,null,null,null,null,null,null,false]
[null,null,null,null,null,null,null,null,null,false]
[null,null,null,null,null,null,null,null,null,false]
[null,null,null,null,null,null,null,null,null,false]
[null,null,null,null,null,null,null,null,null,false]
[null,null,null,null,null,null,null,null,null,false]
[null,null,null,null,null,null,null,null,null,false]
[null,null,null,null,null,null,null,null,null,false]
[null,null,null,null,null,null,null,null,null,false]
[null,null,null,null,null,null,null,null,null,false]
[null,null,null,null,null,null,null,null,null,false]
[null,null,null,null,null,null,null,null,null,false]
[null,null,null,null,null,null,null,null,null,false]
[null,null,null,null,null,null,null,null,null,false]
[null,null,null,null,null,null,null,null,null,false]
[null,null,null,null,null,null,null,null,null,false]
[null,null,null,null,null,null,null,null,null,false]
[null,null,null,null,null,null,null,null,null,false]
[null,null,null,null,null,null,null,null,null,false]
[null,null,null,null,null,null,null,null,null,false]
[null,null,null,null,null,null,null,null,null,false]
[null,null,null,null,null,null,null,null,null,false]
[null,null,null,null,null,null,null,null,null,false]
[null,null,null,null,null,null,null,null,null,false]
[null,null,null,null,null,null,null,null,null,false]
[null,null,null,null,null,null,null,null,null,false]
[null,null,null,null,null,null,null,null,null,false]
[null,null,null,null,null,null,null,null,null,false]
[null,null,null,null,null,null,null,null,null,false]
[null,null,null,null,null,null,null,null,null,false]
[null,null,null,null,null,null,null,null,null,false]
[null,null,null,null,null,null,null,null,null,false]
[null,null,null,null,null,null,null,null,null,false]
[null,null,null,null,null,null,null,null,null,false]
[null,null,null,null,null,null,null,null,null,false]
[null,null,null,null,null,null,null,null,null,false]
[null,null,null,null,null,null,null,null,null,false]
[null,null,null,null,null,null,null,null,null,false]
[null,null,null,null,null,null,null,null,null,false]
[null,null,null,null,null,null,null,null,null,false]
[null,null,null,null,null,null,null,null,null,false]
[null,null,null,null,null,null,null,null,null,false]
[null,null,null,null,null,null,null,null,null,false]
[null,null,null,null,null,null,null,null,null,false]
[null,null,null,null,null,null,null,null,null,false]
[null,null,null,null,null,null,null,null,null,false]
[null,null,null,null,null,null,null,null,null,false]
[null,null,null,null,null,null,null,null,null,false]
[null,null,null,null,null,null,null,null,null,false]
[null,null,null,null,null,null,null,null,null,false]
[null,null,null,null,null,null,null,null,null,false]
[null,null,null,null,null,null,null,null,null,false]
[null,null,null,null,null,null,null,null,null,false]
[null,null,null,null,null,null,null,null,null,false]
[null,null,null,null,null,null,null,null,null,false]
[null,null,null,null,null,null,null,null,null,false]
[null,null,null,null,null,null,null,null,null,false]
[null,null,null,null,null,null,null,null,null,false]
[null,null,null,null,null,null,null,null,null,false]
[null,null,null,null,null,null,null,null,null,false]
[null,null,null,null,null,null,null,null,null,false]
[null,null,null,null,null,null,null,null,null,false]
[null,null,null,null,null,null,null,null,null,false]
[null,null,null,null,null,null,null,null,null,false]
[null,null,null,null,null,null,null,null,null,false]
[null,null,null,null,null,null,null,null,null,false]
[null,null,null,null,null,null,null,null,null,false]
[null,null,null,null,null,null,null,null,null,false]
[null,null,null,null,null,null,null,null,null,false]
[null,null,null,null,null,null,null,null,null,false]
[null,null,null,null,null,null,null,null,null,false]
[null,null,null,null,null,null,null,null,null,false]
[null,null,null,null,null,null,null,null,null,false]
[null,null,null,null,null,null,null,null,null,false]
[null,null,null,null,null,null,null,null,null,false]
[null,null,null,null,null,null,null,null,null,false]
[null,null,null,null,null,null,null,null,null,false]
[null,null,null,null,null,null,null,null,null,false]
[null,null,null,null,null,null,null,null,null,false]
[null,null,null,null,null,null,null,null,null,false]
[null,null,null,null,null,null,null,null,null,false]
[null,null,null,null,null,null,null,null,null,false]
[null,null,null,null,null,null,null,null,null,false]
[null,null,null,null,null,null,null,null,null,false]
[null,null,null,null,null,null,null,null,null,false]
[null,null,null,null,null,null,null,null,null,false]
[null,null,null,null,null,null,null,null,null,false]
[null,null,null,null,null,null,null,null,null,false]
[null,null,null,null,null,null,null,null,null,false]
[null,null,null,null,null,null,null,null,null,false]
[null,null,null,null,null,null,null,null,null,false]
[null,null,null,null,null,null,null,null,null,false]
[null,null,null,null,null,null,null,null,null,false]
[null,null,null,null,null,null,null,null,null,false]
[null,null,null,null,null,null,null,null,null,false]
[null,null,null,null,null,null,null,null,null,false]
[null,null,null,null,null,null,null,null,null,false]
[null,null,null,null,null,null,null,null,null,false]
[null,null,null,null,null,null,null,null,null,false]
[null,null,null,null,null,null,null,null,null,false]
[null,null,null,null,null,null,null,null,null,false]
[null,null,null,null,null,null,null,null,null,false]
[null,null,null,null,null,null,null,null,null,false]
[null,null,null,null,null,null,null,null,null,false]
[null,null,null,null,null,null,null,null,null,false]
[null,null,null,null,null,null,null,null,null,false]
[null,null,null,null,null,null,null,null,null,false]
[null,null,null,null,null,null,null,null,null,false]
[null,null,null,null,null,null,null,null,null,false]
[null,null,null,null,null,null,null,null,null,false]
[null,null,null,null,null,null,null,null,null,false]
[null,null,null,null,null,null,null,null,null,false]
[null,null,null,null,null,null,null,null,null,false]
[null,null,null,null,null,null,null,null,null,false]
[null,null,null,null,null,null,null,null,null,false]
[null,null,null,null,null,null,null,null,null,false]
[null,null,null,null,null,null,null,null,null,false]
[null,null,null,null,null,null,null,null,null,false]
[null,null,null,null,null,null,null,null,null,false]
[null,null,null,null,null,null,null,null,null,false]
[null,null,null,null,null,null,null,null,null,false]
[null,null,null,null,null,null,null,null,null,false]
[null,null,null,null,null,null,null,null,null,false]
[null,null,null,null,null,null,null,null,null,false]
[null,null,null,null,null,null,null,null,null,false]
[null,null,null,null,null,null,null,null,null,false]
[null,null,null,null,null,null,null,null,null,false]
[null,null,null,null,null,null,null,null,null,false]
[null,null,null,null,null,null,null,null,null,false]
[null,null,null,null,null,null,null,null,null,false]
[null,null,null,null,null,null,null,null,null,false]
[null,null,null,null,null,null,null,null,null,false]
[null,null,null,null,null,null,null,null,null,false]
[null,null,null,null,null,null,null,null,null,false]
[null,null,null,null,null,null,null,null,null,false]
[null,null,null,null,null,null,null,null,null,false]
[null,null,null,null,null,null,null,null,null,false]
[null,null,null,null,null,null,null,null,null,false]
[null,null,null,null,null,null,null,null,null,false]
[null,null,null,null,null,null,null,null,null,false]
[null,null,null,null,null,null,null,null,null,false]
[null,null,null,null,null,null,null,null,null,false]
[null,null,null,null,null,null,null,null,null,false]
[null,null,null,null,null,null,null,null,null,false]
[null,null,null,null,null,null,null,null,null,false]
[null,null,null,null,null,null,null,null,null,false]
[null,null,null,null,null,null,null,null,null,false]
[null,null,null,null,null,null,null,null,null,false]
[null,null,null,null,null,null,null,null,null,false]
[null,null,null,null,null,null,null,null,null,false]
[null,null,null,null,null,null,null,null,null,false]
[null,null,null,null,null,null,null,null,null,false]
[null,null,null,null,null,null,null,null,null,false]
[null,null,null,null,null,null,null,null,null,false]
[null,null,null,null,null,null,null,null,null,false]
[null,null,null,null,null,null,null,null,null,false]
[null,null,null,null,null,null,null,null,null,false]
[null,null,null,null,null,null,null,null,null,false]
[null,null,null,null,null,null,null,null,null,false]
[null,null,null,null,null,null,null,null,null,false]
[null,null,null,null,null,null,null,null,null,false]
[null,null,null,null,null,null,null,null,null,false]
[null,null,null,null,null,null,null,null,null,false]
[null,null,null,null,null,null,null,null,null,false]
[null,null,null,null,null,null,null,null,null,false]
[null,null,null,null,null,null,null,null,null,false]
[null,null,null,null,null,null,null,null,null,false]
[null,null,null,null,null,null,null,null,null,false]
[null,null,null,null,null,null,null,null,null,false]
[null,null,null,null,null,null,null,null,null,false]
[null,null,null,null,null,null,null,null,null,false]
[null,null,null,null,null,null,null,null,null,false]
[null,null,null,null,null,null,null,null,null,false]
[null,null,null,null,null,null,null,null,null,false]
[null,null,null,null,null,null,null,null,null,false]
[null,null,null,null,null,null,null,null,null,false]
[null,null,null,null,null,null,null,null,null,false]
[null,null,null,null,null,null,null,null,null,false]
[null,null,null,null,null,null,null,null,null,false]
[null,null,null,null,null,null,null,null,null,false]
[null,null,null,null,null,null,null,null,null,false]
[null,null,null,null,null,null,null,null,null,false]
[null,null,null,null,null,null,null,null,null,false]
[null,null,null,null,null,null,null,null,null,false]
[null,null,null,null,null,null,null,null,null,false]
[null,null,null,null,null,null,null,null,null,false]
[null,null,null,null,null,null,null,null,null,false]
[null,null,null,null,null,null,null,null,null,false]
[null,null,null,null,null,null,null,null,null,false]
[null,null,null,null,null,null,null,null,null,false]
[null,null,null,null,null,null,null,null,null,false]
[null,null,null,null,null,null,null,null,null,false]
[null,null,null,null,null,null,null,null,null,false]
[null,null,null,null,null,null,null,null,null,false]
[null,null,null,null,null,null,null,null,null,false]
[null,null,null,null,null,null,null,null,null,false]
[null,null,null,null,null,null,null,null,null,false]
[null,null,null,null,null,null,null,null,null,false]
[null,null,null,null,null,null,null,null,null,false]
[null,null,null,null,null,null,null,null,null,false]
[null,null,null,null,null,null,null,null,null,false]
[null,null,null,null,null,null,null,null,null,false]
[null,null,null,null,null,null,null,null,null,false]
[null,null,null,null,null,null,null,null,null,false]
[null,null,null,null,null,null,null,null,null,false]
[null,null,null,null,null,null,null,null,null,false]
[null,null,null,null,null,null,null,null,null,false]
[null,null,null,null,null,null,null,null,null,false]
[null,null,null,null,null,null,null,null,null,false]
[null,null,null,null,null,null,null,null,null,false]
[null,null,null,null,null,null,null,null,null,false]
[null,null,null,null,null,null,null,null,null,false]
[null,null,null,null,null,null,null,null,null,false]
[null,null,null,null,null,null,null,null,null,false]
[null,null,null,null,null,null,null,null,null,false]
[null,null,null,null,null,null,null,null,null,false]
[null,null,null,null,null,null,null,null,null,false]
[null,null,null,null,null,null,null,null,null,false]
[null,null,null,null,null,null,null,null,null,false]
[null,null,null,null,null,null,null,null,null,false]
[null,null,null,null,null,null,null,null,null,false]
[null,null,null,null,null,null,null,null,null,false]
[null,null,null,null,null,null,null,null,null,false]
[null,null,null,null,null,null,null,null,null,false]
[null,null,null,null,null,null,null,null,null,false]
[null,null,null,null,null,null,null,null,null,false]
[null,null,null,null,null,null,null,null,null,false]
[null,null,null,null,null,null,null,null,null,false]
[null,null,null,null,null,null,null,null,null,false]
[null,null,null,null,null,null,null,null,null,false]
[null,null,null,null,null,null,null,null,null,false]
[null,null,null,null,null,null,null,null,null,false]
[null,null,null,null,null,null,null,null,null,false]
[null,null,null,null,null,null,null,null,null,false]
[null,null,null,null,null,null,null,null,null,false]
[null,null,null,null,null,null,null,null,null,false]
[null,null,null,null,null,null,null,null,null,false]
[null,null,null,null,null,null,null,null,null,false]
[null,null,null,null,null,null,null,null,null,false]
[null,null,null,null,null,null,null,null,null,false]
[null,null,null,null,null,null,null,null,null,false]
[null,null,null,null,null,null,null,null,null,false]
[null,null,null,null,null,null,null,null,null,false]
[null,null,null,null,null,null,null,null,null,false]
[null,null,null,null,null,null,null,null,null,false]
[null,null,null,null,null,null,null,null,null,false]
[null,null,null,null,null,null,null,null,null,false]
[null,null,null,null,null,null,null,null,null,false]
[null,null,null,null,null,null,null,null,null,false]
[null,null,null,null,null,null,null,null,null,false]
[null,null,null,null,null,null,null,null,null,false]
[null,null,null,null,null,null,null,null,null,false]
[null,null,null,null,null,null,null,null,null,false]
[null,null,null,null,null,null,null,null,null,false]
[null,null,null,null,null,null,null,null,null,false]
[null,null,null,null,null,null,null,null,null,false]
[null,null,null,null,null,null,null,null,null,false]
[null,null,null,null,null,null,null,null,null,false]
[null,null,null,null,null,null,null,null,null,false]
[null,null,null,null,null,null,null,null,null,false]
[null,null,null,null,null,null,null,null,null,false]
[null,null,null,null,null,null,null,null,null,false]
[null,null,null,null,null,null,null,null,null,false]
[null,null,null,null,null,null,null,null,null,false]
[null,null,null,null,null,null,null,null,null,false]
[null,null,null,null,null,null,null,null,null,false]
[null,null,null,null,null,null,null,null,null,false]
[null,null,null,null,null,null,null,null,null,false]
[null,null,null,null,null,null,null,null,null,false]
[null,null,null,null,null,null,null,null,null,false]
[null,null,null,null,null,null,null,null,null,false]
[null,null,null,null,null,null,null,null,null,false]
[null,null,null,null,null,null,null,null,null,false]
[null,null,null,null,null,null,null,null,null,false]
[null,null,null,null,null,null,null,null,null,false]
[null,null,null,null,null,null,null,null,null,false]
[null,null,null,null,null,null,null,null,null,false]
[null,null,null,null,null,null,null,null,null,false]
[null,null,null,null,null,null,null,null,null,false]
[null,null,null,null,null,null,null,null,null,false]
[null,null,null,null,null,null,null,null,null,false]
[null,null,null,null,null,null,null,null,null,false]
[null,null,null,null,null,null,null,null,null,false]
[null,null,null,null,null,null,null,null,null,false]
[null,null,null,null,null,null,null,null,null,false]
[null,null,null,null,null,null,null,null,null,false]
[null,null,null,null,null,null,null,null,null,false]
[null,null,null,null,null,null,null,null,null,false]
[null,null,null,null,null,null,null,null,null,false]
[null,null,null,null,null,null,null,null,null,false]
[null,null,null,null,null,null,null,null,null,false]
[null,null,null,null,null,null,null,null,null,false]
[null,null,null,null,null,null,null,null,null,false]
[null,null,null,null,null,null,null,null,null,false]
[null,null,null,null,null,null,null,null,null,false]
[null,null,null,null,null,null,null,null,null,false]
[null,null,null,null,null,null,null,null,null,false]
[null,null,null,null,null,null,null,null,null,false]
[null,null,null,null,null,null,null,null,null,false]
[null,null,null,null,null,null,null,null,null,false]
[null,null,null,null,null,null,null,null,null,false]
[null,null,null,null,null,null,null,null,null,false]
[null,null,null,null,null,null,null,null,null,false]
[null,null,null,null,null,null,null,null,null,false]
[null,null,null,null,null,null,null,null,null,false]
[null,null,null,null,null,null,null,null,null,false]
[null,null,null,null,null,null,null,null,null,false]
[null,null,null,null,null,null,null,null,null,false]
[null,null,null,null,null,null,null,null,null,false]
[null,null,null,null,null,null,null,null,null,false]
[null,null,null,null,null,null,null,null,null,false]
[null,null,null,null,null,null,null,null,null,false]
[null,null,null,null,null,null,null,null,null,false]
[null,null,null,null,null,null,null,null,null,false]
[null,null,null,null,null,null,null,null,null,false]
[null,null,null,null,null,null,null,null,null,false]
[null,null,null,null,null,null,null,null,null,false]
[null,null,null,null,null,null,null,null,null,false]
[null,null,null,null,null,null,null,null,null,false]
[null,null,null,null,null,null,null,null,null,false]
[null,null,null,null,null,null,null,null,null,false]
[null,null,null,null,null,null,null,null,null,false]
[null,null,null,null,null,null,null,null,null,false]
[null,null,null,null,null,null,null,null,null,false]
[null,null,null,null,null,null,null,null,null,false]
[null,null,null,null,null,null,null,null,null,false]
[null,null,null,null,null,null,null,null,null,false]
[null,null,null,null,null,null,null,null,null,false]
[null,null,null,null,null,null,null,null,null,false]
[null,null,null,null,null,null,null,null,null,false]
[null,null,null,null,null,null,null,null,null,false]
[null,null,null,null,null,null,null,null,null,false]
[null,null,null,null,null,null,null,null,null,false]
[null,null,null,null,null,null,null,null,null,false]
[null,null,null,null,null,null,null,null,null,false]
[null,null,null,null,null,null,null,null,null,false]
[null,null,null,null,null,null,null,null,null,false]
[null,null,null,null,null,null,null,null,null,false]
[null,null,null,null,null,null,null,null,null,false]
[null,null,null,null,null,null,null,null,null,false]
[null,null,null,null,null,null,null,null,null,false]
[null,null,null,null,null,null,null,null,null,false]
[null,null,null,null,null,null,null,null,null,false]
[null,null,null,null,null,null,null,null,null,false]
[null,null,null,null,null,null,null,null,null,false]
[null,null,null,null,null,null,null,null,null,false]
[null,null,null,null,null,null,null,null,null,false]
[null,null,null,null,null,null,null,null,null,false]
[null,null,null,null,null,null,null,null,null,false]
[null,null,null,null,null,null,null,null,null,false]
[null,null,null,null,null,null,null,null,null,false]
[null,null,null,null,null,null,null,null,null,false]
[null,null,null,null,null,null,null,null,null,false]
[null,null,null,null,null,null,null,null,null,false]
[null,null,null,null,null,null,null,null,null,false]
[null,null,null,null,null,null,null,null,null,false]
[null,null,null,null,null,null,null,null,null,false]
[null,null,null,null,null,null,null,null,null,false]
[null,null,null,null,null,null,null,null,null,false]
[null,null,null,null,null,null,null,null,null,false]
[null,null,null,null,null,null,null,null,null,false]
[null,null,null,null,null,null,null,null,null,false]
[null,null,null,null,null,null,null,null,null,false]
[null,null,null,null,null,null,null,null,null,false]
[null,null,null,null,null,null,null,null,null,false]
[null,null,null,null,null,null,null,null,null,false]
[null,null,null,null,null,null,null,null,null,false]
[null,null,null,null,null,null,null,null,null,false]
[null,null,null,null,null,null,null,null,null,false]
[null,null,null,null,null,null,null,null,null,false]
[null,null,null,null,null,null,null,null,null,false]
[null,null,null,null,null,null,null,null,null,false]
[null,null,null,null,null,null,null,null,null,false]
[null,null,null,null,null,null,null,null,null,false]
[null,null,null,null,null,null,null,null,null,false]
[null,null,null,null,null,null,null,null,null,false]
[null,null,null,null,null,null,null,null,null,false]
[null,null,null,null,null,null,null,null,null,false]
[null,null,null,null,null,null,null,null,null,false]
[null,null,null,null,null,null,null,null,null,false]
[null,null,null,null,null,null,null,null,null,false]
[null,null,null,null,null,null,null,null,null,false]
[null,null,null,null,null,null,null,null,null,false]
[null,null,null,null,null,null,null,null,null,false]
[null,null,null,null,null,null,null,null,null,false]
[null,null,null,null,null,null,null,null,null,false]
[null,null,null,null,null,null,null,null,null,false]
[null,null,null,null,null,null,null,null,null,false]
[null,null,null,null,null,null,null,null,null,false]
[null,null,null,null,null,null,null,null,null,false]
[null,null,null,null,null,null,null,null,null,false]
[null,null,null,null,null,null,null,null,null,false]
[null,null,null,null,null,null,null,null,null,false]
[null,null,null,null,null,null,null,null,null,false]
[null,null,null,null,null,null,null,null,null,false]
[null,null,null,null,null,null,null,null,null,false]
[null,null,null,null,null,null,null,null,null,false]
[null,null,null,null,null,null,null,null,null,false]
[null,null,null,null,null,null,null,null,null,false]
[null,null,null,null,null,null,null,null,null,false]
[null,null,null,null,null,null,null,null,null,false]
[null,null,null,null,null,null,null,null,null,false]
[null,null,null,null,null,null,null,null,null,false]
[null,null,null,null,null,null,null,null,null,false]
[null,null,null,null,null,null,null,null,null,false]
[null,null,null,null,null,null,null,null,null,false]
[null,null,null,null,null,null,null,null,null,false]
[null,null,null,null,null,null,null,null,null,false]
[null,null,null,null,null,null,null,null,null,false]
[null,null,null,null,null,null,null,null,null,false]
[null,null,null,null,null,null,null,null,null,false]
[null,null,null,null,null,null,null,null,null,false]
[null,null,null,null,null,null,null,null,null,false]
[null,null,null,null,null,null,null,null,null,false]
[null,null,null,null,null,null,null,null,null,false]
[null,null,null,null,null,null,null,null,null,false]
[null,null,null,null,null,null,null,null,null,false]
[null,null,null,null,null,null,null,null,null,false]
[null,null,null,null,null,null,null,null,null,false]
[null,null,null,null,null,null,null,null,null,false]
[null,null,null,null,null,null,null,null,null,false]
[null,null,null,null,null,null,null,null,null,false]
[null,null,null,null,null,null,null,null,null,false]
[null,null,null,null,null,null,null,null,null,false]
[null,null,null,null,null,null,null,null,null,false]
[null,null,null,null,null,null,null,null,null,false]
[null,null,null,null,null,null,null,null,null,false]
[null,null,null,null,null,null,null,null,null,false]
[null,null,null,null,null,null,null,null,null,false]
[null,null,null,null,null,null,null,null,null,false]
[null,null,null,null,null,null,null,null,null,false]
[null,null,null,null,null,null,null,null,null,false]
[null,null,null,null,null,null,null,null,null,false]
[null,null,null,null,null,null,null,null,null,false]
[null,null,null,null,null,null,null,null,null,false]
[null,null,null,null,null,null,null,null,null,false]
[null,null,null,null,null,null,null,null,null,false]
[null,null,null,null,null,null,null,null,null,false]
[null,null,null,null,null,null,null,null,null,false]
[null,null,null,null,null,null,null,null,null,false]
[null,null,null,null,null,null,null,null,null,false]
[null,null,null,null,null,null,null,null,null,false]
[null,null,null,null,null,null,null,null,null,false]
[null,null,null,null,null,null,null,null,null,false]
[null,null,null,null,null,null,null,null,null,false]
[null,null,null,null,null,null,null,null,null,false]
[null,null,null,null,null,null,null,null,null,false]
[null,null,null,null,null,null,null,null,null,false]
[null,null,null,null,null,null,null,null,null,false]
[null,null,null,null,null,null,null,null,null,false]
[null,null,null,null,null,null,null,null,null,false]
[null,null,null,null,null,null,null,null,null,false]
[null,null,null,null,null,null,null,null,null,false]
[null,null,null,null,null,null,null,null,null,false]
[null,null,null,null,null,null,null,null,null,false]
[null,null,null,null,null,null,null,null,null,false]
[null,null,null,null,null,null,null,null,null,false]
[null,null,null,null,null,null,null,null,null,false]
[null,null,null,null,null,null,null,null,null,false]
[null,null,null,null,null,null,null,null,null,false]
[null,null,null,null,null,null,null,null,null,false]
[null,null,null,null,null,null,null,null,null,false]
[null,null,null,null,null,null,null,null,null,false]
[null,null,null,null,null,null,null,null,null,false]
[null,null,null,null,null,null,null,null,null,false]
[null,null,null,null,null,null,null,null,null,false]
[null,null,null,null,null,null,null,null,null,false]
[null,null,null,null,null,null,null,null,null,false]
[null,null,null,null,null,null,null,null,null,false]
[null,null,null,null,null,null,null,null,null,false]
[null,null,null,null,null,null,null,null,null,false]
[null,null,null,null,null,null,null,null,null,false]
[null,null,null,null,null,null,null,null,null,false]
[null,null,null,null,null,null,null,null,null,false]
[null,null,null,null,null,null,null,null,null,false]
[null,null,null,null,null,null,null,null,null,false]
[null,null,null,null,null,null,null,null,null,false]
[null,null,null,null,null,null,null,null,null,false]
[null,null,null,null,null,null,null,null,null,false]
[null,null,null,null,null,null,null,null,null,false]
[null,null,null,null,null,null,null,null,null,false]
[null,null,null,null,null,null,null,null,null,false]
[null,null,null,null,null,null,null,null,null,false]
[null,null,null,null,null,null,null,null,null,false]
[null,null,null,null,null,null,null,null,null,false]
[null,null,null,null,null,null,null,null,null,false]
[null,null,null,null,null,null,null,null,null,false]
[null,null,null,null,null,null,null,null,null,false]
[null,null,null,null,null,null,null,null,null,false]
[null,null,null,null,null,null,null,null,null,false]
[null,null,null,null,null,null,null,null,null,false]
[null,null,null,null,null,null,null,null,null,false]
[null,null,null,null,null,null,null,null,null,false]
[null,null,null,null,null,null,null,null,null,false]
[null,null,null,null,null,null,null,null,null,false]
[null,null,null,null,null,null,null,null,null,false]
[null,null,null,null,null,null,null,null,null,false]
[null,null,null,null,null,null,null,null,null,false]
[null,null,null,null,null,null,null,null,null,false]
[null,null,null,null,null,null,null,null,null,false]
[null,null,null,null,null,null,null,null,null,false]
[null,null,null,null,null,null,null,null,null,false]
[null,null,null,null,null,null,null,null,null,false]
[null,null,null,null,null,null,null,null,null,false]
[null,null,null,null,null,null,null,null,null,false]
[null,null,null,null,null,null,null,null,null,false]
[null,null,null,null,null,null,null,null,null,false]
[null,null,null,null,null,null,null,null,null,false]
[null,null,null,null,null,null,null,null,null,false]
[null,null,null,null,null,null,null,null,null,false]
[null,null,null,null,null,null,null,null,null,false]
[null,null,null,null,null,null,null,null,null,false]
[null,null,null,null,null,null,null,null,null,false]
[null,null,null,null,null,null,null,null,null,false]
[null,null,null,null,null,null,null,null,null,false]
[null,null,null,null,null,null,null,null,null,false]
[null,null,null,null,null,null,null,null,null,false]
[null,null,null,null,null,null,null,null,null,false]
[null,null,null,null,null,null,null,null,null,false]
[null,null,null,null,null,null,null,null,null,false]
[null,null,null,null,null,null,null,null,null,false]
[null,null,null,null,null,null,null,null,null,false]
[null,null,null,null,null,null,null,null,null,false]
[null,null,null,null,null,null,null,null,null,false]
[null,null,null,null,null,null,null,null,null,false]
[null,null,null,null,null,null,null,null,null,false]
[null,null,null,null,null,null,null,null,null,false]
[null,null,null,null,null,null,null,null,null,false]
[null,null,null,null,null,null,null,null,null,false]
[null,null,null,null,null,null,null,null,null,false]
[null,null,null,null,null,null,null,null,null,false]
[null,null,null,null,null,null,null,null,null,false]
[null,null,null,null,null,null,null,null,null,false]
[null,null,null,null,null,null,null,null,null,false]
[null,null,null,null,null,null,null,null,null,false]
[null,null,null,null,null,null,null,null,null,false]
[null,null,null,null,null,null,null,null,null,false]
[null,null,null,null,null,null,null,null,null,false]
[null,null,null,null,null,null,null,null,null,false]
[null,null,null,null,null,null,null,null,null,false]
[null,null,null,null,null,null,null,null,null,false]
[null,null,null,null,null,null,null,null,null,false]
[null,null,null,null,null,null,null,null,null,false]
[null,null,null,null,null,null,null,null,null,false]
[null,null,null,null,null,null,null,null,null,false]
[null,null,null,null,null,null,null,null,null,false]
[null,null,null,null,null,null,null,null,null,false]
[null,null,null,null,null,null,null,null,null,false]
[null,null,null,null,null,null,null,null,null,false]
[null,null,null,null,null,null,null,null,null,false]
[null,null,null,null,null,null,null,null,null,false]
[null,null,null,null,null,null,null,null,null,false]
[null,null,null,null,null,null,null,null,null,false]
[null,null,null,null,null,null,null,null,null,false]
[null,null,null,null,null,null,null,null,null,false]
[null,null,null,null,null,null,null,null,null,false]
[null,null,null,null,null,null,null,null,null,false]
[null,null,null,null,null,null,null,null,null,false]
[null,null,null,null,null,null,null,null,null,false]
[null,null,null,null,null,null,null,null,null,false]
[null,null,null,null,null,null,null,null,null,false]
[null,null,null,null,null,null,null,null,null,false]
[null,null,null,null,null,null,null,null,null,false]
[null,null,null,null,null,null,null,null,null,false]
[null,null,null,null,null,null,null,null,null,false]
[null,null,null,null,null,null,null,null,null,false]
[null,null,null,null,null,null,null,null,null,false]
[null,null,null,null,null,null,null,null,null,false]
[null,null,null,null,null,null,null,null,null,false]
[null,null,null,null,null,null,null,null,null,false]
[null,null,null,null,null,null,null,null,null,false]
[null,null,null,null,null,null,null,null,null,false]
[null,null,null,null,null,null,null,null,null,false]
[null,null,null,null,null,null,null,null,null,false]
[null,null,null,null,null,null,null,null,null,false]
[null,null,null,null,null,null,null,null,null,false]
[null,null,null,null,null,null,null,null,null,false]
[null,null,null,null,null,null,null,null,null,false]
[null,null,null,null,null,null,null,null,null,false]
[null,null,null,null,null,null,null,null,null,false]
[null,null,null,null,null,null,null,null,null,false]
[null,null,null,null,null,null,null,null,null,false]
[null,null,null,null,null,null,null,null,null,false]
[null,null,null,null,null,null,null,null,null,false]
[null,null,null,null,null,null,null,null,null,false]
[null,null,null,null,null,null,null,null,null,false]
[null,null,null,null,null,null,null,null,null,false]
[null,null,null,null,null,null,null,null,null,false]
[null,null,null,null,null,null,null,null,null,false]
[null,null,null,null,null,null,null,null,null,false]
[null,null,null,null,null,null,null,null,null,false]
[null,null,null,null,null,null,null,null,null,false]
[null,null,null,null,null,null,null,null,null,false]
[null,null,null,null,null,null,null,null,null,false]
[null,null,null,null,null,null,null,null,null,false]
[null,null,null,null,null,null,null,null,null,false]
[null,null,null,null,null,null,null,null,null,false]
[null,null,null,null,null,null,null,null,null,false]
[null,null,null,null,null,null,null,null,null,false]
[null,null,null,null,null,null,null,null,null,false]
[null,null,null,null,null,null,null,null,null,false]
[null,null,null,null,null,null,null,null,null,false]
[null,null,null,null,null,null,null,null,null,false]
[null,null,null,null,null,null,null,null,null,false]
[null,null,null,null,null,null,null,null,null,false]
[null,null,null,null,null,null,null,null,null,false]
[null,null,null,null,null,null,null,null,null,false]
[null,null,null,null,null,null,null,null,null,false]
[null,null,null,null,null,null,null,null,null,false]
[null,null,null,null,null,null,null,null,null,false]
[null,null,null,null,null,null,null,null,null,false]
[null,null,null,null,null,null,null,null,null,false]
[null,null,null,null,null,null,null,null,null,false]
[null,null,null,null,null,null,null,null,null,false]
[null,null,null,null,null,null,null,null,null,false]
[null,null,null,null,null,null,null,null,null,false]
[null,null,null,null,null,null,null,null,null,false]
[null,null,null,null,null,null,null,null,null,false]
[null,null,null,null,null,null,null,null,null,false]
[null,null,null,null,null,null,null,null,null,false]
[null,null,null,null,null,null,null,null,null,false]
[null,null,null,null,null,null,null,null,null,false]
[null,null,null,null,null,null,null,null,null,false]
[null,null,null,null,null,null,null,null,null,false]
[null,null,null,null,null,null,null,null,null,false]
[null,null,null,null,null,null,null,null,null,false]
[null,null,null,null,null,null,null,null,null,false]
[null,null,null,null,null,null,null,null,null,false]
[null,null,null,null,null,null,null,null,null,false]
[null,null,null,null,null,null,null,null,null,false]
[null,null,null,null,null,null,null,null,null,false]
[null,null,null,null,null,null,null,null,null,false]
[null,null,null,null,null,null,null,null,null,false]
[null,null,null,null,null,null,null,null,null,false]
[null,null,null,null,null,null,null,null,null,false]
[null,null,null,null,null,null,null,null,null,false]
[null,null,null,null,null,null,null,null,null,false]
[null,null,null,null,null,null,null,null,null,false]
[null,null,null,null,null,null,null,null,null,false]
[null,null,null,null,null,null,null,null,null,false]
[null,null,null,null,null,null,null,null,null,false]
[null,null,null,null,null,null,null,null,null,false]
[null,null,null,null,null,null,null,null,null,false]
[null,null,null,null,null,null,null,null,null,false]
[null,null,null,null,null,null,null,null,null,false]
[null,null,null,null,null,null,null,null,null,false]
[null,null,null,null,null,null,null,null,null,false]
[null,null,null,null,null,null,null,null,null,false]
[null,null,null,null,null,null,null,null,null,false]
[null,null,null,null,null,null,null,null,null,false]
[null,null,null,null,null,null,null,null,null,false]
[null,null,null,null,null,null,null,null,null,false]
[null,null,null,null,null,null,null,null,null,false]
[null,null,null,null,null,null,null,null,null,false]
[null,null,null,null,null,null,null,null,null,false]
[null,null,null,null,null,null,null,null,null,false]
[null,null,null,null,null,null,null,null,null,false]
[null,null,null,null,null,null,null,null,null,false]
[null,null,null,null,null,null,null,null,null,false]
[null,null,null,null,null,null,null,null,null,false]
[null,null,null,null,null,null,null,null,null,false]
[null,null,null,null,null,null,null,null,null,false]
[null,null,null,null,null,null,null,null,null,false]
[null,null,null,null,null,null,null,null,null,false]
[null,null,null,null,null,null,null,null,null,false]
[null,null,null,null,null,null,null,null,null,false]
[null,null,null,null,null,null,null,null,null,false]
[null,null,null,null,null,null,null,null,null,false]
[null,null,null,null,null,null,null,null,null,false]
[null,null,null,null,null,null,null,null,null,false]
[null,null,null,null,null,null,null,null,null,false]
[null,null,null,null,null,null,null,null,null,false]
[null,null,null,null,null,null,null,null,null,false]
[null,null,null,null,null,null,null,null,null,false]
[null,null,null,null,null,null,null,null,null,false]
[null,null,null,null,null,null,null,null,null,false]
[null,null,null,null,null,null,null,null,null,false]
[null,null,null,null,null,null,null,null,null,false]
[null,null,null,null,null,null,null,null,null,false]
[null,null,null,null,null,null,null,null,null,false]
[null,null,null,null,null,null,null,null,null,false]
[null,null,null,null,null,null,null,null,null,false]
[null,null,null,null,null,null,null,null,null,false]
[null,null,null,null,null,null,null,null,null,false]
[null,null,null,null,null,null,null,null,null,false]
[null,null,null,null,null,null,null,null,null,false]
[null,null,null,null,null,null,null,null,null,false]
[null,null,null,null,null,null,null,null,null,false]
[null,null,null,null,null,null,null,null,null,false]
[null,null,null,null,null,null,null,null,null,false]
[null,null,null,null,null,null,null,null,null,false]
[null,null,null,null,null,null,null,null,null,false]
[null,null,null,null,null,null,null,null,null,false]
[null,null,null,null,null,null,null,null,null,false]
[null,null,null,null,null,null,null,null,null,false]
[null,null,null,null,null,null,null,null,null,false]
[null,null,null,null,null,null,null,null,null,false]
[null,null,null,null,null,null,null,null,null,false]
[null,null,null,null,null,null,null,null,null,false]
[null,null,null,null,null,null,null,null,null,false]
[null,null,null,null,null,null,null,null,null,false]
[null,null,null,null,null,null,null,null,null,false]
[null,null,null,null,null,null,null,null,null,false]
[null,null,null,null,null,null,null,null,null,false]
[null,null,null,null,null,null,null,null,null,false]
[null,null,null,null,null,null,null,null,null,false]
[null,null,null,null,null,null,null,null,null,false]
[null,null,null,null,null,null,null,null,null,false]
[null,null,null,null,null,null,null,null,null,false]
[null,null,null,null,null,null,null,null,null,false]
[null,null,null,null,null,null,null,null,null,false]
[null,null,null,null,null,null,null,null,null,false]
[null,null,null,null,null,null,null,null,null,false]
[null,null,null,null,null,null,null,null,null,false]
[null,null,null,null,null,null,null,null,null,false]
[null,null,null,null,null,null,null,null,null,false]
[null,null,null,null,null,null,null,null,null,false]
[null,null,null,null,null,null,null,null,null,false]
[null,null,null,null,null,null,null,null,null,false]
[null,null,null,null,null,null,null,null,null,false]
[null,null,null,null,null,null,null,null,null,false]
[null,null,null,null,null,null,null,null,null,false]
[null,null,null,null,null,null,null,null,null,false]
[null,null,null,null,null,null,null,null,null,false]
[null,null,null,null,null,null,null,null,null,false]
[null,null,null,null,null,null,null,null,null,false]
[null,null,null,null,null,null,null,null,null,false]
[null,null,null,null,null,null,null,null,null,false]
[null,null,null,null,null,null,null,null,null,false]
[null,null,null,null,null,null,null,null,null,false]
[null,null,null,null,null,null,null,null,null,false]
[null,null,null,null,null,null,null,null,null,false]
[null,null,null,null,null,null,null,null,null,false]
[null,null,null,null,null,null,null,null,null,false]
[null,null,null,null,null,null,null,null,null,false]
[null,null,null,null,null,null,null,null,null,false]
[null,null,null,null,null,null,null,null,null,false]
[null,null,null,null,null,null,null,null,null,false]
[null,null,null,null,null,null,null,null,null,false]
[null,null,null,null,null,null,null,null,null,false]
[null,null,null,null,null,null,null,null,null,false]
[null,null,null,null,null,null,null,null,null,false]
[null,null,null,null,null,null,null,null,null,false]
[null,null,null,null,null,null,null,null,null,false]
[null,null,null,null,null,null,null,null,null,false]
[null,null,null,null,null,null,null,null,null,false]
[null,null,null,null,null,null,null,null,null,false]
[null,null,null,null,null,null,null,null,null,false]
[null,null,null,null,null,null,null,null,null,false]
[null,null,null,null,null,null,null,null,null,false]
[null,null,null,null,null,null,null,null,null,false]
[null,null,null,null,null,null,null,null,null,false]
[null,null,null,null,null,null,null,null,null,false]
[null,null,null,null,null,null,null,null,null,false]
[null,null,null,null,null,null,null,null,null,false]
[null,null,null,null,null,null,null,null,null,false]
[null,null,null,null,null,null,null,null,null,false]
[null,null,null,null,null,null,null,null,null,false]
[null,null,null,null,null,null,null,null,null,false]
[null,null,null,null,null,null,null,null,null,false]
[null,null,null,null,null,null,null,null,null,false]
[null,null,null,null,null,null,null,null,null,false]
[null,null,null,null,null,null,null,null,null,false]
[null,null,null,null,null,null,null,null,null,false]
[null,null,null,null,null,null,null,null,null,false]
[null,null,null,null,null,null,null,null,null,false]
[null,null,null,null,null,null,null,null,null,false]
[null,null,null,null,null,null,null,null,null,false]
[null,null,null,null,null,null,null,null,null,false]
[null,null,null,null,null,null,null,null,null,false]
[null,null,null,null,null,null,null,null,null,false]
[null,null,null,null,null,null,null,null,null,false]
[null,null,null,null,null,null,null,null,null,false]
[null,null,null,null,null,null,null,null,null,false]
[null,null,null,null,null,null,null,null,null,false]
[null,null,null,null,null,null,null,null,null,false]
[null,null,null,null,null,null,null,null,null,false]
[null,null,null,null,null,null,null,null,null,false]
[null,null,null,null,null,null,null,null,null,false]
[null,null,null,null,null,null,null,null,null,false]
[null,null,null,null,null,null,null,null,null,false]
[null,null,null,null,null,null,null,null,null,false]
[null,null,null,null,null,null,null,null,null,false]
[null,null,null,null,null,null,null,null,null,false]
[null,null,null,null,null,null,null,null,null,false]
[null,null,null,null,null,null,null,null,null,false]
[null,null,null,null,null,null,null,null,null,false]
[null,null,null,null,null,null,null,null,null,false]
[null,null,null,null,null,null,null,null,null,false]
[null,null,null,null,null,null,null,null,null,false]
[null,null,null,null,null,null,null,null,null,false]
[null,null,null,null,null,null,null,null,null,false]
[null,null,null,null,null,null,null,null,null,false]
[null,null,null,null,null,null,null,null,null,false]
[null,null,null,null,null,null,null,null,null,false]
[null,null,null,null,null,null,null,null,null,false]
[null,null,null,null,null,null,null,null,null,false]
[null,null,null,null,null,null,null,null,null,false]
[null,null,null,null,null,null,null,null,null,false]
[null,null,null,null,null,null,null,null,null,false]
[null,null,null,null,null,null,null,null,null,false]
[null,null,null,null,null,null,null,null,null,false]
[null,null,null,null,null,null,null,null,null,false]
[null,null,null,null,null,null,null,null,null,false]
[null,null,null,null,null,null,null,null,null,false]
[null,null,null,null,null,null,null,null,null,false]
[null,null,null,null,null,null,null,null,null,false]
[null,null,null,null,null,null,null,null,null,false]
[null,null,null,null,null,null,null,null,null,false]
[null,null,null,null,null,null,null,null,null,false]
[null,null,null,null,null,null,null,null,null,false]
[null,null,null,null,null,null,null,null,null,false]
[null,null,null,null,null,null,null,null,null,false]
[null,null,null,null,null,null,null,null,null,false]
[null,null,null,null,null,null,null,null,null,false]
[null,null,null,null,null,null,null,null,null,false]
[null,null,null,null,null,null,null,null,null,false]
[null,null,null,null,null,null,null,null,null,false]
[null,null,null,null,null,null,null,null,null,false]
[null,null,null,null,null,null,null,null,null,false]
[null,null,null,null,null,null,null,null,null,false]
[null,null,null,null,null,null,null,null,null,false]
[null,null,null,null,null,null,null,null,null,false]
[null,null,null,null,null,null,null,null,null,false]
[null,null,null,null,null,null,null,null,null,false]
[null,null,null,null,null,null,null,null,null,false]
[null,null,null,null,null,null,null,null,null,false]
[null,null,null,null,null,null,null,null,null,false]
[null,null,null,null,null,null,null,null,null,false]
[null,null,null,null,null,null,null,null,null,false]
[null,null,null,null,null,null,null,null,null,false]
[null,null,null,null,null,null,null,null,null,false]
[null,null,null,null,null,null,null,null,null,false]
[null,null,null,null,null,null,null,null,null,false]
[null,null,null,null,null,null,null,null,null,false]
[null,null,null,null,null,null,null,null,null,false]
[null,null,null,null,null,null,null,null,null,false]
[null,null,null,null,null,null,null,null,null,false]
[null,null,null,null,null,null,null,null,null,false]
[null,null,null,null,null,null,null,null,null,false]
[null,null,null,null,null,null,null,null,null,false]
[null,null,null,null,null,null,null,null,null,false]
[null,null,null,null,null,null,null,null,null,false]
[null,null,null,null,null,null,null,null,null,false]
[null,null,null,null,null,null,null,null,null,false]
[null,null,null,null,null,null,null,null,null,false]
[null,null,null,null,null,null,null,null,null,false]
[null,null,null,null,null,null,null,null,null,false]
[null,null,null,null,null,null,null,null,null,false]
[null,null,null,null,null,null,null,null,null,false]
[null,null,null,null,null,null,null,null,null,false]
[null,null,null,null,null,null,null,null,null,false]
[null,null,null,null,null,null,null,null,null,false]
[null,null,null,null,null,null,null,null,null,false]
[null,null,null,null,null,null,null,null,null,false]
[null,null,null,null,null,null,null,null,null,false]
[null,null,null,null,null,null,null,null,null,false]
[null,null,null,null,null,null,null,null,null,false]
[null,null,null,null,null,null,null,null,null,false]
[null,null,null,null,null,null,null,null,null,false]
[null,null,null,null,null,null,null,null,null,false]
[null,null,null,null,null,null,null,null,null,false]
[null,null,null,null,null,null,null,null,null,false]
[null,null,null,null,null,null,null,null,null,false]
[null,null,null,null,null,null,null,null,null,false]
[null,null,null,null,null,null,null,null,null,false]
[null,null,null,null,null,null,null,null,null,false]
[null,null,null,null,null,null,null,null,null,false]
[null,null,null,null,null,null,null,null,null,false]
[null,null,null,null,null,null,null,null,null,false]
[null,null,null,null,null,null,null,null,null,false]
[null,null,null,null,null,null,null,null,null,false]
[null,null,null,null,null,null,null,null,null,false]
[null,null,null,null,null,null,null,null,null,false]
[null,null,null,null,null,null,null,null,null,false]
[null,null,null,null,null,null,null,null,null,false]
[null,null,null,null,null,null,null,null,null,false]
[null,null,null,null,null,null,null,null,null,false]
[null,null,null,null,null,null,null,null,null,false]
[null,null,null,null,null,null,null,null,null,false]
[null,null,null,null,null,null,null,null,null,false]
[null,null,null,null,null,null,null,null,null,false]
[null,null,null,null,null,null,null,null,null,false]
[null,null,null,null,null,null,null,null,null,false]
[null,null,null,null,null,null,null,null,null,false]
[null,null,null,null,null,null,null,null,null,false]
[null,null,null,null,null,null,null,null,null,false]
[null,null,null,null,null,null,null,null,null,false]
[null,null,null,null,null,null,null,null,null,false]
[null,null,null,null,null,null,null,null,null,false]
[null,null,null,null,null,null,null,null,null,false]
[null,null,null,null,null,null,null,null,null,false]
[null,null,null,null,null,null,null,null,null,false]
[null,null,null,null,null,null,null,null,null,false]
[null,null,null,null,null,null,null,null,null,false]
[null,null,null,null,null,null,null,null,null,false]
[null,null,null,null,null,null,null,null,null,false]
[null,null,null,null,null,null,null,null,null,false]
[null,null,null,null,null,null,null,null,null,false]
[null,null,null,null,null,null,null,null,null,false]
[null,null,null,null,null,null,null,null,null,false]
[null,null,null,null,null,null,null,null,null,false]
[null,null,null,null,null,null,null,null,null,false]
[null,null,null,null,null,null,null,null,null,false]
[null,null,null,null,null,null,null,null,null,false]
[null,null,null,null,null,null,null,null,null,false]
[null,null,null,null,null,null,null,null,null,false]
[null,null,null,null,null,null,null,null,null,false]
[null,null,null,null,null,null,null,null,null,false]
[null,null,null,null,null,null,null,null,null,false]
[null,null,null,null,null,null,null,null,null,false]
[null,null,null,null,null,null,null,null,null,false]
[null,null,null,null,null,null,null,null,null,false]
[null,null,null,null,null,null,null,null,null,false]
[null,null,null,null,null,null,null,null,null,false]
[null,null,null,null,null,null,null,null,null,false]
[null,null,null,null,null,null,null,null,null,false]
[null,null,null,null,null,null,null,null,null,false]
[null,null,null,null,null,null,null,null,null,false]
[null,null,null,null,null,null,null,null,null,false]
[null,null,null,null,null,null,null,null,null,false]
[null,null,null,null,null,null,null,null,null,false]
[null,null,null,null,null,null,null,null,null,false]
[null,null,null,null,null,null,null,null,null,false]
[null,null,null,null,null,null,null,null,null,false]
[null,null,null,null,null,null,null,null,null,false]
[null,null,null,null,null,null,null,null,null,false]
[null,null,null,null,null,null,null,null,null,false]
[null,null,null,null,null,null,null,null,null,false]
[null,null,null,null,null,null,null,null,null,false]
[null,null,null,null,null,null,null,null,null,false]
[null,null,null,null,null,null,null,null,null,false]
[null,null,null,null,null,null,null,null,null,false]
[null,null,null,null,null,null,null,null,null,false]
[null,null,null,null,null,null,null,null,null,false]
[null,null,null,null,null,null,null,null,null,false]
[null,null,null,null,null,null,null,null,null,false]
[null,null,null,null,null,null,null,null,null,false]
[null,null,null,null,null,null,null,null,null,false]
[null,null,null,null,null,null,null,null,null,false]
[null,null,null,null,null,null,null,null,null,false]
[null,null,null,null,null,null,null,null,null,false]
[null,null,null,null,null,null,null,null,null,false]
[null,null,null,null,null,null,null,null,null,false]
[null,null,null,null,null,null,null,null,null,false]
[null,null,null,null,null,null,null,null,null,false]
[null,null,null,null,null,null,null,null,null,false]
[null,null,null,null,null,null,null,null,null,false]
[null,null,null,null,null,null,null,null,null,false]
[null,null,null,null,null,null,null,null,null,false]
[null,null,null,null,null,null,null,null,null,false]
[null,null,null,null,null,null,null,null,null,false]
[null,null,null,null,null,null,null,null,null,false]
[null,null,null,null,null,null,null,null,null,false]
[null,null,null,null,null,null,null,null,null,false]
[null,null,null,null,null,null,null,null,null,false]
[null,null,null,null,null,null,null,null,null,false]
[null,null,null,null,null,null,null,null,null,false]
[null,null,null,null,null,null,null,null,null,false]
[null,null,null,null,null,null,null,null,null,false]
[null,null,null,null,null,null,null,null,null,false]
[null,null,null,null,null,null,null,null,null,false]
[null,null,null,null,null,null,null,null,null,false]
[null,null,null,null,null,null,null,null,null,false]
[null,null,null,null,null,null,null,null,null,false]
[null,null,null,null,null,null,null,null,null,false]
[null,null,null,null,null,null,null,null,null,false]
[null,null,null,null,null,null,null,null,null,false]
[null,null,null,null,null,null,null,null,null,false]
[null,null,null,null,null,null,null,null,null,false]
[null,null,null,null,null,null,null,null,null,false]
[null,null,null,null,null,null,null,null,null,false]
[null,null,null,null,null,null,null,null,null,false]
[null,null,null,null,null,null,null,null,null,false]
[null,null,null,null,null,null,null,null,null,false]
[null,null,null,null,null,null,null,null,null,false]
[null,null,null,null,null,null,null,null,null,false]
[null,null,null,null,null,null,null,null,null,false]
[null,null,null,null,null,null,null,null,null,false]
[null,null,null,null,null,null,null,null,null,false]
[null,null,null,null,null,null,null,null,null,false]
[null,null,null,null,null,null,null,null,null,false]
[null,null,null,null,null,null,null,null,null,false]
[null,null,null,null,null,null,null,null,null,false]
[null,null,null,null,null,null,null,null,null,false]
[null,null,null,null,null,null,null,null,null,false]
[null,null,null,null,null,null,null,null,null,false]
[null,null,null,null,null,null,null,null,null,false]
[null,null,null,null,null,null,null,null,null,false]
[null,null,null,null,null,null,null,null,null,false]
[null,null,null,null,null,null,null,null,null,false]
[null,null,null,null,null,null,null,null,null,false]
[null,null,null,null,null,null,null,null,null,false]
[null,null,null,null,null,null,null,null,null,false]
[null,null,null,null,null,null,null,null,null,false]
[null,null,null,null,null,null,null,null,null,false]
[null,null,null,null,null,null,null,null,null,false]
[null,null,null,null,null,null,null,null,null,false]
[null,null,null,null,null,null,null,null,null,false]
[null,null,null,null,null,null,null,null,null,false]
[null,null,null,null,null,null,null,null,null,false]
[null,null,null,null,null,null,null,null,null,false]
[null,null,null,null,null,null,null,null,null,false]
[null,null,null,null,null,null,null,null,null,false]
[null,null,null,null,null,null,null,null,null,false]
[null,null,null,null,null,null,null,null,null,false]
[null,null,null,null,null,null,null,null,null,false]
[null,null,null,null,null,null,null,null,null,false]
[null,null,null,null,null,null,null,null,null,false]
[null,null,null,null,null,null,null,null,null,false]
[null,null,null,null,null,null,null,null,null,false]
[null,null,null,null,null,null,null,null,null,false]
[null,null,null,null,null,null,null,null,null,false]
[null,null,null,null,null,null,null,null,null,false]
[null,null,null,null,null,null,null,null,null,false]
[null,null,null,null,null,null,null,null,null,false]
[null,null,null,null,null,null,null,null,null,false]
[null,null,null,null,null,null,null,null,null,false]
[null,null,null,null,null,null,null,null,null,false]
[null,null,null,null,null,null,null,null,null,false]
[null,null,null,null,null,null,null,null,null,false]
[null,null,null,null,null,null,null,null,null,false]
[null,null,null,null,null,null,null,null,null,false]
[null,null,null,null,null,null,null,null,null,false]
[null,null,null,null,null,null,null,null,null,false]
[null,null,null,null,null,null,null,null,null,false]
[null,null,null,null,null,null,null,null,null,false]
[null,null,null,null,null,null,null,null,null,false]
[null,null,null,null,null,null,null,null,null,false]
[null,null,null,null,null,null,null,null,null,false]
[null,null,null,null,null,null,null,null,null,false]
[null,null,null,null,null,null,null,null,null,false]
[null,null,null,null,null,null,null,null,null,false]
[null,null,null,null,null,null,null,null,null,false]
[null,null,null,null,null,null,null,null,null,false]
[null,null,null,null,null,null,null,null,null,false]
[null,null,null,null,null,null,null,null,null,false]
[null,null,null,null,null,null,null,null,null,false]
[null,null,null,null,null,null,null,null,null,false]
[null,null,null,null,null,null,null,null,null,false]
[null,null,null,null,null,null,null,null,null,false]
[null,null,null,null,null,null,null,null,null,false]
[null,null,null,null,null,null,null,null,null,false]
[null,null,null,null,null,null,null,null,null,false]
[null,null,null,null,null,null,null,null,null,false]
[null,null,null,null,null,null,null,null,null,false]
[null,null,null,null,null,null,null,null,null,false]
[null,null,null,null,null,null,null,null,null,false]
[null,null,null,null,null,null,null,null,null,false]
[null,null,null,null,null,null,null,null,null,false]
[null,null,null,null,null,null,null,null,null,false]
[null,null,null,null,null,null,null,null,null,false]
[null,null,null,null,null,null,null,null,null,false]
[null,null,null,null,null,null,null,null,null,false]
[null,null,null,null,null,null,null,null,null,false]
[null,null,null,null,null,null,null,null,null,false]
[null,null,null,null,null,null,null,null,null,false]
[null,null,null,null,null,null,null,null,null,false]
[null,null,null,null,null,null,null,null,null,false]
[null,null,null,null,null,null,null,null,null,false]
[null,null,null,null,null,null,null,null,null,false]
[null,null,null,null,null,null,null,null,null,false]
[null,null,null,null,null,null,null,null,null,false]
[null,null,null,null,null,null,null,null,null,false]
[null,null,null,null,null,null,null,null,null,false]
[null,null,null,null,null,null,null,null,null,false]
[null,null,null,null,null,null,null,null,null,false]
[null,null,null,null,null,null,null,null,null,false]
[null,null,null,null,null,null,null,null,null,false]
[null,null,null,null,null,null,null,null,null,false]
[null,null,null,null,null,null,null,null,null,false]
[null,null,null,null,null,null,null,null,null,false]
[null,null,null,null,null,null,null,null,null,false]
[null,null,null,null,null,null,null,null,null,false]
[null,null,null,null,null,null,null,null,null,false]
[null,null,null,null,null,null,null,null,null,false]
[null,null,null,null,null,null,null,null,null,false]
[null,null,null,null,null,null,null,null,null,false]
[null,null,null,null,null,null,null,null,null,false]
[null,null,null,null,null,null,null,null,null,false]
[null,null,null,null,null,null,null,null,null,false]
[null,null,null,null,null,null,null,null,null,false]
[null,null,null,null,null,null,null,null,null,false]
[null,null,null,null,null,null,null,null,null,false]
[null,null,null,null,null,null,null,null,null,false]
[null,null,null,null,null,null,null,null,null,false]
[null,null,null,null,null,null,null,null,null,false]
[null,null,null,null,null,null,null,null,null,false]
[null,null,null,null,null,null,null,null,null,false]
[null,null,null,null,null,null,null,null,null,false]
[null,null,null,null,null,null,null,null,null,false]
[null,null,null,null,null,null,null,null,null,false]
[null,null,null,null,null,null,null,null,null,false]
[null,null,null,null,null,null,null,null,null,false]
[null,null,null,null,null,null,null,null,null,false]
[null,null,null,null,null,null,null,null,null,false]
[null,null,null,null,null,null,null,null,null,false]
[null,null,null,null,null,null,null,null,null,false]
[null,null,null,null,null,null,null,null,null,false]
[null,null,null,null,null,null,null,null,null,false]
[null,null,null,null,null,null,null,null,null,false]
[null,null,null,null,null,null,null,null,null,false]
[null,null,null,null,null,null,null,null,null,false]
[null,null,null,null,null,null,null,null,null,false]
[null,null,null,null,null,null,null,null,null,false]
[null,null,null,null,null,null,null,null,null,false]
[null,null,null,null,null,null,null,null,null,false]
[null,null,null,null,null,null,null,null,null,false]
[null,null,null,null,null,null,null,null,null,false]
[null,null,null,null,null,null,null,null,null,false]
[null,null,null,null,null,null,null,null,null,false]
[null,null,null,null,null,null,null,null,null,false]
[null,null,null,null,null,null,null,null,null,false]
[null,null,null,null,null,null,null,null,null,false]
[null,null,null,null,null,null,null,null,null,false]
[null,null,null,null,null,null,null,null,null,false]
[null,null,null,null,null,null,null,null,null,false]
[null,null,null,null,null,null,null,null,null,false]
[null,null,null,null,null,null,null,null,null,false]
[null,null,null,null,null,null,null,null,null,false]
[null,null,null,null,null,null,null,null,null,false]
[null,null,null,null,null,null,null,null,null,false]
[null,null,null,null,null,null,null,null,null,false]
[null,null,null,null,null,null,null,null,null,false]
[null,null,null,null,null,null,null,null,null,false]
[null,null,null,null,null,null,null,null,null,false]
[null,null,null,null,null,null,null,null,null,false]
[null,null,null,null,null,null,null,null,null,false]
[null,null,null,null,null,null,null,null,null,false]
[null,null,null,null,null,null,null,null,null,false]
[null,null,null,null,null,null,null,null,null,false]
[null,null,null,null,null,null,null,null,null,false]
[null,null,null,null,null,null,null,null,null,false]
[null,null,null,null,null,null,null,null,null,false]
[null,null,null,null,null,null,null,null,null,false]
[null,null,null,null,null,null,null,null,null,false]
[null,null,null,null,null,null,null,null,null,false]
[null,null,null,null,null,null,null,null,null,false]
[null,null,null,null,null,null,null,null,null,false]
[null,null,null,null,null,null,null,null,null,false]
[null,null,null,null,null,null,null,null,null,false]
[null,null,null,null,null,null,null,null,null,false]
[null,null,null,null,null,null,null,null,null,false]
[null,null,null,null,null,null,null,null,null,false]
[null,null,null,null,null,null,null,null,null,false]
[null,null,null,null,null,null,null,null,null,false]
[null,null,null,null,null,null,null,null,null,false]
[null,null,null,null,null,null,null,null,null,false]
[null,null,null,null,null,null,null,null,null,false]
[null,null,null,null,null,null,null,null,null,false]
[null,null,null,null,null,null,null,null,null,false]
[null,null,null,null,null,null,null,null,null,false]
[null,null,null,null,null,null,null,null,null,false]
[null,null,null,null,null,null,null,null,null,false]
[null,null,null,null,null,null,null,null,null,false]
[null,null,null,null,null,null,null,null,null,false]
[null,null,null,null,null,null,null,null,null,false]
[null,null,null,null,null,null,null,null,null,false]
[null,null,null,null,null,null,null,null,null,false]
[null,null,null,null,null,null,null,null,null,false]
[null,null,null,null,null,null,null,null,null,false]
[null,null,null,null,null,null,null,null,null,false]
[null,null,null,null,null,null,null,null,null,false]
[null,null,null,null,null,null,null,null,null,false]
[null,null,null,null,null,null,null,null,null,false]
[null,null,null,null,null,null,null,null,null,false]
[null,null,null,null,null,null,null,null,null,false]
[null,null,null,null,null,null,null,null,null,false]
[null,null,null,null,null,null,null,null,null,false]
[null,null,null,null,null,null,null,null,null,false]
[null,null,null,null,null,null,null,null,null,false]
[null,null,null,null,null,null,null,null,null,false]
[null,null,null,null,null,null,null,null,null,false]
[null,null,null,null,null,null,null,null,null,false]
[null,null,null,null,null,null,null,null,null,false]
[null,null,null,null,null,null,null,null,null,false]
[null,null,null,null,null,null,null,null,null,false]
[null,null,null,null,null,null,null,null,null,false]
[null,null,null,null,null,null,null,null,null,false]
[null,null,null,null,null,null,null,null,null,false]
[null,null,null,null,null,null,null,null,null,false]
[null,null,null,null,null,null,null,null,null,false]
[null,null,null,null,null,null,null,null,null,false]
[null,null,null,null,null,null,null,null,null,false]
[null,null,null,null,null,null,null,null,null,false]
[null,null,null,null,null,null,null,null,null,false]
[null,null,null,null,null,null,null,null,null,false]
[null,null,null,null,null,null,null,null,null,false]
[null,null,null,null,null,null,null,null,null,false]
[null,null,null,null,null,null,null,null,null,false]
[null,null,null,null,null,null,null,null,null,false]
[null,null,null,null,null,null,null,null,null,false]
[null,null,null,null,null,null,null,null,null,false]
[null,null,null,null,null,null,null,null,null,false]
[null,null,null,null,null,null,null,null,null,false]
[null,null,null,null,null,null,null,null,null,false]
[null,null,null,null,null,null,null,null,null,false]
[null,null,null,null,null,null,null,null,null,false]
[null,null,null,null,null,null,null,null,null,false]
[null,null,null,null,null,null,null,null,null,false]
[null,null,null,null,null,null,null,null,null,false]
[null,null,null,null,null,null,null,null,null,false]
[null,null,null,null,null,null,null,null,null,false]
[null,null,null,null,null,null,null,null,null,false]
[null,null,null,null,null,null,null,null,null,false]
[null,null,null,null,null,null,null,null,null,false]
[null,null,null,null,null,null,null,null,null,false]
[null,null,null,null,null,null,null,null,null,false]
[null,null,null,null,null,null,null,null,null,false]
[null,null,null,null,null,null,null,null,null,false]
[null,null,null,null,null,null,null,null,null,false]
[null,null,null,null,null,null,null,null,null,false]
[null,null,null,null,null,null,null,null,null,false]
[null,null,null,null,null,null,null,null,null,false]
[null,null,null,null,null,null,null,null,null,false]
[null,null,null,null,null,null,null,null,null,false]
[null,null,null,null,null,null,null,null,null,false]
[null,null,null,null,null,null,null,null,null,false]
[null,null,null,null,null,null,null,null,null,false]
[null,null,null,null,null,null,null,null,null,false]
[null,null,null,null,null,null,null,null,null,false]
[null,null,null,null,null,null,null,null,null,false]
[null,null,null,null,null,null,null,null,null,false]
[null,null,null,null,null,null,null,null,null,false]
[null,null,null,null,null,null,null,null,null,false]
[null,null,null,null,null,null,null,null,null,false]
[null,null,null,null,null,null,null,null,null,false]
[null,null,null,null,null,null,null,null,null,false]
[null,null,null,null,null,null,null,null,null,false]
[null,null,null,null,null,null,null,null,null,false]
[null,null,null,null,null,null,null,null,null,false]
[null,null,null,null,null,null,null,null,null,false]
[null,null,null,null,null,null,null,null,null,false]
[null,null,null,null,null,null,null,null,null,false]
[null,null,null,null,null,null,null,null,null,false]
[null,null,null,null,null,null,null,null,null,false]
[null,null,null,null,null,null,null,null,null,false]
[null,null,null,null,null,null,null,null,null,false]
[null,null,null,null,null,null,null,null,null,false]
[null,null,null,null,null,null,null,null,null,false]
[null,null,null,null,null,null,null,null,null,false]
[null,null,null,null,null,null,null,null,null,false]
[null,null,null,null,null,null,null,null,null,false]
[null,null,null,null,null,null,null,null,null,false]
[null,null,null,null,null,null,null,null,null,false]
[null,null,null,null,null,null,null,null,null,false]
[null,null,null,null,null,null,null,null,null,false]
[null,null,null,null,null,null,null,null,null,false]
[null,null,null,null,null,null,null,null,null,false]
[null,null,null,null,null,null,null,null,null,false]
[null,null,null,null,null,null,null,null,null,false]
[null,null,null,null,null,null,null,null,null,false]
[null,null,null,null,null,null,null,null,null,false]
[null,null,null,null,null,null,null,null,null,false]
[null,null,null,null,null,null,null,null,null,false]
[null,null,null,null,null,null,null,null,null,false]
[null,null,null,null,null,null,null,null,null,false]
[null,null,null,null,null,null,null,null,null,false]
[null,null,null,null,null,null,null,null,null,false]
[null,null,null,null,null,null,null,null,null,false]
[null,null,null,null,null,null,null,null,null,false]
[null,null,null,null,null,null,null,null,null,false]
[null,null,null,null,null,null,null,null,null,false]
[null,null,null,null,null,null,null,null,null,false]
[null,null,null,null,null,null,null,null,null,false]
[null,null,null,null,null,null,null,null,null,false]
[null,null,null,null,null,null,null,null,null,false]
[null,null,null,null,null,null,null,null,null,false]
[null,null,null,null,null,null,null,null,null,false]
[null,null,null,null,null,null,null,null,null,false]
[null,null,null,null,null,null,null,null,null,false]
[null,null,null,null,null,null,null,null,null,false]
[null,null,null,null,null,null,null,null,null,false]
[null,null,null,null,null,null,null,null,null,false]
[null,null,null,null,null,null,null,null,null,false]
[null,null,null,null,null,null,null,null,null,false]
[null,null,null,null,null,null,null,null,null,false]
[null,null,null,null,null,null,null,null,null,false]
[null,null,null,null,null,null,null,null,null,false]
[null,null,null,null,null,null,null,null,null,false]
[null,null,null,null,null,null,null,null,null,false]
[null,null,null,null,null,null,null,null,null,false]
[null,null,null,null,null,null,null,null,null,false]
[null,null,null,null,null,null,null,null,null,false]
[null,null,null,null,null,null,null,null,null,false]
[null,null,null,null,null,null,null,null,null,false]
[null,null,null,null,null,null,null,null,null,false]
[null,null,null,null,null,null,null,null,null,false]
[null,null,null,null,null,null,null,null,null,false]
[null,null,null,null,null,null,null,null,null,false]
[null,null,null,null,null,null,null,null,null,false]
[null,null,null,null,null,null,null,null,null,false]
[null,null,null,null,null,null,null,null,null,false]
[null,null,null,null,null,null,null,null,null,false]
[null,null,null,null,null,null,null,null,null,false]
[null,null,null,null,null,null,null,null,null,false]
[null,null,null,null,null,null,null,null,null,false]
[null,null,null,null,null,null,null,null,null,false]
[null,null,null,null,null,null,null,null,null,false]
[null,null,null,null,null,null,null,null,null,false]
[null,null,null,null,null,null,null,null,null,false]
[null,null,null,null,null,null,null,null,null,false]
[null,null,null,null,null,null,null,null,null,false]
[null,null,null,null,null,null,null,null,null,false]
[null,null,null,null,null,null,null,null,null,false]
[null,null,null,null,null,null,null,null,null,false]
[null,null,null,null,null,null,null,null,null,false]
[null,null,null,null,null,null,null,null,null,false]
[null,null,null,null,null,null,null,null,null,false]
[null,null,null,null,null,null,null,null,null,false]
[null,null,null,null,null,null,null,null,null,false]
[null,null,null,null,null,null,null,null,null,false]
[null,null,null,null,null,null,null,null,null,false]
[null,null,null,null,null,null,null,null,null,false]
[null,null,null,null,null,null,null,null,null,false]
[null,null,null,null,null,null,null,null,null,false]
[null,null,null,null,null,null,null,null,null,false]
[null,null,null,null,null,null,null,null,null,false]
[null,null,null,null,null,null,null,null,null,false]
[null,null,null,null,null,null,null,null,null,false]
[null,null,null,null,null,null,null,null,null,false]
[null,null,null,null,null,null,null,null,null,false]
[null,null,null,null,null,null,null,null,null,false]
[null,null,null,null,null,null,null,null,null,false]
[null,null,null,null,null,null,null,null,null,false]
[null,null,null,null,null,null,null,null,null,false]
[null,null,null,null,null,null,null,null,null,false]
[null,null,null,null,null,null,null,null,null,false]
[null,null,null,null,null,null,null,null,null,false]
[null,null,null,null,null,null,null,null,null,false]
[null,null,null,null,null,null,null,null,null,false]
[null,null,null,null,null,null,null,null,null,false]
[null,null,null,null,null,null,null,null,null,false]
[null,null,null,null,null,null,null,null,null,false]
[null,null,null,null,null,null,null,null,null,false]
[null,null,null,null,null,null,null,null,null,false]
[null,null,null,null,null,null,null,null,null,false]
[null,null,null,null,null,null,null,null,null,false]
[null,null,null,null,null,null,null,null,null,false]
[null,null,null,null,null,null,null,null,null,false]
[null,null,null,null,null,null,null,null,null,false]
[null,null,null,null,null,null,null,null,null,false]
[null,null,null,null,null,null,null,null,null,false]
[null,null,null,null,null,null,null,null,null,false]
[null,null,null,null,null,null,null,null,null,false]
[null,null,null,null,null,null,null,null,null,false]
[null,null,null,null,null,null,null,null,null,false]
[null,null,null,null,null,null,null,null,null,false]
[null,null,null,null,null,null,null,null,null,false]
[null,null,null,null,null,null,null,null,null,false]
[null,null,null,null,null,null,null,null,null,false]
[null,null,null,null,null,null,null,null,null,false]
[null,null,null,null,null,null,null,null,null,false]
[null,null,null,null,null,null,null,null,null,false]
[null,null,null,null,null,null,null,null,null,false]
[null,null,null,null,null,null,null,null,null,false]
[null,null,null,null,null,null,null,null,null,false]
[null,null,null,null,null,null,null,null,null,false]
[null,null,null,null,null,null,null,null,null,false]
[null,null,null,null,null,null,null,null,null,false]
[null,null,null,null,null,null,null,null,null,false]
[null,null,null,null,null,null,null,null,null,false]
[null,null,null,null,null,null,null,null,null,false]
[null,null,null,null,null,null,null,null,null,false]
[null,null,null,null,null,null,null,null,null,false]
[null,null,null,null,null,null,null,null,null,false]
[null,null,null,null,null,null,null,null,null,false]
[null,null,null,null,null,null,null,null,null,false]
[null,null,null,null,null,null,null,null,null,false]
[null,null,null,null,null,null,null,null,null,false]
[null,null,null,null,null,null,null,null,null,false]
[null,null,null,null,null,null,null,null,null,false]
[null,null,null,null,null,null,null,null,null,false]
[null,null,null,null,null,null,null,null,null,false]
[null,null,null,null,null,null,null,null,null,false]
[null,null,null,null,null,null,null,null,null,false]
[null,null,null,null,null,null,null,null,null,false]
[null,null,null,null,null,null,null,null,null,false]
[null,null,null,null,null,null,null,null,null,false]
[null,null,null,null,null,null,null,null,null,false]
[null,null,null,null,null,null,null,null,null,false]
[null,null,null,null,null,null,null,null,null,false]
[null,null,null,null,null,null,null,null,null,false]
[null,null,null,null,null,null,null,null,null,false]
[null,null,null,null,null,null,null,null,null,false]
[null,null,null,null,null,null,null,null,null,false]
[null,null,null,null,null,null,null,null,null,false]
[null,null,null,null,null,null,null,null,null,false]
[null,null,null,null,null,null,null,null,null,false]
[null,null,null,null,null,null,null,null,null,false]
[null,null,null,null,null,null,null,null,null,false]
[null,null,null,null,null,null,null,null,null,false]
[null,null,null,null,null,null,null,null,null,false]
[null,null,null,null,null,null,null,null,null,false]
[null,null,null,null,null,null,null,null,null,false]
[null,null,null,null,null,null,null,null,null,false]
[null,null,null,null,null,null,null,null,null,false]
[null,null,null,null,null,null,null,null,null,false]
[null,null,null,null,null,null,null,null,null,false]
[null,null,null,null,null,null,null,null,null,false]
[null,null,null,null,null,null,null,null,null,false]
[null,null,null,null,null,null,null,null,null,false]
[null,null,null,null,null,null,null,null,null,false]
[null,null,null,null,null,null,null,null,null,false]
[null,null,null,null,null,null,null,null,null,false]
[null,null,null,null,null,null,null,null,null,false]
[null,null,null,null,null,null,null,null,null,false]
[null,null,null,null,null,null,null,null,null,false]
[null,null,null,null,null,null,null,null,null,false]
[null,null,null,null,null,null,null,null,null,false]
[null,null,null,null,null,null,null,null,null,false]
[null,null,null,null,null,null,null,null,null,false]
[null,null,null,null,null,null,null,null,null,false]
[null,null,null,null,null,null,null,null,null,false]
[null,null,null,null,null,null,null,null,null,false]
[null,null,null,null,null,null,null,null,null,false]
[null,null,null,null,null,null,null,null,null,false]
[null,null,null,null,null,null,null,null,null,false]
[null,null,null,null,null,null,null,null,null,false]
[null,null,null,null,null,null,null,null,null,false]
[null,null,null,null,null,null,null,null,null,false]
[null,null,null,null,null,null,null,null,null,false]
[null,null,null,null,null,null,null,null,null,false]
[null,null,null,null,null,null,null,null,null,false]
[null,null,null,null,null,null,null,null,null,false]
[null,null,null,null,null,null,null,null,null,false]
[null,null,null,null,null,null,null,null,null,false]
[null,null,null,null,null,null,null,null,null,false]
[null,null,null,null,null,null,null,null,null,false]
[null,null,null,null,null,null,null,null,null,false]
[null,null,null,null,null,null,null,null,null,false]
[null,null,null,null,null,null,null,null,null,false]
[null,null,null,null,null,null,null,null,null,false]
[null,null,null,null,null,null,null,null,null,false]
[null,null,null,null,null,null,null,null,null,false]
[null,null,null,null,null,null,null,null,null,false]
[null,null,null,null,null,null,null,null,null,false]
[null,null,null,null,null,null,null,null,null,false]
[null,null,null,null,null,null,null,null,null,false]
[null,null,null,null,null,null,null,null,null,false]
[null,null,null,null,null,null,null,null,null,false]
[null,null,null,null,null,null,null,null,null,false]
[null,null,null,null,null,null,null,null,null,false]
[null,null,null,null,null,null,null,null,null,false]
[null,null,null,null,null,null,null,null,null,false]
[null,null,null,null,null,null,null,null,null,false]
[null,null,null,null,null,null,null,null,null,false]
[null,null,null,null,null,null,null,null,null,false]
[null,null,null,null,null,null,null,null,null,false]
[null,null,null,null,null,null,null,null,null,false]
[null,null,null,null,null,null,null,null,null,false]
[null,null,null,null,null,null,null,null,null,false]
[null,null,null,null,null,null,null,null,null,false]
[null,null,null,null,null,null,null,null,null,false]
[null,null,null,null,null,null,null,null,null,false]
[null,null,null,null,null,null,null,null,null,false]
[null,null,null,null,null,null,null,null,null,false]
[null,null,null,null,null,null,null,null,null,false]
[null,null,null,null,null,null,null,null,null,false]
[null,null,null,null,null,null,null,null,null,false]
[null,null,null,null,null,null,null,null,null,false]
[null,null,null,null,null,null,null,null,null,false]
[null,null,null,null,null,null,null,null,null,false]
[null,null,null,null,null,null,null,null,null,false]
[null,null,null,null,null,null,null,null,null,false]
[null,null,null,null,null,null,null,null,null,false]
[null,null,null,null,null,null,null,null,null,false]
[null,null,null,null,null,null,null,null,null,false]
[null,null,null,null,null,null,null,null,null,false]

{"sheet":"客戶","index":4,"n_rows":656,"n_cols":3,"rows_kept":656,"cut":false,"hidden":false,"merged":[]}
["電話","電話2","地址"]
["TEL1"]
["TEL2"]
["TEL3"]
["現貨"]
[46141219]
[46413030]
[51047798]
[51057998]
[51063162]
[51113633]
[51150318]
[51187205]
[51285801]
[51323208]
[51324988]
[51334135]
[51347107]
[51669456]
[51682677]
[51690612]
[51724523]
[51738733]
[51789489]
[51822020]
[51851814]
[51860883]
[51986836]
[52015535]
[52129228]
[52251759]
[52269292]
[52393368]
[52903558]
[52998328]
[53005373]
[53270332]
[53310661]
[53358282]
[53369181]
[53401612]
[53403193]
[53446701]
[53475707]
[53742112]
[53772226]
[53776154]
[53780440]
[53928884]
[54002951]
[54020302]
[54050034]
[54050245]
[54052683]
[54071368]
[54079796]
[54090344]
[54187782]
[54232099]
[54236849]
[54297418]
[54388843]
[54458550]
[54481922]
[54496868]
[54733337]
[54858089]
[54882117]
[54887511]
[55001637]
[55028231]
[55057370]
[55086123]
[55110419]
[55209230]
[55233253]
[55238767]
[55441818]
[55459945]
[55484845]
[55652255]
[55665358]
[55933211]
[55978123]
[55980807]
[55988703]
[55988750]
[56003806]
[56111052]
[56117884]
[56149517]
[56164422]
[56223334]
[56636171]
[56858717]
[57030120]
[57085220]
[57128436]
[57129228]
[57211231]
[57449553]
[57953971]
[59220225]
[59341198]
[59383095]
[59504609]
[59893060]
[59897013]
[59926088]
[60107332]
[60126345]
[60128403]
[60139221]
[60139607]
[60148235]
[60153256]
[60191092]
[60212108]
[60220680]
[60257838]
[60282055]
[60293351]
[60308340]
[60310062]
[60313019]
[60317902]
[60338174]
[60338721]
[60377123]
[60407078]
[60411943]
[60481028]
[60489156]
[60503205]
[60512140]
[60534562]
[60545685]
[60555471]
[60590323]
[60734186]
[60765631]
[60770035]
[60770157]
[60806830]
[60812803]
[60827702]
[60836558]
[60837380]
[60851913]
[60852968]
[60857755]
[60859441]
[60862790]
[60876727]
[60893287]
[60895155]
[60920829]
[60928527]
[60931124]
[60940671]
[60946174]
[60952373]
[60956161]
[60979907]
[60982407]
[60983316]
[61007892]
[61060504]
[61079988]
[61091231]
[61102622]
[61105361]
[61109672]
[61110872]
[61112533]
[61132118]
[61145706]
[61207223]
[61210377]
[61220054]
[61243305]
[61249253]
[61274142]
[61319677]
[61322842]
[61331563]
[61381096]
[61390376]
[61394611]
[61429126]
[61477786]
[61500548]
[61558834]
[61567271]
[61569377]
[61689991]
[61710801]
[61711920]
[61773192]
[61787808]
[61820569]
[61821576]
[61869513]
[61879564]
[61906175]
[61945875]
[61954408]
[61993581]
[61997281]
[62004948]
[62005521]
[62020975]
[62034464]
[62049997]
[62148710]
[62194368]
[62197008]
[62204136]
[62209114]
[62210286]
[62235095]
[62241435]
[62255544]
[62265640]
[62272194]
[62277840]
[62282996]
[62287345]
[62301959]
[62302623]
[62324652]
[62333969]
[62336613]
[62363815]
[62369535]
[62370523]
[62375444]
[62386965]
[62393445]
[62396083]
[62441454]
[62454615]
[62554581]
[62557967]
[62570075]
[62703263]
[62731609]
[62734487]
[62746399]
[62748251]
[62750318]
[62796120]
[62820259]
[62820570]
[62822438]
[62834583]
[62852061]
[62867196]
[62882783]
[62900886]
[62972356]
[62991441]
[62995454]
[63060103]
[63076808]
[63090863]
[63161303]
[63195972]
[63236944]
[63246190]
[63314804]
[63324564]
[63331014]
[63340651]
[63348451]
[63367328]
[63378753]
[63461316]
[63467671]
[63469599]
[63487296]
[63503136]
[63509120]
[63559955]
[63568251]
[63568313]
[63568318]
[63582730]
[63723318]
[63734193]
[63752687]
[63775251]
[64017593]
[64067410]
[64096879]
[64111534]
[64113889]
[64149615]
[64159787]
[64179433]
[64216738]
[64226472]
[64267782]
[64307416]
[64311471]
[64333006]
[64344565]
[64352691]
[64355828]
[64365209]
[64371734]
[64371840]
[64387503]
[64432196]
[64438003]
[64474589]
[64481957]
[64483356]
[64703570]
[64711674]
[64765587]
[64776663]
[64805523]
[64820995]
[64839713]
[64862540]
[64878529]
[64962317]
[65006656]
[65094708]
[65323363]
[65327866]
[65360098]
[65388263]
[65411139]
[65450550]
[65469771]
[65729526]
[65731498]
[65744043]
[65748143]
[65772901]
[65775107]
[65781880]
[65783507]
[65801479]
[65833262]
[65855443]
[65906009]
[65915368]
[65933828]
[66000629]
[66031551]
[66066492]
[66202808]
[66209481]
[66259925]
[66272332]
[66297983]
[66321310]
[66414772]
[66426145]
[66436391]
[66455684]
[66712139]
[66778200]
[66791971]
[66809302]
[66826841]
[66831503]
[66844664]
[66902636]
[66935635]
[67012456]
[67037100]
[67041565]
[67053667]
[67063660]
[67075216]
[67086999]
[67087835]
[67300146]
[67304747]
[67311512]
[67361890]
[67398830]
[67430518]
[67438170]
[67449381]
[67451154]
[67495769]
[67501318]
[67605724]
[67623732]
[67626993]
[67673346]
[67681197]
[67681450]
[67706963]
[67726062]
[67732163]
[67936277]
[68016262]
[68016640]
[68033227]
[68297168]
[68381683]
[68417594]
[68438099]
[68498461]
[68563603]
[68793634]
[68794253]
[68822283]
[68944961]
[68979230]
[68988359]
[69053111]
[69055131]
[69079485]
[69098679]
[69298081]
[69330401]
[69331107]
[69704325]
[69757906]
[69759022]
[69861977]
[69920520]
[69924628]
[69930596]
[70712193]
[84813433]
[90117253]
[90166250]
[90234611]
[90252563]
[90304082]
[90412037]
[90463340]
[90474586]
[90891028]
[90933017]
[90984901]
[91062522]
[91068448]
[91083891]
[91227936]
[91267970]
[91283225]
[91283990]
[91317165]
[91331930]
[91372602]
[91389622]
[91410172]
[91431773]
[91464628]
[91478376]
[91488559]
[91600431]
[91669630]
[91718805]
[91760930]
[91795300]
[91851957]
[91861595]
[91865815]
[91885822]
[91939906]
[91996803]
[92019862]
[92071527]
[92116493]
[92161707]
[92230356]
[92247990]
[92315728]
[92379639]
[92398211]
[92508535]
[92526058]
[92561689]
[92639065]
[92667411]
[92669401]
[92748648]
[92766664]
[92776041]
[92860268]
[92888790]
[92891016]
[93012559]
[93040437]
[93084927]
[93100737]
[93126429]
[93146061]
[93172296]
[93179097]
[93206535]
[93235598]
[93259949]
[93263567]
[93285732]
[93310098]
[93311423]
[93319775]
[93323496]
[93355309]
[93407336]
[93451014]
[93490235]
[93498337]
[93580819]
[93621633]
[93790279]
[93826979]
[93842418]
[93847210]
[93878402]
[93887712]
[94089794]
[94228559]
[94330424]
[94361893]
[94402858]
[94445366]
[94473108]
[94482512]
[94511204]
[94525765]
[94805028]
[95020312]
[95069532]
[95154301]
[95166632]
[95227828]
[95283174]
[95318543]
[95502600]
[95511519]
[95511860]
[95551812]
[95551879]
[95554199]
[95659964]
[95769505]
[95783707]
[95784466]
[95806942]
[95832157]
[95857446]
[95876899]
[95880977]
[95889506]
[95891838]
[96023050]
[96035224]
[96042194]
[96059466]
[96074088]
[96078485]
[96081486]
[96100901]
[96101095]
[96105577]
[96109964]
[96155952]
[96224202]
[96256235]
[96264398]
[96290905]
[96293476]
[96327298]
[96329083]
[96345747]
[96499558]
[96518096]
[96531080]
[96542973]
[96603747]
[96615383]
[96633085]
[96646520]
[96733080]
[96768965]
[96806132]
[96806862]
[96821275]
[96839857]
[96854884]
[96855563]
[96872470]
[96877422]
[96895499]
[96929349]
[97013395]
[97040118]
[97120052]
[97152276]
[97166744]
[97167098]
[97169055]
[97232270]
[97365339]
[97387196]
[97436094]
[97447337]
[97457161]
[97504903]
[97511200]
[97524404]
[97537196]
[97567800]
[97574054]
[97596035]
[97657800]
[97664275]
[97675720]
[97734662]
[97793845]
[97811152]
[97883827]
[98034806]
[98098922]
[98114503]
[98125457]
[98128703]
[98130160]
[98147955]
[98209150]
[98271337]
[98284040]
[98287157]
[98296339]
[98314743]
[98369540]
[98376193]
[98378445]
[98462178]
[98500845]
[98513506]
[98518299]
[98648764]
[98654310]
[98676979]
[98677587]
[98725367]
[98735053]
[98750841]
["CHLOE"]
["MAISY"]
["YUEN KIU"]
[96449760]
["ritatatatahui"]

{"sheet":"SEND","index":5,"n_rows":15,"n_cols":3,"rows_kept":15,"cut":false,"hidden":false,"merged":[]}
[]
["訂單日期","2024-10-13"]
["客戶電話",98314743]
[]
["ITEM","訂購數量","總金額"]
["已到貨"]
["配件7-小獅王-蘊蜜寬口防漏滑蓋把手吸管組(杏茶)-",1,55]
["GAP 連身米-80-",1,0]
["GAP 連身棒球-80-",1,0]
["konny碗-燕-",1,0]
[]
["預訂－未到貨"]
["聖誕鹿-80-",1,0]
[]
["總計",5,55]

{"sheet":"工作表4","index":6,"n_rows":934,"n_cols":2,"rows_kept":934,"cut":false,"hidden":false,"merged":[]}
["客人","加總 - 數量"]
[51047798]
["預訂－未到貨"]
["毛衛衣-MELODY80-",1]
[]
[51187205]
["已寄"]
["把手奶樽-小獅王-蘊蜜鉑金PPSU寬口吸管把手防脹氣奶瓶360ml(杏茶)-十字M-",1]
["把手奶樽-小獅王-蘊蜜鉑金PPSU寬口吸管把手防脹氣奶瓶360ml(晨藍)-十字M-",1]
[]
[51822020]
["預訂－未到貨"]
["NF 被-黑-",1]
["豬仔-包70-",1]
[]
[54050245]
["已寄"]
["日本代購",1]
[]
[54236849]
["預訂－未到貨"]
["NF 熊仔外套-白100-",1]
[]
[54481922]
["已寄"]
["奶樽嘴-小獅王-超柔防脹氣寬口十字奶嘴M-4入(3個月以上)-",1]
["知母時--",1]
["配件5-小獅王-蘊蜜寬口奶瓶蝶型吸管組 -",1]
[]
[55459945]
["已寄"]
["三合一-粉90-",1]
["學習水杯-小獅王-蘊蜜鉑金PPSU防漏滑蓋學習水杯270ml(紫芙)-",1]
[]
[55933211]
["預訂－未到貨"]
["台LINE拼色袖-100-粉",1]
["台SANRIO三色衛衣-100-紫",1]
[]
[56003806]
["預訂－未到貨"]
["NF 熊仔外套-白90-",1]
["台SANRIO三色衛衣-90-紫",1]
[]
[60212108]
["預訂－未到貨"]
["POLO純色連身裙-藍100-",1]
["POLO條紋裙-100-",1]
[]
[60293351]
["預訂－未到貨"]
["NF 熊仔外套-白90-",1]
[]
[60338174]
["已寄"]
["香火平安符袋--粉",1]
["唐老鴨連身-80",1]
["唐老鴨連身-90-",1]
[]
["預訂－未到貨"]
["豬仔-衛90-",1]
[]
[60377123]
["已到貨"]
["MELODY紅白衛衣-80-",1]
["MELODY紅白衛衣-90-",1]
[]
["已寄"]
["日本代購",1]
[]
["預訂－未到貨"]
["MIFFY A-粉80-",1]
["MIFFY A-藍80-",1]
["MIFFYB-白90-",1]
["MIFFYB-粉90-",1]
["MIFFY滿印-白90-",1]
["MIFFY滿印-粉90-",1]
["NF 被-黑-",2]
["NF 熊仔外套-粉90-",1]
["NF 熊仔外套-啡90-",1]
["POLO條紋裙-90-",2]
["毛衛衣-MELODY80-",1]
["毛衛衣-MELODY90-",1]
["福袋D-90-",2]
["頸巾-兔-",1]
["頸巾-熊-",1]
[]
[60512140]
["預訂－未到貨"]
["面包超人袋--",1]
[]
[60534562]
["已寄"]
["三合一-藍80-",1]
["香火平安符袋--杏",1]
["唐老鴨背包--",1]
[]
[60545685]
["預訂－未到貨"]
["Linabell 粉外套-120-",1]
[]
[60857755]
["預訂－未到貨"]
["nf legging褲-黑100-",1]
[]
[60895155]
["已寄"]
["現-牛仔花花裙-90-",1]
["間條連身-MELODY90-",1]
["間條連身-青90-",1]
[]
[60920829]
["已寄"]
["印章--",1]
[]
[60931124]
["已到貨"]
["konny碗-藍-",1]
["印章--",1]
["姓名貼--",2]
[]
["預訂－未到貨"]
["NF 被-黑-",1]
["小魔怪-100-",1]
["聖誕鹿-120-",1]
[]
[60956161]
["預訂－未到貨"]
["聖誕樹-90-",1]
[]
[61060504]
["已寄"]
["水怪滿印set-90-",1]
["唐老鴨背包--",1]
[]
[61079988]
["預訂－未到貨"]
["NF雙面棉外套-米杏100-",1]
["NF雙面棉外套-米杏L-",1]
[]
[61220054]
["已寄"]
["DTD車帶--",1]
["三合一-藍100-",1]
["間條連身-青90-",1]
["日本代購",1]
[]
["預訂－未到貨"]
["NF雙面棉外套-粉M-",1]
["NF雙面棉外套-綠90-",1]
["面包超人袋--",1]
["安撫奶嘴-小獅王-蘊蜜超柔拇指安撫奶嘴(晨藍)-耐咬較大型-",1]
["安撫奶嘴-小獅王-蘊蜜超柔拇指安撫奶嘴(杏茶)-耐咬較大型-",1]
["安撫奶嘴-小獅王-蘊蜜超柔拇指安撫奶嘴(綠沐)-耐咬較大型-",1]
[]
["(空白)"]
["日本代購(腳尺)",1]
[]
[61249253]
["已到貨"]
["現-george-滿印littlemonkey-白-95-",1]
[]
[61319677]
["已寄"]
["和服-粉90-",1]
["配件7-小獅王-蘊蜜寬口防漏滑蓋把手吸管組(紫)-",1]
["日本代購",1]
[]
["預訂－未到貨"]
["SANRIO 滿印-HT90-",1]
["吊帶褲-HT90-",1]
[]
["(空白)"]
["日本代購(被)",1]
[]
[61381096]
["已到貨"]
["唐老鴨背包--",1]
["配件7-小獅王-蘊蜜寬口防漏滑蓋把手吸管組(晨藍)-",1]
["配件7-小獅王-蘊蜜寬口防漏滑蓋把手吸管組(黑)-",1]
[]
[61500548]
["已到貨"]
["MIFFY杯套-藍--",1]
[]
[61869513]
["已寄"]
["唐老鴨連身-90-",1]
["豬仔連身-90-",1]
[]
[61997281]
["預訂－未到貨"]
["Linabell 粉外套-110-",1]
["台防滑襪-SET B-M",1]
["唐老鴨連身-100-",1]
[]
[62004948]
["已到貨"]
["獅子外套-100-",1]
[]
["預訂－未到貨"]
["NF雙面棉外套-米杏L-",1]
["NF雙面棉外套-粉M-",1]
["NF雙面棉外套-綠100-",1]
[]
[62235095]
["已到貨"]
["現-綠龍長袖-90--",1]
[]
[62255544]
["預訂－未到貨"]
["台小飛象外套-90-粉",1]
[]
[62370523]
["已到貨"]
["印章--",1]
[]
["預訂－未到貨"]
["POLO純色連身裙-卡其90-",1]
["POLO純色連身裙-藍110-",1]
["滿印熊-PAT-啡80-",1]
[]
["(空白)"]
["日本代購",1]
[]
[62441454]
["已寄"]
["GAP 連身米-100-",1]
["H2-18-24-",1]
["LEE吊帶褲-灰100-",1]
[]
["(空白)"]
["日本代購",1]
[]
[62748251]
["預訂－未到貨"]
["POLO條紋裙-90-",1]
[]
[62750318]
["預訂－未到貨"]
["單眼仔-包80-",1]
["單眼仔-衛100-",2]
["單眼仔-衛130-",1]
[]
[62834583]
["已寄"]
["日本代購",1]
[]
["預訂－未到貨"]
["SANRIO 滿印-HT80-",1]
[]
[62991441]
["已寄"]
["豬仔連身-80-",1]
[]
[62995454]
["預訂－未到貨"]
["nf legging褲-黑100-",1]
["nf legging褲-黑130-",1]
["NF 熊仔外套-粉100-",1]
["NF 熊仔外套-啡110-",1]
["NF 熊仔外套-啡130-",1]
[]
["缺貨"]
["lee 衛衣-灰白130-",1]
["日本代購",1]
[]
[63060103]
["預訂－未到貨"]
["POLO純色連身裙-卡其100-",1]
["POLO純色連身裙-藍110-",1]
["台連身扣鏤小仙子-90-紫",1]
["台連身扣鏤小飛象-90-黃",1]
["安撫巾-KU-",1]
["安撫巾-玉-",1]
["聖誕老人裙-100-",1]
[]
["(空白)"]
["日本代購",1]
[]
[63195972]
["預訂－未到貨"]
["POLO條紋裙-100-",1]
[]
[63236944]
["已寄"]
["唐老鴨連身-80-",1]
[]
[63324564]
["預訂－未到貨"]
["台小飛象外套-90-白",1]
["台防滑襪-SET B-S",1]
["台怪獸大學綠色包PAT-90-",1]
[]
[63467671]
["已寄"]
["konny碗-藍-",1]
["唐老鴨連身-90-",1]
[]
["預訂－未到貨"]
["安撫巾-水-",1]
[]
[63568318]
["已到貨"]
["食物剪刀-小獅王-嬰兒食物金剛剪(杏茶)-",1]
[]
["預訂－未到貨"]
["NF 被-啡-",1]
["POLO純色連身裙-卡其90-",1]
["POLO條紋衫-90-",1]
["POLO條紋裙-90-",1]
[]
[63734193]
["已到貨"]
["現-淺藍史迪仔aloha-3-6-",1]
[]
[63775251]
["已寄"]
["konny口水肩-4-",1]
[]
["預訂－未到貨"]
["台LINE奶茶衛衣-80-白",1]
["台三件套小飛象-80-",1]
["台防滑襪-SET B-S",1]
["台魚魚上衣-80-藍白",1]
[]
["(空白)"]
["日本代購",1]
["日本代購(LEG SUPPORT)",1]
["BBB經典餐具-藍-",1]
[]
[64096879]
["缺貨"]
["lee 衛衣-灰白130-",1]
["lee 衛衣-灰藍90-",1]
[]
[64371840]
["已到貨"]
["CARE BEAR C1-藍100-",1]
["GAP 連身紅-100-",1]
[]
["預訂－未到貨"]
["台LINE奶茶衛衣-100-白",1]
["滿印熊-PAT-白100-",1]
[]
[64765587]
["預訂－未到貨"]
["nf legging褲-白80-",1]
["NF 被-黑-",1]
[]
[64776663]
["預訂－未到貨"]
["SANRIO 滿印-水90-",1]
["吊帶褲-水90-",1]
[]
[65360098]
["預訂－未到貨"]
["nf legging褲-白80-",1]
[]
["缺貨"]
["lee 衛衣-灰藍90-",1]
[]
[66272332]
["已寄"]
["三合一-粉90-",1]
[]
["預訂－未到貨"]
["面包超人袋--",1]
["綠仙子SET-90-",1]
[]
[66297983]
["已寄"]
["點點筆--",1]
["蠟筆--",1]
["日本代購",1]
[]
[66778200]
["預訂－未到貨"]
["NF雙面棉外套-米杏L-",1]
["NF雙面棉外套-粉100-",1]
[]
[66826841]
["已寄"]
["GAP 連身米-90-",1]
["POLO背心-白90-",1]
["印章--",1]
["獅子外套-90-",1]
["獅子褲-90-",1]
[]
["(空白)"]
["奶樽刷-小獅王-超柔無垢白金矽膠奶瓶刷(小櫻)-紅-",1]
[]
[67063660]
["預訂－未到貨"]
["睡衣SET B-90-",1]
[]
[67086999]
["已到貨"]
["bb 防曬lotion--",1]
["小兵-18-24-",1]
[]
["預訂－未到貨"]
["聖誕樹-100-",1]
[]
[67300146]
["已到貨"]
["秋褲2條裝-A-90-",1]
["日本代購",1]
[]
["預訂－未到貨"]
["NF雙面棉外套-粉100-",1]
[]
[67398830]
["已寄"]
["H8-0-6-",1]
["miffy 拖鞋-白37-",1]
["唐老鴨連身-73-",1]
[]
["預訂－未到貨"]
["NF 被-黑-",1]
[]
[67438170]
["預訂－未到貨"]
["NF雙面棉外套-杏M-",1]
["NF雙面棉外套-綠90-",1]
["NF雙面棉外套-綠L-",1]
[]
[67623732]
["已寄"]
["唐老鴨背包--",1]
[]
[67681197]
["已寄"]
["餐具組--粉",1]
["日本代購",1]
[]
["(空白)"]
["配件7-小獅王-蘊蜜寬口防漏滑蓋把手吸管組(栗粉)-",1]
[]
[68438099]
["已寄"]
["唐老鴨長袖上衣-50-粉",1]
["唐老鴨連身-80",2]
["日本代購",1]
[]
[68822283]
["已寄"]
["印章--",1]
["日本代購",1]
[]
[69053111]
["預訂－未到貨"]
["MLB-5外套-黑-",1]
[]
[69330401]
["已寄"]
["POOH 背包--",2]
[]
[69331107]
["預訂－未到貨"]
["台小飛象外套-100-粉",1]
["台小飛象外套-90-白",1]
["安撫巾-水-",1]
[]
[90166250]
["已寄"]
["GAP 連身灰-100-",1]
["三合一-橙100-",1]
["唐老鴨背包--",1]
["日本代購",1]
[]
[90234611]
["已寄"]
[" 安撫奶嘴- 蘿蔓拇指型安撫奶嘴(香草)6m-",1]
[" 安撫奶嘴-小獅王-蘊蜜超柔拇指安撫奶嘴(杏茶)-耐咬較大型-",1]
[" 安撫奶嘴-小獅王-蘊蜜超柔拇指安撫奶嘴(綠沐)-耐咬較大型-",1]
[" 安撫奶嘴-獅子頭奶嘴-6M",1]
["GAP 連身紅-90-",1]
["三合一-橙90-",1]
["奶嘴鍊-小獅王-辛巴防塵奶嘴鍊-杏-",1]
["防漏滑蓋學習水杯-小獅王-蘊蜜鉑金PPSU防漏滑蓋學習水杯270ml(杏茶)-",1]
["配件7-小獅王-蘊蜜寬口防漏滑蓋把手吸管組(杏茶)-",1]
[]
[90474586]
["預訂－未到貨"]
["聖誕樹-90-",1]
[]
[91283990]
["已寄"]
["日本代購",1]
[]
["預訂－未到貨"]
["NF 被-啡-",1]
[]
["(空白)"]
["配件7-小獅王-蘊蜜寬口防漏滑蓋吸管組-",1]
[]
[91464628]
["預訂－未到貨"]
["BEAR BEAR 直間-110-",1]
[]
[91478376]
["已寄"]
["好樂飲-小獅王-好樂飲PPSU防漏滑蓋學習水杯250ml(可可杏)-",1]
[]
[91760930]
["已寄"]
["三合一-粉100-",1]
["三合一-粉160-",1]
["三合一-藍160-",1]
["印章--",1]
[]
["預訂－未到貨"]
["NF 熊仔外套-白90-",1]
["NF 熊仔爬服-粉100-",1]
["聖誕老人連身-70-",1]
["聖誕老人裙-100-",1]
["聖誕鹿-100-",1]
[]
["(空白)"]
["日本代購",1]
[]
[91865815]
["已寄"]
["miffy 書包--",1]
["花邊冷衫-粉100-",1]
["碎花衫-100-",1]
["褲-啡100-",1]
["日本代購",1]
[]
[92116493]
["已到貨"]
["獅子外套-100-",1]
["獅子褲-100-",1]
[]
[92247990]
["已到貨"]
["三合一-橙110-",1]
[]
[92639065]
["已寄"]
["cool kids 舒緩膏--",1]
["H4-2-3-",1]
["印章--",2]
["食物剪刀-小獅王-嬰兒食物金剛剪(栗粉)-",1]
["食物剪刀-小獅王-嬰兒食物金剛剪(晨藍)-",1]
["日本代購",1]
[]
["(空白)"]
["BBB車車餐具-紫-",1]
["BBB經典餐具-粉-",1]
[]
[92748648]
["預訂－未到貨"]
["BEAR BEAR 冷衫-100-",1]
["BEAR BEAR 風嬲-110-",1]
[]
["(空白)"]
["日本代購",1]
[]
[93084927]
["已到貨"]
["GAP 連身棒球-90-",1]
[]
[93146061]
["已寄"]
["三合一-藍90-",1]
["印章--",1]
["唐老鴨背包--",1]
[]
["預訂－未到貨"]
["NF 熊仔外套-啡90-",1]
[]
[93235598]
["已寄"]
["konny 咩帶-灰米-",1]
[]
[93451014]
["已到貨"]
["星月亮水手-衛衣-藍90-",1]
["日本代購",1]
[]
["預訂－未到貨"]
["台LINE熊大啡色衛衣-80-",1]
["台防滑襪-SET B-M",1]
[]
[94445366]
["預訂－未到貨"]
["BEAR BEAR 風嬲-120-",1]
[]
[94511204]
["已到貨"]
["h7-6-12-",1]
["印章--",1]
[]
[94525765]
["已到貨"]
["星月亮水手-PAT-藍100-",1]
[]
["預訂－未到貨"]
["聖誕樹-100-",1]
["滿印熊-衛-白100-",1]
[]
[95020312]
["預訂－未到貨"]
["聖誕鹿-100-",1]
[]
[95069532]
["預訂－未到貨"]
["唐老鴨連身-100-",1]
[]
[95832157]
["已寄"]
["香火平安符袋--杏",1]
[]
[96101095]
["預訂－未到貨"]
["吊帶褲-水110-",1]
[]
["(空白)"]
["日本代購",1]
[]
[96155952]
["已到貨"]
["印章--",1]
[]
[96256235]
["預訂－未到貨"]
["NF雙面棉外套-綠110-",1]
[]
[96293476]
["預訂－未到貨"]
["MIFFY 外套-白100-",1]
[]
[96327298]
["已寄"]
["POOH 背包--",1]
[]
[96531080]
["已到貨"]
["唐老鴨背包--",1]
[]
["預訂－未到貨"]
["聖誕樹-100-",1]
[]
[96638494]
["已寄"]
["小木馬",2]
["唐老鴨連身-70",2]
["唐老鴨連身-80",1]
[]
[96855563]
["已到貨"]
["姓名貼--",1]
[]
[97166744]
["預訂－未到貨"]
["小魔怪-100-",1]
[]
[97457161]
["已寄"]
["三合一-橙90-",1]
["日本代購",1]
[]
[97793845]
["預訂－未到貨"]
["NF雙面棉外套-綠100-",1]
[]
[98034806]
["已寄"]
["pooh pat-18-24-",1]
["唐老鴨連身-90-",1]
[]
[98314743]
["已到貨"]
["GAP 連身米-80-",1]
["GAP 連身棒球-80-",1]
["konny碗-燕-",1]
["配件7-小獅王-蘊蜜寬口防漏滑蓋把手吸管組(杏茶)-",1]
[]
["預訂－未到貨"]
["聖誕鹿-80-",1]
[]
["(空白)"]
["日本代購",1]
[]
[98369540]
["已寄"]
["三合一-粉80-",1]
[]
[98378445]
["已到貨"]
["miffy 書包--",1]
[]
[98654310]
["已寄"]
["H4-18-24-",1]
["H5-100-",1]
[]
[98725367]
["已寄"]
["唐老鴨連身-80-",1]
[]
["CHLOE"]
["已到貨"]
["CART衛衣有帽-110-",1]
["CART衛衣有帽-藍L-",1]
["CART衛衣有帽-藍S-",1]
["POLO背心-白110-",1]
["POLO背心-深藍110-",1]
[]
["預訂－未到貨"]
["BEAR BEAR 冷衫-110-",1]
["BEAR BEAR 風嬲-110-",1]
["NF 熊仔外套-白110-",1]
[]
["MAISY"]
["預訂－未到貨"]
["小魔怪-120-",1]
["聖誕樹-80-",1]
[]
["TEL1"]
["已寄"]
["唐老鴨長袖上衣-60-藍",2]
[]
["YUEN KIU"]
["已寄"]
["配件7-小獅王-蘊蜜寬口防漏滑蓋把手吸管組(黑)-",1]
[]
["林阿杰"]
["已寄"]
["圓領長版上衣",2]
[]
["(空白)"]
["已寄"]
["寬版條紋T恤",2]
[]
["(空白)"]
["(空白)"]
[]
[64067410]
["已寄"]
["唐老鴨連身-66-",1]
[]
[46141219]
["已寄"]
["日本代購",1]
[]
[51063162]
["已寄"]
["日本代購",1]
[]
[51334135]
["已寄"]
["日本代購",1]
[]
[51724523]
["已寄"]
["日本代購",1]
[]
[53310661]
["已寄"]
["日本代購",1]
[]
[53358282]
["已寄"]
["日本代購",1]
[]
[55110419]
["已寄"]
["日本代購",1]
[]
[55238767]
["已寄"]
["日本代購",1]
[]
[60122974]
["已寄"]
["日本代購",1]
[]
[60403997]
["已寄"]
["日本代購",1]
[]
[60407078]
["已寄"]
["日本代購",1]
[]
[60862790]
["(空白)"]
["日本代購",1]
[]
[60922980]
["已寄"]
["日本代購",1]
[]
[61038231]
["已寄"]
["日本代購",1]
[]
[61274142]
["已寄"]
["日本代購",1]
[]
["(空白)"]
["日本代購(襪+綠白)",1]
["BBB車車餐具-黃-",1]
["學習水杯-小獅王-蘊蜜鉑金PPSU防漏滑蓋學習水杯270ml(晨藍)-",1]
[]
[61322842]
["已到貨"]
["日本代購",1]
[]
["(空白)"]
["BBB車車餐具-黃-",1]
["BBB經典餐具-藍-",1]
[]
[61331563]
["已寄"]
["日本代購",1]
[]
[61567271]
["(空白)"]
["日本代購",1]
[]
[62277840]
["(空白)"]
["日本代購",1]
[]
[62703263]
["已到貨"]
["日本代購",1]
[]
[63568251]
["已寄"]
["日本代購",1]
[]
[64111534]
["已寄"]
["日本代購",1]
[]
[64267782]
["已寄"]
["日本代購",1]
[]
[65775107]
["已寄"]
["日本代購",1]
[]
[65933828]
["已寄"]
["日本代購",1]
[]
[67311512]
["(空白)"]
["日本代購",1]
[]
[68988359]
["已寄"]
["日本代購",1]
[]
[69930596]
["已寄"]
["日本代購",1]
[]
[69984177]
["已寄"]
["日本代購",1]
[]
[90230421]
["已寄"]
["日本代購",1]
[]
[90821275]
["(空白)"]
["日本代購",1]
[]
[91267970]
["已寄"]
["日本代購",1]
[]
[91488559]
["已寄"]
["日本代購",1]
[]
[92667411]
["(空白)"]
["日本代購",1]
[]
[96105577]
["(空白)"]
["日本代購",1]
[]
[96427340]
["已寄"]
["日本代購",1]
[]
[96877422]
["已寄"]
["日本代購",1]
[]
[97040118]
["已寄"]
["日本代購",1]
[]
[97675720]
["已寄"]
["日本代購",1]
[]
[97811152]
["已寄"]
["日本代購",1]
[]
[98287157]
["已寄"]
["日本代購",1]
[]
[98296339]
["已寄"]
["日本代購",1]
[]
[98855791]
["已寄"]
["日本代購",1]
[]
[974571611]
["(空白)"]
["日本代購(花SET)",1]
[]
[96449760]
["(空白)"]
["學習水杯-小獅王-蘊蜜鉑金PPSU防漏滑蓋學習水杯270ml(綠沐)-",1]
[]
["總計",376]

{"sheet":"訂貨","index":7,"n_rows":21,"n_cols":3,"rows_kept":21,"cut":false,"hidden":false,"merged":[]}
["訂單日期","(全部)"]
["狀態","(空白)"]
[]
["ITEM","加總 - 數量","總收入"]
["BBB車車餐具-紫-",1,98]
["BBB車車餐具-黃-",2,196]
["BBB經典餐具-粉-",1,88]
["BBB經典餐具-藍-",2,176]
["日本代購",15]
["日本代購(LEG SUPPORT)",1]
["日本代購(花SET)",1]
["日本代購(被)",1]
["日本代購(腳尺)",1]
["日本代購(襪+綠白)",1]
["奶樽刷-小獅王-超柔無垢白金矽膠奶瓶刷(小櫻)-紅-",1,69]
["配件7-小獅王-蘊蜜寬口防漏滑蓋吸管組-",1,55]
["配件7-小獅王-蘊蜜寬口防漏滑蓋把手吸管組(栗粉)-",1,55]
["學習水杯-小獅王-蘊蜜鉑金PPSU防漏滑蓋學習水杯270ml(晨藍)-",1,155]
["學習水杯-小獅王-蘊蜜鉑金PPSU防漏滑蓋學習水杯270ml(綠沐)-",1,155]
["(空白)"]
["總計",31,1047]

{"sheet":"庫存計算","index":8,"n_rows":526,"n_cols":11,"rows_kept":526,"cut":false,"hidden":false,"merged":[[0,7,1,7],[0,2,1,2],[0,1,1,1],[0,0,1,0],[0,3,1,3],[0,4,1,4],[0,6,1,6],[0,5,1,5]]}
["貨源","編號","產品","單價","入貨價","HKD","已售數量(全部)","總賺(全部)"]
[null,null,null,null,null,null,null,null,"數量","ALERT","COUNTER"]
[{"$f":"表格2[[#This Row],[貨源]]","v":0},{"$f":"表格2[[#This Row],[編號]]","v":"A0001"},{"$f":"表格2[[#This Row],[產品]]","v":"三合一-粉80-"},{"$f":"表格2[[#This Row],[單價]]","v":139},{"$f":"表格2[[#This Row],[入貨價]]","v":0},{"$f":"E3","v":0},{"$f":"SUMIF(資料庫!D:D,庫存計算!C3,資料庫!E:E)","v":1},{"$f":"(D3-F3)*G3","v":139},999,10]
[{"$f":"表格2[[#This Row],[貨源]]","v":0},{"$f":"表格2[[#This Row],[編號]]","v":"A0001"},{"$f":"表格2[[#This Row],[產品]]","v":"三合一-粉90-"},{"$f":"表格2[[#This Row],[單價]]","v":139},{"$f":"表格2[[#This Row],[入貨價]]","v":0},{"$f":"E4","v":0},{"$f":"SUMIF(資料庫!D:D,庫存計算!C4,資料庫!E:E)","v":2},{"$f":"(D4-F4)*G4","v":278},"PRESALE",null,1]
[{"$f":"表格2[[#This Row],[貨源]]","v":0},{"$f":"表格2[[#This Row],[編號]]","v":"A0001"},{"$f":"表格2[[#This Row],[產品]]","v":"三合一-橙100-"},{"$f":"表格2[[#This Row],[單價]]","v":139},{"$f":"表格2[[#This Row],[入貨價]]","v":0},0,{"$f":"SUMIF(資料庫!D:D,庫存計算!C5,資料庫!E:E)","v":1},139]
[{"$f":"表格2[[#This Row],[貨源]]","v":0},{"$f":"表格2[[#This Row],[編號]]","v":"A0001"},{"$f":"表格2[[#This Row],[產品]]","v":"三合一-橙110-"},{"$f":"表格2[[#This Row],[單價]]","v":139},{"$f":"表格2[[#This Row],[入貨價]]","v":0},0,{"$f":"SUMIF(資料庫!D:D,庫存計算!C6,資料庫!E:E)","v":1},139]
[{"$f":"表格2[[#This Row],[貨源]]","v":0},{"$f":"表格2[[#This Row],[編號]]","v":"A0001"},{"$f":"表格2[[#This Row],[產品]]","v":"三合一-橙90-"},{"$f":"表格2[[#This Row],[單價]]","v":139},{"$f":"表格2[[#This Row],[入貨價]]","v":0},0,{"$f":"SUMIF(資料庫!D:D,庫存計算!C7,資料庫!E:E)","v":2},278]
[{"$f":"表格2[[#This Row],[貨源]]","v":0},{"$f":"表格2[[#This Row],[編號]]","v":"A0001"},{"$f":"表格2[[#This Row],[產品]]","v":"三合一-藍100-"},{"$f":"表格2[[#This Row],[單價]]","v":139},{"$f":"表格2[[#This Row],[入貨價]]","v":0},0,{"$f":"SUMIF(資料庫!D:D,庫存計算!C8,資料庫!E:E)","v":1},139]
[{"$f":"表格2[[#This Row],[貨源]]","v":0},{"$f":"表格2[[#This Row],[編號]]","v":"A0001"},{"$f":"表格2[[#This Row],[產品]]","v":"三合一-藍160-"},{"$f":"表格2[[#This Row],[單價]]","v":139},{"$f":"表格2[[#This Row],[入貨價]]","v":0},0,{"$f":"SUMIF(資料庫!D:D,庫存計算!C9,資料庫!E:E)","v":1},139]
[{"$f":"表格2[[#This Row],[貨源]]","v":0},{"$f":"表格2[[#This Row],[編號]]","v":"A0001"},{"$f":"表格2[[#This Row],[產品]]","v":"三合一-藍80-"},{"$f":"表格2[[#This Row],[單價]]","v":139},{"$f":"表格2[[#This Row],[入貨價]]","v":0},0,{"$f":"SUMIF(資料庫!D:D,庫存計算!C10,資料庫!E:E)","v":1},139]
[{"$f":"表格2[[#This Row],[貨源]]","v":0},{"$f":"表格2[[#This Row],[編號]]","v":"A0001"},{"$f":"表格2[[#This Row],[產品]]","v":"三合一-藍90-"},{"$f":"表格2[[#This Row],[單價]]","v":139},{"$f":"表格2[[#This Row],[入貨價]]","v":0},0,{"$f":"SUMIF(資料庫!D:D,庫存計算!C11,資料庫!E:E)","v":1},139]
[{"$f":"表格2[[#This Row],[貨源]]","v":0},{"$f":"表格2[[#This Row],[編號]]","v":"A0002"},{"$f":"表格2[[#This Row],[產品]]","v":"小兵-18-24-"},{"$f":"表格2[[#This Row],[單價]]","v":38},{"$f":"表格2[[#This Row],[入貨價]]","v":0},0,{"$f":"SUMIF(資料庫!D:D,庫存計算!C12,資料庫!E:E)","v":1},38]
[{"$f":"表格2[[#This Row],[貨源]]","v":0},{"$f":"表格2[[#This Row],[編號]]","v":"A0003"},{"$f":"表格2[[#This Row],[產品]]","v":"小魔怪-100-"},{"$f":"表格2[[#This Row],[單價]]","v":85},{"$f":"表格2[[#This Row],[入貨價]]","v":0},0,{"$f":"SUMIF(資料庫!D:D,庫存計算!C13,資料庫!E:E)","v":2},170]
[{"$f":"表格2[[#This Row],[貨源]]","v":0},{"$f":"表格2[[#This Row],[編號]]","v":"A0003"},{"$f":"表格2[[#This Row],[產品]]","v":"小魔怪-120-"},{"$f":"表格2[[#This Row],[單價]]","v":85},{"$f":"表格2[[#This Row],[入貨價]]","v":0},0,{"$f":"SUMIF(資料庫!D:D,庫存計算!C14,資料庫!E:E)","v":1},85]
[{"$f":"表格2[[#This Row],[貨源]]","v":0},{"$f":"表格2[[#This Row],[編號]]","v":"A0004"},{"$f":"表格2[[#This Row],[產品]]","v":"毛衛衣-MELODY80-"},{"$f":"表格2[[#This Row],[單價]]","v":69},{"$f":"表格2[[#This Row],[入貨價]]","v":0},0,{"$f":"SUMIF(資料庫!D:D,庫存計算!C15,資料庫!E:E)","v":2},138]
[{"$f":"表格2[[#This Row],[貨源]]","v":0},{"$f":"表格2[[#This Row],[編號]]","v":"A0004"},{"$f":"表格2[[#This Row],[產品]]","v":"毛衛衣-MELODY90-"},{"$f":"表格2[[#This Row],[單價]]","v":0},{"$f":"表格2[[#This Row],[入貨價]]","v":0},0,{"$f":"SUMIF(資料庫!D:D,庫存計算!C16,資料庫!E:E)","v":1},0]
[{"$f":"表格2[[#This Row],[貨源]]","v":0},{"$f":"表格2[[#This Row],[編號]]","v":"A0005"},{"$f":"表格2[[#This Row],[產品]]","v":"水怪滿印set-90-"},{"$f":"表格2[[#This Row],[單價]]","v":75},{"$f":"表格2[[#This Row],[入貨價]]","v":0},0,{"$f":"SUMIF(資料庫!D:D,庫存計算!C17,資料庫!E:E)","v":1},75]
[{"$f":"表格2[[#This Row],[貨源]]","v":0},{"$f":"表格2[[#This Row],[編號]]","v":"A0006"},{"$f":"表格2[[#This Row],[產品]]","v":"印章--"},{"$f":"表格2[[#This Row],[單價]]","v":65},{"$f":"表格2[[#This Row],[入貨價]]","v":0},0,{"$f":"SUMIF(資料庫!D:D,庫存計算!C18,資料庫!E:E)","v":11},715]
[{"$f":"表格2[[#This Row],[貨源]]","v":0},{"$f":"表格2[[#This Row],[編號]]","v":"A0007"},{"$f":"表格2[[#This Row],[產品]]","v":"吊帶褲-水110-"},{"$f":"表格2[[#This Row],[單價]]","v":79},{"$f":"表格2[[#This Row],[入貨價]]","v":0},0,{"$f":"SUMIF(資料庫!D:D,庫存計算!C19,資料庫!E:E)","v":1},79]
[{"$f":"表格2[[#This Row],[貨源]]","v":0},{"$f":"表格2[[#This Row],[編號]]","v":"A0007"},{"$f":"表格2[[#This Row],[產品]]","v":"吊帶褲-水90-"},{"$f":"表格2[[#This Row],[單價]]","v":79},{"$f":"表格2[[#This Row],[入貨價]]","v":0},0,{"$f":"SUMIF(資料庫!D:D,庫存計算!C20,資料庫!E:E)","v":1},79]
[{"$f":"表格2[[#This Row],[貨源]]","v":0},{"$f":"表格2[[#This Row],[編號]]","v":"A0007"},{"$f":"表格2[[#This Row],[產品]]","v":"吊帶褲-HT90-"},{"$f":"表格2[[#This Row],[單價]]","v":79},{"$f":"表格2[[#This Row],[入貨價]]","v":0},0,{"$f":"SUMIF(資料庫!D:D,庫存計算!C21,資料庫!E:E)","v":1},79]
[{"$f":"表格2[[#This Row],[貨源]]","v":0},{"$f":"表格2[[#This Row],[編號]]","v":"A0008"},{"$f":"表格2[[#This Row],[產品]]","v":"安撫巾-水-"},{"$f":"表格2[[#This Row],[單價]]","v":0},{"$f":"表格2[[#This Row],[入貨價]]","v":0},0,{"$f":"SUMIF(資料庫!D:D,庫存計算!C22,資料庫!E:E)","v":2},0]
[{"$f":"表格2[[#This Row],[貨源]]","v":0},{"$f":"表格2[[#This Row],[編號]]","v":"A0008"},{"$f":"表格2[[#This Row],[產品]]","v":"安撫巾-玉-"},{"$f":"表格2[[#This Row],[單價]]","v":0},{"$f":"表格2[[#This Row],[入貨價]]","v":0},0,{"$f":"SUMIF(資料庫!D:D,庫存計算!C23,資料庫!E:E)","v":1},0]
[{"$f":"表格2[[#This Row],[貨源]]","v":0},{"$f":"表格2[[#This Row],[編號]]","v":"A0008"},{"$f":"表格2[[#This Row],[產品]]","v":"安撫巾-KU-"},{"$f":"表格2[[#This Row],[單價]]","v":0},{"$f":"表格2[[#This Row],[入貨價]]","v":0},0,{"$f":"SUMIF(資料庫!D:D,庫存計算!C24,資料庫!E:E)","v":1},0]
[{"$f":"表格2[[#This Row],[貨源]]","v":0},{"$f":"表格2[[#This Row],[編號]]","v":"A0009"},{"$f":"表格2[[#This Row],[產品]]","v":"冷衫-白90-"},{"$f":"表格2[[#This Row],[單價]]","v":0},{"$f":"表格2[[#This Row],[入貨價]]","v":0},0,{"$f":"SUMIF(資料庫!D:D,庫存計算!C25,資料庫!E:E)","v":0},0]
[{"$f":"表格2[[#This Row],[貨源]]","v":0},{"$f":"表格2[[#This Row],[編號]]","v":"A0009"},{"$f":"表格2[[#This Row],[產品]]","v":"冷衫-粉90-"},{"$f":"表格2[[#This Row],[單價]]","v":0},{"$f":"表格2[[#This Row],[入貨價]]","v":0},0,{"$f":"SUMIF(資料庫!D:D,庫存計算!C26,資料庫!E:E)","v":0},0]
[{"$f":"表格2[[#This Row],[貨源]]","v":0},{"$f":"表格2[[#This Row],[編號]]","v":"A0010"},{"$f":"表格2[[#This Row],[產品]]","v":"冷衫-白-90-"},{"$f":"表格2[[#This Row],[單價]]","v":0},{"$f":"表格2[[#This Row],[入貨價]]","v":0},0,{"$f":"SUMIF(資料庫!D:D,庫存計算!C27,資料庫!E:E)","v":0},0]
[{"$f":"表格2[[#This Row],[貨源]]","v":0},{"$f":"表格2[[#This Row],[編號]]","v":"A0011"},{"$f":"表格2[[#This Row],[產品]]","v":"冷衫-啡-90-"},{"$f":"表格2[[#This Row],[單價]]","v":0},{"$f":"表格2[[#This Row],[入貨價]]","v":0},0,{"$f":"SUMIF(資料庫!D:D,庫存計算!C28,資料庫!E:E)","v":0},0]
[{"$f":"表格2[[#This Row],[貨源]]","v":0},{"$f":"表格2[[#This Row],[編號]]","v":"A0012"},{"$f":"表格2[[#This Row],[產品]]","v":"和服-粉90-"},{"$f":"表格2[[#This Row],[單價]]","v":0},{"$f":"表格2[[#This Row],[入貨價]]","v":0},0,{"$f":"SUMIF(資料庫!D:D,庫存計算!C29,資料庫!E:E)","v":1},0]
[{"$f":"表格2[[#This Row],[貨源]]","v":0},{"$f":"表格2[[#This Row],[編號]]","v":"A0013"},{"$f":"表格2[[#This Row],[產品]]","v":"姓名貼--"},{"$f":"表格2[[#This Row],[單價]]","v":0},{"$f":"表格2[[#This Row],[入貨價]]","v":0},0,{"$f":"SUMIF(資料庫!D:D,庫存計算!C30,資料庫!E:E)","v":3},0]
[{"$f":"表格2[[#This Row],[貨源]]","v":0},{"$f":"表格2[[#This Row],[編號]]","v":"A0014"},{"$f":"表格2[[#This Row],[產品]]","v":"知母時--"},{"$f":"表格2[[#This Row],[單價]]","v":0},{"$f":"表格2[[#This Row],[入貨價]]","v":0},0,{"$f":"SUMIF(資料庫!D:D,庫存計算!C31,資料庫!E:E)","v":1},0]
[{"$f":"表格2[[#This Row],[貨源]]","v":0},{"$f":"表格2[[#This Row],[編號]]","v":"A0015"},{"$f":"表格2[[#This Row],[產品]]","v":"花邊冷衫-白90-"},{"$f":"表格2[[#This Row],[單價]]","v":0},{"$f":"表格2[[#This Row],[入貨價]]","v":0},0,{"$f":"SUMIF(資料庫!D:D,庫存計算!C32,資料庫!E:E)","v":0},0]
[{"$f":"表格2[[#This Row],[貨源]]","v":0},{"$f":"表格2[[#This Row],[編號]]","v":"A0015"},{"$f":"表格2[[#This Row],[產品]]","v":"花邊冷衫-粉100-"},{"$f":"表格2[[#This Row],[單價]]","v":0},{"$f":"表格2[[#This Row],[入貨價]]","v":0},0,{"$f":"SUMIF(資料庫!D:D,庫存計算!C33,資料庫!E:E)","v":1},0]
[{"$f":"表格2[[#This Row],[貨源]]","v":0},{"$f":"表格2[[#This Row],[編號]]","v":"A0015"},{"$f":"表格2[[#This Row],[產品]]","v":"花邊冷衫-粉90-"},{"$f":"表格2[[#This Row],[單價]]","v":0},{"$f":"表格2[[#This Row],[入貨價]]","v":0},0,{"$f":"SUMIF(資料庫!D:D,庫存計算!C34,資料庫!E:E)","v":0},0]
[{"$f":"表格2[[#This Row],[貨源]]","v":0},{"$f":"表格2[[#This Row],[編號]]","v":"A0016"},{"$f":"表格2[[#This Row],[產品]]","v":"星月亮水手-衛衣-灰90-"},{"$f":"表格2[[#This Row],[單價]]","v":0},{"$f":"表格2[[#This Row],[入貨價]]","v":0},0,{"$f":"SUMIF(資料庫!D:D,庫存計算!C35,資料庫!E:E)","v":0},0]
[{"$f":"表格2[[#This Row],[貨源]]","v":0},{"$f":"表格2[[#This Row],[編號]]","v":"A0016"},{"$f":"表格2[[#This Row],[產品]]","v":"星月亮水手-衛衣-藍90-"},{"$f":"表格2[[#This Row],[單價]]","v":0},{"$f":"表格2[[#This Row],[入貨價]]","v":0},0,{"$f":"SUMIF(資料庫!D:D,庫存計算!C36,資料庫!E:E)","v":1},0]
[{"$f":"表格2[[#This Row],[貨源]]","v":0},{"$f":"表格2[[#This Row],[編號]]","v":"A0017"},{"$f":"表格2[[#This Row],[產品]]","v":"星月亮水手-PAT-藍100-"},{"$f":"表格2[[#This Row],[單價]]","v":0},{"$f":"表格2[[#This Row],[入貨價]]","v":0},0,{"$f":"SUMIF(資料庫!D:D,庫存計算!C37,資料庫!E:E)","v":1},0]
[{"$f":"表格2[[#This Row],[貨源]]","v":0},{"$f":"表格2[[#This Row],[編號]]","v":"A0018"},{"$f":"表格2[[#This Row],[產品]]","v":"秋褲2條裝-A-90-"},{"$f":"表格2[[#This Row],[單價]]","v":0},{"$f":"表格2[[#This Row],[入貨價]]","v":0},0,{"$f":"SUMIF(資料庫!D:D,庫存計算!C38,資料庫!E:E)","v":1},0]
[{"$f":"表格2[[#This Row],[貨源]]","v":0},{"$f":"表格2[[#This Row],[編號]]","v":"A0019"},{"$f":"表格2[[#This Row],[產品]]","v":"面包超人袋--"},{"$f":"表格2[[#This Row],[單價]]","v":0},{"$f":"表格2[[#This Row],[入貨價]]","v":0},0,{"$f":"SUMIF(資料庫!D:D,庫存計算!C39,資料庫!E:E)","v":3},0]
[{"$f":"表格2[[#This Row],[貨源]]","v":0},{"$f":"表格2[[#This Row],[編號]]","v":"A0020"},{"$f":"表格2[[#This Row],[產品]]","v":"唐老鴨背包--"},{"$f":"表格2[[#This Row],[單價]]","v":0},{"$f":"表格2[[#This Row],[入貨價]]","v":0},0,{"$f":"SUMIF(資料庫!D:D,庫存計算!C40,資料庫!E:E)","v":7},0]
[{"$f":"表格2[[#This Row],[貨源]]","v":0},{"$f":"表格2[[#This Row],[編號]]","v":"A0021"},{"$f":"表格2[[#This Row],[產品]]","v":"唐老鴨連身-66-"},{"$f":"表格2[[#This Row],[單價]]","v":0},{"$f":"表格2[[#This Row],[入貨價]]","v":0},0,{"$f":"SUMIF(資料庫!D:D,庫存計算!C41,資料庫!E:E)","v":1},0]
[{"$f":"表格2[[#This Row],[貨源]]","v":0},{"$f":"表格2[[#This Row],[編號]]","v":"A0021"},{"$f":"表格2[[#This Row],[產品]]","v":"唐老鴨連身-73-"},{"$f":"表格2[[#This Row],[單價]]","v":0},{"$f":"表格2[[#This Row],[入貨價]]","v":0},0,{"$f":"SUMIF(資料庫!D:D,庫存計算!C42,資料庫!E:E)","v":1},0]
[{"$f":"表格2[[#This Row],[貨源]]","v":0},{"$f":"表格2[[#This Row],[編號]]","v":"A0021"},{"$f":"表格2[[#This Row],[產品]]","v":"唐老鴨連身-80-"},{"$f":"表格2[[#This Row],[單價]]","v":0},{"$f":"表格2[[#This Row],[入貨價]]","v":0},0,{"$f":"SUMIF(資料庫!D:D,庫存計算!C43,資料庫!E:E)","v":2},0]
[{"$f":"表格2[[#This Row],[貨源]]","v":0},{"$f":"表格2[[#This Row],[編號]]","v":"A0021"},{"$f":"表格2[[#This Row],[產品]]","v":"唐老鴨連身-90-"},{"$f":"表格2[[#This Row],[單價]]","v":0},{"$f":"表格2[[#This Row],[入貨價]]","v":0},0,{"$f":"SUMIF(資料庫!D:D,庫存計算!C44,資料庫!E:E)","v":4},0]
[{"$f":"表格2[[#This Row],[貨源]]","v":0},{"$f":"表格2[[#This Row],[編號]]","v":"A0021"},{"$f":"表格2[[#This Row],[產品]]","v":"唐老鴨連身-100-"},{"$f":"表格2[[#This Row],[單價]]","v":0},{"$f":"表格2[[#This Row],[入貨價]]","v":0},0,{"$f":"SUMIF(資料庫!D:D,庫存計算!C45,資料庫!E:E)","v":2},0]
[{"$f":"表格2[[#This Row],[貨源]]","v":0},{"$f":"表格2[[#This Row],[編號]]","v":"A0022"},{"$f":"表格2[[#This Row],[產品]]","v":"現-牛仔花花裙-90-"},{"$f":"表格2[[#This Row],[單價]]","v":0},{"$f":"表格2[[#This Row],[入貨價]]","v":0},0,{"$f":"SUMIF(資料庫!D:D,庫存計算!C46,資料庫!E:E)","v":1},0]
[{"$f":"表格2[[#This Row],[貨源]]","v":0},{"$f":"表格2[[#This Row],[編號]]","v":"A0023"},{"$f":"表格2[[#This Row],[產品]]","v":"現-淺藍史迪仔aloha-3-6-"},{"$f":"表格2[[#This Row],[單價]]","v":0},{"$f":"表格2[[#This Row],[入貨價]]","v":0},0,{"$f":"SUMIF(資料庫!D:D,庫存計算!C47,資料庫!E:E)","v":1},0]
[{"$f":"表格2[[#This Row],[貨源]]","v":0},{"$f":"表格2[[#This Row],[編號]]","v":"A0024"},{"$f":"表格2[[#This Row],[產品]]","v":"現-綠龍長袖-90--"},{"$f":"表格2[[#This Row],[單價]]","v":0},{"$f":"表格2[[#This Row],[入貨價]]","v":0},0,{"$f":"SUMIF(資料庫!D:D,庫存計算!C48,資料庫!E:E)","v":1},0]
[{"$f":"表格2[[#This Row],[貨源]]","v":0},{"$f":"表格2[[#This Row],[編號]]","v":"A0025"},{"$f":"表格2[[#This Row],[產品]]","v":"現-george-滿印littlemonkey-白-95-"},{"$f":"表格2[[#This Row],[單價]]","v":0},{"$f":"表格2[[#This Row],[入貨價]]","v":0},0,{"$f":"SUMIF(資料庫!D:D,庫存計算!C49,資料庫!E:E)","v":1},0]
[{"$f":"表格2[[#This Row],[貨源]]","v":0},{"$f":"表格2[[#This Row],[編號]]","v":"A0026"},{"$f":"表格2[[#This Row],[產品]]","v":"單眼仔-包80-"},{"$f":"表格2[[#This Row],[單價]]","v":0},{"$f":"表格2[[#This Row],[入貨價]]","v":0},0,{"$f":"SUMIF(資料庫!D:D,庫存計算!C50,資料庫!E:E)","v":1},0]
[{"$f":"表格2[[#This Row],[貨源]]","v":0},{"$f":"表格2[[#This Row],[編號]]","v":"A0026"},{"$f":"表格2[[#This Row],[產品]]","v":"單眼仔-衛100-"},{"$f":"表格2[[#This Row],[單價]]","v":0},{"$f":"表格2[[#This Row],[入貨價]]","v":0},0,{"$f":"SUMIF(資料庫!D:D,庫存計算!C51,資料庫!E:E)","v":2},0]
[{"$f":"表格2[[#This Row],[貨源]]","v":0},{"$f":"表格2[[#This Row],[編號]]","v":"A0026"},{"$f":"表格2[[#This Row],[產品]]","v":"單眼仔-衛130-"},{"$f":"表格2[[#This Row],[單價]]","v":0},{"$f":"表格2[[#This Row],[入貨價]]","v":0},0,{"$f":"SUMIF(資料庫!D:D,庫存計算!C52,資料庫!E:E)","v":1},0]
[{"$f":"表格2[[#This Row],[貨源]]","v":0},{"$f":"表格2[[#This Row],[編號]]","v":"A0027"},{"$f":"表格2[[#This Row],[產品]]","v":"間條連身-青90-"},{"$f":"表格2[[#This Row],[單價]]","v":0},{"$f":"表格2[[#This Row],[入貨價]]","v":0},0,{"$f":"SUMIF(資料庫!D:D,庫存計算!C53,資料庫!E:E)","v":2},0]
[{"$f":"表格2[[#This Row],[貨源]]","v":0},{"$f":"表格2[[#This Row],[編號]]","v":"A0027"},{"$f":"表格2[[#This Row],[產品]]","v":"間條連身-MELODY90-"},{"$f":"表格2[[#This Row],[單價]]","v":0},{"$f":"表格2[[#This Row],[入貨價]]","v":0},0,{"$f":"SUMIF(資料庫!D:D,庫存計算!C54,資料庫!E:E)","v":1},0]
[{"$f":"表格2[[#This Row],[貨源]]","v":0},{"$f":"表格2[[#This Row],[編號]]","v":"A0028"},{"$f":"表格2[[#This Row],[產品]]","v":"獅子外套-90-"},{"$f":"表格2[[#This Row],[單價]]","v":0},{"$f":"表格2[[#This Row],[入貨價]]","v":0},0,{"$f":"SUMIF(資料庫!D:D,庫存計算!C55,資料庫!E:E)","v":1},0]
[{"$f":"表格2[[#This Row],[貨源]]","v":0},{"$f":"表格2[[#This Row],[編號]]","v":"A0028"},{"$f":"表格2[[#This Row],[產品]]","v":"獅子外套-100-"},{"$f":"表格2[[#This Row],[單價]]","v":0},{"$f":"表格2[[#This Row],[入貨價]]","v":0},0,{"$f":"SUMIF(資料庫!D:D,庫存計算!C56,資料庫!E:E)","v":2},0]
[{"$f":"表格2[[#This Row],[貨源]]","v":0},{"$f":"表格2[[#This Row],[編號]]","v":"A0029"},{"$f":"表格2[[#This Row],[產品]]","v":"獅子褲-90-"},{"$f":"表格2[[#This Row],[單價]]","v":0},{"$f":"表格2[[#This Row],[入貨價]]","v":0},0,{"$f":"SUMIF(資料庫!D:D,庫存計算!C57,資料庫!E:E)","v":1},0]
[{"$f":"表格2[[#This Row],[貨源]]","v":0},{"$f":"表格2[[#This Row],[編號]]","v":"A0029"},{"$f":"表格2[[#This Row],[產品]]","v":"獅子褲-100-"},{"$f":"表格2[[#This Row],[單價]]","v":0},{"$f":"表格2[[#This Row],[入貨價]]","v":0},0,{"$f":"SUMIF(資料庫!D:D,庫存計算!C58,資料庫!E:E)","v":1},0]
[{"$f":"表格2[[#This Row],[貨源]]","v":0},{"$f":"表格2[[#This Row],[編號]]","v":"A0030"},{"$f":"表格2[[#This Row],[產品]]","v":"睡衣SET B-90-"},{"$f":"表格2[[#This Row],[單價]]","v":0},{"$f":"表格2[[#This Row],[入貨價]]","v":0},0,{"$f":"SUMIF(資料庫!D:D,庫存計算!C59,資料庫!E:E)","v":1},0]
[{"$f":"表格2[[#This Row],[貨源]]","v":0},{"$f":"表格2[[#This Row],[編號]]","v":"A0031"},{"$f":"表格2[[#This Row],[產品]]","v":"碎花衫-100-"},{"$f":"表格2[[#This Row],[單價]]","v":0},{"$f":"表格2[[#This Row],[入貨價]]","v":0},0,{"$f":"SUMIF(資料庫!D:D,庫存計算!C60,資料庫!E:E)","v":1},0]
[{"$f":"表格2[[#This Row],[貨源]]","v":0},{"$f":"表格2[[#This Row],[編號]]","v":"A0032"},{"$f":"表格2[[#This Row],[產品]]","v":"聖誕老人連身-70-"},{"$f":"表格2[[#This Row],[單價]]","v":0},{"$f":"表格2[[#This Row],[入貨價]]","v":0},0,{"$f":"SUMIF(資料庫!D:D,庫存計算!C61,資料庫!E:E)","v":1},0]
[{"$f":"表格2[[#This Row],[貨源]]","v":0},{"$f":"表格2[[#This Row],[編號]]","v":"A0033"},{"$f":"表格2[[#This Row],[產品]]","v":"聖誕老人裙-100-"},{"$f":"表格2[[#This Row],[單價]]","v":0},{"$f":"表格2[[#This Row],[入貨價]]","v":0},0,{"$f":"SUMIF(資料庫!D:D,庫存計算!C62,資料庫!E:E)","v":2},0]
[{"$f":"表格2[[#This Row],[貨源]]","v":0},{"$f":"表格2[[#This Row],[編號]]","v":"A0034"},{"$f":"表格2[[#This Row],[產品]]","v":"聖誕鹿-80-"},{"$f":"表格2[[#This Row],[單價]]","v":0},{"$f":"表格2[[#This Row],[入貨價]]","v":0},0,{"$f":"SUMIF(資料庫!D:D,庫存計算!C63,資料庫!E:E)","v":1},0]
[{"$f":"表格2[[#This Row],[貨源]]","v":0},{"$f":"表格2[[#This Row],[編號]]","v":"A0034"},{"$f":"表格2[[#This Row],[產品]]","v":"聖誕鹿-90-"},{"$f":"表格2[[#This Row],[單價]]","v":0},{"$f":"表格2[[#This Row],[入貨價]]","v":0},0,{"$f":"SUMIF(資料庫!D:D,庫存計算!C64,資料庫!E:E)","v":0},0]
[{"$f":"表格2[[#This Row],[貨源]]","v":0},{"$f":"表格2[[#This Row],[編號]]","v":"A0034"},{"$f":"表格2[[#This Row],[產品]]","v":"聖誕鹿-100-"},{"$f":"表格2[[#This Row],[單價]]","v":0},{"$f":"表格2[[#This Row],[入貨價]]","v":0},0,{"$f":"SUMIF(資料庫!D:D,庫存計算!C65,資料庫!E:E)","v":2},0]
[{"$f":"表格2[[#This Row],[貨源]]","v":0},{"$f":"表格2[[#This Row],[編號]]","v":"A0034"},{"$f":"表格2[[#This Row],[產品]]","v":"聖誕鹿-120-"},{"$f":"表格2[[#This Row],[單價]]","v":0},{"$f":"表格2[[#This Row],[入貨價]]","v":0},0,{"$f":"SUMIF(資料庫!D:D,庫存計算!C66,資料庫!E:E)","v":1},0]
[{"$f":"表格2[[#This Row],[貨源]]","v":0},{"$f":"表格2[[#This Row],[編號]]","v":"A0035"},{"$f":"表格2[[#This Row],[產品]]","v":"聖誕樹-80-"},{"$f":"表格2[[#This Row],[單價]]","v":0},{"$f":"表格2[[#This Row],[入貨價]]","v":0},0,{"$f":"SUMIF(資料庫!D:D,庫存計算!C67,資料庫!E:E)","v":1},0]
[{"$f":"表格2[[#This Row],[貨源]]","v":0},{"$f":"表格2[[#This Row],[編號]]","v":"A0035"},{"$f":"表格2[[#This Row],[產品]]","v":"聖誕樹-90-"},{"$f":"表格2[[#This Row],[單價]]","v":0},{"$f":"表格2[[#This Row],[入貨價]]","v":0},{"$f":"E68","v":0},{"$f":"SUMIF(資料庫!D:D,庫存計算!C68,資料庫!E:E)","v":2},{"$f":"(D68-F68)*G68","v":0}]
[{"$f":"表格2[[#This Row],[貨源]]","v":0},{"$f":"表格2[[#This Row],[編號]]","v":"A0035"},{"$f":"表格2[[#This Row],[產品]]","v":"聖誕樹-100-"},{"$f":"表格2[[#This Row],[單價]]","v":0},{"$f":"表格2[[#This Row],[入貨價]]","v":0},0,{"$f":"SUMIF(資料庫!D:D,庫存計算!C69,資料庫!E:E)","v":3},0]
[{"$f":"表格2[[#This Row],[貨源]]","v":0},{"$f":"表格2[[#This Row],[編號]]","v":"A0036"},{"$f":"表格2[[#This Row],[產品]]","v":"滿印熊-衛-白100-"},{"$f":"表格2[[#This Row],[單價]]","v":0},{"$f":"表格2[[#This Row],[入貨價]]","v":0},0,{"$f":"SUMIF(資料庫!D:D,庫存計算!C70,資料庫!E:E)","v":1},0]
[{"$f":"表格2[[#This Row],[貨源]]","v":0},{"$f":"表格2[[#This Row],[編號]]","v":"A0037"},{"$f":"表格2[[#This Row],[產品]]","v":"滿印熊-PAT-白100-"},{"$f":"表格2[[#This Row],[單價]]","v":0},{"$f":"表格2[[#This Row],[入貨價]]","v":0},0,{"$f":"SUMIF(資料庫!D:D,庫存計算!C71,資料庫!E:E)","v":1},0]
[{"$f":"表格2[[#This Row],[貨源]]","v":0},{"$f":"表格2[[#This Row],[編號]]","v":"A0037"},{"$f":"表格2[[#This Row],[產品]]","v":"滿印熊-PAT-啡80-"},{"$f":"表格2[[#This Row],[單價]]","v":0},{"$f":"表格2[[#This Row],[入貨價]]","v":0},0,{"$f":"SUMIF(資料庫!D:D,庫存計算!C72,資料庫!E:E)","v":1},0]
[{"$f":"表格2[[#This Row],[貨源]]","v":0},{"$f":"表格2[[#This Row],[編號]]","v":"A0038"},{"$f":"表格2[[#This Row],[產品]]","v":"福袋B-110-"},{"$f":"表格2[[#This Row],[單價]]","v":0},{"$f":"表格2[[#This Row],[入貨價]]","v":0},0,{"$f":"SUMIF(資料庫!D:D,庫存計算!C73,資料庫!E:E)","v":0},0]
[{"$f":"表格2[[#This Row],[貨源]]","v":0},{"$f":"表格2[[#This Row],[編號]]","v":"A0038"},{"$f":"表格2[[#This Row],[產品]]","v":"福袋D-90-"},{"$f":"表格2[[#This Row],[單價]]","v":0},{"$f":"表格2[[#This Row],[入貨價]]","v":0},0,{"$f":"SUMIF(資料庫!D:D,庫存計算!C74,資料庫!E:E)","v":2},0]
[{"$f":"表格2[[#This Row],[貨源]]","v":0},{"$f":"表格2[[#This Row],[編號]]","v":"A0038"},{"$f":"表格2[[#This Row],[產品]]","v":"福袋D-140-"},{"$f":"表格2[[#This Row],[單價]]","v":0},{"$f":"表格2[[#This Row],[入貨價]]","v":0},0,{"$f":"SUMIF(資料庫!D:D,庫存計算!C75,資料庫!E:E)","v":0},0]
[{"$f":"表格2[[#This Row],[貨源]]","v":0},{"$f":"表格2[[#This Row],[編號]]","v":"A0039"},{"$f":"表格2[[#This Row],[產品]]","v":"綠仙子SET-90-"},{"$f":"表格2[[#This Row],[單價]]","v":0},{"$f":"表格2[[#This Row],[入貨價]]","v":0},0,{"$f":"SUMIF(資料庫!D:D,庫存計算!C76,資料庫!E:E)","v":1},0]
[{"$f":"表格2[[#This Row],[貨源]]","v":0},{"$f":"表格2[[#This Row],[編號]]","v":"A0040"},{"$f":"表格2[[#This Row],[產品]]","v":"豬仔-包70-"},{"$f":"表格2[[#This Row],[單價]]","v":0},{"$f":"表格2[[#This Row],[入貨價]]","v":0},0,{"$f":"SUMIF(資料庫!D:D,庫存計算!C77,資料庫!E:E)","v":1},0]
[{"$f":"表格2[[#This Row],[貨源]]","v":0},{"$f":"表格2[[#This Row],[編號]]","v":"A0040"},{"$f":"表格2[[#This Row],[產品]]","v":"豬仔-衛90-"},{"$f":"表格2[[#This Row],[單價]]","v":0},{"$f":"表格2[[#This Row],[入貨價]]","v":0},0,{"$f":"SUMIF(資料庫!D:D,庫存計算!C78,資料庫!E:E)","v":1},0]
[{"$f":"表格2[[#This Row],[貨源]]","v":0},{"$f":"表格2[[#This Row],[編號]]","v":"A0041"},{"$f":"表格2[[#This Row],[產品]]","v":"豬仔連身-80-"},{"$f":"表格2[[#This Row],[單價]]","v":0},{"$f":"表格2[[#This Row],[入貨價]]","v":0},0,{"$f":"SUMIF(資料庫!D:D,庫存計算!C79,資料庫!E:E)","v":1},0]
[{"$f":"表格2[[#This Row],[貨源]]","v":0},{"$f":"表格2[[#This Row],[編號]]","v":"A0041"},{"$f":"表格2[[#This Row],[產品]]","v":"豬仔連身-90-"},{"$f":"表格2[[#This Row],[單價]]","v":0},{"$f":"表格2[[#This Row],[入貨價]]","v":0},0,{"$f":"SUMIF(資料庫!D:D,庫存計算!C80,資料庫!E:E)","v":1},0]
[{"$f":"表格2[[#This Row],[貨源]]","v":0},{"$f":"表格2[[#This Row],[編號]]","v":"A0042"},{"$f":"表格2[[#This Row],[產品]]","v":"褲-啡100-"},{"$f":"表格2[[#This Row],[單價]]","v":0},{"$f":"表格2[[#This Row],[入貨價]]","v":0},0,{"$f":"SUMIF(資料庫!D:D,庫存計算!C81,資料庫!E:E)","v":1},0]
[{"$f":"表格2[[#This Row],[貨源]]","v":0},{"$f":"表格2[[#This Row],[編號]]","v":"A0043"},{"$f":"表格2[[#This Row],[產品]]","v":"頸巾-兔-"},{"$f":"表格2[[#This Row],[單價]]","v":0},{"$f":"表格2[[#This Row],[入貨價]]","v":0},0,{"$f":"SUMIF(資料庫!D:D,庫存計算!C82,資料庫!E:E)","v":1},0]
[{"$f":"表格2[[#This Row],[貨源]]","v":0},{"$f":"表格2[[#This Row],[編號]]","v":"A0043"},{"$f":"表格2[[#This Row],[產品]]","v":"頸巾-熊-"},{"$f":"表格2[[#This Row],[單價]]","v":0},{"$f":"表格2[[#This Row],[入貨價]]","v":0},0,{"$f":"SUMIF(資料庫!D:D,庫存計算!C83,資料庫!E:E)","v":1},0]
[{"$f":"表格2[[#This Row],[貨源]]","v":0},{"$f":"表格2[[#This Row],[編號]]","v":"A0044"},{"$f":"表格2[[#This Row],[產品]]","v":"點點筆--"},{"$f":"表格2[[#This Row],[單價]]","v":0},{"$f":"表格2[[#This Row],[入貨價]]","v":0},0,{"$f":"SUMIF(資料庫!D:D,庫存計算!C84,資料庫!E:E)","v":1},0]
[{"$f":"表格2[[#This Row],[貨源]]","v":0},{"$f":"表格2[[#This Row],[編號]]","v":"A0045"},{"$f":"表格2[[#This Row],[產品]]","v":"蠟筆--"},{"$f":"表格2[[#This Row],[單價]]","v":0},{"$f":"表格2[[#This Row],[入貨價]]","v":0},0,{"$f":"SUMIF(資料庫!D:D,庫存計算!C85,資料庫!E:E)","v":1},0]
[{"$f":"表格2[[#This Row],[貨源]]","v":0},{"$f":"表格2[[#This Row],[編號]]","v":"A0046"},{"$f":"表格2[[#This Row],[產品]]","v":"bb 防曬lotion--"},{"$f":"表格2[[#This Row],[單價]]","v":0},{"$f":"表格2[[#This Row],[入貨價]]","v":0},0,{"$f":"SUMIF(資料庫!D:D,庫存計算!C86,資料庫!E:E)","v":1},0]
[{"$f":"表格2[[#This Row],[貨源]]","v":0},{"$f":"表格2[[#This Row],[編號]]","v":"A0047"},{"$f":"表格2[[#This Row],[產品]]","v":"BEAR BEAR 冷衫-100-"},{"$f":"表格2[[#This Row],[單價]]","v":0},{"$f":"表格2[[#This Row],[入貨價]]","v":0},0,{"$f":"SUMIF(資料庫!D:D,庫存計算!C87,資料庫!E:E)","v":1},0]
[{"$f":"表格2[[#This Row],[貨源]]","v":0},{"$f":"表格2[[#This Row],[編號]]","v":"A0047"},{"$f":"表格2[[#This Row],[產品]]","v":"BEAR BEAR 冷衫-110-"},{"$f":"表格2[[#This Row],[單價]]","v":0},{"$f":"表格2[[#This Row],[入貨價]]","v":0},0,{"$f":"SUMIF(資料庫!D:D,庫存計算!C88,資料庫!E:E)","v":1},0]
[{"$f":"表格2[[#This Row],[貨源]]","v":0},{"$f":"表格2[[#This Row],[編號]]","v":"A0048"},{"$f":"表格2[[#This Row],[產品]]","v":"BEAR BEAR 直間-110-"},{"$f":"表格2[[#This Row],[單價]]","v":0},{"$f":"表格2[[#This Row],[入貨價]]","v":0},0,{"$f":"SUMIF(資料庫!D:D,庫存計算!C89,資料庫!E:E)","v":1},0]
[{"$f":"表格2[[#This Row],[貨源]]","v":0},{"$f":"表格2[[#This Row],[編號]]","v":"A0049"},{"$f":"表格2[[#This Row],[產品]]","v":"BEAR BEAR 風嬲-110-"},{"$f":"表格2[[#This Row],[單價]]","v":0},{"$f":"表格2[[#This Row],[入貨價]]","v":0},0,{"$f":"SUMIF(資料庫!D:D,庫存計算!C90,資料庫!E:E)","v":2},0]
[{"$f":"表格2[[#This Row],[貨源]]","v":0},{"$f":"表格2[[#This Row],[編號]]","v":"A0049"},{"$f":"表格2[[#This Row],[產品]]","v":"BEAR BEAR 風嬲-120-"},{"$f":"表格2[[#This Row],[單價]]","v":0},{"$f":"表格2[[#This Row],[入貨價]]","v":0},0,{"$f":"SUMIF(資料庫!D:D,庫存計算!C91,資料庫!E:E)","v":1},0]
[{"$f":"表格2[[#This Row],[貨源]]","v":0},{"$f":"表格2[[#This Row],[編號]]","v":"A0050"},{"$f":"表格2[[#This Row],[產品]]","v":"CARE BEAR 毛毛衛衣-白90-"},{"$f":"表格2[[#This Row],[單價]]","v":0},{"$f":"表格2[[#This Row],[入貨價]]","v":0},0,{"$f":"SUMIF(資料庫!D:D,庫存計算!C92,資料庫!E:E)","v":0},0]
[{"$f":"表格2[[#This Row],[貨源]]","v":0},{"$f":"表格2[[#This Row],[編號]]","v":"A0051"},{"$f":"表格2[[#This Row],[產品]]","v":"CARE BEAR 家居親子裝-粉90-"},{"$f":"表格2[[#This Row],[單價]]","v":0},{"$f":"表格2[[#This Row],[入貨價]]","v":0},0,{"$f":"SUMIF(資料庫!D:D,庫存計算!C93,資料庫!E:E)","v":0},0]
[{"$f":"表格2[[#This Row],[貨源]]","v":0},{"$f":"表格2[[#This Row],[編號]]","v":"A0051"},{"$f":"表格2[[#This Row],[產品]]","v":"CARE BEAR 家居親子裝-粉L-"},{"$f":"表格2[[#This Row],[單價]]","v":0},{"$f":"表格2[[#This Row],[入貨價]]","v":0},0,{"$f":"SUMIF(資料庫!D:D,庫存計算!C94,資料庫!E:E)","v":0},0]
[{"$f":"表格2[[#This Row],[貨源]]","v":0},{"$f":"表格2[[#This Row],[編號]]","v":"A0052"},{"$f":"表格2[[#This Row],[產品]]","v":"CARE BEAR C1-藍100-"},{"$f":"表格2[[#This Row],[單價]]","v":0},{"$f":"表格2[[#This Row],[入貨價]]","v":0},0,{"$f":"SUMIF(資料庫!D:D,庫存計算!C95,資料庫!E:E)","v":1},0]
[{"$f":"表格2[[#This Row],[貨源]]","v":0},{"$f":"表格2[[#This Row],[編號]]","v":"A0053"},{"$f":"表格2[[#This Row],[產品]]","v":"CART衛衣有帽-110-"},{"$f":"表格2[[#This Row],[單價]]","v":0},{"$f":"表格2[[#This Row],[入貨價]]","v":0},0,{"$f":"SUMIF(資料庫!D:D,庫存計算!C96,資料庫!E:E)","v":1},0]
[{"$f":"表格2[[#This Row],[貨源]]","v":0},{"$f":"表格2[[#This Row],[編號]]","v":"A0053"},{"$f":"表格2[[#This Row],[產品]]","v":"CART衛衣有帽-藍L-"},{"$f":"表格2[[#This Row],[單價]]","v":0},{"$f":"表格2[[#This Row],[入貨價]]","v":0},0,{"$f":"SUMIF(資料庫!D:D,庫存計算!C97,資料庫!E:E)","v":1},0]
[{"$f":"表格2[[#This Row],[貨源]]","v":0},{"$f":"表格2[[#This Row],[編號]]","v":"A0053"},{"$f":"表格2[[#This Row],[產品]]","v":"CART衛衣有帽-藍S-"},{"$f":"表格2[[#This Row],[單價]]","v":0},{"$f":"表格2[[#This Row],[入貨價]]","v":0},0,{"$f":"SUMIF(資料庫!D:D,庫存計算!C98,資料庫!E:E)","v":1},0]
[{"$f":"表格2[[#This Row],[貨源]]","v":0},{"$f":"表格2[[#This Row],[編號]]","v":"A0054"},{"$f":"表格2[[#This Row],[產品]]","v":"cool kids 舒緩膏--"},{"$f":"表格2[[#This Row],[單價]]","v":0},{"$f":"表格2[[#This Row],[入貨價]]","v":0},0,{"$f":"SUMIF(資料庫!D:D,庫存計算!C99,資料庫!E:E)","v":1},0]
[{"$f":"表格2[[#This Row],[貨源]]","v":0},{"$f":"表格2[[#This Row],[編號]]","v":"A0055"},{"$f":"表格2[[#This Row],[產品]]","v":"DTD車帶--"},{"$f":"表格2[[#This Row],[單價]]","v":0},{"$f":"表格2[[#This Row],[入貨價]]","v":0},0,{"$f":"SUMIF(資料庫!D:D,庫存計算!C100,資料庫!E:E)","v":1},0]
[{"$f":"表格2[[#This Row],[貨源]]","v":0},{"$f":"表格2[[#This Row],[編號]]","v":"A0056"},{"$f":"表格2[[#This Row],[產品]]","v":"GAP 連身灰-90-"},{"$f":"表格2[[#This Row],[單價]]","v":0},{"$f":"表格2[[#This Row],[入貨價]]","v":0},0,{"$f":"SUMIF(資料庫!D:D,庫存計算!C101,資料庫!E:E)","v":0},0]
[{"$f":"表格2[[#This Row],[貨源]]","v":0},{"$f":"表格2[[#This Row],[編號]]","v":"A0056"},{"$f":"表格2[[#This Row],[產品]]","v":"GAP 連身灰-100-"},{"$f":"表格2[[#This Row],[單價]]","v":0},{"$f":"表格2[[#This Row],[入貨價]]","v":0},0,{"$f":"SUMIF(資料庫!D:D,庫存計算!C102,資料庫!E:E)","v":1},0]
[{"$f":"表格2[[#This Row],[貨源]]","v":0},{"$f":"表格2[[#This Row],[編號]]","v":"A0056"},{"$f":"表格2[[#This Row],[產品]]","v":"GAP 連身米-80-"},{"$f":"表格2[[#This Row],[單價]]","v":0},{"$f":"表格2[[#This Row],[入貨價]]","v":0},0,{"$f":"SUMIF(資料庫!D:D,庫存計算!C103,資料庫!E:E)","v":1},0]
[{"$f":"表格2[[#This Row],[貨源]]","v":0},{"$f":"表格2[[#This Row],[編號]]","v":"A0056"},{"$f":"表格2[[#This Row],[產品]]","v":"GAP 連身米-90-"},{"$f":"表格2[[#This Row],[單價]]","v":0},{"$f":"表格2[[#This Row],[入貨價]]","v":0},0,{"$f":"SUMIF(資料庫!D:D,庫存計算!C104,資料庫!E:E)","v":1},0]
[{"$f":"表格2[[#This Row],[貨源]]","v":0},{"$f":"表格2[[#This Row],[編號]]","v":"A0056"},{"$f":"表格2[[#This Row],[產品]]","v":"GAP 連身米-100-"},{"$f":"表格2[[#This Row],[單價]]","v":0},{"$f":"表格2[[#This Row],[入貨價]]","v":0},0,{"$f":"SUMIF(資料庫!D:D,庫存計算!C105,資料庫!E:E)","v":1},0]
[{"$f":"表格2[[#This Row],[貨源]]","v":0},{"$f":"表格2[[#This Row],[編號]]","v":"A0056"},{"$f":"表格2[[#This Row],[產品]]","v":"GAP 連身紅-90-"},{"$f":"表格2[[#This Row],[單價]]","v":0},{"$f":"表格2[[#This Row],[入貨價]]","v":0},0,{"$f":"SUMIF(資料庫!D:D,庫存計算!C106,資料庫!E:E)","v":1},0]
[{"$f":"表格2[[#This Row],[貨源]]","v":0},{"$f":"表格2[[#This Row],[編號]]","v":"A0056"},{"$f":"表格2[[#This Row],[產品]]","v":"GAP 連身紅-100-"},{"$f":"表格2[[#This Row],[單價]]","v":0},{"$f":"表格2[[#This Row],[入貨價]]","v":0},0,{"$f":"SUMIF(資料庫!D:D,庫存計算!C107,資料庫!E:E)","v":1},0]
[{"$f":"表格2[[#This Row],[貨源]]","v":0},{"$f":"表格2[[#This Row],[編號]]","v":"A0056"},{"$f":"表格2[[#This Row],[產品]]","v":"GAP 連身棒球-80-"},{"$f":"表格2[[#This Row],[單價]]","v":0},{"$f":"表格2[[#This Row],[入貨價]]","v":0},0,{"$f":"SUMIF(資料庫!D:D,庫存計算!C108,資料庫!E:E)","v":1},0]
[{"$f":"表格2[[#This Row],[貨源]]","v":0},{"$f":"表格2[[#This Row],[編號]]","v":"A0056"},{"$f":"表格2[[#This Row],[產品]]","v":"GAP 連身棒球-90-"},{"$f":"表格2[[#This Row],[單價]]","v":0},{"$f":"表格2[[#This Row],[入貨價]]","v":0},0,{"$f":"SUMIF(資料庫!D:D,庫存計算!C109,資料庫!E:E)","v":1},0]
[{"$f":"表格2[[#This Row],[貨源]]","v":0},{"$f":"表格2[[#This Row],[編號]]","v":"A0057"},{"$f":"表格2[[#This Row],[產品]]","v":"H2-18-24-"},{"$f":"表格2[[#This Row],[單價]]","v":0},{"$f":"表格2[[#This Row],[入貨價]]","v":0},0,{"$f":"SUMIF(資料庫!D:D,庫存計算!C110,資料庫!E:E)","v":1},0]
[{"$f":"表格2[[#This Row],[貨源]]","v":0},{"$f":"表格2[[#This Row],[編號]]","v":"A0058"},{"$f":"表格2[[#This Row],[產品]]","v":"H3-2-3-"},{"$f":"表格2[[#This Row],[單價]]","v":0},{"$f":"表格2[[#This Row],[入貨價]]","v":0},0,{"$f":"SUMIF(資料庫!D:D,庫存計算!C111,資料庫!E:E)","v":0},0]
[{"$f":"表格2[[#This Row],[貨源]]","v":0},{"$f":"表格2[[#This Row],[編號]]","v":"A0059"},{"$f":"表格2[[#This Row],[產品]]","v":"H4-2-3-"},{"$f":"表格2[[#This Row],[單價]]","v":0},{"$f":"表格2[[#This Row],[入貨價]]","v":0},0,{"$f":"SUMIF(資料庫!D:D,庫存計算!C112,資料庫!E:E)","v":1},0]
[{"$f":"表格2[[#This Row],[貨源]]","v":0},{"$f":"表格2[[#This Row],[編號]]","v":"A0059"},{"$f":"表格2[[#This Row],[產品]]","v":"H4-18-24-"},{"$f":"表格2[[#This Row],[單價]]","v":0},{"$f":"表格2[[#This Row],[入貨價]]","v":0},0,{"$f":"SUMIF(資料庫!D:D,庫存計算!C113,資料庫!E:E)","v":1},0]
[{"$f":"表格2[[#This Row],[貨源]]","v":0},{"$f":"表格2[[#This Row],[編號]]","v":"A0060"},{"$f":"表格2[[#This Row],[產品]]","v":"H5-100-"},{"$f":"表格2[[#This Row],[單價]]","v":0},{"$f":"表格2[[#This Row],[入貨價]]","v":0},0,{"$f":"SUMIF(資料庫!D:D,庫存計算!C114,資料庫!E:E)","v":1},0]
[{"$f":"表格2[[#This Row],[貨源]]","v":0},{"$f":"表格2[[#This Row],[編號]]","v":"A0061"},{"$f":"表格2[[#This Row],[產品]]","v":"h7-6-12-"},{"$f":"表格2[[#This Row],[單價]]","v":0},{"$f":"表格2[[#This Row],[入貨價]]","v":0},0,{"$f":"SUMIF(資料庫!D:D,庫存計算!C115,資料庫!E:E)","v":1},0]
[{"$f":"表格2[[#This Row],[貨源]]","v":0},{"$f":"表格2[[#This Row],[編號]]","v":"A0062"},{"$f":"表格2[[#This Row],[產品]]","v":"H8-0-6-"},{"$f":"表格2[[#This Row],[單價]]","v":0},{"$f":"表格2[[#This Row],[入貨價]]","v":0},0,{"$f":"SUMIF(資料庫!D:D,庫存計算!C116,資料庫!E:E)","v":1},0]
[{"$f":"表格2[[#This Row],[貨源]]","v":0},{"$f":"表格2[[#This Row],[編號]]","v":"A0063"},{"$f":"表格2[[#This Row],[產品]]","v":"konny 咩帶-灰米-"},{"$f":"表格2[[#This Row],[單價]]","v":0},{"$f":"表格2[[#This Row],[入貨價]]","v":0},0,{"$f":"SUMIF(資料庫!D:D,庫存計算!C117,資料庫!E:E)","v":1},0]
[{"$f":"表格2[[#This Row],[貨源]]","v":0},{"$f":"表格2[[#This Row],[編號]]","v":"A0064"},{"$f":"表格2[[#This Row],[產品]]","v":"konny口水肩-4-"},{"$f":"表格2[[#This Row],[單價]]","v":0},{"$f":"表格2[[#This Row],[入貨價]]","v":0},0,{"$f":"SUMIF(資料庫!D:D,庫存計算!C118,資料庫!E:E)","v":1},0]
[{"$f":"表格2[[#This Row],[貨源]]","v":0},{"$f":"表格2[[#This Row],[編號]]","v":"A0065"},{"$f":"表格2[[#This Row],[產品]]","v":"konny碗-綠-"},{"$f":"表格2[[#This Row],[單價]]","v":0},{"$f":"表格2[[#This Row],[入貨價]]","v":0},0,{"$f":"SUMIF(資料庫!D:D,庫存計算!C119,資料庫!E:E)","v":0},0]
[{"$f":"表格2[[#This Row],[貨源]]","v":0},{"$f":"表格2[[#This Row],[編號]]","v":"A0065"},{"$f":"表格2[[#This Row],[產品]]","v":"konny碗-燕-"},{"$f":"表格2[[#This Row],[單價]]","v":0},{"$f":"表格2[[#This Row],[入貨價]]","v":0},0,{"$f":"SUMIF(資料庫!D:D,庫存計算!C120,資料庫!E:E)","v":1},0]
[{"$f":"表格2[[#This Row],[貨源]]","v":0},{"$f":"表格2[[#This Row],[編號]]","v":"A0065"},{"$f":"表格2[[#This Row],[產品]]","v":"konny碗-藍-"},{"$f":"表格2[[#This Row],[單價]]","v":0},{"$f":"表格2[[#This Row],[入貨價]]","v":0},0,{"$f":"SUMIF(資料庫!D:D,庫存計算!C121,資料庫!E:E)","v":2},0]
[{"$f":"表格2[[#This Row],[貨源]]","v":0},{"$f":"表格2[[#This Row],[編號]]","v":"A0066"},{"$f":"表格2[[#This Row],[產品]]","v":"lee 衛衣-灰白130-"},{"$f":"表格2[[#This Row],[單價]]","v":0},{"$f":"表格2[[#This Row],[入貨價]]","v":0},0,{"$f":"SUMIF(資料庫!D:D,庫存計算!C122,資料庫!E:E)","v":2},0]
[{"$f":"表格2[[#This Row],[貨源]]","v":0},{"$f":"表格2[[#This Row],[編號]]","v":"A0066"},{"$f":"表格2[[#This Row],[產品]]","v":"lee 衛衣-灰藍90-"},{"$f":"表格2[[#This Row],[單價]]","v":0},{"$f":"表格2[[#This Row],[入貨價]]","v":0},0,{"$f":"SUMIF(資料庫!D:D,庫存計算!C123,資料庫!E:E)","v":2},0]
[{"$f":"表格2[[#This Row],[貨源]]","v":0},{"$f":"表格2[[#This Row],[編號]]","v":"A0067"},{"$f":"表格2[[#This Row],[產品]]","v":"LEE吊帶褲-灰100-"},{"$f":"表格2[[#This Row],[單價]]","v":0},{"$f":"表格2[[#This Row],[入貨價]]","v":0},0,{"$f":"SUMIF(資料庫!D:D,庫存計算!C124,資料庫!E:E)","v":1},0]
[{"$f":"表格2[[#This Row],[貨源]]","v":0},{"$f":"表格2[[#This Row],[編號]]","v":"A0068"},{"$f":"表格2[[#This Row],[產品]]","v":"Linabell 粉外套-110-"},{"$f":"表格2[[#This Row],[單價]]","v":0},{"$f":"表格2[[#This Row],[入貨價]]","v":0},0,{"$f":"SUMIF(資料庫!D:D,庫存計算!C125,資料庫!E:E)","v":1},0]
[{"$f":"表格2[[#This Row],[貨源]]","v":0},{"$f":"表格2[[#This Row],[編號]]","v":"A0068"},{"$f":"表格2[[#This Row],[產品]]","v":"Linabell 粉外套-120-"},{"$f":"表格2[[#This Row],[單價]]","v":0},{"$f":"表格2[[#This Row],[入貨價]]","v":0},0,{"$f":"SUMIF(資料庫!D:D,庫存計算!C126,資料庫!E:E)","v":1},0]
[{"$f":"表格2[[#This Row],[貨源]]","v":0},{"$f":"表格2[[#This Row],[編號]]","v":"A0069"},{"$f":"表格2[[#This Row],[產品]]","v":"MELODY紅白衛衣-80-"},{"$f":"表格2[[#This Row],[單價]]","v":0},{"$f":"表格2[[#This Row],[入貨價]]","v":0},0,{"$f":"SUMIF(資料庫!D:D,庫存計算!C127,資料庫!E:E)","v":1},0]
[{"$f":"表格2[[#This Row],[貨源]]","v":0},{"$f":"表格2[[#This Row],[編號]]","v":"A0069"},{"$f":"表格2[[#This Row],[產品]]","v":"MELODY紅白衛衣-90-"},{"$f":"表格2[[#This Row],[單價]]","v":0},{"$f":"表格2[[#This Row],[入貨價]]","v":0},0,{"$f":"SUMIF(資料庫!D:D,庫存計算!C128,資料庫!E:E)","v":1},0]
[{"$f":"表格2[[#This Row],[貨源]]","v":0},{"$f":"表格2[[#This Row],[編號]]","v":"A0070"},{"$f":"表格2[[#This Row],[產品]]","v":"MIFFY 外套-白100-"},{"$f":"表格2[[#This Row],[單價]]","v":0},{"$f":"表格2[[#This Row],[入貨價]]","v":0},0,{"$f":"SUMIF(資料庫!D:D,庫存計算!C129,資料庫!E:E)","v":1},0]
[{"$f":"表格2[[#This Row],[貨源]]","v":0},{"$f":"表格2[[#This Row],[編號]]","v":"A0071"},{"$f":"表格2[[#This Row],[產品]]","v":"miffy 拖鞋-白37-"},{"$f":"表格2[[#This Row],[單價]]","v":0},{"$f":"表格2[[#This Row],[入貨價]]","v":0},0,{"$f":"SUMIF(資料庫!D:D,庫存計算!C130,資料庫!E:E)","v":1},0]
[{"$f":"表格2[[#This Row],[貨源]]","v":0},{"$f":"表格2[[#This Row],[編號]]","v":"A0072"},{"$f":"表格2[[#This Row],[產品]]","v":"miffy 書包--"},{"$f":"表格2[[#This Row],[單價]]","v":0},{"$f":"表格2[[#This Row],[入貨價]]","v":0},0,{"$f":"SUMIF(資料庫!D:D,庫存計算!C131,資料庫!E:E)","v":2},0]
[{"$f":"表格2[[#This Row],[貨源]]","v":0},{"$f":"表格2[[#This Row],[編號]]","v":"A0073"},{"$f":"表格2[[#This Row],[產品]]","v":"MIFFY A-粉80-"},{"$f":"表格2[[#This Row],[單價]]","v":0},{"$f":"表格2[[#This Row],[入貨價]]","v":0},{"$f":"E132","v":0},{"$f":"SUMIF(資料庫!D:D,庫存計算!C132,資料庫!E:E)","v":1},{"$f":"(D132-F132)*G132","v":0}]
[{"$f":"表格2[[#This Row],[貨源]]","v":0},{"$f":"表格2[[#This Row],[編號]]","v":"A0073"},{"$f":"表格2[[#This Row],[產品]]","v":"MIFFY A-藍80-"},{"$f":"表格2[[#This Row],[單價]]","v":0},{"$f":"表格2[[#This Row],[入貨價]]","v":0},0,{"$f":"SUMIF(資料庫!D:D,庫存計算!C133,資料庫!E:E)","v":1},0]
[{"$f":"表格2[[#This Row],[貨源]]","v":0},{"$f":"表格2[[#This Row],[編號]]","v":"A0074"},{"$f":"表格2[[#This Row],[產品]]","v":"MIFFY3件套(1長1短1褲)-粉80-"},{"$f":"表格2[[#This Row],[單價]]","v":0},{"$f":"表格2[[#This Row],[入貨價]]","v":0},0,{"$f":"SUMIF(資料庫!D:D,庫存計算!C134,資料庫!E:E)","v":0},0]
[{"$f":"表格2[[#This Row],[貨源]]","v":0},{"$f":"表格2[[#This Row],[編號]]","v":"A0074"},{"$f":"表格2[[#This Row],[產品]]","v":"MIFFY3件套(1長1短1褲)-黃90-"},{"$f":"表格2[[#This Row],[單價]]","v":0},{"$f":"表格2[[#This Row],[入貨價]]","v":0},0,{"$f":"SUMIF(資料庫!D:D,庫存計算!C135,資料庫!E:E)","v":0},0]
[{"$f":"表格2[[#This Row],[貨源]]","v":0},{"$f":"表格2[[#This Row],[編號]]","v":"A0075"},{"$f":"表格2[[#This Row],[產品]]","v":"MIFFY冷衫-灰80-"},{"$f":"表格2[[#This Row],[單價]]","v":0},{"$f":"表格2[[#This Row],[入貨價]]","v":0},0,{"$f":"SUMIF(資料庫!D:D,庫存計算!C136,資料庫!E:E)","v":0},0]
[{"$f":"表格2[[#This Row],[貨源]]","v":0},{"$f":"表格2[[#This Row],[編號]]","v":"A0075"},{"$f":"表格2[[#This Row],[產品]]","v":"MIFFY冷衫-杏80-"},{"$f":"表格2[[#This Row],[單價]]","v":0},{"$f":"表格2[[#This Row],[入貨價]]","v":0},0,{"$f":"SUMIF(資料庫!D:D,庫存計算!C137,資料庫!E:E)","v":0},0]
[{"$f":"表格2[[#This Row],[貨源]]","v":0},{"$f":"表格2[[#This Row],[編號]]","v":"A0076"},{"$f":"表格2[[#This Row],[產品]]","v":"MIFFY杯套-藍--"},{"$f":"表格2[[#This Row],[單價]]","v":0},{"$f":"表格2[[#This Row],[入貨價]]","v":0},0,{"$f":"SUMIF(資料庫!D:D,庫存計算!C138,資料庫!E:E)","v":1},0]
[{"$f":"表格2[[#This Row],[貨源]]","v":0},{"$f":"表格2[[#This Row],[編號]]","v":"A0077"},{"$f":"表格2[[#This Row],[產品]]","v":"MIFFY家居服SET-粉80-"},{"$f":"表格2[[#This Row],[單價]]","v":0},{"$f":"表格2[[#This Row],[入貨價]]","v":0},0,{"$f":"SUMIF(資料庫!D:D,庫存計算!C139,資料庫!E:E)","v":0},0]
[{"$f":"表格2[[#This Row],[貨源]]","v":0},{"$f":"表格2[[#This Row],[編號]]","v":"A0077"},{"$f":"表格2[[#This Row],[產品]]","v":"MIFFY家居服SET-藍90-"},{"$f":"表格2[[#This Row],[單價]]","v":0},{"$f":"表格2[[#This Row],[入貨價]]","v":0},0,{"$f":"SUMIF(資料庫!D:D,庫存計算!C140,資料庫!E:E)","v":0},0]
[{"$f":"表格2[[#This Row],[貨源]]","v":0},{"$f":"表格2[[#This Row],[編號]]","v":"A0078"},{"$f":"表格2[[#This Row],[產品]]","v":"MIFFY滿印-白90-"},{"$f":"表格2[[#This Row],[單價]]","v":0},{"$f":"表格2[[#This Row],[入貨價]]","v":0},0,{"$f":"SUMIF(資料庫!D:D,庫存計算!C141,資料庫!E:E)","v":1},0]
[{"$f":"表格2[[#This Row],[貨源]]","v":0},{"$f":"表格2[[#This Row],[編號]]","v":"A0078"},{"$f":"表格2[[#This Row],[產品]]","v":"MIFFY滿印-粉90-"},{"$f":"表格2[[#This Row],[單價]]","v":0},{"$f":"表格2[[#This Row],[入貨價]]","v":0},0,{"$f":"SUMIF(資料庫!D:D,庫存計算!C142,資料庫!E:E)","v":1},0]
[{"$f":"表格2[[#This Row],[貨源]]","v":0},{"$f":"表格2[[#This Row],[編號]]","v":"A0079"},{"$f":"表格2[[#This Row],[產品]]","v":"MIFFYB-白90-"},{"$f":"表格2[[#This Row],[單價]]","v":0},{"$f":"表格2[[#This Row],[入貨價]]","v":0},0,{"$f":"SUMIF(資料庫!D:D,庫存計算!C143,資料庫!E:E)","v":1},0]
[{"$f":"表格2[[#This Row],[貨源]]","v":0},{"$f":"表格2[[#This Row],[編號]]","v":"A0079"},{"$f":"表格2[[#This Row],[產品]]","v":"MIFFYB-粉90-"},{"$f":"表格2[[#This Row],[單價]]","v":0},{"$f":"表格2[[#This Row],[入貨價]]","v":0},0,{"$f":"SUMIF(資料庫!D:D,庫存計算!C144,資料庫!E:E)","v":1},0]
[{"$f":"表格2[[#This Row],[貨源]]","v":0},{"$f":"表格2[[#This Row],[編號]]","v":"A0080"},{"$f":"表格2[[#This Row],[產品]]","v":"MLB-5外套-黑-"},{"$f":"表格2[[#This Row],[單價]]","v":0},{"$f":"表格2[[#This Row],[入貨價]]","v":0},0,{"$f":"SUMIF(資料庫!D:D,庫存計算!C145,資料庫!E:E)","v":1},0]
[{"$f":"表格2[[#This Row],[貨源]]","v":0},{"$f":"表格2[[#This Row],[編號]]","v":"A0081"},{"$f":"表格2[[#This Row],[產品]]","v":"NF 被-啡-"},{"$f":"表格2[[#This Row],[單價]]","v":0},{"$f":"表格2[[#This Row],[入貨價]]","v":0},0,{"$f":"SUMIF(資料庫!D:D,庫存計算!C146,資料庫!E:E)","v":2},0]
[{"$f":"表格2[[#This Row],[貨源]]","v":0},{"$f":"表格2[[#This Row],[編號]]","v":"A0081"},{"$f":"表格2[[#This Row],[產品]]","v":"NF 被-黑-"},{"$f":"表格2[[#This Row],[單價]]","v":0},{"$f":"表格2[[#This Row],[入貨價]]","v":0},0,{"$f":"SUMIF(資料庫!D:D,庫存計算!C147,資料庫!E:E)","v":6},0]
[{"$f":"表格2[[#This Row],[貨源]]","v":0},{"$f":"表格2[[#This Row],[編號]]","v":"A0082"},{"$f":"表格2[[#This Row],[產品]]","v":"NF 熊仔外套-白100-"},{"$f":"表格2[[#This Row],[單價]]","v":0},{"$f":"表格2[[#This Row],[入貨價]]","v":0},0,{"$f":"SUMIF(資料庫!D:D,庫存計算!C148,資料庫!E:E)","v":1},0]
[{"$f":"表格2[[#This Row],[貨源]]","v":0},{"$f":"表格2[[#This Row],[編號]]","v":"A0082"},{"$f":"表格2[[#This Row],[產品]]","v":"NF 熊仔外套-白110-"},{"$f":"表格2[[#This Row],[單價]]","v":0},{"$f":"表格2[[#This Row],[入貨價]]","v":0},0,{"$f":"SUMIF(資料庫!D:D,庫存計算!C149,資料庫!E:E)","v":1},0]
[{"$f":"表格2[[#This Row],[貨源]]","v":0},{"$f":"表格2[[#This Row],[編號]]","v":"A0082"},{"$f":"表格2[[#This Row],[產品]]","v":"NF 熊仔外套-白90-"},{"$f":"表格2[[#This Row],[單價]]","v":0},{"$f":"表格2[[#This Row],[入貨價]]","v":0},0,{"$f":"SUMIF(資料庫!D:D,庫存計算!C150,資料庫!E:E)","v":3},0]
[{"$f":"表格2[[#This Row],[貨源]]","v":0},{"$f":"表格2[[#This Row],[編號]]","v":"A0082"},{"$f":"表格2[[#This Row],[產品]]","v":"NF 熊仔外套-粉100-"},{"$f":"表格2[[#This Row],[單價]]","v":0},{"$f":"表格2[[#This Row],[入貨價]]","v":0},0,{"$f":"SUMIF(資料庫!D:D,庫存計算!C151,資料庫!E:E)","v":1},0]
[{"$f":"表格2[[#This Row],[貨源]]","v":0},{"$f":"表格2[[#This Row],[編號]]","v":"A0082"},{"$f":"表格2[[#This Row],[產品]]","v":"NF 熊仔外套-粉90-"},{"$f":"表格2[[#This Row],[單價]]","v":0},{"$f":"表格2[[#This Row],[入貨價]]","v":0},0,{"$f":"SUMIF(資料庫!D:D,庫存計算!C152,資料庫!E:E)","v":1},0]
[{"$f":"表格2[[#This Row],[貨源]]","v":0},{"$f":"表格2[[#This Row],[編號]]","v":"A0082"},{"$f":"表格2[[#This Row],[產品]]","v":"NF 熊仔外套-啡110-"},{"$f":"表格2[[#This Row],[單價]]","v":0},{"$f":"表格2[[#This Row],[入貨價]]","v":0},0,{"$f":"SUMIF(資料庫!D:D,庫存計算!C153,資料庫!E:E)","v":1},0]
[{"$f":"表格2[[#This Row],[貨源]]","v":0},{"$f":"表格2[[#This Row],[編號]]","v":"A0082"},{"$f":"表格2[[#This Row],[產品]]","v":"NF 熊仔外套-啡130-"},{"$f":"表格2[[#This Row],[單價]]","v":0},{"$f":"表格2[[#This Row],[入貨價]]","v":0},0,{"$f":"SUMIF(資料庫!D:D,庫存計算!C154,資料庫!E:E)","v":1},0]
[{"$f":"表格2[[#This Row],[貨源]]","v":0},{"$f":"表格2[[#This Row],[編號]]","v":"A0082"},{"$f":"表格2[[#This Row],[產品]]","v":"NF 熊仔外套-啡90-"},{"$f":"表格2[[#This Row],[單價]]","v":0},{"$f":"表格2[[#This Row],[入貨價]]","v":0},0,{"$f":"SUMIF(資料庫!D:D,庫存計算!C155,資料庫!E:E)","v":2},0]
[{"$f":"表格2[[#This Row],[貨源]]","v":0},{"$f":"表格2[[#This Row],[編號]]","v":"A0083"},{"$f":"表格2[[#This Row],[產品]]","v":"NF 熊仔爬服-粉100-"},{"$f":"表格2[[#This Row],[單價]]","v":0},{"$f":"表格2[[#This Row],[入貨價]]","v":0},0,{"$f":"SUMIF(資料庫!D:D,庫存計算!C156,資料庫!E:E)","v":1},0]
[{"$f":"表格2[[#This Row],[貨源]]","v":0},{"$f":"表格2[[#This Row],[編號]]","v":"A0084"},{"$f":"表格2[[#This Row],[產品]]","v":"nf legging褲-白80-"},{"$f":"表格2[[#This Row],[單價]]","v":0},{"$f":"表格2[[#This Row],[入貨價]]","v":0},0,{"$f":"SUMIF(資料庫!D:D,庫存計算!C157,資料庫!E:E)","v":2},0]
[{"$f":"表格2[[#This Row],[貨源]]","v":0},{"$f":"表格2[[#This Row],[編號]]","v":"A0084"},{"$f":"表格2[[#This Row],[產品]]","v":"nf legging褲-黑100-"},{"$f":"表格2[[#This Row],[單價]]","v":0},{"$f":"表格2[[#This Row],[入貨價]]","v":0},0,{"$f":"SUMIF(資料庫!D:D,庫存計算!C158,資料庫!E:E)","v":2},0]
[{"$f":"表格2[[#This Row],[貨源]]","v":0},{"$f":"表格2[[#This Row],[編號]]","v":"A0084"},{"$f":"表格2[[#This Row],[產品]]","v":"nf legging褲-黑130-"},{"$f":"表格2[[#This Row],[單價]]","v":0},{"$f":"表格2[[#This Row],[入貨價]]","v":0},0,{"$f":"SUMIF(資料庫!D:D,庫存計算!C159,資料庫!E:E)","v":1},0]
[{"$f":"表格2[[#This Row],[貨源]]","v":0},{"$f":"表格2[[#This Row],[編號]]","v":"A0085"},{"$f":"表格2[[#This Row],[產品]]","v":"NF雙面棉外套-米杏100-"},{"$f":"表格2[[#This Row],[單價]]","v":0},{"$f":"表格2[[#This Row],[入貨價]]","v":0},0,{"$f":"SUMIF(資料庫!D:D,庫存計算!C160,資料庫!E:E)","v":1},0]
[{"$f":"表格2[[#This Row],[貨源]]","v":0},{"$f":"表格2[[#This Row],[編號]]","v":"A0085"},{"$f":"表格2[[#This Row],[產品]]","v":"NF雙面棉外套-米杏L-"},{"$f":"表格2[[#This Row],[單價]]","v":0},{"$f":"表格2[[#This Row],[入貨價]]","v":0},0,{"$f":"SUMIF(資料庫!D:D,庫存計算!C161,資料庫!E:E)","v":3},0]
[{"$f":"表格2[[#This Row],[貨源]]","v":0},{"$f":"表格2[[#This Row],[編號]]","v":"A0085"},{"$f":"表格2[[#This Row],[產品]]","v":"NF雙面棉外套-杏M-"},{"$f":"表格2[[#This Row],[單價]]","v":0},{"$f":"表格2[[#This Row],[入貨價]]","v":0},0,{"$f":"SUMIF(資料庫!D:D,庫存計算!C162,資料庫!E:E)","v":1},0]
[{"$f":"表格2[[#This Row],[貨源]]","v":0},{"$f":"表格2[[#This Row],[編號]]","v":"A0085"},{"$f":"表格2[[#This Row],[產品]]","v":"NF雙面棉外套-粉100-"},{"$f":"表格2[[#This Row],[單價]]","v":0},{"$f":"表格2[[#This Row],[入貨價]]","v":0},0,{"$f":"SUMIF(資料庫!D:D,庫存計算!C163,資料庫!E:E)","v":2},0]
[{"$f":"表格2[[#This Row],[貨源]]","v":0},{"$f":"表格2[[#This Row],[編號]]","v":"A0085"},{"$f":"表格2[[#This Row],[產品]]","v":"NF雙面棉外套-粉M-"},{"$f":"表格2[[#This Row],[單價]]","v":0},{"$f":"表格2[[#This Row],[入貨價]]","v":0},0,{"$f":"SUMIF(資料庫!D:D,庫存計算!C164,資料庫!E:E)","v":2},0]
[{"$f":"表格2[[#This Row],[貨源]]","v":0},{"$f":"表格2[[#This Row],[編號]]","v":"A0085"},{"$f":"表格2[[#This Row],[產品]]","v":"NF雙面棉外套-綠100-"},{"$f":"表格2[[#This Row],[單價]]","v":0},{"$f":"表格2[[#This Row],[入貨價]]","v":0},0,{"$f":"SUMIF(資料庫!D:D,庫存計算!C165,資料庫!E:E)","v":2},0]
[{"$f":"表格2[[#This Row],[貨源]]","v":0},{"$f":"表格2[[#This Row],[編號]]","v":"A0085"},{"$f":"表格2[[#This Row],[產品]]","v":"NF雙面棉外套-綠110-"},{"$f":"表格2[[#This Row],[單價]]","v":0},{"$f":"表格2[[#This Row],[入貨價]]","v":0},0,{"$f":"SUMIF(資料庫!D:D,庫存計算!C166,資料庫!E:E)","v":1},0]
[{"$f":"表格2[[#This Row],[貨源]]","v":0},{"$f":"表格2[[#This Row],[編號]]","v":"A0085"},{"$f":"表格2[[#This Row],[產品]]","v":"NF雙面棉外套-綠90-"},{"$f":"表格2[[#This Row],[單價]]","v":0},{"$f":"表格2[[#This Row],[入貨價]]","v":0},0,{"$f":"SUMIF(資料庫!D:D,庫存計算!C167,資料庫!E:E)","v":2},0]
[{"$f":"表格2[[#This Row],[貨源]]","v":0},{"$f":"表格2[[#This Row],[編號]]","v":"A0085"},{"$f":"表格2[[#This Row],[產品]]","v":"NF雙面棉外套-綠L-"},{"$f":"表格2[[#This Row],[單價]]","v":0},{"$f":"表格2[[#This Row],[入貨價]]","v":0},0,{"$f":"SUMIF(資料庫!D:D,庫存計算!C168,資料庫!E:E)","v":1},0]
[{"$f":"表格2[[#This Row],[貨源]]","v":0},{"$f":"表格2[[#This Row],[編號]]","v":"A0086"},{"$f":"表格2[[#This Row],[產品]]","v":"POLO背心-白110-"},{"$f":"表格2[[#This Row],[單價]]","v":0},{"$f":"表格2[[#This Row],[入貨價]]","v":0},0,{"$f":"SUMIF(資料庫!D:D,庫存計算!C169,資料庫!E:E)","v":1},0]
[{"$f":"表格2[[#This Row],[貨源]]","v":0},{"$f":"表格2[[#This Row],[編號]]","v":"A0086"},{"$f":"表格2[[#This Row],[產品]]","v":"POLO背心-白90-"},{"$f":"表格2[[#This Row],[單價]]","v":0},{"$f":"表格2[[#This Row],[入貨價]]","v":0},0,{"$f":"SUMIF(資料庫!D:D,庫存計算!C170,資料庫!E:E)","v":1},0]
[{"$f":"表格2[[#This Row],[貨源]]","v":0},{"$f":"表格2[[#This Row],[編號]]","v":"A0086"},{"$f":"表格2[[#This Row],[產品]]","v":"POLO背心-深藍110-"},{"$f":"表格2[[#This Row],[單價]]","v":0},{"$f":"表格2[[#This Row],[入貨價]]","v":0},0,{"$f":"SUMIF(資料庫!D:D,庫存計算!C171,資料庫!E:E)","v":1},0]
[{"$f":"表格2[[#This Row],[貨源]]","v":0},{"$f":"表格2[[#This Row],[編號]]","v":"A0087"},{"$f":"表格2[[#This Row],[產品]]","v":"POLO純色連身裙-卡其100-"},{"$f":"表格2[[#This Row],[單價]]","v":0},{"$f":"表格2[[#This Row],[入貨價]]","v":0},0,{"$f":"SUMIF(資料庫!D:D,庫存計算!C172,資料庫!E:E)","v":1},0]
[{"$f":"表格2[[#This Row],[貨源]]","v":0},{"$f":"表格2[[#This Row],[編號]]","v":"A0087"},{"$f":"表格2[[#This Row],[產品]]","v":"POLO純色連身裙-卡其90-"},{"$f":"表格2[[#This Row],[單價]]","v":0},{"$f":"表格2[[#This Row],[入貨價]]","v":0},0,{"$f":"SUMIF(資料庫!D:D,庫存計算!C173,資料庫!E:E)","v":2},0]
[{"$f":"表格2[[#This Row],[貨源]]","v":0},{"$f":"表格2[[#This Row],[編號]]","v":"A0087"},{"$f":"表格2[[#This Row],[產品]]","v":"POLO純色連身裙-藍100-"},{"$f":"表格2[[#This Row],[單價]]","v":0},{"$f":"表格2[[#This Row],[入貨價]]","v":0},0,{"$f":"SUMIF(資料庫!D:D,庫存計算!C174,資料庫!E:E)","v":1},0]
[{"$f":"表格2[[#This Row],[貨源]]","v":0},{"$f":"表格2[[#This Row],[編號]]","v":"A0087"},{"$f":"表格2[[#This Row],[產品]]","v":"POLO純色連身裙-藍110-"},{"$f":"表格2[[#This Row],[單價]]","v":0},{"$f":"表格2[[#This Row],[入貨價]]","v":0},0,{"$f":"SUMIF(資料庫!D:D,庫存計算!C175,資料庫!E:E)","v":2},0]
[{"$f":"表格2[[#This Row],[貨源]]","v":0},{"$f":"表格2[[#This Row],[編號]]","v":"A0088"},{"$f":"表格2[[#This Row],[產品]]","v":"POLO條紋衫-90-"},{"$f":"表格2[[#This Row],[單價]]","v":0},{"$f":"表格2[[#This Row],[入貨價]]","v":0},0,{"$f":"SUMIF(資料庫!D:D,庫存計算!C176,資料庫!E:E)","v":1},0]
[{"$f":"表格2[[#This Row],[貨源]]","v":0},{"$f":"表格2[[#This Row],[編號]]","v":"A0089"},{"$f":"表格2[[#This Row],[產品]]","v":"POLO條紋裙-90-"},{"$f":"表格2[[#This Row],[單價]]","v":0},{"$f":"表格2[[#This Row],[入貨價]]","v":0},0,{"$f":"SUMIF(資料庫!D:D,庫存計算!C177,資料庫!E:E)","v":4},0]
[{"$f":"表格2[[#This Row],[貨源]]","v":0},{"$f":"表格2[[#This Row],[編號]]","v":"A0089"},{"$f":"表格2[[#This Row],[產品]]","v":"POLO條紋裙-100-"},{"$f":"表格2[[#This Row],[單價]]","v":0},{"$f":"表格2[[#This Row],[入貨價]]","v":0},0,{"$f":"SUMIF(資料庫!D:D,庫存計算!C178,資料庫!E:E)","v":2},0]
[{"$f":"表格2[[#This Row],[貨源]]","v":0},{"$f":"表格2[[#This Row],[編號]]","v":"A0090"},{"$f":"表格2[[#This Row],[產品]]","v":"POOH 背包--"},{"$f":"表格2[[#This Row],[單價]]","v":0},{"$f":"表格2[[#This Row],[入貨價]]","v":0},0,{"$f":"SUMIF(資料庫!D:D,庫存計算!C179,資料庫!E:E)","v":3},0]
[{"$f":"表格2[[#This Row],[貨源]]","v":0},{"$f":"表格2[[#This Row],[編號]]","v":"A0091"},{"$f":"表格2[[#This Row],[產品]]","v":"pooh pat-18-24-"},{"$f":"表格2[[#This Row],[單價]]","v":0},{"$f":"表格2[[#This Row],[入貨價]]","v":0},0,{"$f":"SUMIF(資料庫!D:D,庫存計算!C180,資料庫!E:E)","v":1},0]
[{"$f":"表格2[[#This Row],[貨源]]","v":0},{"$f":"表格2[[#This Row],[編號]]","v":"A0092"},{"$f":"表格2[[#This Row],[產品]]","v":"SANRIO 滿印-水90-"},{"$f":"表格2[[#This Row],[單價]]","v":0},{"$f":"表格2[[#This Row],[入貨價]]","v":0},0,{"$f":"SUMIF(資料庫!D:D,庫存計算!C181,資料庫!E:E)","v":1},0]
[{"$f":"表格2[[#This Row],[貨源]]","v":0},{"$f":"表格2[[#This Row],[編號]]","v":"A0092"},{"$f":"表格2[[#This Row],[產品]]","v":"SANRIO 滿印-HT80-"},{"$f":"表格2[[#This Row],[單價]]","v":0},{"$f":"表格2[[#This Row],[入貨價]]","v":0},0,{"$f":"SUMIF(資料庫!D:D,庫存計算!C182,資料庫!E:E)","v":1},0]
[{"$f":"表格2[[#This Row],[貨源]]","v":0},{"$f":"表格2[[#This Row],[編號]]","v":"A0092"},{"$f":"表格2[[#This Row],[產品]]","v":"SANRIO 滿印-HT90-"},{"$f":"表格2[[#This Row],[單價]]","v":0},{"$f":"表格2[[#This Row],[入貨價]]","v":0},0,{"$f":"SUMIF(資料庫!D:D,庫存計算!C183,資料庫!E:E)","v":1},0]
[{"$f":"表格2[[#This Row],[貨源]]","v":0},{"$f":"表格2[[#This Row],[編號]]","v":"Hello, World!"},{"$f":"表格2[[#This Row],[產品]]","v":"三合一-粉100-"},{"$f":"表格2[[#This Row],[單價]]","v":139},{"$f":"表格2[[#This Row],[入貨價]]","v":0},0,{"$f":"SUMIF(資料庫!D:D,庫存計算!C184,資料庫!E:E)","v":1},139]
[{"$f":"表格2[[#This Row],[貨源]]","v":0},{"$f":"表格2[[#This Row],[編號]]","v":"HK1"},{"$f":"表格2[[#This Row],[產品]]","v":"BBB車車餐具-黃-"},{"$f":"表格2[[#This Row],[單價]]","v":98},{"$f":"表格2[[#This Row],[入貨價]]","v":0},0,{"$f":"SUMIF(資料庫!D:D,庫存計算!C185,資料庫!E:E)","v":2},196]
[{"$f":"表格2[[#This Row],[貨源]]","v":0},{"$f":"表格2[[#This Row],[編號]]","v":"HK1"},{"$f":"表格2[[#This Row],[產品]]","v":"BBB車車餐具-紫-"},{"$f":"表格2[[#This Row],[單價]]","v":98},{"$f":"表格2[[#This Row],[入貨價]]","v":0},{"$f":"E186/4","v":0},{"$f":"SUMIF(資料庫!D:D,庫存計算!C186,資料庫!E:E)","v":1},98]
[{"$f":"表格2[[#This Row],[貨源]]","v":0},{"$f":"表格2[[#This Row],[編號]]","v":"HK2"},{"$f":"表格2[[#This Row],[產品]]","v":"BBB經典餐具-藍-"},{"$f":"表格2[[#This Row],[單價]]","v":88},{"$f":"表格2[[#This Row],[入貨價]]","v":0},{"$f":"E187/4","v":0},{"$f":"SUMIF(資料庫!D:D,庫存計算!C187,資料庫!E:E)","v":2},176]
[{"$f":"表格2[[#This Row],[貨源]]","v":0},{"$f":"表格2[[#This Row],[編號]]","v":"HK2"},{"$f":"表格2[[#This Row],[產品]]","v":"BBB經典餐具-粉-"},{"$f":"表格2[[#This Row],[單價]]","v":88},{"$f":"表格2[[#This Row],[入貨價]]","v":0},0,{"$f":"SUMIF(資料庫!D:D,庫存計算!C188,資料庫!E:E)","v":2},176]
[{"$f":"表格2[[#This Row],[貨源]]","v":0},{"$f":"表格2[[#This Row],[編號]]","v":"HK2"},{"$f":"表格2[[#This Row],[產品]]","v":"BBB經典餐具-黃-"},{"$f":"表格2[[#This Row],[單價]]","v":88},{"$f":"表格2[[#This Row],[入貨價]]","v":0},0,{"$f":"SUMIF(資料庫!D:D,庫存計算!C189,資料庫!E:E)","v":1},88]
[{"$f":"表格2[[#This Row],[貨源]]","v":0},{"$f":"表格2[[#This Row],[編號]]","v":"JP"},{"$f":"表格2[[#This Row],[產品]]","v":"日本代購"},{"$f":"表格2[[#This Row],[單價]]","v":0},{"$f":"表格2[[#This Row],[入貨價]]","v":0},0,{"$f":"SUMIF(資料庫!D:D,庫存計算!C190,資料庫!E:E)","v":67},0]
[{"$f":"表格2[[#This Row],[貨源]]","v":0},{"$f":"表格2[[#This Row],[編號]]","v":"S1213"},{"$f":"表格2[[#This Row],[產品]]","v":"-小獅王-拋棄式雙層奶粉袋(12入)-"},{"$f":"表格2[[#This Row],[單價]]","v":38},{"$f":"表格2[[#This Row],[入貨價]]","v":63},15.75,{"$f":"SUMIF(資料庫!D:D,庫存計算!C191,資料庫!E:E)","v":0},0]
[{"$f":"表格2[[#This Row],[貨源]]","v":0},{"$f":"表格2[[#This Row],[編號]]","v":"S1214"},{"$f":"表格2[[#This Row],[產品]]","v":"-小獅王-溜滑梯專利衛生奶粉盒(菈藍)-"},{"$f":"表格2[[#This Row],[單價]]","v":0},{"$f":"表格2[[#This Row],[入貨價]]","v":138},34.5,{"$f":"SUMIF(資料庫!D:D,庫存計算!C192,資料庫!E:E)","v":0},0]
[{"$f":"表格2[[#This Row],[貨源]]","v":0},{"$f":"表格2[[#This Row],[編號]]","v":"S1215"},{"$f":"表格2[[#This Row],[產品]]","v":"-小獅王-溜滑梯專利衛生奶粉盒(貝粉)-"},{"$f":"表格2[[#This Row],[單價]]","v":0},{"$f":"表格2[[#This Row],[入貨價]]","v":138},34.5,{"$f":"SUMIF(資料庫!D:D,庫存計算!C193,資料庫!E:E)","v":0},0]
[{"$f":"表格2[[#This Row],[貨源]]","v":0},{"$f":"表格2[[#This Row],[編號]]","v":"S1218G"},{"$f":"表格2[[#This Row],[產品]]","v":"-小獅王-母乳儲存袋150ml(60入)-粉色-"},{"$f":"表格2[[#This Row],[單價]]","v":88},{"$f":"表格2[[#This Row],[入貨價]]","v":195},48.75,{"$f":"SUMIF(資料庫!D:D,庫存計算!C194,資料庫!E:E)","v":0},0]
[{"$f":"表格2[[#This Row],[貨源]]","v":0},{"$f":"表格2[[#This Row],[編號]]","v":"S1219G"},{"$f":"表格2[[#This Row],[產品]]","v":"-小獅王-母乳儲存袋200ml(60入)-藍色(綠色)-"},{"$f":"表格2[[#This Row],[單價]]","v":88},{"$f":"表格2[[#This Row],[入貨價]]","v":195},48.75,{"$f":"SUMIF(資料庫!D:D,庫存計算!C195,資料庫!E:E)","v":0},0]
[{"$f":"表格2[[#This Row],[貨源]]","v":0},{"$f":"表格2[[#This Row],[編號]]","v":"S1220G"},{"$f":"表格2[[#This Row],[產品]]","v":"-小獅王-母乳儲存袋250ml(60入)-紫色-"},{"$f":"表格2[[#This Row],[單價]]","v":88},{"$f":"表格2[[#This Row],[入貨價]]","v":195},48.75,{"$f":"SUMIF(資料庫!D:D,庫存計算!C196,資料庫!E:E)","v":0},{"$f":"(D196-F196)*G196","v":0}]
[{"$f":"表格2[[#This Row],[貨源]]","v":0},{"$f":"表格2[[#This Row],[編號]]","v":"S1221F"},{"$f":"表格2[[#This Row],[產品]]","v":"奶粉盒-小獅王-神奇定量奶粉罐-氣泡水(藍)-"},{"$f":"表格2[[#This Row],[單價]]","v":85},{"$f":"表格2[[#This Row],[入貨價]]","v":177},44.25,{"$f":"SUMIF(資料庫!D:D,庫存計算!C197,資料庫!E:E)","v":0},0]
[{"$f":"表格2[[#This Row],[貨源]]","v":0},{"$f":"表格2[[#This Row],[編號]]","v":"S1221G"},{"$f":"表格2[[#This Row],[產品]]","v":"奶粉盒-小獅王-神奇定量奶粉罐-酪梨(綠)-"},{"$f":"表格2[[#This Row],[單價]]","v":85},{"$f":"表格2[[#This Row],[入貨價]]","v":177},44.25,{"$f":"SUMIF(資料庫!D:D,庫存計算!C198,資料庫!E:E)","v":0},0]
[{"$f":"表格2[[#This Row],[貨源]]","v":0},{"$f":"表格2[[#This Row],[編號]]","v":"S1221H"},{"$f":"表格2[[#This Row],[產品]]","v":"奶粉盒-小獅王-神奇定量奶粉罐-無花果(粉)-"},{"$f":"表格2[[#This Row],[單價]]","v":85},{"$f":"表格2[[#This Row],[入貨價]]","v":177},44.25,{"$f":"SUMIF(資料庫!D:D,庫存計算!C199,資料庫!E:E)","v":0},0]
[{"$f":"表格2[[#This Row],[貨源]]","v":0},{"$f":"表格2[[#This Row],[編號]]","v":"S1221K"},{"$f":"表格2[[#This Row],[產品]]","v":"奶粉盒-小獅王-神奇定量奶粉罐-肉桂捲(米)-"},{"$f":"表格2[[#This Row],[單價]]","v":85},{"$f":"表格2[[#This Row],[入貨價]]","v":177},44.25,{"$f":"SUMIF(資料庫!D:D,庫存計算!C200,資料庫!E:E)","v":0},0]
[{"$f":"表格2[[#This Row],[貨源]]","v":0},{"$f":"表格2[[#This Row],[編號]]","v":"S1332"},{"$f":"表格2[[#This Row],[產品]]","v":"-小獅王-不倒翁牙刷(綠)-"},{"$f":"表格2[[#This Row],[單價]]","v":0},{"$f":"表格2[[#This Row],[入貨價]]","v":49},12.25,{"$f":"SUMIF(資料庫!D:D,庫存計算!C201,資料庫!E:E)","v":0},0]
[{"$f":"表格2[[#This Row],[貨源]]","v":0},{"$f":"表格2[[#This Row],[編號]]","v":"S1332-1"},{"$f":"表格2[[#This Row],[產品]]","v":"-小獅王-不倒翁牙刷(橘)-"},{"$f":"表格2[[#This Row],[單價]]","v":0},{"$f":"表格2[[#This Row],[入貨價]]","v":49},12.25,{"$f":"SUMIF(資料庫!D:D,庫存計算!C202,資料庫!E:E)","v":0},0]
[{"$f":"表格2[[#This Row],[貨源]]","v":0},{"$f":"表格2[[#This Row],[編號]]","v":"S1341-0"},{"$f":"表格2[[#This Row],[產品]]","v":"-小獅王-矽膠練習牙刷(天空藍)-"},{"$f":"表格2[[#This Row],[單價]]","v":49},{"$f":"表格2[[#This Row],[入貨價]]","v":83},20.75,{"$f":"SUMIF(資料庫!D:D,庫存計算!C203,資料庫!E:E)","v":0},0]
[{"$f":"表格2[[#This Row],[貨源]]","v":0},{"$f":"表格2[[#This Row],[編號]]","v":"S1341-1"},{"$f":"表格2[[#This Row],[產品]]","v":"-小獅王-矽膠練習牙刷(淘氣綠)-"},{"$f":"表格2[[#This Row],[單價]]","v":49},{"$f":"表格2[[#This Row],[入貨價]]","v":83},20.75,{"$f":"SUMIF(資料庫!D:D,庫存計算!C204,資料庫!E:E)","v":0},0]
[{"$f":"表格2[[#This Row],[貨源]]","v":0},{"$f":"表格2[[#This Row],[編號]]","v":"S1341-2"},{"$f":"表格2[[#This Row],[產品]]","v":"-小獅王-矽膠練習牙刷(溫暖橘)-"},{"$f":"表格2[[#This Row],[單價]]","v":49},{"$f":"表格2[[#This Row],[入貨價]]","v":83},20.75,{"$f":"SUMIF(資料庫!D:D,庫存計算!C205,資料庫!E:E)","v":0},0]
[{"$f":"表格2[[#This Row],[貨源]]","v":0},{"$f":"表格2[[#This Row],[編號]]","v":"S1464F"},{"$f":"表格2[[#This Row],[產品]]","v":"奶樽刷-小獅王-超柔無垢白金矽膠旋轉奶瓶刷(小樹)-綠-"},{"$f":"表格2[[#This Row],[單價]]","v":69},{"$f":"表格2[[#This Row],[入貨價]]","v":174},43.5,{"$f":"SUMIF(資料庫!D:D,庫存計算!C206,資料庫!E:E)","v":0},0]
[{"$f":"表格2[[#This Row],[貨源]]","v":0},{"$f":"表格2[[#This Row],[編號]]","v":"S1464G"},{"$f":"表格2[[#This Row],[產品]]","v":"奶樽刷-小獅王-超柔無垢白金矽膠旋轉奶瓶刷(小麥)-米-"},{"$f":"表格2[[#This Row],[單價]]","v":69},{"$f":"表格2[[#This Row],[入貨價]]","v":174},43.5,{"$f":"SUMIF(資料庫!D:D,庫存計算!C207,資料庫!E:E)","v":0},0]
[{"$f":"表格2[[#This Row],[貨源]]","v":0},{"$f":"表格2[[#This Row],[編號]]","v":"S1464H"},{"$f":"表格2[[#This Row],[產品]]","v":"奶樽刷-小獅王-超柔無垢白金矽膠旋轉奶瓶刷(小櫻)-紅-"},{"$f":"表格2[[#This Row],[單價]]","v":69},{"$f":"表格2[[#This Row],[入貨價]]","v":174},43.5,{"$f":"SUMIF(資料庫!D:D,庫存計算!C208,資料庫!E:E)","v":0},0]
[{"$f":"表格2[[#This Row],[貨源]]","v":0},{"$f":"表格2[[#This Row],[編號]]","v":"S1464K"},{"$f":"表格2[[#This Row],[產品]]","v":"奶樽刷-小獅王-超柔無垢白金矽膠旋轉奶瓶刷(小石)-灰-"},{"$f":"表格2[[#This Row],[單價]]","v":69},{"$f":"表格2[[#This Row],[入貨價]]","v":174},43.5,{"$f":"SUMIF(資料庫!D:D,庫存計算!C209,資料庫!E:E)","v":0},0]
[{"$f":"表格2[[#This Row],[貨源]]","v":0},{"$f":"表格2[[#This Row],[編號]]","v":"S1465F"},{"$f":"表格2[[#This Row],[產品]]","v":"奶樽刷-小獅王-超柔無垢白金矽膠奶瓶刷(小樹)-綠-"},{"$f":"表格2[[#This Row],[單價]]","v":69},{"$f":"表格2[[#This Row],[入貨價]]","v":170},42.5,{"$f":"SUMIF(資料庫!D:D,庫存計算!C210,資料庫!E:E)","v":0},0]
[{"$f":"表格2[[#This Row],[貨源]]","v":0},{"$f":"表格2[[#This Row],[編號]]","v":"S1465G"},{"$f":"表格2[[#This Row],[產品]]","v":"奶樽刷-小獅王-超柔無垢白金矽膠奶瓶刷(小麥)-米-"},{"$f":"表格2[[#This Row],[單價]]","v":69},{"$f":"表格2[[#This Row],[入貨價]]","v":170},42.5,{"$f":"SUMIF(資料庫!D:D,庫存計算!C211,資料庫!E:E)","v":0},0]
[{"$f":"表格2[[#This Row],[貨源]]","v":0},{"$f":"表格2[[#This Row],[編號]]","v":"S1465H"},{"$f":"表格2[[#This Row],[產品]]","v":"奶樽刷-小獅王-超柔無垢白金矽膠奶瓶刷(小櫻)-紅-"},{"$f":"表格2[[#This Row],[單價]]","v":69},{"$f":"表格2[[#This Row],[入貨價]]","v":170},42.5,{"$f":"SUMIF(資料庫!D:D,庫存計算!C212,資料庫!E:E)","v":1},26.5]
[{"$f":"表格2[[#This Row],[貨源]]","v":0},{"$f":"表格2[[#This Row],[編號]]","v":"S1465K"},{"$f":"表格2[[#This Row],[產品]]","v":"奶樽刷-小獅王-超柔無垢白金矽膠奶瓶刷(小石)-灰-"},{"$f":"表格2[[#This Row],[單價]]","v":69},{"$f":"表格2[[#This Row],[入貨價]]","v":170},42.5,{"$f":"SUMIF(資料庫!D:D,庫存計算!C213,資料庫!E:E)","v":0},0]
[{"$f":"表格2[[#This Row],[貨源]]","v":0},{"$f":"表格2[[#This Row],[編號]]","v":"S1466F"},{"$f":"表格2[[#This Row],[產品]]","v":"奶嘴刷-小獅王-超柔無垢白金矽膠奶嘴刷(小樹)-綠-"},{"$f":"表格2[[#This Row],[單價]]","v":49},{"$f":"表格2[[#This Row],[入貨價]]","v":107},26.75,{"$f":"SUMIF(資料庫!D:D,庫存計算!C214,資料庫!E:E)","v":0},0]
[{"$f":"表格2[[#This Row],[貨源]]","v":0},{"$f":"表格2[[#This Row],[編號]]","v":"S1466G"},{"$f":"表格2[[#This Row],[產品]]","v":"奶嘴刷-小獅王-超柔無垢白金矽膠奶嘴刷(小麥)-米-"},{"$f":"表格2[[#This Row],[單價]]","v":49},{"$f":"表格2[[#This Row],[入貨價]]","v":107},26.75,{"$f":"SUMIF(資料庫!D:D,庫存計算!C215,資料庫!E:E)","v":0},0]
[{"$f":"表格2[[#This Row],[貨源]]","v":0},{"$f":"表格2[[#This Row],[編號]]","v":"S1466H"},{"$f":"表格2[[#This Row],[產品]]","v":"奶嘴刷-小獅王-超柔無垢白金矽膠奶嘴刷(小櫻)-紅-"},{"$f":"表格2[[#This Row],[單價]]","v":49},{"$f":"表格2[[#This Row],[入貨價]]","v":107},26.75,{"$f":"SUMIF(資料庫!D:D,庫存計算!C216,資料庫!E:E)","v":0},0]
[{"$f":"表格2[[#This Row],[貨源]]","v":0},{"$f":"表格2[[#This Row],[編號]]","v":"S1466K"},{"$f":"表格2[[#This Row],[產品]]","v":"奶嘴刷-小獅王-超柔無垢白金矽膠奶嘴刷(小石)-灰-"},{"$f":"表格2[[#This Row],[單價]]","v":49},{"$f":"表格2[[#This Row],[入貨價]]","v":107},26.75,{"$f":"SUMIF(資料庫!D:D,庫存計算!C217,資料庫!E:E)","v":0},0]
[{"$f":"表格2[[#This Row],[貨源]]","v":0},{"$f":"表格2[[#This Row],[編號]]","v":"S1737"},{"$f":"表格2[[#This Row],[產品]]","v":"-小獅王-嬰兒剪刀-"},{"$f":"表格2[[#This Row],[單價]]","v":0},{"$f":"表格2[[#This Row],[入貨價]]","v":49},12.25,{"$f":"SUMIF(資料庫!D:D,庫存計算!C218,資料庫!E:E)","v":0},0]
[{"$f":"表格2[[#This Row],[貨源]]","v":0},{"$f":"表格2[[#This Row],[編號]]","v":"S1738"},{"$f":"表格2[[#This Row],[產品]]","v":"-小獅王-放大鏡嬰兒剪刀(曲面)-"},{"$f":"表格2[[#This Row],[單價]]","v":0},{"$f":"表格2[[#This Row],[入貨價]]","v":63},15.75,{"$f":"SUMIF(資料庫!D:D,庫存計算!C219,資料庫!E:E)","v":0},0]
[{"$f":"表格2[[#This Row],[貨源]]","v":0},{"$f":"表格2[[#This Row],[編號]]","v":"S1745"},{"$f":"表格2[[#This Row],[產品]]","v":"-小獅王-辛巴指甲剪-"},{"$f":"表格2[[#This Row],[單價]]","v":0},{"$f":"表格2[[#This Row],[入貨價]]","v":58},14.5,{"$f":"SUMIF(資料庫!D:D,庫存計算!C220,資料庫!E:E)","v":0},0]
[{"$f":"表格2[[#This Row],[貨源]]","v":0},{"$f":"表格2[[#This Row],[編號]]","v":"S1751"},{"$f":"表格2[[#This Row],[產品]]","v":"-小獅王-蘿蔓夜光奶嘴帶-天藍(香草)-"},{"$f":"表格2[[#This Row],[單價]]","v":49},{"$f":"表格2[[#This Row],[入貨價]]","v":81},20.25,{"$f":"SUMIF(資料庫!D:D,庫存計算!C221,資料庫!E:E)","v":0},0]
[{"$f":"表格2[[#This Row],[貨源]]","v":0},{"$f":"表格2[[#This Row],[編號]]","v":"S1752"},{"$f":"表格2[[#This Row],[產品]]","v":"-小獅王-蘿蔓夜光奶嘴帶-粉紅(玫瑰)-"},{"$f":"表格2[[#This Row],[單價]]","v":49},{"$f":"表格2[[#This Row],[入貨價]]","v":81},20.25,{"$f":"SUMIF(資料庫!D:D,庫存計算!C222,資料庫!E:E)","v":0},0]
[{"$f":"表格2[[#This Row],[貨源]]","v":0},{"$f":"表格2[[#This Row],[編號]]","v":"S1753"},{"$f":"表格2[[#This Row],[產品]]","v":"-小獅王-蘿蔓夜光奶嘴帶-咖啡(豔陽)-"},{"$f":"表格2[[#This Row],[單價]]","v":49},{"$f":"表格2[[#This Row],[入貨價]]","v":81},20.25,{"$f":"SUMIF(資料庫!D:D,庫存計算!C223,資料庫!E:E)","v":0},0]
[{"$f":"表格2[[#This Row],[貨源]]","v":0},{"$f":"表格2[[#This Row],[編號]]","v":"S1754"},{"$f":"表格2[[#This Row],[產品]]","v":"-小獅王-桃樂絲夜光奶嘴帶-藍(許願精靈)-"},{"$f":"表格2[[#This Row],[單價]]","v":49},{"$f":"表格2[[#This Row],[入貨價]]","v":81},20.25,{"$f":"SUMIF(資料庫!D:D,庫存計算!C224,資料庫!E:E)","v":0},0]
[{"$f":"表格2[[#This Row],[貨源]]","v":0},{"$f":"表格2[[#This Row],[編號]]","v":"S1755"},{"$f":"表格2[[#This Row],[產品]]","v":"-小獅王-桃樂絲夜光奶嘴帶-粉(美夢成真)-"},{"$f":"表格2[[#This Row],[單價]]","v":49},{"$f":"表格2[[#This Row],[入貨價]]","v":81},20.25,{"$f":"SUMIF(資料庫!D:D,庫存計算!C225,資料庫!E:E)","v":0},0]
[{"$f":"表格2[[#This Row],[貨源]]","v":0},{"$f":"表格2[[#This Row],[編號]]","v":"S1760"},{"$f":"表格2[[#This Row],[產品]]","v":"奶嘴鍊-小獅王-辛巴防塵奶嘴鍊-經典(橘色)-"},{"$f":"表格2[[#This Row],[單價]]","v":45},{"$f":"表格2[[#This Row],[入貨價]]","v":85},21.25,{"$f":"SUMIF(資料庫!D:D,庫存計算!C226,資料庫!E:E)","v":0},0]
[{"$f":"表格2[[#This Row],[貨源]]","v":0},{"$f":"表格2[[#This Row],[編號]]","v":"S1761"},{"$f":"表格2[[#This Row],[產品]]","v":"奶嘴鍊-小獅王-辛巴防塵奶嘴鍊-香草(藍色)-"},{"$f":"表格2[[#This Row],[單價]]","v":45},{"$f":"表格2[[#This Row],[入貨價]]","v":85},21.25,{"$f":"SUMIF(資料庫!D:D,庫存計算!C227,資料庫!E:E)","v":0},0]
[{"$f":"表格2[[#This Row],[貨源]]","v":0},{"$f":"表格2[[#This Row],[編號]]","v":"S1762"},{"$f":"表格2[[#This Row],[產品]]","v":"奶嘴鍊-小獅王-辛巴防塵奶嘴鍊-莓果(粉紅)-"},{"$f":"表格2[[#This Row],[單價]]","v":45},{"$f":"表格2[[#This Row],[入貨價]]","v":85},21.25,{"$f":"SUMIF(資料庫!D:D,庫存計算!C228,資料庫!E:E)","v":0},0]
[{"$f":"表格2[[#This Row],[貨源]]","v":0},{"$f":"表格2[[#This Row],[編號]]","v":"S1763"},{"$f":"表格2[[#This Row],[產品]]","v":"奶嘴鍊-小獅王-辛巴防塵奶嘴鍊-焦糖(咖啡)-"},{"$f":"表格2[[#This Row],[單價]]","v":45},{"$f":"表格2[[#This Row],[入貨價]]","v":85},21.25,{"$f":"SUMIF(資料庫!D:D,庫存計算!C229,資料庫!E:E)","v":0},0]
[{"$f":"表格2[[#This Row],[貨源]]","v":0},{"$f":"表格2[[#This Row],[編號]]","v":"S18110"},{"$f":"表格2[[#This Row],[產品]]","v":"安撫奶嘴-小獅王-蘿蔓拇指安撫奶嘴-初生(天藍)(香草)-"},{"$f":"表格2[[#This Row],[單價]]","v":45},{"$f":"表格2[[#This Row],[入貨價]]","v":70},17.5,{"$f":"SUMIF(資料庫!D:D,庫存計算!C230,資料庫!E:E)","v":0},0]
[{"$f":"表格2[[#This Row],[貨源]]","v":0},{"$f":"表格2[[#This Row],[編號]]","v":"S18111"},{"$f":"表格2[[#This Row],[產品]]","v":"安撫奶嘴-小獅王-蘿蔓拇指安撫奶嘴-較大(天藍)(香草)-"},{"$f":"表格2[[#This Row],[單價]]","v":45},{"$f":"表格2[[#This Row],[入貨價]]","v":70},17.5,{"$f":"SUMIF(資料庫!D:D,庫存計算!C231,資料庫!E:E)","v":0},0]
[{"$f":"表格2[[#This Row],[貨源]]","v":0},{"$f":"表格2[[#This Row],[編號]]","v":"S18120"},{"$f":"表格2[[#This Row],[產品]]","v":"安撫奶嘴-小獅王-蘿蔓拇指安撫奶嘴-初生(粉紅)(玫瑰)-"},{"$f":"表格2[[#This Row],[單價]]","v":45},{"$f":"表格2[[#This Row],[入貨價]]","v":70},17.5,{"$f":"SUMIF(資料庫!D:D,庫存計算!C232,資料庫!E:E)","v":0},0]
[{"$f":"表格2[[#This Row],[貨源]]","v":0},{"$f":"表格2[[#This Row],[編號]]","v":"S18121"},{"$f":"表格2[[#This Row],[產品]]","v":"安撫奶嘴-小獅王-蘿蔓拇指安撫奶嘴-較大(粉紅)(玫瑰)-"},{"$f":"表格2[[#This Row],[單價]]","v":45},{"$f":"表格2[[#This Row],[入貨價]]","v":70},17.5,{"$f":"SUMIF(資料庫!D:D,庫存計算!C233,資料庫!E:E)","v":0},0]
[{"$f":"表格2[[#This Row],[貨源]]","v":0},{"$f":"表格2[[#This Row],[編號]]","v":"S18130"},{"$f":"表格2[[#This Row],[產品]]","v":"安撫奶嘴-小獅王-蘿蔓拇指安撫奶嘴-初生(咖啡)(豔陽)-"},{"$f":"表格2[[#This Row],[單價]]","v":45},{"$f":"表格2[[#This Row],[入貨價]]","v":70},17.5,{"$f":"SUMIF(資料庫!D:D,庫存計算!C234,資料庫!E:E)","v":0},0]
[{"$f":"表格2[[#This Row],[貨源]]","v":0},{"$f":"表格2[[#This Row],[編號]]","v":"S18131"},{"$f":"表格2[[#This Row],[產品]]","v":"安撫奶嘴-小獅王-蘿蔓拇指安撫奶嘴-較大(咖啡)(豔陽)-"},{"$f":"表格2[[#This Row],[單價]]","v":45},{"$f":"表格2[[#This Row],[入貨價]]","v":70},17.5,{"$f":"SUMIF(資料庫!D:D,庫存計算!C235,資料庫!E:E)","v":0},0]
[{"$f":"表格2[[#This Row],[貨源]]","v":0},{"$f":"表格2[[#This Row],[編號]]","v":"S19010"},{"$f":"表格2[[#This Row],[產品]]","v":"安撫奶嘴-小獅王-小辛巴拇指安撫奶嘴(初生)-"},{"$f":"表格2[[#This Row],[單價]]","v":45},{"$f":"表格2[[#This Row],[入貨價]]","v":70},17.5,{"$f":"SUMIF(資料庫!D:D,庫存計算!C236,資料庫!E:E)","v":0},0]
[{"$f":"表格2[[#This Row],[貨源]]","v":0},{"$f":"表格2[[#This Row],[編號]]","v":"S19011"},{"$f":"表格2[[#This Row],[產品]]","v":"安撫奶嘴-小獅王-小辛巴拇指安撫奶嘴(較大)-"},{"$f":"表格2[[#This Row],[單價]]","v":45},{"$f":"表格2[[#This Row],[入貨價]]","v":70},17.5,{"$f":"SUMIF(資料庫!D:D,庫存計算!C237,資料庫!E:E)","v":0},0]
[{"$f":"表格2[[#This Row],[貨源]]","v":0},{"$f":"表格2[[#This Row],[編號]]","v":"S2242"},{"$f":"表格2[[#This Row],[產品]]","v":"-小獅王-奶瓶蔬果洗潔液800ml組合包(一組2入)-"},{"$f":"表格2[[#This Row],[單價]]","v":0},{"$f":"表格2[[#This Row],[入貨價]]","v":299},74.75,{"$f":"SUMIF(資料庫!D:D,庫存計算!C238,資料庫!E:E)","v":0},0]
[{"$f":"表格2[[#This Row],[貨源]]","v":0},{"$f":"表格2[[#This Row],[編號]]","v":"S2244"},{"$f":"表格2[[#This Row],[產品]]","v":"-小獅王-高分解酵素奶瓶清潔劑800ml-"},{"$f":"表格2[[#This Row],[單價]]","v":0},{"$f":"表格2[[#This Row],[入貨價]]","v":220},55,{"$f":"SUMIF(資料庫!D:D,庫存計算!C239,資料庫!E:E)","v":0},0]
[{"$f":"表格2[[#This Row],[貨源]]","v":0},{"$f":"表格2[[#This Row],[編號]]","v":"S2245"},{"$f":"表格2[[#This Row],[產品]]","v":"-小獅王-高分解酵素奶瓶清潔劑800ml組合包(2入)-"},{"$f":"表格2[[#This Row],[單價]]","v":0},{"$f":"表格2[[#This Row],[入貨價]]","v":410},102.5,{"$f":"SUMIF(資料庫!D:D,庫存計算!C240,資料庫!E:E)","v":0},0]
[{"$f":"表格2[[#This Row],[貨源]]","v":0},{"$f":"表格2[[#This Row],[編號]]","v":"S3334"},{"$f":"表格2[[#This Row],[產品]]","v":"-小獅王-啵啵軟質湯匙(藍洋洋)-2入-"},{"$f":"表格2[[#This Row],[單價]]","v":45},{"$f":"表格2[[#This Row],[入貨價]]","v":54},13.5,{"$f":"SUMIF(資料庫!D:D,庫存計算!C241,資料庫!E:E)","v":0},0]
[{"$f":"表格2[[#This Row],[貨源]]","v":0},{"$f":"表格2[[#This Row],[編號]]","v":"S3335"},{"$f":"表格2[[#This Row],[產品]]","v":"-小獅王-啵啵軟質湯匙(啵啵粉)-2入-"},{"$f":"表格2[[#This Row],[單價]]","v":45},{"$f":"表格2[[#This Row],[入貨價]]","v":54},13.5,{"$f":"SUMIF(資料庫!D:D,庫存計算!C242,資料庫!E:E)","v":0},0]
[{"$f":"表格2[[#This Row],[貨源]]","v":0},{"$f":"表格2[[#This Row],[編號]]","v":"S3351"},{"$f":"表格2[[#This Row],[產品]]","v":"-小獅王-美味漢堡碗-樂活海洋堡(藍色)-"},{"$f":"表格2[[#This Row],[單價]]","v":85},{"$f":"表格2[[#This Row],[入貨價]]","v":134},33.5,{"$f":"SUMIF(資料庫!D:D,庫存計算!C243,資料庫!E:E)","v":0},0]
[{"$f":"表格2[[#This Row],[貨源]]","v":0},{"$f":"表格2[[#This Row],[編號]]","v":"S3352"},{"$f":"表格2[[#This Row],[產品]]","v":"-小獅王-美味漢堡碗-青檸桔事堡(綠色)-"},{"$f":"表格2[[#This Row],[單價]]","v":85},{"$f":"表格2[[#This Row],[入貨價]]","v":134},33.5,{"$f":"SUMIF(資料庫!D:D,庫存計算!C244,資料庫!E:E)","v":0},0]
[{"$f":"表格2[[#This Row],[貨源]]","v":0},{"$f":"表格2[[#This Row],[編號]]","v":"S3354"},{"$f":"表格2[[#This Row],[產品]]","v":"-小獅王-美味漢堡碗-粉紅甜心堡(粉紅色)-"},{"$f":"表格2[[#This Row],[單價]]","v":85},{"$f":"表格2[[#This Row],[入貨價]]","v":134},33.5,{"$f":"SUMIF(資料庫!D:D,庫存計算!C245,資料庫!E:E)","v":0},0]
[{"$f":"表格2[[#This Row],[貨源]]","v":0},{"$f":"表格2[[#This Row],[編號]]","v":"S3355"},{"$f":"表格2[[#This Row],[產品]]","v":"-小獅王-美味漢堡碗-花生好事堡(咖啡色)-"},{"$f":"表格2[[#This Row],[單價]]","v":85},{"$f":"表格2[[#This Row],[入貨價]]","v":134},33.5,{"$f":"SUMIF(資料庫!D:D,庫存計算!C246,資料庫!E:E)","v":0},0]
[{"$f":"表格2[[#This Row],[貨源]]","v":0},{"$f":"表格2[[#This Row],[編號]]","v":"S3385"},{"$f":"表格2[[#This Row],[產品]]","v":"-小獅王-美味兒童叉匙組-焦糖(咖啡)-"},{"$f":"表格2[[#This Row],[單價]]","v":45},{"$f":"表格2[[#This Row],[入貨價]]","v":58},14.5,{"$f":"SUMIF(資料庫!D:D,庫存計算!C247,資料庫!E:E)","v":0},0]
[{"$f":"表格2[[#This Row],[貨源]]","v":0},{"$f":"表格2[[#This Row],[編號]]","v":"S3391"},{"$f":"表格2[[#This Row],[產品]]","v":"-小獅王-美味軟糖湯匙組-香草(藍色)-"},{"$f":"表格2[[#This Row],[單價]]","v":45},{"$f":"表格2[[#This Row],[入貨價]]","v":81},20.25,{"$f":"SUMIF(資料庫!D:D,庫存計算!C248,資料庫!E:E)","v":0},0]
[{"$f":"表格2[[#This Row],[貨源]]","v":0},{"$f":"表格2[[#This Row],[編號]]","v":"S3394"},{"$f":"表格2[[#This Row],[產品]]","v":"-小獅王-美味軟糖湯匙組-莓果(粉色)-"},{"$f":"表格2[[#This Row],[單價]]","v":45},{"$f":"表格2[[#This Row],[入貨價]]","v":81},20.25,{"$f":"SUMIF(資料庫!D:D,庫存計算!C249,資料庫!E:E)","v":0},0]
[{"$f":"表格2[[#This Row],[貨源]]","v":0},{"$f":"表格2[[#This Row],[編號]]","v":"S3395"},{"$f":"表格2[[#This Row],[產品]]","v":"-小獅王-美味軟糖湯匙組-焦糖(咖啡)-"},{"$f":"表格2[[#This Row],[單價]]","v":45},{"$f":"表格2[[#This Row],[入貨價]]","v":81},20.25,{"$f":"SUMIF(資料庫!D:D,庫存計算!C250,資料庫!E:E)","v":0},0]
[{"$f":"表格2[[#This Row],[貨源]]","v":0},{"$f":"表格2[[#This Row],[編號]]","v":"S5334"},{"$f":"表格2[[#This Row],[產品]]","v":"-小獅王-透氣棉開襟包屁衣70cm(短袖)-阜灰-"},{"$f":"表格2[[#This Row],[單價]]","v":0},{"$f":"表格2[[#This Row],[入貨價]]","v":""},{"$f":"E251/4","v":{"$error":"#VALUE!"}},{"$f":"SUMIF(資料庫!D:D,庫存計算!C251,資料庫!E:E)","v":0},{"$error":"#VALUE!"}]
[{"$f":"表格2[[#This Row],[貨源]]","v":0},{"$f":"表格2[[#This Row],[編號]]","v":"S606F"},{"$f":"表格2[[#This Row],[產品]]","v":"-UDI  H1智能高效蒸氣烘乾消毒鍋(苜白)-"},{"$f":"表格2[[#This Row],[單價]]","v":0},{"$f":"表格2[[#This Row],[入貨價]]","v":3060},765,{"$f":"SUMIF(資料庫!D:D,庫存計算!C252,資料庫!E:E)","v":0},0]
[{"$f":"表格2[[#This Row],[貨源]]","v":0},{"$f":"表格2[[#This Row],[編號]]","v":"S606G"},{"$f":"表格2[[#This Row],[產品]]","v":"-UDI H1智能高效蒸氣烘乾消毒鍋(栗粉)-"},{"$f":"表格2[[#This Row],[單價]]","v":0},{"$f":"表格2[[#This Row],[入貨價]]","v":3060},765,{"$f":"SUMIF(資料庫!D:D,庫存計算!C253,資料庫!E:E)","v":0},0]
[{"$f":"表格2[[#This Row],[貨源]]","v":0},{"$f":"表格2[[#This Row],[編號]]","v":"S606H"},{"$f":"表格2[[#This Row],[產品]]","v":"-UDI H1智能高效蒸氣烘乾消毒鍋(杏茶)-"},{"$f":"表格2[[#This Row],[單價]]","v":0},{"$f":"表格2[[#This Row],[入貨價]]","v":3060},765,{"$f":"SUMIF(資料庫!D:D,庫存計算!C254,資料庫!E:E)","v":0},0]
[{"$f":"表格2[[#This Row],[貨源]]","v":0},{"$f":"表格2[[#This Row],[編號]]","v":"S8670"},{"$f":"表格2[[#This Row],[產品]]","v":"-小獅王-好樂飲防漏滑蓋替換吸管組(2入)-"},{"$f":"表格2[[#This Row],[單價]]","v":0},{"$f":"表格2[[#This Row],[入貨價]]","v":107},26.75,{"$f":"SUMIF(資料庫!D:D,庫存計算!C255,資料庫!E:E)","v":0},0]
[{"$f":"表格2[[#This Row],[貨源]]","v":0},{"$f":"表格2[[#This Row],[編號]]","v":"S8671"},{"$f":"表格2[[#This Row],[產品]]","v":"好樂飲-小獅王-好樂飲PPSU防漏滑蓋學習水杯250ml(可可杏)-"},{"$f":"表格2[[#This Row],[單價]]","v":170},{"$f":"表格2[[#This Row],[入貨價]]","v":441},110.25,{"$f":"SUMIF(資料庫!D:D,庫存計算!C256,資料庫!E:E)","v":2},119.5]
[{"$f":"表格2[[#This Row],[貨源]]","v":0},{"$f":"表格2[[#This Row],[編號]]","v":"S8672"},{"$f":"表格2[[#This Row],[產品]]","v":"好樂飲-小獅王-好樂飲PPSU防漏滑蓋學習水杯250ml(悠悠粉)-"},{"$f":"表格2[[#This Row],[單價]]","v":170},{"$f":"表格2[[#This Row],[入貨價]]","v":441},110.25,{"$f":"SUMIF(資料庫!D:D,庫存計算!C257,資料庫!E:E)","v":0},0]
[{"$f":"表格2[[#This Row],[貨源]]","v":0},{"$f":"表格2[[#This Row],[編號]]","v":"S8673"},{"$f":"表格2[[#This Row],[產品]]","v":"好樂飲-小獅王-好樂飲PPSU防漏滑蓋學習水杯250ml(安安藍)-"},{"$f":"表格2[[#This Row],[單價]]","v":170},{"$f":"表格2[[#This Row],[入貨價]]","v":441},110.25,{"$f":"SUMIF(資料庫!D:D,庫存計算!C258,資料庫!E:E)","v":0},0]
[{"$f":"表格2[[#This Row],[貨源]]","v":0},{"$f":"表格2[[#This Row],[編號]]","v":"S9535-5"},{"$f":"表格2[[#This Row],[產品]]","v":"-小獅王-吸乳器(矽膠軟墊)-"},{"$f":"表格2[[#This Row],[單價]]","v":0},{"$f":"表格2[[#This Row],[入貨價]]","v":200},50,{"$f":"SUMIF(資料庫!D:D,庫存計算!C259,資料庫!E:E)","v":0},0]
[{"$f":"表格2[[#This Row],[貨源]]","v":0},{"$f":"表格2[[#This Row],[編號]]","v":"S9554"},{"$f":"表格2[[#This Row],[產品]]","v":"-小獅王-iFeed極美機超靜音電動吸乳器-"},{"$f":"表格2[[#This Row],[單價]]","v":0},{"$f":"表格2[[#This Row],[入貨價]]","v":2950},737.5,{"$f":"SUMIF(資料庫!D:D,庫存計算!C260,資料庫!E:E)","v":0},{"$f":"(D260-F260)*G260","v":0}]
[{"$f":"表格2[[#This Row],[貨源]]","v":0},{"$f":"表格2[[#This Row],[編號]]","v":"S9554-1"},{"$f":"表格2[[#This Row],[產品]]","v":"-小獅王-iFeed極美機電動吸乳器(吸乳喇叭罩)-"},{"$f":"表格2[[#This Row],[單價]]","v":0},{"$f":"表格2[[#This Row],[入貨價]]","v":200},50,{"$f":"SUMIF(資料庫!D:D,庫存計算!C261,資料庫!E:E)","v":0},0]
[{"$f":"表格2[[#This Row],[貨源]]","v":0},{"$f":"表格2[[#This Row],[編號]]","v":"S9733"},{"$f":"表格2[[#This Row],[產品]]","v":"-小獅王-長效薰衣草精油防蚊貼-恐龍圖鑑(16枚)-"},{"$f":"表格2[[#This Row],[單價]]","v":0},{"$f":"表格2[[#This Row],[入貨價]]","v":72},18,{"$f":"SUMIF(資料庫!D:D,庫存計算!C262,資料庫!E:E)","v":0},0]
[{"$f":"表格2[[#This Row],[貨源]]","v":0},{"$f":"表格2[[#This Row],[編號]]","v":"S9734"},{"$f":"表格2[[#This Row],[產品]]","v":"-小獅王-長效薰衣草精油防蚊貼-恐龍圖鑑(32枚)-"},{"$f":"表格2[[#This Row],[單價]]","v":50},{"$f":"表格2[[#This Row],[入貨價]]","v":125},31.25,{"$f":"SUMIF(資料庫!D:D,庫存計算!C263,資料庫!E:E)","v":0},0]
[{"$f":"表格2[[#This Row],[貨源]]","v":0},{"$f":"表格2[[#This Row],[編號]]","v":"S9817"},{"$f":"表格2[[#This Row],[產品]]","v":"-小獅王-嬰兒防滑浴盆(凱特藍)-"},{"$f":"表格2[[#This Row],[單價]]","v":0},{"$f":"表格2[[#This Row],[入貨價]]","v":480},120,{"$f":"SUMIF(資料庫!D:D,庫存計算!C264,資料庫!E:E)","v":0},0]
[{"$f":"表格2[[#This Row],[貨源]]","v":0},{"$f":"表格2[[#This Row],[編號]]","v":"S9818"},{"$f":"表格2[[#This Row],[產品]]","v":"-小獅王-嬰兒防滑浴盆(麗芙粉)-"},{"$f":"表格2[[#This Row],[單價]]","v":0},{"$f":"表格2[[#This Row],[入貨價]]","v":480},120,{"$f":"SUMIF(資料庫!D:D,庫存計算!C265,資料庫!E:E)","v":0},0]
[{"$f":"表格2[[#This Row],[貨源]]","v":0},{"$f":"表格2[[#This Row],[編號]]","v":"S9819"},{"$f":"表格2[[#This Row],[產品]]","v":"-小獅王-可調式沐浴網-"},{"$f":"表格2[[#This Row],[單價]]","v":0},{"$f":"表格2[[#This Row],[入貨價]]","v":245},61.25,{"$f":"SUMIF(資料庫!D:D,庫存計算!C266,資料庫!E:E)","v":0},0]
[{"$f":"表格2[[#This Row],[貨源]]","v":0},{"$f":"表格2[[#This Row],[編號]]","v":"S9931-B"},{"$f":"表格2[[#This Row],[產品]]","v":"-小獅王-嬰兒乾溼兩用巾(80抽)藍色包裝-"},{"$f":"表格2[[#This Row],[單價]]","v":0},{"$f":"表格2[[#This Row],[入貨價]]","v":63},15.75,{"$f":"SUMIF(資料庫!D:D,庫存計算!C267,資料庫!E:E)","v":0},0]
[{"$f":"表格2[[#This Row],[貨源]]","v":0},{"$f":"表格2[[#This Row],[編號]]","v":"S9931-P"},{"$f":"表格2[[#This Row],[產品]]","v":"-小獅王-嬰兒乾溼兩用巾(80抽)粉色包裝-"},{"$f":"表格2[[#This Row],[單價]]","v":0},{"$f":"表格2[[#This Row],[入貨價]]","v":63},15.75,{"$f":"SUMIF(資料庫!D:D,庫存計算!C268,資料庫!E:E)","v":0},0]
[{"$f":"表格2[[#This Row],[貨源]]","v":0},{"$f":"表格2[[#This Row],[編號]]","v":"S9952"},{"$f":"表格2[[#This Row],[產品]]","v":"-小獅王-智能六段式定溫調乳器(S5 PRO)-"},{"$f":"表格2[[#This Row],[單價]]","v":0},{"$f":"表格2[[#This Row],[入貨價]]","v":3850},962.5,{"$f":"SUMIF(資料庫!D:D,庫存計算!C269,資料庫!E:E)","v":0},0]
[{"$f":"表格2[[#This Row],[貨源]]","v":0},{"$f":"表格2[[#This Row],[編號]]","v":"S9978"},{"$f":"表格2[[#This Row],[產品]]","v":"-小獅王-薰衣草精油防蚊液組(噴霧型)-"},{"$f":"表格2[[#This Row],[單價]]","v":0},{"$f":"表格2[[#This Row],[入貨價]]","v":214},53.5,{"$f":"SUMIF(資料庫!D:D,庫存計算!C270,資料庫!E:E)","v":0},0]
[{"$f":"表格2[[#This Row],[貨源]]","v":0},{"$f":"表格2[[#This Row],[編號]]","v":"S9979"},{"$f":"表格2[[#This Row],[產品]]","v":"-小獅王-薰衣草精油防蚊液(噴霧型)60ml-"},{"$f":"表格2[[#This Row],[單價]]","v":0},{"$f":"表格2[[#This Row],[入貨價]]","v":116},29,{"$f":"SUMIF(資料庫!D:D,庫存計算!C271,資料庫!E:E)","v":0},0]
[{"$f":"表格2[[#This Row],[貨源]]","v":0},{"$f":"表格2[[#This Row],[編號]]","v":"S9987"},{"$f":"表格2[[#This Row],[產品]]","v":"-小獅王-長效檸檬草精油防蚊貼(16枚)-"},{"$f":"表格2[[#This Row],[單價]]","v":0},{"$f":"表格2[[#This Row],[入貨價]]","v":72},18,{"$f":"SUMIF(資料庫!D:D,庫存計算!C272,資料庫!E:E)","v":0},0]
[{"$f":"表格2[[#This Row],[貨源]]","v":0},{"$f":"表格2[[#This Row],[編號]]","v":"S9988"},{"$f":"表格2[[#This Row],[產品]]","v":"-小獅王-長效檸檬草精油防蚊貼(32枚)-"},{"$f":"表格2[[#This Row],[單價]]","v":50},{"$f":"表格2[[#This Row],[入貨價]]","v":125},31.25,{"$f":"SUMIF(資料庫!D:D,庫存計算!C273,資料庫!E:E)","v":0},0]
[{"$f":"表格2[[#This Row],[貨源]]","v":0},{"$f":"表格2[[#This Row],[編號]]","v":"sample004001"},{"$f":"表格2[[#This Row],[產品]]","v":"-小獅王-超柔無垢白金矽膠旋轉奶瓶刷(小麥)-米 (樣品)-"},{"$f":"表格2[[#This Row],[單價]]","v":0},{"$f":"表格2[[#This Row],[入貨價]]","v":""},{"$error":"#VALUE!"},{"$f":"SUMIF(資料庫!D:D,庫存計算!C274,資料庫!E:E)","v":0},{"$error":"#VALUE!"}]
[{"$f":"表格2[[#This Row],[貨源]]","v":0},{"$f":"表格2[[#This Row],[編號]]","v":"sample004002"},{"$f":"表格2[[#This Row],[產品]]","v":"-小獅王-超柔無垢白金矽膠奶瓶刷(小石)-灰 (樣品)-"},{"$f":"表格2[[#This Row],[單價]]","v":0},{"$f":"表格2[[#This Row],[入貨價]]","v":""},{"$error":"#VALUE!"},{"$f":"SUMIF(資料庫!D:D,庫存計算!C275,資料庫!E:E)","v":0},{"$error":"#VALUE!"}]
[{"$f":"表格2[[#This Row],[貨源]]","v":0},{"$f":"表格2[[#This Row],[編號]]","v":"sample004003"},{"$f":"表格2[[#This Row],[產品]]","v":"-小獅王-智能六段式定溫調乳器(S5 PRO)-"},{"$f":"表格2[[#This Row],[單價]]","v":0},{"$f":"表格2[[#This Row],[入貨價]]","v":""},{"$error":"#VALUE!"},{"$f":"SUMIF(資料庫!D:D,庫存計算!C276,資料庫!E:E)","v":0},{"$error":"#VALUE!"}]
[{"$f":"表格2[[#This Row],[貨源]]","v":0},{"$f":"表格2[[#This Row],[編號]]","v":"sample004004"},{"$f":"表格2[[#This Row],[產品]]","v":"-小獅王-UDI H1智能高效蒸氣烘乾消毒鍋(杏茶)-"},{"$f":"表格2[[#This Row],[單價]]","v":0},{"$f":"表格2[[#This Row],[入貨價]]","v":""},{"$error":"#VALUE!"},{"$f":"SUMIF(資料庫!D:D,庫存計算!C277,資料庫!E:E)","v":0},{"$error":"#VALUE!"}]
[{"$f":"表格2[[#This Row],[貨源]]","v":0},{"$f":"表格2[[#This Row],[編號]]","v":"sample004005"},{"$f":"表格2[[#This Row],[產品]]","v":"-小獅王-短袖80-"},{"$f":"表格2[[#This Row],[單價]]","v":0},{"$f":"表格2[[#This Row],[入貨價]]","v":""},{"$error":"#VALUE!"},{"$f":"SUMIF(資料庫!D:D,庫存計算!C278,資料庫!E:E)","v":0},{"$error":"#VALUE!"}]
[{"$f":"表格2[[#This Row],[貨源]]","v":0},{"$f":"表格2[[#This Row],[編號]]","v":"sample004006"},{"$f":"表格2[[#This Row],[產品]]","v":"-小獅王-無袖80-"},{"$f":"表格2[[#This Row],[單價]]","v":0},{"$f":"表格2[[#This Row],[入貨價]]","v":""},{"$error":"#VALUE!"},{"$f":"SUMIF(資料庫!D:D,庫存計算!C279,資料庫!E:E)","v":0},{"$error":"#VALUE!"}]
[{"$f":"表格2[[#This Row],[貨源]]","v":0},{"$f":"表格2[[#This Row],[編號]]","v":"sample004007"},{"$f":"表格2[[#This Row],[產品]]","v":"-小獅王-短袖70-"},{"$f":"表格2[[#This Row],[單價]]","v":0},{"$f":"表格2[[#This Row],[入貨價]]","v":""},{"$error":"#VALUE!"},{"$f":"SUMIF(資料庫!D:D,庫存計算!C280,資料庫!E:E)","v":0},{"$error":"#VALUE!"}]
[{"$f":"表格2[[#This Row],[貨源]]","v":0},{"$f":"表格2[[#This Row],[編號]]","v":"sample004008"},{"$f":"表格2[[#This Row],[產品]]","v":"-小獅王-短袖60-"},{"$f":"表格2[[#This Row],[單價]]","v":0},{"$f":"表格2[[#This Row],[入貨價]]","v":""},{"$error":"#VALUE!"},{"$f":"SUMIF(資料庫!D:D,庫存計算!C281,資料庫!E:E)","v":0},{"$error":"#VALUE!"}]
[{"$f":"表格2[[#This Row],[貨源]]","v":0},{"$f":"表格2[[#This Row],[編號]]","v":"sample004009"},{"$f":"表格2[[#This Row],[產品]]","v":"-小獅王-無袖70-"},{"$f":"表格2[[#This Row],[單價]]","v":0},{"$f":"表格2[[#This Row],[入貨價]]","v":""},{"$error":"#VALUE!"},{"$f":"SUMIF(資料庫!D:D,庫存計算!C282,資料庫!E:E)","v":0},{"$error":"#VALUE!"}]
[{"$f":"表格2[[#This Row],[貨源]]","v":0},{"$f":"表格2[[#This Row],[編號]]","v":"sample004010"},{"$f":"表格2[[#This Row],[產品]]","v":"-小獅王-長袖60-"},{"$f":"表格2[[#This Row],[單價]]","v":0},{"$f":"表格2[[#This Row],[入貨價]]","v":""},{"$error":"#VALUE!"},{"$f":"SUMIF(資料庫!D:D,庫存計算!C283,資料庫!E:E)","v":0},{"$error":"#VALUE!"}]
[{"$f":"表格2[[#This Row],[貨源]]","v":0},{"$f":"表格2[[#This Row],[編號]]","v":"SW1351"},{"$f":"表格2[[#This Row],[產品]]","v":"-小獅王-辛巴 Pointy 嬰兒口腔清潔指套 (100入)-"},{"$f":"表格2[[#This Row],[單價]]","v":0},{"$f":"表格2[[#This Row],[入貨價]]","v":201},50.25,{"$f":"SUMIF(資料庫!D:D,庫存計算!C284,資料庫!E:E)","v":0},0]
[{"$f":"表格2[[#This Row],[貨源]]","v":0},{"$f":"表格2[[#This Row],[編號]]","v":"SW1467"},{"$f":"表格2[[#This Row],[產品]]","v":"-小獅王-超柔無垢海綿快拆旋轉奶瓶刷-"},{"$f":"表格2[[#This Row],[單價]]","v":0},{"$f":"表格2[[#This Row],[入貨價]]","v":146},36.5,{"$f":"SUMIF(資料庫!D:D,庫存計算!C285,資料庫!E:E)","v":0},0]
[{"$f":"表格2[[#This Row],[貨源]]","v":0},{"$f":"表格2[[#This Row],[編號]]","v":"SW1468"},{"$f":"表格2[[#This Row],[產品]]","v":"-小獅王-超柔無垢海綿旋轉奶瓶刷-"},{"$f":"表格2[[#This Row],[單價]]","v":0},{"$f":"表格2[[#This Row],[入貨價]]","v":128},32,{"$f":"SUMIF(資料庫!D:D,庫存計算!C286,資料庫!E:E)","v":0},0]
[{"$f":"表格2[[#This Row],[貨源]]","v":0},{"$f":"表格2[[#This Row],[編號]]","v":"SW1469"},{"$f":"表格2[[#This Row],[產品]]","v":"-小獅王-超柔無垢海綿奶嘴刷(2入)-"},{"$f":"表格2[[#This Row],[單價]]","v":0},{"$f":"表格2[[#This Row],[入貨價]]","v":88},22,{"$f":"SUMIF(資料庫!D:D,庫存計算!C287,資料庫!E:E)","v":0},0]
[{"$f":"表格2[[#This Row],[貨源]]","v":0},{"$f":"表格2[[#This Row],[編號]]","v":"SW1470"},{"$f":"表格2[[#This Row],[產品]]","v":"-小獅王-超柔無垢海綿快拆旋轉奶瓶刷替換刷頭(1入)-"},{"$f":"表格2[[#This Row],[單價]]","v":0},{"$f":"表格2[[#This Row],[入貨價]]","v":41},10.25,{"$f":"SUMIF(資料庫!D:D,庫存計算!C288,資料庫!E:E)","v":0},0]
[{"$f":"表格2[[#This Row],[貨源]]","v":0},{"$f":"表格2[[#This Row],[編號]]","v":"SW1471"},{"$f":"表格2[[#This Row],[產品]]","v":"-小獅王-超柔無垢海綿旋轉奶瓶刷替換包(2入)-"},{"$f":"表格2[[#This Row],[單價]]","v":0},{"$f":"表格2[[#This Row],[入貨價]]","v":47},11.75,{"$f":"SUMIF(資料庫!D:D,庫存計算!C289,資料庫!E:E)","v":0},0]
[{"$f":"表格2[[#This Row],[貨源]]","v":0},{"$f":"表格2[[#This Row],[編號]]","v":"SW1472"},{"$f":"表格2[[#This Row],[產品]]","v":"-小獅王-超柔無垢海綿奶嘴刷替換包(3入)-"},{"$f":"表格2[[#This Row],[單價]]","v":0},{"$f":"表格2[[#This Row],[入貨價]]","v":30},7.5,{"$f":"SUMIF(資料庫!D:D,庫存計算!C290,資料庫!E:E)","v":0},0]
[{"$f":"表格2[[#This Row],[貨源]]","v":0},{"$f":"表格2[[#This Row],[編號]]","v":"SW1473"},{"$f":"表格2[[#This Row],[產品]]","v":"-小獅王-超柔無垢海綿旋轉奶瓶刷組-"},{"$f":"表格2[[#This Row],[單價]]","v":0},{"$f":"表格2[[#This Row],[入貨價]]","v":128},32,{"$f":"SUMIF(資料庫!D:D,庫存計算!C291,資料庫!E:E)","v":0},0]
[{"$f":"表格2[[#This Row],[貨源]]","v":0},{"$f":"表格2[[#This Row],[編號]]","v":"SW1660"},{"$f":"表格2[[#This Row],[產品]]","v":"-小獅王-平安御守香火袋-恐龍樂園(藍)-"},{"$f":"表格2[[#This Row],[單價]]","v":55},{"$f":"表格2[[#This Row],[入貨價]]","v":112},28,{"$f":"SUMIF(資料庫!D:D,庫存計算!C292,資料庫!E:E)","v":0},0]
[{"$f":"表格2[[#This Row],[貨源]]","v":0},{"$f":"表格2[[#This Row],[編號]]","v":"SW1661"},{"$f":"表格2[[#This Row],[產品]]","v":"-小獅王-平安御守香火袋-蜜桃菠菠(粉)-"},{"$f":"表格2[[#This Row],[單價]]","v":55},{"$f":"表格2[[#This Row],[入貨價]]","v":112},28,{"$f":"SUMIF(資料庫!D:D,庫存計算!C293,資料庫!E:E)","v":0},0]
[{"$f":"表格2[[#This Row],[貨源]]","v":0},{"$f":"表格2[[#This Row],[編號]]","v":"SW1662"},{"$f":"表格2[[#This Row],[產品]]","v":"-小獅王-平安御守香火袋-小鳥星球(綠)-"},{"$f":"表格2[[#This Row],[單價]]","v":55},{"$f":"表格2[[#This Row],[入貨價]]","v":112},28,{"$f":"SUMIF(資料庫!D:D,庫存計算!C294,資料庫!E:E)","v":0},0]
[{"$f":"表格2[[#This Row],[貨源]]","v":0},{"$f":"表格2[[#This Row],[編號]]","v":"SW1663"},{"$f":"表格2[[#This Row],[產品]]","v":"-小獅王-平安御守香火袋-奶油字母(杏)-"},{"$f":"表格2[[#This Row],[單價]]","v":55},{"$f":"表格2[[#This Row],[入貨價]]","v":112},28,{"$f":"SUMIF(資料庫!D:D,庫存計算!C295,資料庫!E:E)","v":0},0]
[{"$f":"表格2[[#This Row],[貨源]]","v":0},{"$f":"表格2[[#This Row],[編號]]","v":"SW1710"},{"$f":"表格2[[#This Row],[產品]]","v":"-小獅王-蘊蜜夜光奶嘴帶-晨藍-"},{"$f":"表格2[[#This Row],[單價]]","v":49},{"$f":"表格2[[#This Row],[入貨價]]","v":81},20.25,{"$f":"SUMIF(資料庫!D:D,庫存計算!C296,資料庫!E:E)","v":0},0]
[{"$f":"表格2[[#This Row],[貨源]]","v":0},{"$f":"表格2[[#This Row],[編號]]","v":"SW1711"},{"$f":"表格2[[#This Row],[產品]]","v":"-小獅王-蘊蜜夜光奶嘴帶-栗粉-"},{"$f":"表格2[[#This Row],[單價]]","v":49},{"$f":"表格2[[#This Row],[入貨價]]","v":81},20.25,{"$f":"SUMIF(資料庫!D:D,庫存計算!C297,資料庫!E:E)","v":0},0]
[{"$f":"表格2[[#This Row],[貨源]]","v":0},{"$f":"表格2[[#This Row],[編號]]","v":"SW1712"},{"$f":"表格2[[#This Row],[產品]]","v":"-小獅王-蘊蜜夜光奶嘴帶-杏茶-"},{"$f":"表格2[[#This Row],[單價]]","v":49},{"$f":"表格2[[#This Row],[入貨價]]","v":81},20.25,{"$f":"SUMIF(資料庫!D:D,庫存計算!C298,資料庫!E:E)","v":0},0]
[{"$f":"表格2[[#This Row],[貨源]]","v":0},{"$f":"表格2[[#This Row],[編號]]","v":"SW1714"},{"$f":"表格2[[#This Row],[產品]]","v":"-小獅王-蘊蜜夜光奶嘴帶-綠沐-"},{"$f":"表格2[[#This Row],[單價]]","v":49},{"$f":"表格2[[#This Row],[入貨價]]","v":81},20.25,{"$f":"SUMIF(資料庫!D:D,庫存計算!C299,資料庫!E:E)","v":0},0]
[{"$f":"表格2[[#This Row],[貨源]]","v":0},{"$f":"表格2[[#This Row],[編號]]","v":"SW1720"},{"$f":"表格2[[#This Row],[產品]]","v":"-小獅王-蘊蜜萬用防掉雙頭夾(晨藍)-"},{"$f":"表格2[[#This Row],[單價]]","v":45},{"$f":"表格2[[#This Row],[入貨價]]","v":98},24.5,{"$f":"SUMIF(資料庫!D:D,庫存計算!C300,資料庫!E:E)","v":0},0]
[{"$f":"表格2[[#This Row],[貨源]]","v":0},{"$f":"表格2[[#This Row],[編號]]","v":"SW1721"},{"$f":"表格2[[#This Row],[產品]]","v":"-小獅王-蘊蜜萬用防掉雙頭夾(栗粉)-"},{"$f":"表格2[[#This Row],[單價]]","v":45},{"$f":"表格2[[#This Row],[入貨價]]","v":98},24.5,{"$f":"SUMIF(資料庫!D:D,庫存計算!C301,資料庫!E:E)","v":0},0]
[{"$f":"表格2[[#This Row],[貨源]]","v":0},{"$f":"表格2[[#This Row],[編號]]","v":"SW1722"},{"$f":"表格2[[#This Row],[產品]]","v":"-小獅王-蘊蜜萬用防掉雙頭夾(杏茶)-"},{"$f":"表格2[[#This Row],[單價]]","v":45},{"$f":"表格2[[#This Row],[入貨價]]","v":98},24.5,{"$f":"SUMIF(資料庫!D:D,庫存計算!C302,資料庫!E:E)","v":0},0]
[{"$f":"表格2[[#This Row],[貨源]]","v":0},{"$f":"表格2[[#This Row],[編號]]","v":"SW1723"},{"$f":"表格2[[#This Row],[產品]]","v":"-小獅王-蘊蜜萬用防掉雙頭夾(紫芙)-"},{"$f":"表格2[[#This Row],[單價]]","v":45},{"$f":"表格2[[#This Row],[入貨價]]","v":98},24.5,{"$f":"SUMIF(資料庫!D:D,庫存計算!C303,資料庫!E:E)","v":0},0]
[{"$f":"表格2[[#This Row],[貨源]]","v":0},{"$f":"表格2[[#This Row],[編號]]","v":"SW1724"},{"$f":"表格2[[#This Row],[產品]]","v":"-小獅王-蘊蜜萬用防掉雙頭夾(綠沐)-"},{"$f":"表格2[[#This Row],[單價]]","v":45},{"$f":"表格2[[#This Row],[入貨價]]","v":98},24.5,{"$f":"SUMIF(資料庫!D:D,庫存計算!C304,資料庫!E:E)","v":0},0]
[{"$f":"表格2[[#This Row],[貨源]]","v":0},{"$f":"表格2[[#This Row],[編號]]","v":"SW1910"},{"$f":"表格2[[#This Row],[產品]]","v":"安撫奶嘴-小獅王-蘊蜜超柔拇指安撫奶嘴(晨藍)-初生-"},{"$f":"表格2[[#This Row],[單價]]","v":45},{"$f":"表格2[[#This Row],[入貨價]]","v":74},18.5,{"$f":"SUMIF(資料庫!D:D,庫存計算!C305,資料庫!E:E)","v":0},0]
[{"$f":"表格2[[#This Row],[貨源]]","v":0},{"$f":"表格2[[#This Row],[編號]]","v":"SW1911"},{"$f":"表格2[[#This Row],[產品]]","v":"安撫奶嘴-小獅王-蘊蜜超柔拇指安撫奶嘴(栗粉)-初生-"},{"$f":"表格2[[#This Row],[單價]]","v":45},{"$f":"表格2[[#This Row],[入貨價]]","v":74},18.5,{"$f":"SUMIF(資料庫!D:D,庫存計算!C306,資料庫!E:E)","v":0},0]
[{"$f":"表格2[[#This Row],[貨源]]","v":0},{"$f":"表格2[[#This Row],[編號]]","v":"SW1912"},{"$f":"表格2[[#This Row],[產品]]","v":"安撫奶嘴-小獅王-蘊蜜超柔拇指安撫奶嘴(杏茶)-初生-"},{"$f":"表格2[[#This Row],[單價]]","v":45},{"$f":"表格2[[#This Row],[入貨價]]","v":74},18.5,{"$f":"SUMIF(資料庫!D:D,庫存計算!C307,資料庫!E:E)","v":0},0]
[{"$f":"表格2[[#This Row],[貨源]]","v":0},{"$f":"表格2[[#This Row],[編號]]","v":"SW1914"},{"$f":"表格2[[#This Row],[產品]]","v":"安撫奶嘴-小獅王-蘊蜜超柔拇指安撫奶嘴(綠沐)-初生-"},{"$f":"表格2[[#This Row],[單價]]","v":45},{"$f":"表格2[[#This Row],[入貨價]]","v":74},18.5,{"$f":"SUMIF(資料庫!D:D,庫存計算!C308,資料庫!E:E)","v":0},0]
[{"$f":"表格2[[#This Row],[貨源]]","v":0},{"$f":"表格2[[#This Row],[編號]]","v":"SW1920"},{"$f":"表格2[[#This Row],[產品]]","v":"安撫奶嘴-小獅王-蘊蜜超柔拇指安撫奶嘴(晨藍)-較大-"},{"$f":"表格2[[#This Row],[單價]]","v":45},{"$f":"表格2[[#This Row],[入貨價]]","v":74},18.5,{"$f":"SUMIF(資料庫!D:D,庫存計算!C309,資料庫!E:E)","v":0},0]
[{"$f":"表格2[[#This Row],[貨源]]","v":0},{"$f":"表格2[[#This Row],[編號]]","v":"SW1921"},{"$f":"表格2[[#This Row],[產品]]","v":"安撫奶嘴-小獅王-蘊蜜超柔拇指安撫奶嘴(栗粉)-較大-"},{"$f":"表格2[[#This Row],[單價]]","v":45},{"$f":"表格2[[#This Row],[入貨價]]","v":74},18.5,{"$f":"SUMIF(資料庫!D:D,庫存計算!C310,資料庫!E:E)","v":0},0]
[{"$f":"表格2[[#This Row],[貨源]]","v":0},{"$f":"表格2[[#This Row],[編號]]","v":"SW1922"},{"$f":"表格2[[#This Row],[產品]]","v":"安撫奶嘴-小獅王-蘊蜜超柔拇指安撫奶嘴(杏茶)-較大-"},{"$f":"表格2[[#This Row],[單價]]","v":45},{"$f":"表格2[[#This Row],[入貨價]]","v":74},18.5,{"$f":"SUMIF(資料庫!D:D,庫存計算!C311,資料庫!E:E)","v":0},0]
[{"$f":"表格2[[#This Row],[貨源]]","v":0},{"$f":"表格2[[#This Row],[編號]]","v":"SW1924"},{"$f":"表格2[[#This Row],[產品]]","v":"安撫奶嘴-小獅王-蘊蜜超柔拇指安撫奶嘴(綠沐)-較大-"},{"$f":"表格2[[#This Row],[單價]]","v":45},{"$f":"表格2[[#This Row],[入貨價]]","v":74},18.5,{"$f":"SUMIF(資料庫!D:D,庫存計算!C312,資料庫!E:E)","v":0},0]
[{"$f":"表格2[[#This Row],[貨源]]","v":0},{"$f":"表格2[[#This Row],[編號]]","v":"SW1930"},{"$f":"表格2[[#This Row],[產品]]","v":"安撫奶嘴-小獅王-蘊蜜超柔拇指安撫奶嘴(晨藍)-耐咬較大型-"},{"$f":"表格2[[#This Row],[單價]]","v":45},{"$f":"表格2[[#This Row],[入貨價]]","v":74},18.5,{"$f":"SUMIF(資料庫!D:D,庫存計算!C313,資料庫!E:E)","v":1},26.5]
[{"$f":"表格2[[#This Row],[貨源]]","v":0},{"$f":"表格2[[#This Row],[編號]]","v":"SW1931"},{"$f":"表格2[[#This Row],[產品]]","v":"安撫奶嘴-小獅王-蘊蜜超柔拇指安撫奶嘴(栗粉)-耐咬較大型-"},{"$f":"表格2[[#This Row],[單價]]","v":45},{"$f":"表格2[[#This Row],[入貨價]]","v":74},18.5,{"$f":"SUMIF(資料庫!D:D,庫存計算!C314,資料庫!E:E)","v":0},0]
[{"$f":"表格2[[#This Row],[貨源]]","v":0},{"$f":"表格2[[#This Row],[編號]]","v":"SW1932"},{"$f":"表格2[[#This Row],[產品]]","v":"安撫奶嘴-小獅王-蘊蜜超柔拇指安撫奶嘴(杏茶)-耐咬較大型-"},{"$f":"表格2[[#This Row],[單價]]","v":45},{"$f":"表格2[[#This Row],[入貨價]]","v":74},{"$f":"E315/4","v":18.5},{"$f":"SUMIF(資料庫!D:D,庫存計算!C315,資料庫!E:E)","v":1},26.5]
[{"$f":"表格2[[#This Row],[貨源]]","v":0},{"$f":"表格2[[#This Row],[編號]]","v":"SW1934"},{"$f":"表格2[[#This Row],[產品]]","v":"安撫奶嘴-小獅王-蘊蜜超柔拇指安撫奶嘴(綠沐)-耐咬較大型-"},{"$f":"表格2[[#This Row],[單價]]","v":45},{"$f":"表格2[[#This Row],[入貨價]]","v":74},18.5,{"$f":"SUMIF(資料庫!D:D,庫存計算!C316,資料庫!E:E)","v":1},26.5]
[{"$f":"表格2[[#This Row],[貨源]]","v":0},{"$f":"表格2[[#This Row],[編號]]","v":"SW3420"},{"$f":"表格2[[#This Row],[產品]]","v":"食物剪刀-小獅王-嬰兒食物金剛剪(晨藍)-"},{"$f":"表格2[[#This Row],[單價]]","v":69},{"$f":"表格2[[#This Row],[入貨價]]","v":170},42.5,{"$f":"SUMIF(資料庫!D:D,庫存計算!C317,資料庫!E:E)","v":1},26.5]
[{"$f":"表格2[[#This Row],[貨源]]","v":0},{"$f":"表格2[[#This Row],[編號]]","v":"SW3421"},{"$f":"表格2[[#This Row],[產品]]","v":"食物剪刀-小獅王-嬰兒食物金剛剪(栗粉)-"},{"$f":"表格2[[#This Row],[單價]]","v":69},{"$f":"表格2[[#This Row],[入貨價]]","v":170},42.5,{"$f":"SUMIF(資料庫!D:D,庫存計算!C318,資料庫!E:E)","v":1},26.5]
[{"$f":"表格2[[#This Row],[貨源]]","v":0},{"$f":"表格2[[#This Row],[編號]]","v":"SW3422"},{"$f":"表格2[[#This Row],[產品]]","v":"食物剪刀-小獅王-嬰兒食物金剛剪(杏茶)-"},{"$f":"表格2[[#This Row],[單價]]","v":69},{"$f":"表格2[[#This Row],[入貨價]]","v":170},42.5,{"$f":"SUMIF(資料庫!D:D,庫存計算!C319,資料庫!E:E)","v":1},26.5]
[{"$f":"表格2[[#This Row],[貨源]]","v":0},{"$f":"表格2[[#This Row],[編號]]","v":"SW3430"},{"$f":"表格2[[#This Row],[產品]]","v":"-小獅王-美味軟質湯匙(晨藍)-"},{"$f":"表格2[[#This Row],[單價]]","v":45},{"$f":"表格2[[#This Row],[入貨價]]","v":67},16.75,{"$f":"SUMIF(資料庫!D:D,庫存計算!C320,資料庫!E:E)","v":0},0]
[{"$f":"表格2[[#This Row],[貨源]]","v":0},{"$f":"表格2[[#This Row],[編號]]","v":"SW3431"},{"$f":"表格2[[#This Row],[產品]]","v":"-小獅王-美味軟質湯匙(栗粉)-"},{"$f":"表格2[[#This Row],[單價]]","v":45},{"$f":"表格2[[#This Row],[入貨價]]","v":67},16.75,{"$f":"SUMIF(資料庫!D:D,庫存計算!C321,資料庫!E:E)","v":0},0]
[{"$f":"表格2[[#This Row],[貨源]]","v":0},{"$f":"表格2[[#This Row],[編號]]","v":"SW3432"},{"$f":"表格2[[#This Row],[產品]]","v":"-小獅王-美味軟質湯匙(杏茶)-"},{"$f":"表格2[[#This Row],[單價]]","v":45},{"$f":"表格2[[#This Row],[入貨價]]","v":67},16.75,{"$f":"SUMIF(資料庫!D:D,庫存計算!C322,資料庫!E:E)","v":0},0]
[{"$f":"表格2[[#This Row],[貨源]]","v":0},{"$f":"表格2[[#This Row],[編號]]","v":"SW3440"},{"$f":"表格2[[#This Row],[產品]]","v":"-小獅王-美味曲奇吸盤碗-晨藍-"},{"$f":"表格2[[#This Row],[單價]]","v":85},{"$f":"表格2[[#This Row],[入貨價]]","v":170},42.5,{"$f":"SUMIF(資料庫!D:D,庫存計算!C323,資料庫!E:E)","v":0},0]
[{"$f":"表格2[[#This Row],[貨源]]","v":0},{"$f":"表格2[[#This Row],[編號]]","v":"SW3441"},{"$f":"表格2[[#This Row],[產品]]","v":"-小獅王-美味曲奇吸盤碗-栗粉-"},{"$f":"表格2[[#This Row],[單價]]","v":85},{"$f":"表格2[[#This Row],[入貨價]]","v":170},42.5,{"$f":"SUMIF(資料庫!D:D,庫存計算!C324,資料庫!E:E)","v":0},{"$f":"(D324-F324)*G324","v":0}]
[{"$f":"表格2[[#This Row],[貨源]]","v":0},{"$f":"表格2[[#This Row],[編號]]","v":"SW3442"},{"$f":"表格2[[#This Row],[產品]]","v":"-小獅王-美味曲奇吸盤碗-杏茶-"},{"$f":"表格2[[#This Row],[單價]]","v":85},{"$f":"表格2[[#This Row],[入貨價]]","v":170},42.5,{"$f":"SUMIF(資料庫!D:D,庫存計算!C325,資料庫!E:E)","v":0},0]
[{"$f":"表格2[[#This Row],[貨源]]","v":0},{"$f":"表格2[[#This Row],[編號]]","v":"SW3450"},{"$f":"表格2[[#This Row],[產品]]","v":"-小獅王-美味漢堡吸盤碗-晨藍-"},{"$f":"表格2[[#This Row],[單價]]","v":85},{"$f":"表格2[[#This Row],[入貨價]]","v":161},40.25,{"$f":"SUMIF(資料庫!D:D,庫存計算!C326,資料庫!E:E)","v":0},0]
[{"$f":"表格2[[#This Row],[貨源]]","v":0},{"$f":"表格2[[#This Row],[編號]]","v":"SW3451"},{"$f":"表格2[[#This Row],[產品]]","v":"-小獅王-美味漢堡吸盤碗-栗粉-"},{"$f":"表格2[[#This Row],[單價]]","v":85},{"$f":"表格2[[#This Row],[入貨價]]","v":161},40.25,{"$f":"SUMIF(資料庫!D:D,庫存計算!C327,資料庫!E:E)","v":0},0]
[{"$f":"表格2[[#This Row],[貨源]]","v":0},{"$f":"表格2[[#This Row],[編號]]","v":"SW3452"},{"$f":"表格2[[#This Row],[產品]]","v":"-小獅王-美味漢堡吸盤碗-杏茶-"},{"$f":"表格2[[#This Row],[單價]]","v":85},{"$f":"表格2[[#This Row],[入貨價]]","v":161},40.25,{"$f":"SUMIF(資料庫!D:D,庫存計算!C328,資料庫!E:E)","v":0},0]
[{"$f":"表格2[[#This Row],[貨源]]","v":0},{"$f":"表格2[[#This Row],[編號]]","v":"SW3470"},{"$f":"表格2[[#This Row],[產品]]","v":"-小獅王-美味學習叉匙組-晨藍-"},{"$f":"表格2[[#This Row],[單價]]","v":45},{"$f":"表格2[[#This Row],[入貨價]]","v":54},13.5,{"$f":"SUMIF(資料庫!D:D,庫存計算!C329,資料庫!E:E)","v":0},0]
[{"$f":"表格2[[#This Row],[貨源]]","v":0},{"$f":"表格2[[#This Row],[編號]]","v":"SW3471"},{"$f":"表格2[[#This Row],[產品]]","v":"-小獅王-美味學習叉匙組-栗粉-"},{"$f":"表格2[[#This Row],[單價]]","v":45},{"$f":"表格2[[#This Row],[入貨價]]","v":54},13.5,{"$f":"SUMIF(資料庫!D:D,庫存計算!C330,資料庫!E:E)","v":0},0]
[{"$f":"表格2[[#This Row],[貨源]]","v":0},{"$f":"表格2[[#This Row],[編號]]","v":"SW3472"},{"$f":"表格2[[#This Row],[產品]]","v":"-小獅王-美味學習叉匙組-杏茶-"},{"$f":"表格2[[#This Row],[單價]]","v":45},{"$f":"表格2[[#This Row],[入貨價]]","v":54},13.5,{"$f":"SUMIF(資料庫!D:D,庫存計算!C331,資料庫!E:E)","v":0},0]
[{"$f":"表格2[[#This Row],[貨源]]","v":0},{"$f":"表格2[[#This Row],[編號]]","v":"SW3480"},{"$f":"表格2[[#This Row],[產品]]","v":"-小獅王-美味兒童叉匙組-晨藍-"},{"$f":"表格2[[#This Row],[單價]]","v":45},{"$f":"表格2[[#This Row],[入貨價]]","v":81},20.25,{"$f":"SUMIF(資料庫!D:D,庫存計算!C332,資料庫!E:E)","v":0},0]
[{"$f":"表格2[[#This Row],[貨源]]","v":0},{"$f":"表格2[[#This Row],[編號]]","v":"SW3481"},{"$f":"表格2[[#This Row],[產品]]","v":"-小獅王-美味兒童叉匙組-栗粉 -"},{"$f":"表格2[[#This Row],[單價]]","v":45},{"$f":"表格2[[#This Row],[入貨價]]","v":81},20.25,{"$f":"SUMIF(資料庫!D:D,庫存計算!C333,資料庫!E:E)","v":0},0]
[{"$f":"表格2[[#This Row],[貨源]]","v":0},{"$f":"表格2[[#This Row],[編號]]","v":"SW3482"},{"$f":"表格2[[#This Row],[產品]]","v":"-小獅王-美味兒童叉匙組-杏茶-"},{"$f":"表格2[[#This Row],[單價]]","v":45},{"$f":"表格2[[#This Row],[入貨價]]","v":81},20.25,{"$f":"SUMIF(資料庫!D:D,庫存計算!C334,資料庫!E:E)","v":0},0]
[{"$f":"表格2[[#This Row],[貨源]]","v":0},{"$f":"表格2[[#This Row],[編號]]","v":"SW3490"},{"$f":"表格2[[#This Row],[產品]]","v":"-小獅王-美味軟糖湯匙組-晨藍-"},{"$f":"表格2[[#This Row],[單價]]","v":45},{"$f":"表格2[[#This Row],[入貨價]]","v":98},24.5,{"$f":"SUMIF(資料庫!D:D,庫存計算!C335,資料庫!E:E)","v":0},0]
[{"$f":"表格2[[#This Row],[貨源]]","v":0},{"$f":"表格2[[#This Row],[編號]]","v":"SW3491"},{"$f":"表格2[[#This Row],[產品]]","v":"-小獅王-美味軟糖湯匙組-栗粉-"},{"$f":"表格2[[#This Row],[單價]]","v":45},{"$f":"表格2[[#This Row],[入貨價]]","v":98},24.5,{"$f":"SUMIF(資料庫!D:D,庫存計算!C336,資料庫!E:E)","v":0},0]
[{"$f":"表格2[[#This Row],[貨源]]","v":0},{"$f":"表格2[[#This Row],[編號]]","v":"SW3492"},{"$f":"表格2[[#This Row],[產品]]","v":"-小獅王-美味軟糖湯匙組-杏茶-"},{"$f":"表格2[[#This Row],[單價]]","v":45},{"$f":"表格2[[#This Row],[入貨價]]","v":98},24.5,{"$f":"SUMIF(資料庫!D:D,庫存計算!C337,資料庫!E:E)","v":0},0]
[{"$f":"表格2[[#This Row],[貨源]]","v":0},{"$f":"表格2[[#This Row],[編號]]","v":"SW6120"},{"$f":"表格2[[#This Row],[產品]]","v":"PPSU 普通奶樽-小獅王-蘊蜜鉑金PPSU寬口防脹氣奶瓶200ml(晨藍)-圓S"},{"$f":"表格2[[#This Row],[單價]]","v":115},{"$f":"表格2[[#This Row],[入貨價]]","v":267},66.75,{"$f":"SUMIF(資料庫!D:D,庫存計算!C338,資料庫!E:E)","v":0},0]
[{"$f":"表格2[[#This Row],[貨源]]","v":0},{"$f":"表格2[[#This Row],[編號]]","v":"SW6121"},{"$f":"表格2[[#This Row],[產品]]","v":"PPSU 普通奶樽-小獅王-蘊蜜鉑金PPSU寬口防脹氣奶瓶200ml(栗粉)-圓S"},{"$f":"表格2[[#This Row],[單價]]","v":115},{"$f":"表格2[[#This Row],[入貨價]]","v":267},66.75,{"$f":"SUMIF(資料庫!D:D,庫存計算!C339,資料庫!E:E)","v":0},0]
[{"$f":"表格2[[#This Row],[貨源]]","v":0},{"$f":"表格2[[#This Row],[編號]]","v":"SW6122"},{"$f":"表格2[[#This Row],[產品]]","v":"PPSU 普通奶樽-小獅王-蘊蜜鉑金PPSU寬口防脹氣奶瓶200ml(杏茶)-圓S"},{"$f":"表格2[[#This Row],[單價]]","v":115},{"$f":"表格2[[#This Row],[入貨價]]","v":267},66.75,{"$f":"SUMIF(資料庫!D:D,庫存計算!C340,資料庫!E:E)","v":0},0]
[{"$f":"表格2[[#This Row],[貨源]]","v":0},{"$f":"表格2[[#This Row],[編號]]","v":"SW6123"},{"$f":"表格2[[#This Row],[產品]]","v":"PPSU 普通奶樽-小獅王-蘊蜜鉑金PPSU寬口防脹氣奶瓶200ml(紫芙)-圓S"},{"$f":"表格2[[#This Row],[單價]]","v":115},{"$f":"表格2[[#This Row],[入貨價]]","v":267},66.75,{"$f":"SUMIF(資料庫!D:D,庫存計算!C341,資料庫!E:E)","v":0},0]
[{"$f":"表格2[[#This Row],[貨源]]","v":0},{"$f":"表格2[[#This Row],[編號]]","v":"SW6124"},{"$f":"表格2[[#This Row],[產品]]","v":"PPSU 普通奶樽-小獅王-蘊蜜鉑金PPSU寬口防脹氣奶瓶200ml(綠沐)-圓S"},{"$f":"表格2[[#This Row],[單價]]","v":115},{"$f":"表格2[[#This Row],[入貨價]]","v":267},66.75,{"$f":"SUMIF(資料庫!D:D,庫存計算!C342,資料庫!E:E)","v":0},0]
[{"$f":"表格2[[#This Row],[貨源]]","v":0},{"$f":"表格2[[#This Row],[編號]]","v":"SW6130"},{"$f":"表格2[[#This Row],[產品]]","v":"PPSU 普通奶樽-小獅王-蘊蜜鉑金PPSU寬口防脹氣奶瓶270ml(晨藍)-圓S"},{"$f":"表格2[[#This Row],[單價]]","v":128},{"$f":"表格2[[#This Row],[入貨價]]","v":290},72.5,{"$f":"SUMIF(資料庫!D:D,庫存計算!C343,資料庫!E:E)","v":0},0]
[{"$f":"表格2[[#This Row],[貨源]]","v":0},{"$f":"表格2[[#This Row],[編號]]","v":"SW6131"},{"$f":"表格2[[#This Row],[產品]]","v":"PPSU 普通奶樽-小獅王-蘊蜜鉑金PPSU寬口防脹氣奶瓶270ml(栗粉)-十字M"},{"$f":"表格2[[#This Row],[單價]]","v":128},{"$f":"表格2[[#This Row],[入貨價]]","v":290},72.5,{"$f":"SUMIF(資料庫!D:D,庫存計算!C344,資料庫!E:E)","v":0},0]
[{"$f":"表格2[[#This Row],[貨源]]","v":0},{"$f":"表格2[[#This Row],[編號]]","v":"SW6132"},{"$f":"表格2[[#This Row],[產品]]","v":"PPSU 普通奶樽-小獅王-蘊蜜鉑金PPSU寬口防脹氣奶瓶270ml(杏茶)-十字M"},{"$f":"表格2[[#This Row],[單價]]","v":128},{"$f":"表格2[[#This Row],[入貨價]]","v":290},72.5,{"$f":"SUMIF(資料庫!D:D,庫存計算!C345,資料庫!E:E)","v":0},0]
[{"$f":"表格2[[#This Row],[貨源]]","v":0},{"$f":"表格2[[#This Row],[編號]]","v":"SW6133"},{"$f":"表格2[[#This Row],[產品]]","v":"PPSU 普通奶樽-小獅王-蘊蜜鉑金PPSU寬口防脹氣奶瓶270ml(紫芙)-十字M"},{"$f":"表格2[[#This Row],[單價]]","v":128},{"$f":"表格2[[#This Row],[入貨價]]","v":290},72.5,{"$f":"SUMIF(資料庫!D:D,庫存計算!C346,資料庫!E:E)","v":0},0]
[{"$f":"表格2[[#This Row],[貨源]]","v":0},{"$f":"表格2[[#This Row],[編號]]","v":"SW6134"},{"$f":"表格2[[#This Row],[產品]]","v":"PPSU 普通奶樽-小獅王-蘊蜜鉑金PPSU寬口防脹氣奶瓶270ml(綠沐)-十字M"},{"$f":"表格2[[#This Row],[單價]]","v":128},{"$f":"表格2[[#This Row],[入貨價]]","v":290},72.5,{"$f":"SUMIF(資料庫!D:D,庫存計算!C347,資料庫!E:E)","v":0},0]
[{"$f":"表格2[[#This Row],[貨源]]","v":0},{"$f":"表格2[[#This Row],[編號]]","v":"SW6150"},{"$f":"表格2[[#This Row],[產品]]","v":"PPSU 普通奶樽-小獅王-蘊蜜鉑金PPSU寬口防脹氣奶瓶360ml(晨藍)-十字M"},{"$f":"表格2[[#This Row],[單價]]","v":135},{"$f":"表格2[[#This Row],[入貨價]]","v":312},78,{"$f":"SUMIF(資料庫!D:D,庫存計算!C348,資料庫!E:E)","v":0},0]
[{"$f":"表格2[[#This Row],[貨源]]","v":0},{"$f":"表格2[[#This Row],[編號]]","v":"SW6151"},{"$f":"表格2[[#This Row],[產品]]","v":"PPSU 普通奶樽-小獅王-蘊蜜鉑金PPSU寬口防脹氣奶瓶360ml(栗粉)-十字M"},{"$f":"表格2[[#This Row],[單價]]","v":135},{"$f":"表格2[[#This Row],[入貨價]]","v":312},78,{"$f":"SUMIF(資料庫!D:D,庫存計算!C349,資料庫!E:E)","v":0},0]
[{"$f":"表格2[[#This Row],[貨源]]","v":0},{"$f":"表格2[[#This Row],[編號]]","v":"SW6152"},{"$f":"表格2[[#This Row],[產品]]","v":"PPSU 普通奶樽-小獅王-蘊蜜鉑金PPSU寬口防脹氣奶瓶360ml(杏茶)-十字M"},{"$f":"表格2[[#This Row],[單價]]","v":135},{"$f":"表格2[[#This Row],[入貨價]]","v":312},78,{"$f":"SUMIF(資料庫!D:D,庫存計算!C350,資料庫!E:E)","v":0},0]
[{"$f":"表格2[[#This Row],[貨源]]","v":0},{"$f":"表格2[[#This Row],[編號]]","v":"SW6153"},{"$f":"表格2[[#This Row],[產品]]","v":"PPSU 普通奶樽-小獅王-蘊蜜鉑金PPSU寬口防脹氣奶瓶360ml(紫芙)-十字M"},{"$f":"表格2[[#This Row],[單價]]","v":135},{"$f":"表格2[[#This Row],[入貨價]]","v":312},78,{"$f":"SUMIF(資料庫!D:D,庫存計算!C351,資料庫!E:E)","v":0},0]
[{"$f":"表格2[[#This Row],[貨源]]","v":0},{"$f":"表格2[[#This Row],[編號]]","v":"SW6154"},{"$f":"表格2[[#This Row],[產品]]","v":"PPSU 普通奶樽-小獅王-蘊蜜鉑金PPSU寬口防脹氣奶瓶360ml(綠沐)-十字M"},{"$f":"表格2[[#This Row],[單價]]","v":135},{"$f":"表格2[[#This Row],[入貨價]]","v":312},78,{"$f":"SUMIF(資料庫!D:D,庫存計算!C352,資料庫!E:E)","v":0},0]
[{"$f":"表格2[[#This Row],[貨源]]","v":0},{"$f":"表格2[[#This Row],[編號]]","v":"SW6160"},{"$f":"表格2[[#This Row],[產品]]","v":"把手奶樽-小獅王-蘊蜜鉑金PPSU寬口吸管把手防脹氣奶瓶200ml(晨藍)-十字S"},{"$f":"表格2[[#This Row],[單價]]","v":135},{"$f":"表格2[[#This Row],[入貨價]]","v":299},74.75,{"$f":"SUMIF(資料庫!D:D,庫存計算!C353,資料庫!E:E)","v":0},0]
[{"$f":"表格2[[#This Row],[貨源]]","v":0},{"$f":"表格2[[#This Row],[編號]]","v":"SW6161"},{"$f":"表格2[[#This Row],[產品]]","v":"把手奶樽-小獅王-蘊蜜鉑金PPSU寬口吸管把手防脹氣奶瓶200ml(栗粉)-十字S"},{"$f":"表格2[[#This Row],[單價]]","v":135},{"$f":"表格2[[#This Row],[入貨價]]","v":299},74.75,{"$f":"SUMIF(資料庫!D:D,庫存計算!C354,資料庫!E:E)","v":0},0]
[{"$f":"表格2[[#This Row],[貨源]]","v":0},{"$f":"表格2[[#This Row],[編號]]","v":"SW6162"},{"$f":"表格2[[#This Row],[產品]]","v":"把手奶樽-小獅王-蘊蜜鉑金PPSU寬口吸管把手防脹氣奶瓶200ml(杏茶)-十字S"},{"$f":"表格2[[#This Row],[單價]]","v":135},{"$f":"表格2[[#This Row],[入貨價]]","v":299},74.75,{"$f":"SUMIF(資料庫!D:D,庫存計算!C355,資料庫!E:E)","v":0},0]
[{"$f":"表格2[[#This Row],[貨源]]","v":0},{"$f":"表格2[[#This Row],[編號]]","v":"SW6164"},{"$f":"表格2[[#This Row],[產品]]","v":"把手奶樽-小獅王-蘊蜜鉑金PPSU寬口吸管把手防脹氣奶瓶200ml(綠沐)-十字S"},{"$f":"表格2[[#This Row],[單價]]","v":135},{"$f":"表格2[[#This Row],[入貨價]]","v":299},74.75,{"$f":"SUMIF(資料庫!D:D,庫存計算!C356,資料庫!E:E)","v":0},0]
[{"$f":"表格2[[#This Row],[貨源]]","v":0},{"$f":"表格2[[#This Row],[編號]]","v":"SW6170"},{"$f":"表格2[[#This Row],[產品]]","v":"把手奶樽-小獅王-蘊蜜鉑金PPSU寬口吸管把手防脹氣奶瓶270ml(晨藍)-十字M"},{"$f":"表格2[[#This Row],[單價]]","v":140},{"$f":"表格2[[#This Row],[入貨價]]","v":321},80.25,{"$f":"SUMIF(資料庫!D:D,庫存計算!C357,資料庫!E:E)","v":0},0]
[{"$f":"表格2[[#This Row],[貨源]]","v":0},{"$f":"表格2[[#This Row],[編號]]","v":"SW6171"},{"$f":"表格2[[#This Row],[產品]]","v":"把手奶樽-小獅王-蘊蜜鉑金PPSU寬口吸管把手防脹氣奶瓶270ml(栗粉)-十字M"},{"$f":"表格2[[#This Row],[單價]]","v":140},{"$f":"表格2[[#This Row],[入貨價]]","v":321},80.25,{"$f":"SUMIF(資料庫!D:D,庫存計算!C358,資料庫!E:E)","v":1},59.75]
[{"$f":"表格2[[#This Row],[貨源]]","v":0},{"$f":"表格2[[#This Row],[編號]]","v":"SW6172"},{"$f":"表格2[[#This Row],[產品]]","v":"把手奶樽-小獅王-蘊蜜鉑金PPSU寬口吸管把手防脹氣奶瓶270ml(杏茶)-十字M"},{"$f":"表格2[[#This Row],[單價]]","v":140},{"$f":"表格2[[#This Row],[入貨價]]","v":321},80.25,{"$f":"SUMIF(資料庫!D:D,庫存計算!C359,資料庫!E:E)","v":1},59.75]
[{"$f":"表格2[[#This Row],[貨源]]","v":0},{"$f":"表格2[[#This Row],[編號]]","v":"SW6174"},{"$f":"表格2[[#This Row],[產品]]","v":"把手奶樽-小獅王-蘊蜜鉑金PPSU寬口吸管把手防脹氣奶瓶270ml(綠沐)-十字M"},{"$f":"表格2[[#This Row],[單價]]","v":140},{"$f":"表格2[[#This Row],[入貨價]]","v":321},80.25,{"$f":"SUMIF(資料庫!D:D,庫存計算!C360,資料庫!E:E)","v":0},0]
[{"$f":"表格2[[#This Row],[貨源]]","v":0},{"$f":"表格2[[#This Row],[編號]]","v":"SW6180"},{"$f":"表格2[[#This Row],[產品]]","v":"把手奶樽-小獅王-蘊蜜鉑金PPSU寬口吸管把手防脹氣奶瓶360ml(晨藍)-十字M"},{"$f":"表格2[[#This Row],[單價]]","v":148},{"$f":"表格2[[#This Row],[入貨價]]","v":343},85.75,{"$f":"SUMIF(資料庫!D:D,庫存計算!C361,資料庫!E:E)","v":0},0]
[{"$f":"表格2[[#This Row],[貨源]]","v":0},{"$f":"表格2[[#This Row],[編號]]","v":"SW6181"},{"$f":"表格2[[#This Row],[產品]]","v":"把手奶樽-小獅王-蘊蜜鉑金PPSU寬口吸管把手防脹氣奶瓶360ml(栗粉)-十字M"},{"$f":"表格2[[#This Row],[單價]]","v":148},{"$f":"表格2[[#This Row],[入貨價]]","v":343},85.75,{"$f":"SUMIF(資料庫!D:D,庫存計算!C362,資料庫!E:E)","v":0},0]
[{"$f":"表格2[[#This Row],[貨源]]","v":0},{"$f":"表格2[[#This Row],[編號]]","v":"SW6182"},{"$f":"表格2[[#This Row],[產品]]","v":"把手奶樽-小獅王-蘊蜜鉑金PPSU寬口吸管把手防脹氣奶瓶360ml(杏茶)-十字M"},{"$f":"表格2[[#This Row],[單價]]","v":148},{"$f":"表格2[[#This Row],[入貨價]]","v":343},85.75,{"$f":"SUMIF(資料庫!D:D,庫存計算!C363,資料庫!E:E)","v":0},0]
[{"$f":"表格2[[#This Row],[貨源]]","v":0},{"$f":"表格2[[#This Row],[編號]]","v":"SW6184"},{"$f":"表格2[[#This Row],[產品]]","v":"把手奶樽-小獅王-蘊蜜鉑金PPSU寬口吸管把手防脹氣奶瓶360ml(綠沐)-十字M"},{"$f":"表格2[[#This Row],[單價]]","v":148},{"$f":"表格2[[#This Row],[入貨價]]","v":343},85.75,{"$f":"SUMIF(資料庫!D:D,庫存計算!C364,資料庫!E:E)","v":0},0]
[{"$f":"表格2[[#This Row],[貨源]]","v":0},{"$f":"表格2[[#This Row],[編號]]","v":"SW6331"},{"$f":"表格2[[#This Row],[產品]]","v":"奶樽嘴-小獅王-超柔防脹氣寬口十字奶嘴S-4入(0個月以上)-"},{"$f":"表格2[[#This Row],[單價]]","v":85},{"$f":"表格2[[#This Row],[入貨價]]","v":161},40.25,{"$f":"SUMIF(資料庫!D:D,庫存計算!C365,資料庫!E:E)","v":0},0]
[{"$f":"表格2[[#This Row],[貨源]]","v":0},{"$f":"表格2[[#This Row],[編號]]","v":"SW6332"},{"$f":"表格2[[#This Row],[產品]]","v":"奶樽嘴-小獅王-超柔防脹氣寬口十字奶嘴M-4入(3個月以上)-"},{"$f":"表格2[[#This Row],[單價]]","v":85},{"$f":"表格2[[#This Row],[入貨價]]","v":161},40.25,{"$f":"SUMIF(資料庫!D:D,庫存計算!C366,資料庫!E:E)","v":1},44.75]
[{"$f":"表格2[[#This Row],[貨源]]","v":0},{"$f":"表格2[[#This Row],[編號]]","v":"SW6333"},{"$f":"表格2[[#This Row],[產品]]","v":"奶樽嘴-小獅王-超柔防脹氣寬口十字奶嘴L-4入(6個月以上)-"},{"$f":"表格2[[#This Row],[單價]]","v":85},{"$f":"表格2[[#This Row],[入貨價]]","v":161},40.25,{"$f":"SUMIF(資料庫!D:D,庫存計算!C367,資料庫!E:E)","v":1},44.75]
[{"$f":"表格2[[#This Row],[貨源]]","v":0},{"$f":"表格2[[#This Row],[編號]]","v":"SW6334"},{"$f":"表格2[[#This Row],[產品]]","v":"奶樽嘴-小獅王-超柔防脹氣寬口十字奶嘴XL-4入(12個月以上)-"},{"$f":"表格2[[#This Row],[單價]]","v":85},{"$f":"表格2[[#This Row],[入貨價]]","v":161},40.25,{"$f":"SUMIF(資料庫!D:D,庫存計算!C368,資料庫!E:E)","v":0},0]
[{"$f":"表格2[[#This Row],[貨源]]","v":0},{"$f":"表格2[[#This Row],[編號]]","v":"SW6335"},{"$f":"表格2[[#This Row],[產品]]","v":"奶樽嘴-小獅王-超柔防脹氣寬口圓孔奶嘴S-4入(0個月以上)-"},{"$f":"表格2[[#This Row],[單價]]","v":85},{"$f":"表格2[[#This Row],[入貨價]]","v":161},40.25,{"$f":"SUMIF(資料庫!D:D,庫存計算!C369,資料庫!E:E)","v":0},0]
[{"$f":"表格2[[#This Row],[貨源]]","v":0},{"$f":"表格2[[#This Row],[編號]]","v":"SW6336"},{"$f":"表格2[[#This Row],[產品]]","v":"奶樽嘴-小獅王-超柔防脹氣寬口圓孔奶嘴M-4入(3個月以上)-"},{"$f":"表格2[[#This Row],[單價]]","v":85},{"$f":"表格2[[#This Row],[入貨價]]","v":161},40.25,{"$f":"SUMIF(資料庫!D:D,庫存計算!C370,資料庫!E:E)","v":0},0]
[{"$f":"表格2[[#This Row],[貨源]]","v":0},{"$f":"表格2[[#This Row],[編號]]","v":"SW6337"},{"$f":"表格2[[#This Row],[產品]]","v":"奶樽嘴-小獅王-超柔防脹氣寬口圓孔奶嘴L-4入(6個月以上)-"},{"$f":"表格2[[#This Row],[單價]]","v":85},{"$f":"表格2[[#This Row],[入貨價]]","v":161},40.25,{"$f":"SUMIF(資料庫!D:D,庫存計算!C371,資料庫!E:E)","v":0},0]
[{"$f":"表格2[[#This Row],[貨源]]","v":0},{"$f":"表格2[[#This Row],[編號]]","v":"SW6338"},{"$f":"表格2[[#This Row],[產品]]","v":"奶樽嘴-小獅王-超柔防脹氣寬口圓孔奶嘴SS-4入(初生學習)-"},{"$f":"表格2[[#This Row],[單價]]","v":85},{"$f":"表格2[[#This Row],[入貨價]]","v":161},40.25,{"$f":"SUMIF(資料庫!D:D,庫存計算!C372,資料庫!E:E)","v":0},0]
[{"$f":"表格2[[#This Row],[貨源]]","v":0},{"$f":"表格2[[#This Row],[編號]]","v":"SW6940"},{"$f":"表格2[[#This Row],[產品]]","v":"玻璃奶樽-小獅王-蘊蜜質金玻璃寬口防脹氣奶瓶180ml(晨藍)-新生專用-"},{"$f":"表格2[[#This Row],[單價]]","v":0},{"$f":"表格2[[#This Row],[入貨價]]","v":174},43.5,{"$f":"SUMIF(資料庫!D:D,庫存計算!C373,資料庫!E:E)","v":0},0]
[{"$f":"表格2[[#This Row],[貨源]]","v":0},{"$f":"表格2[[#This Row],[編號]]","v":"SW6941"},{"$f":"表格2[[#This Row],[產品]]","v":"玻璃奶樽-小獅王-蘊蜜質金玻璃寬口防脹氣奶瓶180ml(栗粉)-新生專用-"},{"$f":"表格2[[#This Row],[單價]]","v":0},{"$f":"表格2[[#This Row],[入貨價]]","v":174},43.5,{"$f":"SUMIF(資料庫!D:D,庫存計算!C374,資料庫!E:E)","v":0},0]
[{"$f":"表格2[[#This Row],[貨源]]","v":0},{"$f":"表格2[[#This Row],[編號]]","v":"SW6942"},{"$f":"表格2[[#This Row],[產品]]","v":"玻璃奶樽-小獅王-蘊蜜質金玻璃寬口防脹氣奶瓶180ml(杏茶)-新生專用-"},{"$f":"表格2[[#This Row],[單價]]","v":0},{"$f":"表格2[[#This Row],[入貨價]]","v":174},43.5,{"$f":"SUMIF(資料庫!D:D,庫存計算!C375,資料庫!E:E)","v":0},0]
[{"$f":"表格2[[#This Row],[貨源]]","v":0},{"$f":"表格2[[#This Row],[編號]]","v":"SW6943"},{"$f":"表格2[[#This Row],[產品]]","v":"玻璃奶樽-小獅王-蘊蜜質金玻璃寬口防脹氣奶瓶180ml(紫芙)-新生專用-"},{"$f":"表格2[[#This Row],[單價]]","v":0},{"$f":"表格2[[#This Row],[入貨價]]","v":174},43.5,{"$f":"SUMIF(資料庫!D:D,庫存計算!C376,資料庫!E:E)","v":0},0]
[{"$f":"表格2[[#This Row],[貨源]]","v":0},{"$f":"表格2[[#This Row],[編號]]","v":"SW6944"},{"$f":"表格2[[#This Row],[產品]]","v":"玻璃奶樽-小獅王-蘊蜜質金玻璃寬口防脹氣奶瓶180ml(綠沐)-新生專用-"},{"$f":"表格2[[#This Row],[單價]]","v":0},{"$f":"表格2[[#This Row],[入貨價]]","v":174},43.5,{"$f":"SUMIF(資料庫!D:D,庫存計算!C377,資料庫!E:E)","v":0},0]
[{"$f":"表格2[[#This Row],[貨源]]","v":0},{"$f":"表格2[[#This Row],[編號]]","v":"SW6950"},{"$f":"表格2[[#This Row],[產品]]","v":"玻璃奶樽-小獅王-蘊蜜質金玻璃寬口防脹氣奶瓶270ml(晨藍)-新生專用-"},{"$f":"表格2[[#This Row],[單價]]","v":0},{"$f":"表格2[[#This Row],[入貨價]]","v":178},44.5,{"$f":"SUMIF(資料庫!D:D,庫存計算!C378,資料庫!E:E)","v":0},0]
[{"$f":"表格2[[#This Row],[貨源]]","v":0},{"$f":"表格2[[#This Row],[編號]]","v":"SW6951"},{"$f":"表格2[[#This Row],[產品]]","v":"玻璃奶樽-小獅王-蘊蜜質金玻璃寬口防脹氣奶瓶270ml(栗粉)-新生專用-"},{"$f":"表格2[[#This Row],[單價]]","v":0},{"$f":"表格2[[#This Row],[入貨價]]","v":178},{"$f":"E379/4","v":44.5},{"$f":"SUMIF(資料庫!D:D,庫存計算!C379,資料庫!E:E)","v":0},0]
[{"$f":"表格2[[#This Row],[貨源]]","v":0},{"$f":"表格2[[#This Row],[編號]]","v":"SW6952"},{"$f":"表格2[[#This Row],[產品]]","v":"玻璃奶樽-小獅王-蘊蜜質金玻璃寬口防脹氣奶瓶270ml(杏茶)-新生專用-"},{"$f":"表格2[[#This Row],[單價]]","v":0},{"$f":"表格2[[#This Row],[入貨價]]","v":178},44.5,{"$f":"SUMIF(資料庫!D:D,庫存計算!C380,資料庫!E:E)","v":0},0]
[{"$f":"表格2[[#This Row],[貨源]]","v":0},{"$f":"表格2[[#This Row],[編號]]","v":"SW6953"},{"$f":"表格2[[#This Row],[產品]]","v":"玻璃奶樽-小獅王-蘊蜜質金玻璃寬口防脹氣奶瓶270ml(紫芙)-新生專用-"},{"$f":"表格2[[#This Row],[單價]]","v":0},{"$f":"表格2[[#This Row],[入貨價]]","v":178},44.5,{"$f":"SUMIF(資料庫!D:D,庫存計算!C381,資料庫!E:E)","v":0},0]
[{"$f":"表格2[[#This Row],[貨源]]","v":0},{"$f":"表格2[[#This Row],[編號]]","v":"SW6954"},{"$f":"表格2[[#This Row],[產品]]","v":"玻璃奶樽-小獅王-蘊蜜質金玻璃寬口防脹氣奶瓶270ml(綠沐)-新生專用-"},{"$f":"表格2[[#This Row],[單價]]","v":0},{"$f":"表格2[[#This Row],[入貨價]]","v":178},44.5,{"$f":"SUMIF(資料庫!D:D,庫存計算!C382,資料庫!E:E)","v":0},0]
[{"$f":"表格2[[#This Row],[貨源]]","v":0},{"$f":"表格2[[#This Row],[編號]]","v":"SW7010"},{"$f":"表格2[[#This Row],[產品]]","v":"配件1-小獅王-蘊蜜寬口奶瓶儲乳片5入-"},{"$f":"表格2[[#This Row],[單價]]","v":28},{"$f":"表格2[[#This Row],[入貨價]]","v":85},21.25,{"$f":"SUMIF(資料庫!D:D,庫存計算!C383,資料庫!E:E)","v":0},0]
[{"$f":"表格2[[#This Row],[貨源]]","v":0},{"$f":"表格2[[#This Row],[編號]]","v":"SW7011"},{"$f":"表格2[[#This Row],[產品]]","v":"配件5-小獅王-蘊蜜寬口奶瓶蝶型吸管組-"},{"$f":"表格2[[#This Row],[單價]]","v":35},{"$f":"表格2[[#This Row],[入貨價]]","v":49},12.25,{"$f":"SUMIF(資料庫!D:D,庫存計算!C384,資料庫!E:E)","v":0},0]
[{"$f":"表格2[[#This Row],[貨源]]","v":0},{"$f":"表格2[[#This Row],[編號]]","v":"SW7012"},{"$f":"表格2[[#This Row],[產品]]","v":"配件6-小獅王-蘊蜜寬口奶瓶防漏學習吸管組-"},{"$f":"表格2[[#This Row],[單價]]","v":38},{"$f":"表格2[[#This Row],[入貨價]]","v":74},18.5,{"$f":"SUMIF(資料庫!D:D,庫存計算!C385,資料庫!E:E)","v":4},78]
[{"$f":"表格2[[#This Row],[貨源]]","v":0},{"$f":"表格2[[#This Row],[編號]]","v":"SW7013"},{"$f":"表格2[[#This Row],[產品]]","v":"配件7-小獅王-蘊蜜寬口防漏滑蓋吸管組-"},{"$f":"表格2[[#This Row],[單價]]","v":55},{"$f":"表格2[[#This Row],[入貨價]]","v":116},29,{"$f":"SUMIF(資料庫!D:D,庫存計算!C386,資料庫!E:E)","v":1},26]
[{"$f":"表格2[[#This Row],[貨源]]","v":0},{"$f":"表格2[[#This Row],[編號]]","v":"SW7014"},{"$f":"表格2[[#This Row],[產品]]","v":"-小獅王-蘊蜜寬口防漏滑蓋矽膠墊圈-"},{"$f":"表格2[[#This Row],[單價]]","v":28},{"$f":"表格2[[#This Row],[入貨價]]","v":30},7.5,{"$f":"SUMIF(資料庫!D:D,庫存計算!C387,資料庫!E:E)","v":0},0]
[{"$f":"表格2[[#This Row],[貨源]]","v":0},{"$f":"表格2[[#This Row],[編號]]","v":"SW7015"},{"$f":"表格2[[#This Row],[產品]]","v":"吸管刷-小獅王-蘊蜜清潔刷6入-"},{"$f":"表格2[[#This Row],[單價]]","v":38},{"$f":"表格2[[#This Row],[入貨價]]","v":63},15.75,{"$f":"SUMIF(資料庫!D:D,庫存計算!C388,資料庫!E:E)","v":0},{"$f":"(D388-F388)*G388","v":0}]
[{"$f":"表格2[[#This Row],[貨源]]","v":0},{"$f":"表格2[[#This Row],[編號]]","v":"SW7020"},{"$f":"表格2[[#This Row],[產品]]","v":"配件3-小獅王-蘊蜜寬口奶瓶瓶蓋組(晨藍)-"},{"$f":"表格2[[#This Row],[單價]]","v":18},{"$f":"表格2[[#This Row],[入貨價]]","v":27},6.75,{"$f":"SUMIF(資料庫!D:D,庫存計算!C389,資料庫!E:E)","v":0},0]
[{"$f":"表格2[[#This Row],[貨源]]","v":0},{"$f":"表格2[[#This Row],[編號]]","v":"SW7021"},{"$f":"表格2[[#This Row],[產品]]","v":"配件3-小獅王-蘊蜜寬口奶瓶瓶蓋組(栗粉)-"},{"$f":"表格2[[#This Row],[單價]]","v":18},{"$f":"表格2[[#This Row],[入貨價]]","v":27},6.75,{"$f":"SUMIF(資料庫!D:D,庫存計算!C390,資料庫!E:E)","v":0},0]
[{"$f":"表格2[[#This Row],[貨源]]","v":0},{"$f":"表格2[[#This Row],[編號]]","v":"SW7022"},{"$f":"表格2[[#This Row],[產品]]","v":"配件3-小獅王-蘊蜜寬口奶瓶瓶蓋組(杏茶)-"},{"$f":"表格2[[#This Row],[單價]]","v":18},{"$f":"表格2[[#This Row],[入貨價]]","v":27},6.75,{"$f":"SUMIF(資料庫!D:D,庫存計算!C391,資料庫!E:E)","v":0},0]
[{"$f":"表格2[[#This Row],[貨源]]","v":0},{"$f":"表格2[[#This Row],[編號]]","v":"SW7023"},{"$f":"表格2[[#This Row],[產品]]","v":"配件3-小獅王-蘊蜜寬口奶瓶瓶蓋組(紫芙)-"},{"$f":"表格2[[#This Row],[單價]]","v":18},{"$f":"表格2[[#This Row],[入貨價]]","v":27},6.75,{"$f":"SUMIF(資料庫!D:D,庫存計算!C392,資料庫!E:E)","v":0},0]
[{"$f":"表格2[[#This Row],[貨源]]","v":0},{"$f":"表格2[[#This Row],[編號]]","v":"SW7024"},{"$f":"表格2[[#This Row],[產品]]","v":"配件3-小獅王-蘊蜜寬口奶瓶瓶蓋組(綠沐)-"},{"$f":"表格2[[#This Row],[單價]]","v":18},{"$f":"表格2[[#This Row],[入貨價]]","v":27},6.75,{"$f":"SUMIF(資料庫!D:D,庫存計算!C393,資料庫!E:E)","v":0},0]
[{"$f":"表格2[[#This Row],[貨源]]","v":0},{"$f":"表格2[[#This Row],[編號]]","v":"SW7025"},{"$f":"表格2[[#This Row],[產品]]","v":"配件3-小獅王-蘊蜜寬口奶瓶瓶蓋組(蒔黑)-"},{"$f":"表格2[[#This Row],[單價]]","v":18},{"$f":"表格2[[#This Row],[入貨價]]","v":27},6.75,{"$f":"SUMIF(資料庫!D:D,庫存計算!C394,資料庫!E:E)","v":0},0]
[{"$f":"表格2[[#This Row],[貨源]]","v":0},{"$f":"表格2[[#This Row],[編號]]","v":"SW7026"},{"$f":"表格2[[#This Row],[產品]]","v":"配件3-小獅王-蘊蜜寬口奶瓶瓶蓋組(苜白)-"},{"$f":"表格2[[#This Row],[單價]]","v":18},{"$f":"表格2[[#This Row],[入貨價]]","v":27},6.75,{"$f":"SUMIF(資料庫!D:D,庫存計算!C395,資料庫!E:E)","v":0},0]
[{"$f":"表格2[[#This Row],[貨源]]","v":0},{"$f":"表格2[[#This Row],[編號]]","v":"SW7030"},{"$f":"表格2[[#This Row],[產品]]","v":"配件4-小獅王-蘊蜜寬口奶瓶防滑把手(晨藍)-"},{"$f":"表格2[[#This Row],[單價]]","v":18},{"$f":"表格2[[#This Row],[入貨價]]","v":27},6.75,{"$f":"SUMIF(資料庫!D:D,庫存計算!C396,資料庫!E:E)","v":0},0]
[{"$f":"表格2[[#This Row],[貨源]]","v":0},{"$f":"表格2[[#This Row],[編號]]","v":"SW7031"},{"$f":"表格2[[#This Row],[產品]]","v":"配件4-小獅王-蘊蜜寬口奶瓶防滑把手(栗粉)-"},{"$f":"表格2[[#This Row],[單價]]","v":18},{"$f":"表格2[[#This Row],[入貨價]]","v":27},6.75,{"$f":"SUMIF(資料庫!D:D,庫存計算!C397,資料庫!E:E)","v":0},0]
[{"$f":"表格2[[#This Row],[貨源]]","v":0},{"$f":"表格2[[#This Row],[編號]]","v":"SW7032"},{"$f":"表格2[[#This Row],[產品]]","v":"配件4-小獅王-蘊蜜寬口奶瓶防滑把手(杏茶)-"},{"$f":"表格2[[#This Row],[單價]]","v":18},{"$f":"表格2[[#This Row],[入貨價]]","v":27},6.75,{"$f":"SUMIF(資料庫!D:D,庫存計算!C398,資料庫!E:E)","v":0},0]
[{"$f":"表格2[[#This Row],[貨源]]","v":0},{"$f":"表格2[[#This Row],[編號]]","v":"SW7033"},{"$f":"表格2[[#This Row],[產品]]","v":"配件4-小獅王-蘊蜜寬口奶瓶防滑把手(紫芙)-"},{"$f":"表格2[[#This Row],[單價]]","v":18},{"$f":"表格2[[#This Row],[入貨價]]","v":27},6.75,{"$f":"SUMIF(資料庫!D:D,庫存計算!C399,資料庫!E:E)","v":0},0]
[{"$f":"表格2[[#This Row],[貨源]]","v":0},{"$f":"表格2[[#This Row],[編號]]","v":"SW7034"},{"$f":"表格2[[#This Row],[產品]]","v":"配件4-小獅王-蘊蜜寬口奶瓶防滑把手(綠沐)-"},{"$f":"表格2[[#This Row],[單價]]","v":18},{"$f":"表格2[[#This Row],[入貨價]]","v":27},6.75,{"$f":"SUMIF(資料庫!D:D,庫存計算!C400,資料庫!E:E)","v":0},0]
[{"$f":"表格2[[#This Row],[貨源]]","v":0},{"$f":"表格2[[#This Row],[編號]]","v":"SW7035"},{"$f":"表格2[[#This Row],[產品]]","v":"配件4-小獅王-蘊蜜寬口奶瓶防滑把手(蒔黑)-"},{"$f":"表格2[[#This Row],[單價]]","v":18},{"$f":"表格2[[#This Row],[入貨價]]","v":27},6.75,{"$f":"SUMIF(資料庫!D:D,庫存計算!C401,資料庫!E:E)","v":0},0]
[{"$f":"表格2[[#This Row],[貨源]]","v":0},{"$f":"表格2[[#This Row],[編號]]","v":"SW7036"},{"$f":"表格2[[#This Row],[產品]]","v":"配件4-小獅王-蘊蜜寬口奶瓶防滑把手(苜白)-"},{"$f":"表格2[[#This Row],[單價]]","v":18},{"$f":"表格2[[#This Row],[入貨價]]","v":27},6.75,{"$f":"SUMIF(資料庫!D:D,庫存計算!C402,資料庫!E:E)","v":0},0]
[{"$f":"表格2[[#This Row],[貨源]]","v":0},{"$f":"表格2[[#This Row],[編號]]","v":"SW7040"},{"$f":"表格2[[#This Row],[產品]]","v":"配件2-小獅王-蘊蜜寬口奶瓶萬用蓋(晨藍)-"},{"$f":"表格2[[#This Row],[單價]]","v":18},{"$f":"表格2[[#This Row],[入貨價]]","v":30},7.5,{"$f":"SUMIF(資料庫!D:D,庫存計算!C403,資料庫!E:E)","v":0},0]
[{"$f":"表格2[[#This Row],[貨源]]","v":0},{"$f":"表格2[[#This Row],[編號]]","v":"SW7041"},{"$f":"表格2[[#This Row],[產品]]","v":"配件2-小獅王-蘊蜜寬口奶瓶萬用蓋(栗粉)-"},{"$f":"表格2[[#This Row],[單價]]","v":18},{"$f":"表格2[[#This Row],[入貨價]]","v":30},7.5,{"$f":"SUMIF(資料庫!D:D,庫存計算!C404,資料庫!E:E)","v":0},0]
[{"$f":"表格2[[#This Row],[貨源]]","v":0},{"$f":"表格2[[#This Row],[編號]]","v":"SW7042"},{"$f":"表格2[[#This Row],[產品]]","v":"配件2-小獅王-蘊蜜寬口奶瓶萬用蓋(杏茶)-"},{"$f":"表格2[[#This Row],[單價]]","v":18},{"$f":"表格2[[#This Row],[入貨價]]","v":30},7.5,{"$f":"SUMIF(資料庫!D:D,庫存計算!C405,資料庫!E:E)","v":0},0]
[{"$f":"表格2[[#This Row],[貨源]]","v":0},{"$f":"表格2[[#This Row],[編號]]","v":"SW7043"},{"$f":"表格2[[#This Row],[產品]]","v":"配件2-小獅王-蘊蜜寬口奶瓶萬用蓋(紫芙)-"},{"$f":"表格2[[#This Row],[單價]]","v":18},{"$f":"表格2[[#This Row],[入貨價]]","v":30},7.5,{"$f":"SUMIF(資料庫!D:D,庫存計算!C406,資料庫!E:E)","v":0},0]
[{"$f":"表格2[[#This Row],[貨源]]","v":0},{"$f":"表格2[[#This Row],[編號]]","v":"SW7044"},{"$f":"表格2[[#This Row],[產品]]","v":"配件2-小獅王-蘊蜜寬口奶瓶萬用蓋(綠沐)-"},{"$f":"表格2[[#This Row],[單價]]","v":18},{"$f":"表格2[[#This Row],[入貨價]]","v":30},7.5,{"$f":"SUMIF(資料庫!D:D,庫存計算!C407,資料庫!E:E)","v":0},0]
[{"$f":"表格2[[#This Row],[貨源]]","v":0},{"$f":"表格2[[#This Row],[編號]]","v":"SW7045"},{"$f":"表格2[[#This Row],[產品]]","v":"配件2-小獅王-蘊蜜寬口奶瓶萬用蓋(蒔黑)-"},{"$f":"表格2[[#This Row],[單價]]","v":18},{"$f":"表格2[[#This Row],[入貨價]]","v":30},7.5,{"$f":"SUMIF(資料庫!D:D,庫存計算!C408,資料庫!E:E)","v":0},0]
[{"$f":"表格2[[#This Row],[貨源]]","v":0},{"$f":"表格2[[#This Row],[編號]]","v":"SW7046"},{"$f":"表格2[[#This Row],[產品]]","v":"配件2-小獅王-蘊蜜寬口奶瓶萬用蓋(苜白)-"},{"$f":"表格2[[#This Row],[單價]]","v":18},{"$f":"表格2[[#This Row],[入貨價]]","v":30},7.5,{"$f":"SUMIF(資料庫!D:D,庫存計算!C409,資料庫!E:E)","v":0},0]
[{"$f":"表格2[[#This Row],[貨源]]","v":0},{"$f":"表格2[[#This Row],[編號]]","v":"SW7050"},{"$f":"表格2[[#This Row],[產品]]","v":"配件7-小獅王-蘊蜜寬口防漏滑蓋把手吸管組(晨藍)-"},{"$f":"表格2[[#This Row],[單價]]","v":55},{"$f":"表格2[[#This Row],[入貨價]]","v":112},28,{"$f":"SUMIF(資料庫!D:D,庫存計算!C410,資料庫!E:E)","v":1},27]
[{"$f":"表格2[[#This Row],[貨源]]","v":0},{"$f":"表格2[[#This Row],[編號]]","v":"SW7051"},{"$f":"表格2[[#This Row],[產品]]","v":"配件7-小獅王-蘊蜜寬口防漏滑蓋把手吸管組(栗粉)-"},{"$f":"表格2[[#This Row],[單價]]","v":55},{"$f":"表格2[[#This Row],[入貨價]]","v":112},28,{"$f":"SUMIF(資料庫!D:D,庫存計算!C411,資料庫!E:E)","v":1},27]
[{"$f":"表格2[[#This Row],[貨源]]","v":0},{"$f":"表格2[[#This Row],[編號]]","v":"SW7052"},{"$f":"表格2[[#This Row],[產品]]","v":"配件7-小獅王-蘊蜜寬口防漏滑蓋把手吸管組(杏茶)-"},{"$f":"表格2[[#This Row],[單價]]","v":55},{"$f":"表格2[[#This Row],[入貨價]]","v":112},28,{"$f":"SUMIF(資料庫!D:D,庫存計算!C412,資料庫!E:E)","v":2},54]
[{"$f":"表格2[[#This Row],[貨源]]","v":0},{"$f":"表格2[[#This Row],[編號]]","v":"SW7053"},{"$f":"表格2[[#This Row],[產品]]","v":"配件7-小獅王-蘊蜜寬口防漏滑蓋把手吸管組(紫芙)-"},{"$f":"表格2[[#This Row],[單價]]","v":55},{"$f":"表格2[[#This Row],[入貨價]]","v":112},28,{"$f":"SUMIF(資料庫!D:D,庫存計算!C413,資料庫!E:E)","v":0},0]
[{"$f":"表格2[[#This Row],[貨源]]","v":0},{"$f":"表格2[[#This Row],[編號]]","v":"SW7054"},{"$f":"表格2[[#This Row],[產品]]","v":"配件7-小獅王-蘊蜜寬口防漏滑蓋把手吸管組(綠沐)-"},{"$f":"表格2[[#This Row],[單價]]","v":55},{"$f":"表格2[[#This Row],[入貨價]]","v":112},28,{"$f":"SUMIF(資料庫!D:D,庫存計算!C414,資料庫!E:E)","v":0},0]
[{"$f":"表格2[[#This Row],[貨源]]","v":0},{"$f":"表格2[[#This Row],[編號]]","v":"SW7055"},{"$f":"表格2[[#This Row],[產品]]","v":"配件7-小獅王-蘊蜜寬口防漏滑蓋把手吸管組(蒔黑)-"},{"$f":"表格2[[#This Row],[單價]]","v":55},{"$f":"表格2[[#This Row],[入貨價]]","v":112},28,{"$f":"SUMIF(資料庫!D:D,庫存計算!C415,資料庫!E:E)","v":0},0]
[{"$f":"表格2[[#This Row],[貨源]]","v":0},{"$f":"表格2[[#This Row],[編號]]","v":"SW7056"},{"$f":"表格2[[#This Row],[產品]]","v":"配件7-小獅王-蘊蜜寬口防漏滑蓋把手吸管組(苜白)-"},{"$f":"表格2[[#This Row],[單價]]","v":55},{"$f":"表格2[[#This Row],[入貨價]]","v":112},28,{"$f":"SUMIF(資料庫!D:D,庫存計算!C416,資料庫!E:E)","v":0},0]
[{"$f":"表格2[[#This Row],[貨源]]","v":0},{"$f":"表格2[[#This Row],[編號]]","v":"SW7060"},{"$f":"表格2[[#This Row],[產品]]","v":"配件8-小獅王-蘊蜜寬口即飲杯蓋組(晨藍)-"},{"$f":"表格2[[#This Row],[單價]]","v":48},{"$f":"表格2[[#This Row],[入貨價]]","v":98},24.5,{"$f":"SUMIF(資料庫!D:D,庫存計算!C417,資料庫!E:E)","v":0},0]
[{"$f":"表格2[[#This Row],[貨源]]","v":0},{"$f":"表格2[[#This Row],[編號]]","v":"SW7061"},{"$f":"表格2[[#This Row],[產品]]","v":"配件8-小獅王-蘊蜜寬口即飲杯蓋組(栗粉)-"},{"$f":"表格2[[#This Row],[單價]]","v":48},{"$f":"表格2[[#This Row],[入貨價]]","v":98},24.5,{"$f":"SUMIF(資料庫!D:D,庫存計算!C418,資料庫!E:E)","v":0},0]
[{"$f":"表格2[[#This Row],[貨源]]","v":0},{"$f":"表格2[[#This Row],[編號]]","v":"SW7062"},{"$f":"表格2[[#This Row],[產品]]","v":"配件8-小獅王-蘊蜜寬口即飲杯蓋組(杏茶)-"},{"$f":"表格2[[#This Row],[單價]]","v":48},{"$f":"表格2[[#This Row],[入貨價]]","v":98},24.5,{"$f":"SUMIF(資料庫!D:D,庫存計算!C419,資料庫!E:E)","v":0},0]
[{"$f":"表格2[[#This Row],[貨源]]","v":0},{"$f":"表格2[[#This Row],[編號]]","v":"SW7063"},{"$f":"表格2[[#This Row],[產品]]","v":"配件8-小獅王-蘊蜜寬口即飲杯蓋組(紫芙)-"},{"$f":"表格2[[#This Row],[單價]]","v":48},{"$f":"表格2[[#This Row],[入貨價]]","v":98},24.5,{"$f":"SUMIF(資料庫!D:D,庫存計算!C420,資料庫!E:E)","v":0},0]
[{"$f":"表格2[[#This Row],[貨源]]","v":0},{"$f":"表格2[[#This Row],[編號]]","v":"SW7064"},{"$f":"表格2[[#This Row],[產品]]","v":"配件8-小獅王-蘊蜜寬口即飲杯蓋組(綠沐)-"},{"$f":"表格2[[#This Row],[單價]]","v":48},{"$f":"表格2[[#This Row],[入貨價]]","v":98},24.5,{"$f":"SUMIF(資料庫!D:D,庫存計算!C421,資料庫!E:E)","v":0},0]
[{"$f":"表格2[[#This Row],[貨源]]","v":0},{"$f":"表格2[[#This Row],[編號]]","v":"SW7065"},{"$f":"表格2[[#This Row],[產品]]","v":"配件8-小獅王-蘊蜜寬口即飲杯蓋組(蒔黑)-"},{"$f":"表格2[[#This Row],[單價]]","v":48},{"$f":"表格2[[#This Row],[入貨價]]","v":98},24.5,{"$f":"SUMIF(資料庫!D:D,庫存計算!C422,資料庫!E:E)","v":0},0]
[{"$f":"表格2[[#This Row],[貨源]]","v":0},{"$f":"表格2[[#This Row],[編號]]","v":"SW7066"},{"$f":"表格2[[#This Row],[產品]]","v":"配件8-小獅王-蘊蜜寬口即飲杯蓋組(苜白)-"},{"$f":"表格2[[#This Row],[單價]]","v":48},{"$f":"表格2[[#This Row],[入貨價]]","v":98},24.5,{"$f":"SUMIF(資料庫!D:D,庫存計算!C423,資料庫!E:E)","v":0},0]
[{"$f":"表格2[[#This Row],[貨源]]","v":0},{"$f":"表格2[[#This Row],[編號]]","v":"SW8110"},{"$f":"表格2[[#This Row],[產品]]","v":"學習水杯-小獅王-蘊蜜鉑金PPSU防漏滑蓋學習水杯270ml(晨藍)-"},{"$f":"表格2[[#This Row],[單價]]","v":155},{"$f":"表格2[[#This Row],[入貨價]]","v":379},94.75,{"$f":"SUMIF(資料庫!D:D,庫存計算!C424,資料庫!E:E)","v":1},60.25]
[{"$f":"表格2[[#This Row],[貨源]]","v":0},{"$f":"表格2[[#This Row],[編號]]","v":"SW8111"},{"$f":"表格2[[#This Row],[產品]]","v":"學習水杯-小獅王-蘊蜜鉑金PPSU防漏滑蓋學習水杯270ml(栗粉)-"},{"$f":"表格2[[#This Row],[單價]]","v":155},{"$f":"表格2[[#This Row],[入貨價]]","v":379},94.75,{"$f":"SUMIF(資料庫!D:D,庫存計算!C425,資料庫!E:E)","v":0},0]
[{"$f":"表格2[[#This Row],[貨源]]","v":0},{"$f":"表格2[[#This Row],[編號]]","v":"SW8112"},{"$f":"表格2[[#This Row],[產品]]","v":"學習水杯-小獅王-蘊蜜鉑金PPSU防漏滑蓋學習水杯270ml(杏茶)-"},{"$f":"表格2[[#This Row],[單價]]","v":155},{"$f":"表格2[[#This Row],[入貨價]]","v":379},94.75,{"$f":"SUMIF(資料庫!D:D,庫存計算!C426,資料庫!E:E)","v":0},0]
[{"$f":"表格2[[#This Row],[貨源]]","v":0},{"$f":"表格2[[#This Row],[編號]]","v":"SW8113"},{"$f":"表格2[[#This Row],[產品]]","v":"學習水杯-小獅王-蘊蜜鉑金PPSU防漏滑蓋學習水杯270ml(紫芙)-"},{"$f":"表格2[[#This Row],[單價]]","v":155},{"$f":"表格2[[#This Row],[入貨價]]","v":379},94.75,{"$f":"SUMIF(資料庫!D:D,庫存計算!C427,資料庫!E:E)","v":1},60.25]
[{"$f":"表格2[[#This Row],[貨源]]","v":0},{"$f":"表格2[[#This Row],[編號]]","v":"SW8114"},{"$f":"表格2[[#This Row],[產品]]","v":"學習水杯-小獅王-蘊蜜鉑金PPSU防漏滑蓋學習水杯270ml(綠沐)-"},{"$f":"表格2[[#This Row],[單價]]","v":155},{"$f":"表格2[[#This Row],[入貨價]]","v":379},94.75,{"$f":"SUMIF(資料庫!D:D,庫存計算!C428,資料庫!E:E)","v":1},60.25]
[{"$f":"表格2[[#This Row],[貨源]]","v":"LATIV"},{"$f":"表格2[[#This Row],[編號]]","v":"T0010"},{"$f":"表格2[[#This Row],[產品]]","v":"台連身扣鏤小仙子-90-紫"},{"$f":"表格2[[#This Row],[單價]]","v":109},{"$f":"表格2[[#This Row],[入貨價]]","v":0},0,{"$f":"SUMIF(資料庫!D:D,庫存計算!C429,資料庫!E:E)","v":1},109]
[{"$f":"表格2[[#This Row],[貨源]]","v":"LATIV"},{"$f":"表格2[[#This Row],[編號]]","v":"T0011"},{"$f":"表格2[[#This Row],[產品]]","v":"台連身扣鏤小飛象-90-黃"},{"$f":"表格2[[#This Row],[單價]]","v":109},{"$f":"表格2[[#This Row],[入貨價]]","v":0},0,{"$f":"SUMIF(資料庫!D:D,庫存計算!C430,資料庫!E:E)","v":1},109]
[{"$f":"表格2[[#This Row],[貨源]]","v":"LATIV"},{"$f":"表格2[[#This Row],[編號]]","v":"T0013"},{"$f":"表格2[[#This Row],[產品]]","v":"台三件套小飛象-80-"},{"$f":"表格2[[#This Row],[單價]]","v":145},{"$f":"表格2[[#This Row],[入貨價]]","v":0},0,{"$f":"SUMIF(資料庫!D:D,庫存計算!C431,資料庫!E:E)","v":1},145]
[{"$f":"表格2[[#This Row],[貨源]]","v":"LATIV"},{"$f":"表格2[[#This Row],[編號]]","v":"T0014"},{"$f":"表格2[[#This Row],[產品]]","v":"台LINE奶茶衛衣-100-白"},{"$f":"表格2[[#This Row],[單價]]","v":109},{"$f":"表格2[[#This Row],[入貨價]]","v":0},0,{"$f":"SUMIF(資料庫!D:D,庫存計算!C432,資料庫!E:E)","v":1},109]
[{"$f":"表格2[[#This Row],[貨源]]","v":"LATIV"},{"$f":"表格2[[#This Row],[編號]]","v":"T0014"},{"$f":"表格2[[#This Row],[產品]]","v":"台LINE奶茶衛衣-80-白"},{"$f":"表格2[[#This Row],[單價]]","v":109},{"$f":"表格2[[#This Row],[入貨價]]","v":0},0,{"$f":"SUMIF(資料庫!D:D,庫存計算!C433,資料庫!E:E)","v":1},109]
[{"$f":"表格2[[#This Row],[貨源]]","v":"LATIV"},{"$f":"表格2[[#This Row],[編號]]","v":"T0014"},{"$f":"表格2[[#This Row],[產品]]","v":"台魚魚上衣-80-藍白"},{"$f":"表格2[[#This Row],[單價]]","v":89},{"$f":"表格2[[#This Row],[入貨價]]","v":0},0,{"$f":"SUMIF(資料庫!D:D,庫存計算!C434,資料庫!E:E)","v":1},89]
[{"$f":"表格2[[#This Row],[貨源]]","v":"LATIV"},{"$f":"表格2[[#This Row],[編號]]","v":"T0015"},{"$f":"表格2[[#This Row],[產品]]","v":"台LINE拼色袖-100-粉"},{"$f":"表格2[[#This Row],[單價]]","v":99},{"$f":"表格2[[#This Row],[入貨價]]","v":0},0,{"$f":"SUMIF(資料庫!D:D,庫存計算!C435,資料庫!E:E)","v":1},99]
[{"$f":"表格2[[#This Row],[貨源]]","v":"LATIV"},{"$f":"表格2[[#This Row],[編號]]","v":"T0016"},{"$f":"表格2[[#This Row],[產品]]","v":"台SANRIO三色衛衣-100-紫"},{"$f":"表格2[[#This Row],[單價]]","v":109},{"$f":"表格2[[#This Row],[入貨價]]","v":0},0,{"$f":"SUMIF(資料庫!D:D,庫存計算!C436,資料庫!E:E)","v":1},109]
[{"$f":"表格2[[#This Row],[貨源]]","v":"LATIV"},{"$f":"表格2[[#This Row],[編號]]","v":"T0016"},{"$f":"表格2[[#This Row],[產品]]","v":"台SANRIO三色衛衣-90-紫"},{"$f":"表格2[[#This Row],[單價]]","v":109},{"$f":"表格2[[#This Row],[入貨價]]","v":0},0,{"$f":"SUMIF(資料庫!D:D,庫存計算!C437,資料庫!E:E)","v":1},109]
[{"$f":"表格2[[#This Row],[貨源]]","v":"LATIV"},{"$f":"表格2[[#This Row],[編號]]","v":"T0018"},{"$f":"表格2[[#This Row],[產品]]","v":"台防滑襪-SET B-M"},{"$f":"表格2[[#This Row],[單價]]","v":55},{"$f":"表格2[[#This Row],[入貨價]]","v":0},0,{"$f":"SUMIF(資料庫!D:D,庫存計算!C438,資料庫!E:E)","v":2},110]
[{"$f":"表格2[[#This Row],[貨源]]","v":"LATIV"},{"$f":"表格2[[#This Row],[編號]]","v":"T0018"},{"$f":"表格2[[#This Row],[產品]]","v":"台防滑襪-SET B-S"},{"$f":"表格2[[#This Row],[單價]]","v":55},{"$f":"表格2[[#This Row],[入貨價]]","v":0},0,{"$f":"SUMIF(資料庫!D:D,庫存計算!C439,資料庫!E:E)","v":2},110]
[{"$f":"表格2[[#This Row],[貨源]]","v":"LATIV"},{"$f":"表格2[[#This Row],[編號]]","v":"T005"},{"$f":"表格2[[#This Row],[產品]]","v":"台小飛象外套-90-白"},{"$f":"表格2[[#This Row],[單價]]","v":95},{"$f":"表格2[[#This Row],[入貨價]]","v":0},0,{"$f":"SUMIF(資料庫!D:D,庫存計算!C440,資料庫!E:E)","v":2},190]
[{"$f":"表格2[[#This Row],[貨源]]","v":"LATIV"},{"$f":"表格2[[#This Row],[編號]]","v":"T005"},{"$f":"表格2[[#This Row],[產品]]","v":"台小飛象外套-90-粉"},{"$f":"表格2[[#This Row],[單價]]","v":95},{"$f":"表格2[[#This Row],[入貨價]]","v":0},0,{"$f":"SUMIF(資料庫!D:D,庫存計算!C441,資料庫!E:E)","v":1},95]
[{"$f":"表格2[[#This Row],[貨源]]","v":"LATIV"},{"$f":"表格2[[#This Row],[編號]]","v":"T005"},{"$f":"表格2[[#This Row],[產品]]","v":"台小飛象外套-100-粉"},{"$f":"表格2[[#This Row],[單價]]","v":95},{"$f":"表格2[[#This Row],[入貨價]]","v":0},0,{"$f":"SUMIF(資料庫!D:D,庫存計算!C442,資料庫!E:E)","v":1},95]
[{"$f":"表格2[[#This Row],[貨源]]","v":"LATIV"},{"$f":"表格2[[#This Row],[編號]]","v":"T006"},{"$f":"表格2[[#This Row],[產品]]","v":"台怪獸大學綠色包PAT-90-"},{"$f":"表格2[[#This Row],[單價]]","v":79},{"$f":"表格2[[#This Row],[入貨價]]","v":0},{"$f":"E443/4","v":0},{"$f":"SUMIF(資料庫!D:D,庫存計算!C443,資料庫!E:E)","v":1},79]
[{"$f":"表格2[[#This Row],[貨源]]","v":"LATIV"},{"$f":"表格2[[#This Row],[編號]]","v":"T007"},{"$f":"表格2[[#This Row],[產品]]","v":"台LINE熊大啡色衛衣-80-"},{"$f":"表格2[[#This Row],[單價]]","v":109},{"$f":"表格2[[#This Row],[入貨價]]","v":0},0,{"$f":"SUMIF(資料庫!D:D,庫存計算!C444,資料庫!E:E)","v":1},109]
[{"$f":"表格2[[#This Row],[貨源]]","v":"TBRAND"},{"$f":"表格2[[#This Row],[編號]]","v":"TESTING"},{"$f":"表格2[[#This Row],[產品]]","v":"TES-90-Y"},{"$f":"表格2[[#This Row],[單價]]","v":10},{"$f":"表格2[[#This Row],[入貨價]]","v":50},12.5,{"$f":"SUMIF(資料庫!D:D,庫存計算!C445,資料庫!E:E)","v":0},0]
[{"$f":"表格2[[#This Row],[貨源]]","v":1688},{"$f":"表格2[[#This Row],[編號]]","v":"A0094"},{"$f":"表格2[[#This Row],[產品]]","v":"CUTEMILY秋冬波波冷衫-100-白"},{"$f":"表格2[[#This Row],[單價]]","v":89},{"$f":"表格2[[#This Row],[入貨價]]","v":45},11.25,{"$f":"SUMIF(資料庫!D:D,庫存計算!C446,資料庫!E:E)","v":1},77.75]
[{"$f":"表格2[[#This Row],[貨源]]","v":1688},{"$f":"表格2[[#This Row],[編號]]","v":"A0095"},{"$f":"表格2[[#This Row],[產品]]","v":"CAREBEAR白色滿印衛衣-100-"},{"$f":"表格2[[#This Row],[單價]]","v":89},{"$f":"表格2[[#This Row],[入貨價]]","v":52},13,{"$f":"SUMIF(資料庫!D:D,庫存計算!C447,資料庫!E:E)","v":1},76]
[{"$f":"表格2[[#This Row],[貨源]]","v":1688},{"$f":"表格2[[#This Row],[編號]]","v":"A0096"},{"$f":"表格2[[#This Row],[產品]]","v":"LABUBU衛衣-90-淺灰"},{"$f":"表格2[[#This Row],[單價]]","v":69},{"$f":"表格2[[#This Row],[入貨價]]","v":32},8,{"$f":"SUMIF(資料庫!D:D,庫存計算!C448,資料庫!E:E)","v":1},61]
[{"$f":"表格2[[#This Row],[貨源]]","v":0},{"$f":"表格2[[#This Row],[編號]]","v":"A0093"},{"$f":"表格2[[#This Row],[產品]]","v":"UBMOM矽膠零食杯-米-"},{"$f":"表格2[[#This Row],[單價]]","v":108},{"$f":"表格2[[#This Row],[入貨價]]","v":0},0,{"$f":"SUMIF(資料庫!D:D,庫存計算!C449,資料庫!E:E)","v":1},108]
[{"$f":"表格2[[#This Row],[貨源]]","v":1688},{"$f":"表格2[[#This Row],[編號]]","v":"A0097"},{"$f":"表格2[[#This Row],[產品]]","v":"TOMANDJERRY手袖公仔衛衣-90-黃"},{"$f":"表格2[[#This Row],[單價]]","v":69},{"$f":"表格2[[#This Row],[入貨價]]","v":32},8,{"$f":"SUMIF(資料庫!D:D,庫存計算!C450,資料庫!E:E)","v":1},61]
[{"$f":"表格2[[#This Row],[貨源]]","v":1688},{"$f":"表格2[[#This Row],[編號]]","v":"A0097"},{"$f":"表格2[[#This Row],[產品]]","v":"TOMANDJERRY手袖公仔衛衣-100-白"},{"$f":"表格2[[#This Row],[單價]]","v":69},{"$f":"表格2[[#This Row],[入貨價]]","v":32},8,{"$f":"SUMIF(資料庫!D:D,庫存計算!C451,資料庫!E:E)","v":1},61]
[{"$f":"表格2[[#This Row],[貨源]]","v":0},{"$f":"表格2[[#This Row],[編號]]","v":"A0095"},{"$f":"表格2[[#This Row],[產品]]","v":"CAREBEAR白色滿印衛衣-80-"},{"$f":"表格2[[#This Row],[單價]]","v":89},{"$f":"表格2[[#This Row],[入貨價]]","v":52},13,{"$f":"SUMIF(資料庫!D:D,庫存計算!C452,資料庫!E:E)","v":1},{"$f":"(D452-F452)*G452","v":76}]
[{"$f":"表格2[[#This Row],[貨源]]","v":0},{"$f":"表格2[[#This Row],[編號]]","v":"A0095"},{"$f":"表格2[[#This Row],[產品]]","v":"CAREBEAR白色滿印衛衣-110-"},{"$f":"表格2[[#This Row],[單價]]","v":89},{"$f":"表格2[[#This Row],[入貨價]]","v":52},13,{"$f":"SUMIF(資料庫!D:D,庫存計算!C453,資料庫!E:E)","v":1},76]
[{"$f":"表格2[[#This Row],[貨源]]","v":0},{"$f":"表格2[[#This Row],[編號]]","v":"A0098"},{"$f":"表格2[[#This Row],[產品]]","v":"TOMANDJERRY帶帽睡覺款衛衣-130-黑"},{"$f":"表格2[[#This Row],[單價]]","v":69},{"$f":"表格2[[#This Row],[入貨價]]","v":32},8,{"$f":"SUMIF(資料庫!D:D,庫存計算!C454,資料庫!E:E)","v":1},61]
[{"$f":"表格2[[#This Row],[貨源]]","v":0},{"$f":"表格2[[#This Row],[編號]]","v":"A0098"},{"$f":"表格2[[#This Row],[產品]]","v":"TOMANDJERRY帶帽睡覺款衛衣-110-白"},{"$f":"表格2[[#This Row],[單價]]","v":69},{"$f":"表格2[[#This Row],[入貨價]]","v":32},8,{"$f":"SUMIF(資料庫!D:D,庫存計算!C455,資料庫!E:E)","v":1},61]
[{"$f":"表格2[[#This Row],[貨源]]","v":0},{"$f":"表格2[[#This Row],[編號]]","v":"A0096"},{"$f":"表格2[[#This Row],[產品]]","v":"LABUBU衛衣-100-米白"},{"$f":"表格2[[#This Row],[單價]]","v":69},{"$f":"表格2[[#This Row],[入貨價]]","v":32},8,{"$f":"SUMIF(資料庫!D:D,庫存計算!C456,資料庫!E:E)","v":1},61]
[{"$f":"表格2[[#This Row],[貨源]]","v":0},{"$f":"表格2[[#This Row],[編號]]","v":"A0099"},{"$f":"表格2[[#This Row],[產品]]","v":"CUTEMILY秋冬短褲-90-黑"},{"$f":"表格2[[#This Row],[單價]]","v":75},{"$f":"表格2[[#This Row],[入貨價]]","v":32},8,{"$f":"SUMIF(資料庫!D:D,庫存計算!C457,資料庫!E:E)","v":1},67]
[{"$f":"表格2[[#This Row],[貨源]]","v":{"$error":"#VALUE!"}},{"$f":"表格2[[#This Row],[編號]]","v":{"$error":"#VALUE!"}},{"$f":"表格2[[#This Row],[產品]]","v":{"$error":"#VALUE!"}},{"$f":"表格2[[#This Row],[單價]]","v":{"$error":"#VALUE!"}},{"$f":"表格2[[#This Row],[入貨價]]","v":{"$error":"#VALUE!"}},{"$error":"#VALUE!"},{"$f":"SUMIF(資料庫!D:D,庫存計算!C458,資料庫!E:E)","v":0},{"$error":"#VALUE!"}]
[{"$f":"表格2[[#This Row],[貨源]]","v":{"$error":"#VALUE!"}},{"$f":"表格2[[#This Row],[編號]]","v":{"$error":"#VALUE!"}},{"$f":"表格2[[#This Row],[產品]]","v":{"$error":"#VALUE!"}},{"$f":"表格2[[#This Row],[單價]]","v":{"$error":"#VALUE!"}},{"$f":"表格2[[#This Row],[入貨價]]","v":{"$error":"#VALUE!"}},{"$error":"#VALUE!"},{"$f":"SUMIF(資料庫!D:D,庫存計算!C459,資料庫!E:E)","v":0},{"$error":"#VALUE!"}]
[{"$f":"表格2[[#This Row],[貨源]]","v":{"$error":"#VALUE!"}},{"$f":"表格2[[#This Row],[編號]]","v":{"$error":"#VALUE!"}},{"$f":"表格2[[#This Row],[產品]]","v":{"$error":"#VALUE!"}},{"$f":"表格2[[#This Row],[單價]]","v":{"$error":"#VALUE!"}},{"$f":"表格2[[#This Row],[入貨價]]","v":{"$error":"#VALUE!"}},{"$error":"#VALUE!"},{"$f":"SUMIF(資料庫!D:D,庫存計算!C460,資料庫!E:E)","v":0},{"$error":"#VALUE!"}]
[{"$f":"表格2[[#This Row],[貨源]]","v":{"$error":"#VALUE!"}},{"$f":"表格2[[#This Row],[編號]]","v":{"$error":"#VALUE!"}},{"$f":"表格2[[#This Row],[產品]]","v":{"$error":"#VALUE!"}},{"$f":"表格2[[#This Row],[單價]]","v":{"$error":"#VALUE!"}},{"$f":"表格2[[#This Row],[入貨價]]","v":{"$error":"#VALUE!"}},{"$error":"#VALUE!"},{"$f":"SUMIF(資料庫!D:D,庫存計算!C461,資料庫!E:E)","v":0},{"$error":"#VALUE!"}]
[{"$f":"表格2[[#This Row],[貨源]]","v":{"$error":"#VALUE!"}},{"$f":"表格2[[#This Row],[編號]]","v":{"$error":"#VALUE!"}},{"$f":"表格2[[#This Row],[產品]]","v":{"$error":"#VALUE!"}},{"$f":"表格2[[#This Row],[單價]]","v":{"$error":"#VALUE!"}},{"$f":"表格2[[#This Row],[入貨價]]","v":{"$error":"#VALUE!"}},{"$error":"#VALUE!"},{"$f":"SUMIF(資料庫!D:D,庫存計算!C462,資料庫!E:E)","v":0},{"$error":"#VALUE!"}]
[{"$f":"表格2[[#This Row],[貨源]]","v":{"$error":"#VALUE!"}},{"$f":"表格2[[#This Row],[編號]]","v":{"$error":"#VALUE!"}},{"$f":"表格2[[#This Row],[產品]]","v":{"$error":"#VALUE!"}},{"$f":"表格2[[#This Row],[單價]]","v":{"$error":"#VALUE!"}},{"$f":"表格2[[#This Row],[入貨價]]","v":{"$error":"#VALUE!"}},{"$error":"#VALUE!"},{"$f":"SUMIF(資料庫!D:D,庫存計算!C463,資料庫!E:E)","v":0},{"$error":"#VALUE!"}]
[{"$f":"表格2[[#This Row],[貨源]]","v":{"$error":"#VALUE!"}},{"$f":"表格2[[#This Row],[編號]]","v":{"$error":"#VALUE!"}},{"$f":"表格2[[#This Row],[產品]]","v":{"$error":"#VALUE!"}},{"$f":"表格2[[#This Row],[單價]]","v":{"$error":"#VALUE!"}},{"$f":"表格2[[#This Row],[入貨價]]","v":{"$error":"#VALUE!"}},{"$error":"#VALUE!"},{"$f":"SUMIF(資料庫!D:D,庫存計算!C464,資料庫!E:E)","v":0},{"$error":"#VALUE!"}]
[{"$f":"表格2[[#This Row],[貨源]]","v":{"$error":"#VALUE!"}},{"$f":"表格2[[#This Row],[編號]]","v":{"$error":"#VALUE!"}},{"$f":"表格2[[#This Row],[產品]]","v":{"$error":"#VALUE!"}},{"$f":"表格2[[#This Row],[單價]]","v":{"$error":"#VALUE!"}},{"$f":"表格2[[#This Row],[入貨價]]","v":{"$error":"#VALUE!"}},{"$error":"#VALUE!"},{"$f":"SUMIF(資料庫!D:D,庫存計算!C465,資料庫!E:E)","v":0},{"$error":"#VALUE!"}]
[{"$f":"表格2[[#This Row],[貨源]]","v":{"$error":"#VALUE!"}},{"$f":"表格2[[#This Row],[編號]]","v":{"$error":"#VALUE!"}},{"$f":"表格2[[#This Row],[產品]]","v":{"$error":"#VALUE!"}},{"$f":"表格2[[#This Row],[單價]]","v":{"$error":"#VALUE!"}},{"$f":"表格2[[#This Row],[入貨價]]","v":{"$error":"#VALUE!"}},{"$error":"#VALUE!"},{"$f":"SUMIF(資料庫!D:D,庫存計算!C466,資料庫!E:E)","v":0},{"$error":"#VALUE!"}]
[{"$f":"表格2[[#This Row],[貨源]]","v":{"$error":"#VALUE!"}},{"$f":"表格2[[#This Row],[編號]]","v":{"$error":"#VALUE!"}},{"$f":"表格2[[#This Row],[產品]]","v":{"$error":"#VALUE!"}},{"$f":"表格2[[#This Row],[單價]]","v":{"$error":"#VALUE!"}},{"$f":"表格2[[#This Row],[入貨價]]","v":{"$error":"#VALUE!"}},{"$error":"#VALUE!"},{"$f":"SUMIF(資料庫!D:D,庫存計算!C467,資料庫!E:E)","v":0},{"$error":"#VALUE!"}]
[{"$f":"表格2[[#This Row],[貨源]]","v":{"$error":"#VALUE!"}},{"$f":"表格2[[#This Row],[編號]]","v":{"$error":"#VALUE!"}},{"$f":"表格2[[#This Row],[產品]]","v":{"$error":"#VALUE!"}},{"$f":"表格2[[#This Row],[單價]]","v":{"$error":"#VALUE!"}},{"$f":"表格2[[#This Row],[入貨價]]","v":{"$error":"#VALUE!"}},{"$error":"#VALUE!"},{"$f":"SUMIF(資料庫!D:D,庫存計算!C468,資料庫!E:E)","v":0},{"$error":"#VALUE!"}]
[{"$f":"表格2[[#This Row],[貨源]]","v":{"$error":"#VALUE!"}},{"$f":"表格2[[#This Row],[編號]]","v":{"$error":"#VALUE!"}},{"$f":"表格2[[#This Row],[產品]]","v":{"$error":"#VALUE!"}},{"$f":"表格2[[#This Row],[單價]]","v":{"$error":"#VALUE!"}},{"$f":"表格2[[#This Row],[入貨價]]","v":{"$error":"#VALUE!"}},{"$error":"#VALUE!"},{"$f":"SUMIF(資料庫!D:D,庫存計算!C469,資料庫!E:E)","v":0},{"$error":"#VALUE!"}]
[{"$f":"表格2[[#This Row],[貨源]]","v":{"$error":"#VALUE!"}},{"$f":"表格2[[#This Row],[編號]]","v":{"$error":"#VALUE!"}},{"$f":"表格2[[#This Row],[產品]]","v":{"$error":"#VALUE!"}},{"$f":"表格2[[#This Row],[單價]]","v":{"$error":"#VALUE!"}},{"$f":"表格2[[#This Row],[入貨價]]","v":{"$error":"#VALUE!"}},{"$error":"#VALUE!"},{"$f":"SUMIF(資料庫!D:D,庫存計算!C470,資料庫!E:E)","v":0},{"$error":"#VALUE!"}]
[{"$f":"表格2[[#This Row],[貨源]]","v":{"$error":"#VALUE!"}},{"$f":"表格2[[#This Row],[編號]]","v":{"$error":"#VALUE!"}},{"$f":"表格2[[#This Row],[產品]]","v":{"$error":"#VALUE!"}},{"$f":"表格2[[#This Row],[單價]]","v":{"$error":"#VALUE!"}},{"$f":"表格2[[#This Row],[入貨價]]","v":{"$error":"#VALUE!"}},{"$error":"#VALUE!"},{"$f":"SUMIF(資料庫!D:D,庫存計算!C471,資料庫!E:E)","v":0},{"$error":"#VALUE!"}]
[{"$f":"表格2[[#This Row],[貨源]]","v":{"$error":"#VALUE!"}},{"$f":"表格2[[#This Row],[編號]]","v":{"$error":"#VALUE!"}},{"$f":"表格2[[#This Row],[產品]]","v":{"$error":"#VALUE!"}},{"$f":"表格2[[#This Row],[單價]]","v":{"$error":"#VALUE!"}},{"$f":"表格2[[#This Row],[入貨價]]","v":{"$error":"#VALUE!"}},{"$error":"#VALUE!"},{"$f":"SUMIF(資料庫!D:D,庫存計算!C472,資料庫!E:E)","v":0},{"$error":"#VALUE!"}]
[{"$f":"表格2[[#This Row],[貨源]]","v":{"$error":"#VALUE!"}},{"$f":"表格2[[#This Row],[編號]]","v":{"$error":"#VALUE!"}},{"$f":"表格2[[#This Row],[產品]]","v":{"$error":"#VALUE!"}},{"$f":"表格2[[#This Row],[單價]]","v":{"$error":"#VALUE!"}},{"$f":"表格2[[#This Row],[入貨價]]","v":{"$error":"#VALUE!"}},{"$error":"#VALUE!"},{"$f":"SUMIF(資料庫!D:D,庫存計算!C473,資料庫!E:E)","v":0},{"$error":"#VALUE!"}]
[{"$f":"表格2[[#This Row],[貨源]]","v":{"$error":"#VALUE!"}},{"$f":"表格2[[#This Row],[編號]]","v":{"$error":"#VALUE!"}},{"$f":"表格2[[#This Row],[產品]]","v":{"$error":"#VALUE!"}},{"$f":"表格2[[#This Row],[單價]]","v":{"$error":"#VALUE!"}},{"$f":"表格2[[#This Row],[入貨價]]","v":{"$error":"#VALUE!"}},{"$error":"#VALUE!"},{"$f":"SUMIF(資料庫!D:D,庫存計算!C474,資料庫!E:E)","v":0},{"$error":"#VALUE!"}]
[{"$f":"表格2[[#This Row],[貨源]]","v":{"$error":"#VALUE!"}},{"$f":"表格2[[#This Row],[編號]]","v":{"$error":"#VALUE!"}},{"$f":"表格2[[#This Row],[產品]]","v":{"$error":"#VALUE!"}},{"$f":"表格2[[#This Row],[單價]]","v":{"$error":"#VALUE!"}},{"$f":"表格2[[#This Row],[入貨價]]","v":{"$error":"#VALUE!"}},{"$error":"#VALUE!"},{"$f":"SUMIF(資料庫!D:D,庫存計算!C475,資料庫!E:E)","v":0},{"$error":"#VALUE!"}]
[{"$f":"表格2[[#This Row],[貨源]]","v":{"$error":"#VALUE!"}},{"$f":"表格2[[#This Row],[編號]]","v":{"$error":"#VALUE!"}},{"$f":"表格2[[#This Row],[產品]]","v":{"$error":"#VALUE!"}},{"$f":"表格2[[#This Row],[單價]]","v":{"$error":"#VALUE!"}},{"$f":"表格2[[#This Row],[入貨價]]","v":{"$error":"#VALUE!"}},{"$error":"#VALUE!"},{"$f":"SUMIF(資料庫!D:D,庫存計算!C476,資料庫!E:E)","v":0},{"$error":"#VALUE!"}]
[{"$f":"表格2[[#This Row],[貨源]]","v":{"$error":"#VALUE!"}},{"$f":"表格2[[#This Row],[編號]]","v":{"$error":"#VALUE!"}},{"$f":"表格2[[#This Row],[產品]]","v":{"$error":"#VALUE!"}},{"$f":"表格2[[#This Row],[單價]]","v":{"$error":"#VALUE!"}},{"$f":"表格2[[#This Row],[入貨價]]","v":{"$error":"#VALUE!"}},{"$error":"#VALUE!"},{"$f":"SUMIF(資料庫!D:D,庫存計算!C477,資料庫!E:E)","v":0},{"$error":"#VALUE!"}]
[{"$f":"表格2[[#This Row],[貨源]]","v":{"$error":"#VALUE!"}},{"$f":"表格2[[#This Row],[編號]]","v":{"$error":"#VALUE!"}},{"$f":"表格2[[#This Row],[產品]]","v":{"$error":"#VALUE!"}},{"$f":"表格2[[#This Row],[單價]]","v":{"$error":"#VALUE!"}},{"$f":"表格2[[#This Row],[入貨價]]","v":{"$error":"#VALUE!"}},{"$error":"#VALUE!"},{"$f":"SUMIF(資料庫!D:D,庫存計算!C478,資料庫!E:E)","v":0},{"$error":"#VALUE!"}]
[{"$f":"表格2[[#This Row],[貨源]]","v":{"$error":"#VALUE!"}},{"$f":"表格2[[#This Row],[編號]]","v":{"$error":"#VALUE!"}},{"$f":"表格2[[#This Row],[產品]]","v":{"$error":"#VALUE!"}},{"$f":"表格2[[#This Row],[單價]]","v":{"$error":"#VALUE!"}},{"$f":"表格2[[#This Row],[入貨價]]","v":{"$error":"#VALUE!"}},{"$error":"#VALUE!"},{"$f":"SUMIF(資料庫!D:D,庫存計算!C479,資料庫!E:E)","v":0},{"$error":"#VALUE!"}]
[{"$f":"表格2[[#This Row],[貨源]]","v":{"$error":"#VALUE!"}},{"$f":"表格2[[#This Row],[編號]]","v":{"$error":"#VALUE!"}},{"$f":"表格2[[#This Row],[產品]]","v":{"$error":"#VALUE!"}},{"$f":"表格2[[#This Row],[單價]]","v":{"$error":"#VALUE!"}},{"$f":"表格2[[#This Row],[入貨價]]","v":{"$error":"#VALUE!"}},{"$error":"#VALUE!"},{"$f":"SUMIF(資料庫!D:D,庫存計算!C480,資料庫!E:E)","v":0},{"$error":"#VALUE!"}]
[{"$f":"表格2[[#This Row],[貨源]]","v":{"$error":"#VALUE!"}},{"$f":"表格2[[#This Row],[編號]]","v":{"$error":"#VALUE!"}},{"$f":"表格2[[#This Row],[產品]]","v":{"$error":"#VALUE!"}},{"$f":"表格2[[#This Row],[單價]]","v":{"$error":"#VALUE!"}},{"$f":"表格2[[#This Row],[入貨價]]","v":{"$error":"#VALUE!"}},{"$error":"#VALUE!"},{"$f":"SUMIF(資料庫!D:D,庫存計算!C481,資料庫!E:E)","v":0},{"$error":"#VALUE!"}]
[{"$f":"表格2[[#This Row],[貨源]]","v":{"$error":"#VALUE!"}},{"$f":"表格2[[#This Row],[編號]]","v":{"$error":"#VALUE!"}},{"$f":"表格2[[#This Row],[產品]]","v":{"$error":"#VALUE!"}},{"$f":"表格2[[#This Row],[單價]]","v":{"$error":"#VALUE!"}},{"$f":"表格2[[#This Row],[入貨價]]","v":{"$error":"#VALUE!"}},{"$error":"#VALUE!"},{"$f":"SUMIF(資料庫!D:D,庫存計算!C482,資料庫!E:E)","v":0},{"$error":"#VALUE!"}]
[{"$f":"表格2[[#This Row],[貨源]]","v":{"$error":"#VALUE!"}},{"$f":"表格2[[#This Row],[編號]]","v":{"$error":"#VALUE!"}},{"$f":"表格2[[#This Row],[產品]]","v":{"$error":"#VALUE!"}},{"$f":"表格2[[#This Row],[單價]]","v":{"$error":"#VALUE!"}},{"$f":"表格2[[#This Row],[入貨價]]","v":{"$error":"#VALUE!"}},{"$error":"#VALUE!"},{"$f":"SUMIF(資料庫!D:D,庫存計算!C483,資料庫!E:E)","v":0},{"$error":"#VALUE!"}]
[{"$f":"表格2[[#This Row],[貨源]]","v":{"$error":"#VALUE!"}},{"$f":"表格2[[#This Row],[編號]]","v":{"$error":"#VALUE!"}},{"$f":"表格2[[#This Row],[產品]]","v":{"$error":"#VALUE!"}},{"$f":"表格2[[#This Row],[單價]]","v":{"$error":"#VALUE!"}},{"$f":"表格2[[#This Row],[入貨價]]","v":{"$error":"#VALUE!"}},{"$error":"#VALUE!"},{"$f":"SUMIF(資料庫!D:D,庫存計算!C484,資料庫!E:E)","v":0},{"$error":"#VALUE!"}]
[{"$f":"表格2[[#This Row],[貨源]]","v":{"$error":"#VALUE!"}},{"$f":"表格2[[#This Row],[編號]]","v":{"$error":"#VALUE!"}},{"$f":"表格2[[#This Row],[產品]]","v":{"$error":"#VALUE!"}},{"$f":"表格2[[#This Row],[單價]]","v":{"$error":"#VALUE!"}},{"$f":"表格2[[#This Row],[入貨價]]","v":{"$error":"#VALUE!"}},{"$error":"#VALUE!"},{"$f":"SUMIF(資料庫!D:D,庫存計算!C485,資料庫!E:E)","v":0},{"$error":"#VALUE!"}]
[{"$f":"表格2[[#This Row],[貨源]]","v":{"$error":"#VALUE!"}},{"$f":"表格2[[#This Row],[編號]]","v":{"$error":"#VALUE!"}},{"$f":"表格2[[#This Row],[產品]]","v":{"$error":"#VALUE!"}},{"$f":"表格2[[#This Row],[單價]]","v":{"$error":"#VALUE!"}},{"$f":"表格2[[#This Row],[入貨價]]","v":{"$error":"#VALUE!"}},{"$error":"#VALUE!"},{"$f":"SUMIF(資料庫!D:D,庫存計算!C486,資料庫!E:E)","v":0},{"$error":"#VALUE!"}]
[{"$f":"表格2[[#This Row],[貨源]]","v":{"$error":"#VALUE!"}},{"$f":"表格2[[#This Row],[編號]]","v":{"$error":"#VALUE!"}},{"$f":"表格2[[#This Row],[產品]]","v":{"$error":"#VALUE!"}},{"$f":"表格2[[#This Row],[單價]]","v":{"$error":"#VALUE!"}},{"$f":"表格2[[#This Row],[入貨價]]","v":{"$error":"#VALUE!"}},{"$error":"#VALUE!"},{"$f":"SUMIF(資料庫!D:D,庫存計算!C487,資料庫!E:E)","v":0},{"$error":"#VALUE!"}]
[{"$f":"表格2[[#This Row],[貨源]]","v":{"$error":"#VALUE!"}},{"$f":"表格2[[#This Row],[編號]]","v":{"$error":"#VALUE!"}},{"$f":"表格2[[#This Row],[產品]]","v":{"$error":"#VALUE!"}},{"$f":"表格2[[#This Row],[單價]]","v":{"$error":"#VALUE!"}},{"$f":"表格2[[#This Row],[入貨價]]","v":{"$error":"#VALUE!"}},{"$error":"#VALUE!"},{"$f":"SUMIF(資料庫!D:D,庫存計算!C488,資料庫!E:E)","v":0},{"$error":"#VALUE!"}]
[{"$f":"表格2[[#This Row],[貨源]]","v":{"$error":"#VALUE!"}},{"$f":"表格2[[#This Row],[編號]]","v":{"$error":"#VALUE!"}},{"$f":"表格2[[#This Row],[產品]]","v":{"$error":"#VALUE!"}},{"$f":"表格2[[#This Row],[單價]]","v":{"$error":"#VALUE!"}},{"$f":"表格2[[#This Row],[入貨價]]","v":{"$error":"#VALUE!"}},{"$error":"#VALUE!"},{"$f":"SUMIF(資料庫!D:D,庫存計算!C489,資料庫!E:E)","v":0},{"$error":"#VALUE!"}]
[{"$f":"表格2[[#This Row],[貨源]]","v":{"$error":"#VALUE!"}},{"$f":"表格2[[#This Row],[編號]]","v":{"$error":"#VALUE!"}},{"$f":"表格2[[#This Row],[產品]]","v":{"$error":"#VALUE!"}},{"$f":"表格2[[#This Row],[單價]]","v":{"$error":"#VALUE!"}},{"$f":"表格2[[#This Row],[入貨價]]","v":{"$error":"#VALUE!"}},{"$error":"#VALUE!"},{"$f":"SUMIF(資料庫!D:D,庫存計算!C490,資料庫!E:E)","v":0},{"$error":"#VALUE!"}]
[{"$f":"表格2[[#This Row],[貨源]]","v":{"$error":"#VALUE!"}},{"$f":"表格2[[#This Row],[編號]]","v":{"$error":"#VALUE!"}},{"$f":"表格2[[#This Row],[產品]]","v":{"$error":"#VALUE!"}},{"$f":"表格2[[#This Row],[單價]]","v":{"$error":"#VALUE!"}},{"$f":"表格2[[#This Row],[入貨價]]","v":{"$error":"#VALUE!"}},{"$error":"#VALUE!"},{"$f":"SUMIF(資料庫!D:D,庫存計算!C491,資料庫!E:E)","v":0},{"$error":"#VALUE!"}]
[{"$f":"表格2[[#This Row],[貨源]]","v":{"$error":"#VALUE!"}},{"$f":"表格2[[#This Row],[編號]]","v":{"$error":"#VALUE!"}},{"$f":"表格2[[#This Row],[產品]]","v":{"$error":"#VALUE!"}},{"$f":"表格2[[#This Row],[單價]]","v":{"$error":"#VALUE!"}},{"$f":"表格2[[#This Row],[入貨價]]","v":{"$error":"#VALUE!"}},{"$error":"#VALUE!"},{"$f":"SUMIF(資料庫!D:D,庫存計算!C492,資料庫!E:E)","v":0},{"$error":"#VALUE!"}]
[{"$f":"表格2[[#This Row],[貨源]]","v":{"$error":"#VALUE!"}},{"$f":"表格2[[#This Row],[編號]]","v":{"$error":"#VALUE!"}},{"$f":"表格2[[#This Row],[產品]]","v":{"$error":"#VALUE!"}},{"$f":"表格2[[#This Row],[單價]]","v":{"$error":"#VALUE!"}},{"$f":"表格2[[#This Row],[入貨價]]","v":{"$error":"#VALUE!"}},{"$error":"#VALUE!"},{"$f":"SUMIF(資料庫!D:D,庫存計算!C493,資料庫!E:E)","v":0},{"$error":"#VALUE!"}]
[{"$f":"表格2[[#This Row],[貨源]]","v":{"$error":"#VALUE!"}},{"$f":"表格2[[#This Row],[編號]]","v":{"$error":"#VALUE!"}},{"$f":"表格2[[#This Row],[產品]]","v":{"$error":"#VALUE!"}},{"$f":"表格2[[#This Row],[單價]]","v":{"$error":"#VALUE!"}},{"$f":"表格2[[#This Row],[入貨價]]","v":{"$error":"#VALUE!"}},{"$error":"#VALUE!"},{"$f":"SUMIF(資料庫!D:D,庫存計算!C494,資料庫!E:E)","v":0},{"$error":"#VALUE!"}]
[{"$f":"表格2[[#This Row],[貨源]]","v":{"$error":"#VALUE!"}},{"$f":"表格2[[#This Row],[編號]]","v":{"$error":"#VALUE!"}},{"$f":"表格2[[#This Row],[產品]]","v":{"$error":"#VALUE!"}},{"$f":"表格2[[#This Row],[單價]]","v":{"$error":"#VALUE!"}},{"$f":"表格2[[#This Row],[入貨價]]","v":{"$error":"#VALUE!"}},{"$error":"#VALUE!"},{"$f":"SUMIF(資料庫!D:D,庫存計算!C495,資料庫!E:E)","v":0},{"$error":"#VALUE!"}]
[{"$f":"表格2[[#This Row],[貨源]]","v":{"$error":"#VALUE!"}},{"$f":"表格2[[#This Row],[編號]]","v":{"$error":"#VALUE!"}},{"$f":"表格2[[#This Row],[產品]]","v":{"$error":"#VALUE!"}},{"$f":"表格2[[#This Row],[單價]]","v":{"$error":"#VALUE!"}},{"$f":"表格2[[#This Row],[入貨價]]","v":{"$error":"#VALUE!"}},{"$error":"#VALUE!"},{"$f":"SUMIF(資料庫!D:D,庫存計算!C496,資料庫!E:E)","v":0},{"$error":"#VALUE!"}]
[{"$f":"表格2[[#This Row],[貨源]]","v":{"$error":"#VALUE!"}},{"$f":"表格2[[#This Row],[編號]]","v":{"$error":"#VALUE!"}},{"$f":"表格2[[#This Row],[產品]]","v":{"$error":"#VALUE!"}},{"$f":"表格2[[#This Row],[單價]]","v":{"$error":"#VALUE!"}},{"$f":"表格2[[#This Row],[入貨價]]","v":{"$error":"#VALUE!"}},{"$error":"#VALUE!"},{"$f":"SUMIF(資料庫!D:D,庫存計算!C497,資料庫!E:E)","v":0},{"$error":"#VALUE!"}]
[{"$f":"表格2[[#This Row],[貨源]]","v":{"$error":"#VALUE!"}},{"$f":"表格2[[#This Row],[編號]]","v":{"$error":"#VALUE!"}},{"$f":"表格2[[#This Row],[產品]]","v":{"$error":"#VALUE!"}},{"$f":"表格2[[#This Row],[單價]]","v":{"$error":"#VALUE!"}},{"$f":"表格2[[#This Row],[入貨價]]","v":{"$error":"#VALUE!"}},{"$error":"#VALUE!"},{"$f":"SUMIF(資料庫!D:D,庫存計算!C498,資料庫!E:E)","v":0},{"$error":"#VALUE!"}]
[{"$f":"表格2[[#This Row],[貨源]]","v":{"$error":"#VALUE!"}},{"$f":"表格2[[#This Row],[編號]]","v":{"$error":"#VALUE!"}},{"$f":"表格2[[#This Row],[產品]]","v":{"$error":"#VALUE!"}},{"$f":"表格2[[#This Row],[單價]]","v":{"$error":"#VALUE!"}},{"$f":"表格2[[#This Row],[入貨價]]","v":{"$error":"#VALUE!"}},{"$error":"#VALUE!"},{"$f":"SUMIF(資料庫!D:D,庫存計算!C499,資料庫!E:E)","v":0},{"$error":"#VALUE!"}]
[{"$f":"表格2[[#This Row],[貨源]]","v":{"$error":"#VALUE!"}},{"$f":"表格2[[#This Row],[編號]]","v":{"$error":"#VALUE!"}},{"$f":"表格2[[#This Row],[產品]]","v":{"$error":"#VALUE!"}},{"$f":"表格2[[#This Row],[單價]]","v":{"$error":"#VALUE!"}},{"$f":"表格2[[#This Row],[入貨價]]","v":{"$error":"#VALUE!"}},{"$error":"#VALUE!"},{"$f":"SUMIF(資料庫!D:D,庫存計算!C500,資料庫!E:E)","v":0},{"$error":"#VALUE!"}]
[{"$f":"表格2[[#This Row],[貨源]]","v":{"$error":"#VALUE!"}},{"$f":"表格2[[#This Row],[編號]]","v":{"$error":"#VALUE!"}},{"$f":"表格2[[#This Row],[產品]]","v":{"$error":"#VALUE!"}},{"$f":"表格2[[#This Row],[單價]]","v":{"$error":"#VALUE!"}},{"$f":"表格2[[#This Row],[入貨價]]","v":{"$error":"#VALUE!"}},{"$error":"#VALUE!"},{"$f":"SUMIF(資料庫!D:D,庫存計算!C501,資料庫!E:E)","v":0},{"$error":"#VALUE!"}]
[{"$f":"表格2[[#This Row],[貨源]]","v":{"$error":"#VALUE!"}},{"$f":"表格2[[#This Row],[編號]]","v":{"$error":"#VALUE!"}},{"$f":"表格2[[#This Row],[產品]]","v":{"$error":"#VALUE!"}},{"$f":"表格2[[#This Row],[單價]]","v":{"$error":"#VALUE!"}},{"$f":"表格2[[#This Row],[入貨價]]","v":{"$error":"#VALUE!"}},{"$error":"#VALUE!"},{"$f":"SUMIF(資料庫!D:D,庫存計算!C502,資料庫!E:E)","v":0},{"$error":"#VALUE!"}]
[{"$f":"表格2[[#This Row],[貨源]]","v":{"$error":"#VALUE!"}},{"$f":"表格2[[#This Row],[編號]]","v":{"$error":"#VALUE!"}},{"$f":"表格2[[#This Row],[產品]]","v":{"$error":"#VALUE!"}},{"$f":"表格2[[#This Row],[單價]]","v":{"$error":"#VALUE!"}},{"$f":"表格2[[#This Row],[入貨價]]","v":{"$error":"#VALUE!"}},{"$error":"#VALUE!"},{"$f":"SUMIF(資料庫!D:D,庫存計算!C503,資料庫!E:E)","v":0},{"$error":"#VALUE!"}]
[{"$f":"表格2[[#This Row],[貨源]]","v":{"$error":"#VALUE!"}},{"$f":"表格2[[#This Row],[編號]]","v":{"$error":"#VALUE!"}},{"$f":"表格2[[#This Row],[產品]]","v":{"$error":"#VALUE!"}},{"$f":"表格2[[#This Row],[單價]]","v":{"$error":"#VALUE!"}},{"$f":"表格2[[#This Row],[入貨價]]","v":{"$error":"#VALUE!"}},{"$error":"#VALUE!"},{"$f":"SUMIF(資料庫!D:D,庫存計算!C504,資料庫!E:E)","v":0},{"$error":"#VALUE!"}]
[{"$f":"表格2[[#This Row],[貨源]]","v":{"$error":"#VALUE!"}},null,{"$f":"表格2[[#This Row],[產品]]","v":{"$error":"#VALUE!"}},{"$f":"表格2[[#This Row],[單價]]","v":{"$error":"#VALUE!"}},{"$f":"表格2[[#This Row],[入貨價]]","v":{"$error":"#VALUE!"}},{"$error":"#VALUE!"},{"$f":"SUMIF(資料庫!D:D,庫存計算!C505,資料庫!E:E)","v":0},{"$error":"#VALUE!"}]
[{"$f":"表格2[[#This Row],[貨源]]","v":{"$error":"#VALUE!"}},null,{"$f":"表格2[[#This Row],[產品]]","v":{"$error":"#VALUE!"}},{"$f":"表格2[[#This Row],[單價]]","v":{"$error":"#VALUE!"}},{"$f":"表格2[[#This Row],[入貨價]]","v":{"$error":"#VALUE!"}},{"$error":"#VALUE!"},{"$f":"SUMIF(資料庫!D:D,庫存計算!C506,資料庫!E:E)","v":0},{"$error":"#VALUE!"}]
[{"$f":"表格2[[#This Row],[貨源]]","v":{"$error":"#VALUE!"}},null,{"$f":"表格2[[#This Row],[產品]]","v":{"$error":"#VALUE!"}},{"$f":"表格2[[#This Row],[單價]]","v":{"$error":"#VALUE!"}},{"$f":"表格2[[#This Row],[入貨價]]","v":{"$error":"#VALUE!"}},{"$f":"E507/4","v":{"$error":"#VALUE!"}},{"$f":"SUMIF(資料庫!D:D,庫存計算!C507,資料庫!E:E)","v":0},{"$error":"#VALUE!"}]
[{"$f":"表格2[[#This Row],[貨源]]","v":{"$error":"#VALUE!"}},null,{"$f":"表格2[[#This Row],[產品]]","v":{"$error":"#VALUE!"}},{"$f":"表格2[[#This Row],[單價]]","v":{"$error":"#VALUE!"}},{"$f":"表格2[[#This Row],[入貨價]]","v":{"$error":"#VALUE!"}},{"$error":"#VALUE!"},{"$f":"SUMIF(資料庫!D:D,庫存計算!C508,資料庫!E:E)","v":0},{"$error":"#VALUE!"}]
[{"$f":"表格2[[#This Row],[貨源]]","v":{"$error":"#VALUE!"}},null,{"$f":"表格2[[#This Row],[產品]]","v":{"$error":"#VALUE!"}},{"$f":"表格2[[#This Row],[單價]]","v":{"$error":"#VALUE!"}},{"$f":"表格2[[#This Row],[入貨價]]","v":{"$error":"#VALUE!"}},{"$error":"#VALUE!"},{"$f":"SUMIF(資料庫!D:D,庫存計算!C509,資料庫!E:E)","v":0},{"$error":"#VALUE!"}]
[{"$f":"表格2[[#This Row],[貨源]]","v":{"$error":"#VALUE!"}},null,{"$f":"表格2[[#This Row],[產品]]","v":{"$error":"#VALUE!"}},{"$f":"表格2[[#This Row],[單價]]","v":{"$error":"#VALUE!"}},{"$f":"表格2[[#This Row],[入貨價]]","v":{"$error":"#VALUE!"}},{"$error":"#VALUE!"},{"$f":"SUMIF(資料庫!D:D,庫存計算!C510,資料庫!E:E)","v":0},{"$error":"#VALUE!"}]
[{"$f":"表格2[[#This Row],[貨源]]","v":{"$error":"#VALUE!"}},null,{"$f":"表格2[[#This Row],[產品]]","v":{"$error":"#VALUE!"}},{"$f":"表格2[[#This Row],[單價]]","v":{"$error":"#VALUE!"}},{"$f":"表格2[[#This Row],[入貨價]]","v":{"$error":"#VALUE!"}},{"$error":"#VALUE!"},{"$f":"SUMIF(資料庫!D:D,庫存計算!C511,資料庫!E:E)","v":0},{"$error":"#VALUE!"}]
[{"$f":"表格2[[#This Row],[貨源]]","v":{"$error":"#VALUE!"}},null,{"$f":"表格2[[#This Row],[產品]]","v":{"$error":"#VALUE!"}},{"$f":"表格2[[#This Row],[單價]]","v":{"$error":"#VALUE!"}},{"$f":"表格2[[#This Row],[入貨價]]","v":{"$error":"#VALUE!"}},{"$error":"#VALUE!"},{"$f":"SUMIF(資料庫!D:D,庫存計算!C512,資料庫!E:E)","v":0},{"$error":"#VALUE!"}]
[{"$f":"表格2[[#This Row],[貨源]]","v":{"$error":"#VALUE!"}},null,{"$f":"表格2[[#This Row],[產品]]","v":{"$error":"#VALUE!"}},{"$f":"表格2[[#This Row],[單價]]","v":{"$error":"#VALUE!"}},{"$f":"表格2[[#This Row],[入貨價]]","v":{"$error":"#VALUE!"}},{"$error":"#VALUE!"},{"$f":"SUMIF(資料庫!D:D,庫存計算!C513,資料庫!E:E)","v":0},{"$error":"#VALUE!"}]
[{"$f":"表格2[[#This Row],[貨源]]","v":{"$error":"#VALUE!"}},null,{"$f":"表格2[[#This Row],[產品]]","v":{"$error":"#VALUE!"}},{"$f":"表格2[[#This Row],[單價]]","v":{"$error":"#VALUE!"}},{"$f":"表格2[[#This Row],[入貨價]]","v":{"$error":"#VALUE!"}},{"$error":"#VALUE!"},{"$f":"SUMIF(資料庫!D:D,庫存計算!C514,資料庫!E:E)","v":0},{"$error":"#VALUE!"}]
[{"$f":"表格2[[#This Row],[貨源]]","v":{"$error":"#VALUE!"}},null,{"$f":"表格2[[#This Row],[產品]]","v":{"$error":"#VALUE!"}},{"$f":"表格2[[#This Row],[單價]]","v":{"$error":"#VALUE!"}},{"$f":"表格2[[#This Row],[入貨價]]","v":{"$error":"#VALUE!"}},{"$error":"#VALUE!"},{"$f":"SUMIF(資料庫!D:D,庫存計算!C515,資料庫!E:E)","v":0},{"$error":"#VALUE!"}]
[{"$f":"表格2[[#This Row],[貨源]]","v":{"$error":"#VALUE!"}},null,{"$f":"表格2[[#This Row],[產品]]","v":{"$error":"#VALUE!"}},{"$f":"表格2[[#This Row],[單價]]","v":{"$error":"#VALUE!"}},{"$f":"表格2[[#This Row],[入貨價]]","v":{"$error":"#VALUE!"}},{"$error":"#VALUE!"},{"$f":"SUMIF(資料庫!D:D,庫存計算!C516,資料庫!E:E)","v":0},{"$f":"(D516-F516)*G516","v":{"$error":"#VALUE!"}}]
[{"$f":"表格2[[#This Row],[貨源]]","v":{"$error":"#VALUE!"}},null,{"$f":"表格2[[#This Row],[產品]]","v":{"$error":"#VALUE!"}},{"$f":"表格2[[#This Row],[單價]]","v":{"$error":"#VALUE!"}},{"$f":"表格2[[#This Row],[入貨價]]","v":{"$error":"#VALUE!"}},{"$error":"#VALUE!"},{"$f":"SUMIF(資料庫!D:D,庫存計算!C517,資料庫!E:E)","v":0},{"$error":"#VALUE!"}]
[{"$f":"表格2[[#This Row],[貨源]]","v":{"$error":"#VALUE!"}},null,{"$f":"表格2[[#This Row],[產品]]","v":{"$error":"#VALUE!"}},{"$f":"表格2[[#This Row],[單價]]","v":{"$error":"#VALUE!"}},{"$f":"表格2[[#This Row],[入貨價]]","v":{"$error":"#VALUE!"}},{"$error":"#VALUE!"},{"$f":"SUMIF(資料庫!D:D,庫存計算!C518,資料庫!E:E)","v":0},{"$error":"#VALUE!"}]
[{"$f":"表格2[[#This Row],[貨源]]","v":{"$error":"#VALUE!"}},null,{"$f":"表格2[[#This Row],[產品]]","v":{"$error":"#VALUE!"}},{"$f":"表格2[[#This Row],[單價]]","v":{"$error":"#VALUE!"}},{"$f":"表格2[[#This Row],[入貨價]]","v":{"$error":"#VALUE!"}},{"$error":"#VALUE!"},{"$f":"SUMIF(資料庫!D:D,庫存計算!C519,資料庫!E:E)","v":0},{"$error":"#VALUE!"}]
[{"$f":"表格2[[#This Row],[貨源]]","v":{"$error":"#VALUE!"}},null,{"$f":"表格2[[#This Row],[產品]]","v":{"$error":"#VALUE!"}},{"$f":"表格2[[#This Row],[單價]]","v":{"$error":"#VALUE!"}},{"$f":"表格2[[#This Row],[入貨價]]","v":{"$error":"#VALUE!"}},{"$error":"#VALUE!"},{"$f":"SUMIF(資料庫!D:D,庫存計算!C520,資料庫!E:E)","v":0},{"$error":"#VALUE!"}]
[{"$f":"表格2[[#This Row],[貨源]]","v":{"$error":"#VALUE!"}},null,{"$f":"表格2[[#This Row],[產品]]","v":{"$error":"#VALUE!"}},{"$f":"表格2[[#This Row],[單價]]","v":{"$error":"#VALUE!"}},{"$f":"表格2[[#This Row],[入貨價]]","v":{"$error":"#VALUE!"}},{"$error":"#VALUE!"},{"$f":"SUMIF(資料庫!D:D,庫存計算!C521,資料庫!E:E)","v":0},{"$error":"#VALUE!"}]
[{"$f":"表格2[[#This Row],[貨源]]","v":{"$error":"#VALUE!"}},null,{"$f":"表格2[[#This Row],[產品]]","v":{"$error":"#VALUE!"}},{"$f":"表格2[[#This Row],[單價]]","v":{"$error":"#VALUE!"}},{"$f":"表格2[[#This Row],[入貨價]]","v":{"$error":"#VALUE!"}},{"$error":"#VALUE!"},{"$f":"SUMIF(資料庫!D:D,庫存計算!C522,資料庫!E:E)","v":0},{"$error":"#VALUE!"}]
[{"$f":"表格2[[#This Row],[貨源]]","v":{"$error":"#VALUE!"}},null,{"$f":"表格2[[#This Row],[產品]]","v":{"$error":"#VALUE!"}},{"$f":"表格2[[#This Row],[單價]]","v":{"$error":"#VALUE!"}},{"$f":"表格2[[#This Row],[入貨價]]","v":{"$error":"#VALUE!"}},{"$error":"#VALUE!"},{"$f":"SUMIF(資料庫!D:D,庫存計算!C523,資料庫!E:E)","v":0},{"$error":"#VALUE!"}]
[{"$f":"表格2[[#This Row],[貨源]]","v":{"$error":"#VALUE!"}},null,{"$f":"表格2[[#This Row],[產品]]","v":{"$error":"#VALUE!"}},{"$f":"表格2[[#This Row],[單價]]","v":{"$error":"#VALUE!"}},{"$f":"表格2[[#This Row],[入貨價]]","v":{"$error":"#VALUE!"}},{"$error":"#VALUE!"},{"$f":"SUMIF(資料庫!D:D,庫存計算!C524,資料庫!E:E)","v":0},{"$error":"#VALUE!"}]
[{"$f":"表格2[[#This Row],[貨源]]","v":{"$error":"#VALUE!"}},null,{"$f":"表格2[[#This Row],[產品]]","v":{"$error":"#VALUE!"}},{"$f":"表格2[[#This Row],[單價]]","v":{"$error":"#VALUE!"}},{"$f":"表格2[[#This Row],[入貨價]]","v":{"$error":"#VALUE!"}},{"$error":"#VALUE!"},{"$f":"SUMIF(資料庫!D:D,庫存計算!C525,資料庫!E:E)","v":0},{"$error":"#VALUE!"}]
[{"$f":"表格2[[#This Row],[貨源]]","v":{"$error":"#VALUE!"}},null,{"$f":"表格2[[#This Row],[產品]]","v":{"$error":"#VALUE!"}},{"$f":"表格2[[#This Row],[單價]]","v":{"$error":"#VALUE!"}},{"$f":"表格2[[#This Row],[入貨價]]","v":{"$error":"#VALUE!"}},{"$f":"E526/4","v":{"$error":"#VALUE!"}},{"$f":"SUMIF(資料庫!D:D,庫存計算!C526,資料庫!E:E)","v":0},{"$error":"#VALUE!"}]

{"sheet":"SIMBA LIST","index":9,"n_rows":243,"n_cols":3,"rows_kept":243,"cut":false,"hidden":false,"merged":[]}
["編號","產品","入貨價"]
[null,"APPLE",999]
[null,"ORANGE",888]
[null,"BANANA",987]
["S1213","-小獅王-拋棄式雙層奶粉袋(12入)-",63]
["S9999","SIMBA LIST TEST",999]
["S1214","-小獅王-溜滑梯專利衛生奶粉盒(菈藍)-",138]
["S1215","-小獅王-溜滑梯專利衛生奶粉盒(貝粉)-",138]
["S1218G","-小獅王-母乳儲存袋150ml(60入)-粉色-",195]
["S1219G","-小獅王-母乳儲存袋200ml(60入)-藍色(綠色)-",195]
["S1220G","-小獅王-母乳儲存袋250ml(60入)-紫色-",195]
["S1221F","奶粉盒-小獅王-神奇定量奶粉罐-氣泡水(藍)-",177]
["S1221G","奶粉盒-小獅王-神奇定量奶粉罐-酪梨(綠)-",177]
["S1221H","奶粉盒-小獅王-神奇定量奶粉罐-無花果(粉)-",177]
["S1221K","奶粉盒-小獅王-神奇定量奶粉罐-肉桂捲(米)-",177]
["S1332","-小獅王-不倒翁牙刷(綠)-",49]
["S1332-1","-小獅王-不倒翁牙刷(橘)-",49]
["S1341-0","-小獅王-矽膠練習牙刷(天空藍)-",83]
["S1341-1","-小獅王-矽膠練習牙刷(淘氣綠)-",83]
["S1341-2","-小獅王-矽膠練習牙刷(溫暖橘)-",83]
["S1464F","奶樽刷-小獅王-超柔無垢白金矽膠旋轉奶瓶刷(小樹)-綠-",174]
["S1464G","奶樽刷-小獅王-超柔無垢白金矽膠旋轉奶瓶刷(小麥)-米-",174]
["S1464H","奶樽刷-小獅王-超柔無垢白金矽膠旋轉奶瓶刷(小櫻)-紅-",174]
["S1464K","奶樽刷-小獅王-超柔無垢白金矽膠旋轉奶瓶刷(小石)-灰-",174]
["S1465F","奶樽刷-小獅王-超柔無垢白金矽膠奶瓶刷(小樹)-綠-",170]
["S1465G","奶樽刷-小獅王-超柔無垢白金矽膠奶瓶刷(小麥)-米-",170]
["S1465H","奶樽刷-小獅王-超柔無垢白金矽膠奶瓶刷(小櫻)-紅-",170]
["S1465K","奶樽刷-小獅王-超柔無垢白金矽膠奶瓶刷(小石)-灰-",170]
["S1466F","奶嘴刷-小獅王-超柔無垢白金矽膠奶嘴刷(小樹)-綠-",107]
["S1466G","奶嘴刷-小獅王-超柔無垢白金矽膠奶嘴刷(小麥)-米-",107]
["S1466H","奶嘴刷-小獅王-超柔無垢白金矽膠奶嘴刷(小櫻)-紅-",107]
["S1466K","奶嘴刷-小獅王-超柔無垢白金矽膠奶嘴刷(小石)-灰-",107]
["S1737","-小獅王-嬰兒剪刀-",49]
["S1738","-小獅王-放大鏡嬰兒剪刀(曲面)-",63]
["S1745","-小獅王-辛巴指甲剪-",58]
["S1751","-小獅王-蘿蔓夜光奶嘴帶-天藍(香草)-",81]
["S1752","-小獅王-蘿蔓夜光奶嘴帶-粉紅(玫瑰)-",81]
["S1753","-小獅王-蘿蔓夜光奶嘴帶-咖啡(豔陽)-",81]
["S1754","-小獅王-桃樂絲夜光奶嘴帶-藍(許願精靈)-",81]
["S1755","-小獅王-桃樂絲夜光奶嘴帶-粉(美夢成真)-",81]
["S1760","奶嘴鍊-小獅王-辛巴防塵奶嘴鍊-經典(橘色)-",85]
["S1761","奶嘴鍊-小獅王-辛巴防塵奶嘴鍊-香草(藍色)-",85]
["S1762","奶嘴鍊-小獅王-辛巴防塵奶嘴鍊-莓果(粉紅)-",85]
["S1763","奶嘴鍊-小獅王-辛巴防塵奶嘴鍊-焦糖(咖啡)-",85]
["S18110","安撫奶嘴-小獅王-蘿蔓拇指安撫奶嘴-初生(天藍)(香草)-",70]
["S18111","安撫奶嘴-小獅王-蘿蔓拇指安撫奶嘴-較大(天藍)(香草)-",70]
["S18120","安撫奶嘴-小獅王-蘿蔓拇指安撫奶嘴-初生(粉紅)(玫瑰)-",70]
["S18121","安撫奶嘴-小獅王-蘿蔓拇指安撫奶嘴-較大(粉紅)(玫瑰)-",70]
["S18130","安撫奶嘴-小獅王-蘿蔓拇指安撫奶嘴-初生(咖啡)(豔陽)-",70]
["S18131","安撫奶嘴-小獅王-蘿蔓拇指安撫奶嘴-較大(咖啡)(豔陽)-",70]
["S19010","安撫奶嘴-小獅王-小辛巴拇指安撫奶嘴(初生)-",70]
["S19011","安撫奶嘴-小獅王-小辛巴拇指安撫奶嘴(較大)-",70]
["S2242","-小獅王-奶瓶蔬果洗潔液800ml組合包(一組2入)-",299]
["S2244","-小獅王-高分解酵素奶瓶清潔劑800ml-",220]
["S2245","-小獅王-高分解酵素奶瓶清潔劑800ml組合包(2入)-",410]
["S3334","-小獅王-啵啵軟質湯匙(藍洋洋)-2入-",54]
["S3335","-小獅王-啵啵軟質湯匙(啵啵粉)-2入-",54]
["S3351","-小獅王-美味漢堡碗-樂活海洋堡(藍色)-",134]
["S3352","-小獅王-美味漢堡碗-青檸桔事堡(綠色)-",134]
["S3354","-小獅王-美味漢堡碗-粉紅甜心堡(粉紅色)-",134]
["S3355","-小獅王-美味漢堡碗-花生好事堡(咖啡色)-",134]
["S3385","-小獅王-美味兒童叉匙組-焦糖(咖啡)-",58]
["S3391","-小獅王-美味軟糖湯匙組-香草(藍色)-",81]
["S3394","-小獅王-美味軟糖湯匙組-莓果(粉色)-",81]
["S3395","-小獅王-美味軟糖湯匙組-焦糖(咖啡)-",81]
["S5334","-小獅王-透氣棉開襟包屁衣70cm(短袖)-阜灰-",""]
["S606F","-UDI  H1智能高效蒸氣烘乾消毒鍋(苜白)-",3060]
["S606G","-UDI H1智能高效蒸氣烘乾消毒鍋(栗粉)-",3060]
["S606H","-UDI H1智能高效蒸氣烘乾消毒鍋(杏茶)-",3060]
["S8670","-小獅王-好樂飲防漏滑蓋替換吸管組(2入)-",107]
["S8671","好樂飲-小獅王-好樂飲PPSU防漏滑蓋學習水杯250ml(可可杏)-",441]
["S8672","好樂飲-小獅王-好樂飲PPSU防漏滑蓋學習水杯250ml(悠悠粉)-",441]
["S8673","好樂飲-小獅王-好樂飲PPSU防漏滑蓋學習水杯250ml(安安藍)-",441]
["S9535-5","-小獅王-吸乳器(矽膠軟墊)-",200]
["S9554","-小獅王-iFeed極美機超靜音電動吸乳器-",2950]
["S9554-1","-小獅王-iFeed極美機電動吸乳器(吸乳喇叭罩)-",200]
["S9733","-小獅王-長效薰衣草精油防蚊貼-恐龍圖鑑(16枚)-",72]
["S9734","-小獅王-長效薰衣草精油防蚊貼-恐龍圖鑑(32枚)-",125]
["S9817","-小獅王-嬰兒防滑浴盆(凱特藍)-",480]
["S9818","-小獅王-嬰兒防滑浴盆(麗芙粉)-",480]
["S9819","-小獅王-可調式沐浴網-",245]
["S9931-B","-小獅王-嬰兒乾溼兩用巾(80抽)藍色包裝-",63]
["S9931-P","-小獅王-嬰兒乾溼兩用巾(80抽)粉色包裝-",63]
["S9952","-小獅王-智能六段式定溫調乳器(S5 PRO)-",3850]
["S9978","-小獅王-薰衣草精油防蚊液組(噴霧型)-",214]
["S9979","-小獅王-薰衣草精油防蚊液(噴霧型)60ml-",116]
["S9987","-小獅王-長效檸檬草精油防蚊貼(16枚)-",72]
["S9988","-小獅王-長效檸檬草精油防蚊貼(32枚)-",125]
["sample004001","-小獅王-超柔無垢白金矽膠旋轉奶瓶刷(小麥)-米 (樣品)-",""]
["sample004002","-小獅王-超柔無垢白金矽膠奶瓶刷(小石)-灰 (樣品)-",""]
["sample004003","-小獅王-智能六段式定溫調乳器(S5 PRO)-",""]
["sample004004","-小獅王-UDI H1智能高效蒸氣烘乾消毒鍋(杏茶)-",""]
["sample004005","-小獅王-短袖80-",""]
["sample004006","-小獅王-無袖80-",""]
["sample004007","-小獅王-短袖70-",""]
["sample004008","-小獅王-短袖60-",""]
["sample004009","-小獅王-無袖70-",""]
["sample004010","-小獅王-長袖60-",""]
["SW1351","-小獅王-辛巴 Pointy 嬰兒口腔清潔指套 (100入)-",201]
["SW1467","-小獅王-超柔無垢海綿快拆旋轉奶瓶刷-",146]
["SW1468","-小獅王-超柔無垢海綿旋轉奶瓶刷-",128]
["SW1469","-小獅王-超柔無垢海綿奶嘴刷(2入)-",88]
["SW1470","-小獅王-超柔無垢海綿快拆旋轉奶瓶刷替換刷頭(1入)-",41]
["SW1471","-小獅王-超柔無垢海綿旋轉奶瓶刷替換包(2入)-",47]
["SW1472","-小獅王-超柔無垢海綿奶嘴刷替換包(3入)-",30]
["SW1473","-小獅王-超柔無垢海綿旋轉奶瓶刷組-",128]
["SW1660","-小獅王-平安御守香火袋-恐龍樂園(藍)-",112]
["SW1661","-小獅王-平安御守香火袋-蜜桃菠菠(粉)-",112]
["SW1662","-小獅王-平安御守香火袋-小鳥星球(綠)-",112]
["SW1663","-小獅王-平安御守香火袋-奶油字母(杏)-",112]
["SW1710","-小獅王-蘊蜜夜光奶嘴帶-晨藍-",81]
["SW1711","-小獅王-蘊蜜夜光奶嘴帶-栗粉-",81]
["SW1712","-小獅王-蘊蜜夜光奶嘴帶-杏茶-",81]
["SW1714","-小獅王-蘊蜜夜光奶嘴帶-綠沐-",81]
["SW1720","-小獅王-蘊蜜萬用防掉雙頭夾(晨藍)-",98]
["SW1721","-小獅王-蘊蜜萬用防掉雙頭夾(栗粉)-",98]
["SW1722","-小獅王-蘊蜜萬用防掉雙頭夾(杏茶)-",98]
["SW1723","-小獅王-蘊蜜萬用防掉雙頭夾(紫芙)-",98]
["SW1724","-小獅王-蘊蜜萬用防掉雙頭夾(綠沐)-",98]
["SW1910","安撫奶嘴-小獅王-蘊蜜超柔拇指安撫奶嘴(晨藍)-初生-",74]
["SW1911","安撫奶嘴-小獅王-蘊蜜超柔拇指安撫奶嘴(栗粉)-初生-",74]
["SW1912","安撫奶嘴-小獅王-蘊蜜超柔拇指安撫奶嘴(杏茶)-初生-",74]
["SW1914","安撫奶嘴-小獅王-蘊蜜超柔拇指安撫奶嘴(綠沐)-初生-",74]
["SW1920","安撫奶嘴-小獅王-蘊蜜超柔拇指安撫奶嘴(晨藍)-較大-",74]
["SW1921","安撫奶嘴-小獅王-蘊蜜超柔拇指安撫奶嘴(栗粉)-較大-",74]
["SW1922","安撫奶嘴-小獅王-蘊蜜超柔拇指安撫奶嘴(杏茶)-較大-",74]
["SW1924","安撫奶嘴-小獅王-蘊蜜超柔拇指安撫奶嘴(綠沐)-較大-",74]
["SW1930","安撫奶嘴-小獅王-蘊蜜超柔拇指安撫奶嘴(晨藍)-耐咬較大型-",74]
["SW1931","安撫奶嘴-小獅王-蘊蜜超柔拇指安撫奶嘴(栗粉)-耐咬較大型-",74]
["SW1932","安撫奶嘴-小獅王-蘊蜜超柔拇指安撫奶嘴(杏茶)-耐咬較大型-",74]
["SW1934","安撫奶嘴-小獅王-蘊蜜超柔拇指安撫奶嘴(綠沐)-耐咬較大型-",74]
["SW3420","食物剪刀-小獅王-嬰兒食物金剛剪(晨藍)-",170]
["SW3421","食物剪刀-小獅王-嬰兒食物金剛剪(栗粉)-",170]
["SW3422","食物剪刀-小獅王-嬰兒食物金剛剪(杏茶)-",170]
["SW3430","-小獅王-美味軟質湯匙(晨藍)-",67]
["SW3431","-小獅王-美味軟質湯匙(栗粉)-",67]
["SW3432","-小獅王-美味軟質湯匙(杏茶)-",67]
["SW3440","-小獅王-美味曲奇吸盤碗-晨藍-",170]
["SW3441","-小獅王-美味曲奇吸盤碗-栗粉-",170]
["SW3442","-小獅王-美味曲奇吸盤碗-杏茶-",170]
["SW3450","-小獅王-美味漢堡吸盤碗-晨藍-",161]
["SW3451","-小獅王-美味漢堡吸盤碗-栗粉-",161]
["SW3452","-小獅王-美味漢堡吸盤碗-杏茶-",161]
["SW3470","-小獅王-美味學習叉匙組-晨藍-",54]
["SW3471","-小獅王-美味學習叉匙組-栗粉-",54]
["SW3472","-小獅王-美味學習叉匙組-杏茶-",54]
["SW3480","-小獅王-美味兒童叉匙組-晨藍-",81]
["SW3481","-小獅王-美味兒童叉匙組-栗粉 -",81]
["SW3482","-小獅王-美味兒童叉匙組-杏茶-",81]
["SW3490","-小獅王-美味軟糖湯匙組-晨藍-",98]
["SW3491","-小獅王-美味軟糖湯匙組-栗粉-",98]
["SW3492","-小獅王-美味軟糖湯匙組-杏茶-",98]
["SW6120","PPSU 普通奶樽-小獅王-蘊蜜鉑金PPSU寬口防脹氣奶瓶200ml(晨藍)-圓S",267]
["SW6121","PPSU 普通奶樽-小獅王-蘊蜜鉑金PPSU寬口防脹氣奶瓶200ml(栗粉)-圓S",267]
["SW6122","PPSU 普通奶樽-小獅王-蘊蜜鉑金PPSU寬口防脹氣奶瓶200ml(杏茶)-圓S",267]
["SW6123","PPSU 普通奶樽-小獅王-蘊蜜鉑金PPSU寬口防脹氣奶瓶200ml(紫芙)-圓S",267]
["SW6124","PPSU 普通奶樽-小獅王-蘊蜜鉑金PPSU寬口防脹氣奶瓶200ml(綠沐)-圓S",267]
["SW6130","PPSU 普通奶樽-小獅王-蘊蜜鉑金PPSU寬口防脹氣奶瓶270ml(晨藍)-十字M",290]
["SW6131","PPSU 普通奶樽-小獅王-蘊蜜鉑金PPSU寬口防脹氣奶瓶270ml(栗粉)-十字M",290]
["SW6132","PPSU 普通奶樽-小獅王-蘊蜜鉑金PPSU寬口防脹氣奶瓶270ml(杏茶)-十字M",290]
["SW6133","PPSU 普通奶樽-小獅王-蘊蜜鉑金PPSU寬口防脹氣奶瓶270ml(紫芙)-十字M",290]
["SW6134","PPSU 普通奶樽-小獅王-蘊蜜鉑金PPSU寬口防脹氣奶瓶270ml(綠沐)-十字M",290]
["SW6150","PPSU 普通奶樽-小獅王-蘊蜜鉑金PPSU寬口防脹氣奶瓶360ml(晨藍)-十字M",312]
["SW6151","PPSU 普通奶樽-小獅王-蘊蜜鉑金PPSU寬口防脹氣奶瓶360ml(栗粉)-十字M",312]
["SW6152","PPSU 普通奶樽-小獅王-蘊蜜鉑金PPSU寬口防脹氣奶瓶360ml(杏茶)-十字M",312]
["SW6153","PPSU 普通奶樽-小獅王-蘊蜜鉑金PPSU寬口防脹氣奶瓶360ml(紫芙)-十字M",312]
["SW6154","PPSU 普通奶樽-小獅王-蘊蜜鉑金PPSU寬口防脹氣奶瓶360ml(綠沐)-十字M",312]
["SW6160","把手奶樽-小獅王-蘊蜜鉑金PPSU寬口吸管把手防脹氣奶瓶200ml(晨藍)-十字S",299]
["SW6161","把手奶樽-小獅王-蘊蜜鉑金PPSU寬口吸管把手防脹氣奶瓶200ml(栗粉)-十字S",299]
["SW6162","把手奶樽-小獅王-蘊蜜鉑金PPSU寬口吸管把手防脹氣奶瓶200ml(杏茶)-十字S",299]
["SW6164","把手奶樽-小獅王-蘊蜜鉑金PPSU寬口吸管把手防脹氣奶瓶200ml(綠沐)-十字S",299]
["SW6170","把手奶樽-小獅王-蘊蜜鉑金PPSU寬口吸管把手防脹氣奶瓶270ml(晨藍)-十字M",321]
["SW6171","把手奶樽-小獅王-蘊蜜鉑金PPSU寬口吸管把手防脹氣奶瓶270ml(栗粉)-十字M",321]
["SW6172","把手奶樽-小獅王-蘊蜜鉑金PPSU寬口吸管把手防脹氣奶瓶270ml(杏茶)-十字M",321]
["SW6174","把手奶樽-小獅王-蘊蜜鉑金PPSU寬口吸管把手防脹氣奶瓶270ml(綠沐)-十字M",321]
["SW6180","把手奶樽-小獅王-蘊蜜鉑金PPSU寬口吸管把手防脹氣奶瓶360ml(晨藍)-十字M",343]
["SW6181","把手奶樽-小獅王-蘊蜜鉑金PPSU寬口吸管把手防脹氣奶瓶360ml(栗粉)-十字M",343]
["SW6182","把手奶樽-小獅王-蘊蜜鉑金PPSU寬口吸管把手防脹氣奶瓶360ml(杏茶)-十字M",343]
["SW6184","把手奶樽-小獅王-蘊蜜鉑金PPSU寬口吸管把手防脹氣奶瓶360ml(綠沐)-十字M",343]
["SW6331","奶樽嘴-小獅王-超柔防脹氣寬口十字奶嘴S-4入(0個月以上)-",161]
["SW6332","奶樽嘴-小獅王-超柔防脹氣寬口十字奶嘴M-4入(3個月以上)-",161]
["SW6333","奶樽嘴-小獅王-超柔防脹氣寬口十字奶嘴L-4入(6個月以上)-",161]
["SW6334","奶樽嘴-小獅王-超柔防脹氣寬口十字奶嘴XL-4入(12個月以上)-",161]
["SW6335","奶樽嘴-小獅王-超柔防脹氣寬口圓孔奶嘴S-4入(0個月以上)-",161]
["SW6336","奶樽嘴-小獅王-超柔防脹氣寬口圓孔奶嘴M-4入(3個月以上)-",161]
["SW6337","奶樽嘴-小獅王-超柔防脹氣寬口圓孔奶嘴L-4入(6個月以上)-",161]
["SW6338","奶樽嘴-小獅王-超柔防脹氣寬口圓孔奶嘴SS-4入(初生學習)-",161]
["SW6940","玻璃奶樽-小獅王-蘊蜜質金玻璃寬口防脹氣奶瓶180ml(晨藍)-新生專用-",174]
["SW6941","玻璃奶樽-小獅王-蘊蜜質金玻璃寬口防脹氣奶瓶180ml(栗粉)-新生專用-",174]
["SW6942","玻璃奶樽-小獅王-蘊蜜質金玻璃寬口防脹氣奶瓶180ml(杏茶)-新生專用-",174]
["SW6943","玻璃奶樽-小獅王-蘊蜜質金玻璃寬口防脹氣奶瓶180ml(紫芙)-新生專用-",174]
["SW6944","玻璃奶樽-小獅王-蘊蜜質金玻璃寬口防脹氣奶瓶180ml(綠沐)-新生專用-",174]
["SW6950","玻璃奶樽-小獅王-蘊蜜質金玻璃寬口防脹氣奶瓶270ml(晨藍)-新生專用-",178]
["SW6951","玻璃奶樽-小獅王-蘊蜜質金玻璃寬口防脹氣奶瓶270ml(栗粉)-新生專用-",178]
["SW6952","玻璃奶樽-小獅王-蘊蜜質金玻璃寬口防脹氣奶瓶270ml(杏茶)-新生專用-",178]
["SW6953","玻璃奶樽-小獅王-蘊蜜質金玻璃寬口防脹氣奶瓶270ml(紫芙)-新生專用-",178]
["SW6954","玻璃奶樽-小獅王-蘊蜜質金玻璃寬口防脹氣奶瓶270ml(綠沐)-新生專用-",178]
["SW7010","配件1-小獅王-蘊蜜寬口奶瓶儲乳片5入-",85]
["SW7011","配件5-小獅王-蘊蜜寬口奶瓶蝶型吸管組-",49]
["SW7012","配件6-小獅王-蘊蜜寬口奶瓶防漏學習吸管組-",74]
["SW7013","配件7-小獅王-蘊蜜寬口防漏滑蓋吸管組-",116]
["SW7014","-小獅王-蘊蜜寬口防漏滑蓋矽膠墊圈-",30]
["SW7015","吸管刷-小獅王-蘊蜜清潔刷6入-",63]
["SW7020","配件3-小獅王-蘊蜜寬口奶瓶瓶蓋組(晨藍)-",27]
["SW7021","配件3-小獅王-蘊蜜寬口奶瓶瓶蓋組(栗粉)-",27]
["SW7022","配件3-小獅王-蘊蜜寬口奶瓶瓶蓋組(杏茶)-",27]
["SW7023","配件3-小獅王-蘊蜜寬口奶瓶瓶蓋組(紫芙)-",27]
["SW7024","配件3-小獅王-蘊蜜寬口奶瓶瓶蓋組(綠沐)-",27]
["SW7025","配件3-小獅王-蘊蜜寬口奶瓶瓶蓋組(蒔黑)-",27]
["SW7026","配件3-小獅王-蘊蜜寬口奶瓶瓶蓋組(苜白)-",27]
["SW7030","配件4-小獅王-蘊蜜寬口奶瓶防滑把手(晨藍)-",27]
["SW7031","配件4-小獅王-蘊蜜寬口奶瓶防滑把手(栗粉)-",27]
["SW7032","配件4-小獅王-蘊蜜寬口奶瓶防滑把手(杏茶)-",27]
["SW7033","配件4-小獅王-蘊蜜寬口奶瓶防滑把手(紫芙)-",27]
["SW7034","配件4-小獅王-蘊蜜寬口奶瓶防滑把手(綠沐)-",27]
["SW7035","配件4-小獅王-蘊蜜寬口奶瓶防滑把手(蒔黑)-",27]
["SW7036","配件4-小獅王-蘊蜜寬口奶瓶防滑把手(苜白)-",27]
["SW7040","配件2-小獅王-蘊蜜寬口奶瓶萬用蓋(晨藍)-",30]
["SW7041","配件2-小獅王-蘊蜜寬口奶瓶萬用蓋(栗粉)-",30]
["SW7042","配件2-小獅王-蘊蜜寬口奶瓶萬用蓋(杏茶)-",30]
["SW7043","配件2-小獅王-蘊蜜寬口奶瓶萬用蓋(紫芙)-",30]
["SW7044","配件2-小獅王-蘊蜜寬口奶瓶萬用蓋(綠沐)-",30]
["SW7045","配件2-小獅王-蘊蜜寬口奶瓶萬用蓋(蒔黑)-",30]
["SW7046","配件2-小獅王-蘊蜜寬口奶瓶萬用蓋(苜白)-",30]
["SW7050","配件7-小獅王-蘊蜜寬口防漏滑蓋把手吸管組(晨藍)-",112]
["SW7051","配件7-小獅王-蘊蜜寬口防漏滑蓋把手吸管組(栗粉)-",112]
["SW7052","配件7-小獅王-蘊蜜寬口防漏滑蓋把手吸管組(杏茶)-",112]
["SW7053","配件7-小獅王-蘊蜜寬口防漏滑蓋把手吸管組(紫芙)-",112]
["SW7054","配件7-小獅王-蘊蜜寬口防漏滑蓋把手吸管組(綠沐)-",112]
["SW7055","配件7-小獅王-蘊蜜寬口防漏滑蓋把手吸管組(蒔黑)-",112]
["SW7056","配件7-小獅王-蘊蜜寬口防漏滑蓋把手吸管組(苜白)-",112]
["SW7060","配件8-小獅王-蘊蜜寬口即飲杯蓋組(晨藍)-",98]
["SW7061","配件8-小獅王-蘊蜜寬口即飲杯蓋組(栗粉)-",98]
["SW7062","配件8-小獅王-蘊蜜寬口即飲杯蓋組(杏茶)-",98]
["SW7063","配件8-小獅王-蘊蜜寬口即飲杯蓋組(紫芙)-",98]
["SW7064","配件8-小獅王-蘊蜜寬口即飲杯蓋組(綠沐)-",98]
["SW7065","配件8-小獅王-蘊蜜寬口即飲杯蓋組(蒔黑)-",98]
["SW7066","配件8-小獅王-蘊蜜寬口即飲杯蓋組(苜白)-",98]
["SW8110","學習水杯-小獅王-蘊蜜鉑金PPSU防漏滑蓋學習水杯270ml(晨藍)-",379]
["SW8111","學習水杯-小獅王-蘊蜜鉑金PPSU防漏滑蓋學習水杯270ml(栗粉)-",379]
["SW8112","學習水杯-小獅王-蘊蜜鉑金PPSU防漏滑蓋學習水杯270ml(杏茶)-",379]
["SW8113","學習水杯-小獅王-蘊蜜鉑金PPSU防漏滑蓋學習水杯270ml(紫芙)-",379]
["SW8114","學習水杯-小獅王-蘊蜜鉑金PPSU防漏滑蓋學習水杯270ml(綠沐)-",379]

{"sheet":"SIMBA入庫表","index":10,"n_rows":999,"n_cols":7,"rows_kept":999,"cut":false,"hidden":false,"merged":[]}
["入庫日期","訂單編號","產品","數量","單價","ALERT","COUNTER"]
["2024-09-19",{"$f":"_xlfn.XLOOKUP(C2,'SIMBA LIST'!B:B,'SIMBA LIST'!A:A)","v":{"$error":"#NAME?"}},"配件7-小獅王-蘊蜜寬口防漏滑蓋把手吸管組(綠沐)-",3,{"$f":"_xlfn.XLOOKUP(C2,'SIMBA LIST'!B:B,'SIMBA LIST'!C:C)","v":{"$error":"#NAME?"}}]
["2024-09-19",null,"APPLE",10,901,91]
[null,null,"ORANGE","PRESALE",null,null,10]
["2024-09-19",{"$f":"_xlfn.XLOOKUP(C5,'SIMBA LIST'!B:B,'SIMBA LIST'!A:A)","v":{"$error":"#NAME?"}},"BANANA",3]
["2024-09-19",{"$f":"_xlfn.XLOOKUP(C6,'SIMBA LIST'!B:B,'SIMBA LIST'!A:A)","v":{"$error":"#NAME?"}},"配件7-小獅王-蘊蜜寬口防漏滑蓋把手吸管組(苜白)-",2,{"$f":"_xlfn.XLOOKUP(C6,'SIMBA LIST'!B:B,'SIMBA LIST'!C:C)","v":{"$error":"#NAME?"}}]
["2024-09-19",{"$f":"_xlfn.XLOOKUP(C7,'SIMBA LIST'!B:B,'SIMBA LIST'!A:A)","v":{"$error":"#NAME?"}},"配件7-小獅王-蘊蜜寬口防漏滑蓋把手吸管組(晨藍)-",3,{"$f":"_xlfn.XLOOKUP(C7,'SIMBA LIST'!B:B,'SIMBA LIST'!C:C)","v":{"$error":"#NAME?"}}]
["2024-09-19",{"$f":"_xlfn.XLOOKUP(C8,'SIMBA LIST'!B:B,'SIMBA LIST'!A:A)","v":{"$error":"#NAME?"}},"配件7-小獅王-蘊蜜寬口防漏滑蓋把手吸管組(杏茶)-",3,{"$f":"_xlfn.XLOOKUP(C8,'SIMBA LIST'!B:B,'SIMBA LIST'!C:C)","v":{"$error":"#NAME?"}}]
["2024-09-19",{"$f":"_xlfn.XLOOKUP(C9,'SIMBA LIST'!B:B,'SIMBA LIST'!A:A)","v":{"$error":"#NAME?"}},"配件7-小獅王-蘊蜜寬口防漏滑蓋把手吸管組(紫芙)-",2,{"$f":"_xlfn.XLOOKUP(C9,'SIMBA LIST'!B:B,'SIMBA LIST'!C:C)","v":{"$error":"#NAME?"}}]
["2024-09-19",{"$f":"_xlfn.XLOOKUP(C10,'SIMBA LIST'!B:B,'SIMBA LIST'!A:A)","v":{"$error":"#NAME?"}},"配件7-小獅王-蘊蜜寬口防漏滑蓋把手吸管組(蒔黑)-",1,{"$f":"_xlfn.XLOOKUP(C10,'SIMBA LIST'!B:B,'SIMBA LIST'!C:C)","v":{"$error":"#NAME?"}}]
["2024-09-19",{"$f":"_xlfn.XLOOKUP(C11,'SIMBA LIST'!B:B,'SIMBA LIST'!A:A)","v":{"$error":"#NAME?"}},"安撫奶嘴-小獅王-蘊蜜超柔拇指安撫奶嘴(栗粉)-初生-",1,{"$f":"_xlfn.XLOOKUP(C11,'SIMBA LIST'!B:B,'SIMBA LIST'!C:C)","v":{"$error":"#NAME?"}}]
["2024-09-19",{"$f":"_xlfn.XLOOKUP(C12,'SIMBA LIST'!B:B,'SIMBA LIST'!A:A)","v":{"$error":"#NAME?"}},"安撫奶嘴-小獅王-蘊蜜超柔拇指安撫奶嘴(栗粉)-耐咬較大型-",1,{"$f":"_xlfn.XLOOKUP(C12,'SIMBA LIST'!B:B,'SIMBA LIST'!C:C)","v":{"$error":"#NAME?"}}]
["2024-09-19",{"$f":"_xlfn.XLOOKUP(C13,'SIMBA LIST'!B:B,'SIMBA LIST'!A:A)","v":{"$error":"#NAME?"}},"安撫奶嘴-小獅王-蘊蜜超柔拇指安撫奶嘴(綠沐)-初生-",1,{"$f":"_xlfn.XLOOKUP(C13,'SIMBA LIST'!B:B,'SIMBA LIST'!C:C)","v":{"$error":"#NAME?"}}]
["2024-09-19",{"$f":"_xlfn.XLOOKUP(C14,'SIMBA LIST'!B:B,'SIMBA LIST'!A:A)","v":{"$error":"#NAME?"}},"安撫奶嘴-小獅王-蘊蜜超柔拇指安撫奶嘴(晨藍)-初生-",0,{"$f":"_xlfn.XLOOKUP(C14,'SIMBA LIST'!B:B,'SIMBA LIST'!C:C)","v":{"$error":"#NAME?"}}]
["2024-09-19",{"$f":"_xlfn.XLOOKUP(C15,'SIMBA LIST'!B:B,'SIMBA LIST'!A:A)","v":{"$error":"#NAME?"}},"安撫奶嘴-小獅王-蘊蜜超柔拇指安撫奶嘴(晨藍)-較大-",1,{"$f":"_xlfn.XLOOKUP(C15,'SIMBA LIST'!B:B,'SIMBA LIST'!C:C)","v":{"$error":"#NAME?"}}]
["2024-09-19",{"$f":"_xlfn.XLOOKUP(C16,'SIMBA LIST'!B:B,'SIMBA LIST'!A:A)","v":{"$error":"#NAME?"}},"安撫奶嘴-小獅王-蘊蜜超柔拇指安撫奶嘴(杏茶)-初生-",1,{"$f":"_xlfn.XLOOKUP(C16,'SIMBA LIST'!B:B,'SIMBA LIST'!C:C)","v":{"$error":"#NAME?"}}]
["2024-09-19",{"$f":"_xlfn.XLOOKUP(C17,'SIMBA LIST'!B:B,'SIMBA LIST'!A:A)","v":{"$error":"#NAME?"}},"奶樽嘴-小獅王-超柔防脹氣寬口十字奶嘴S-4入(0個月以上)-",2,{"$f":"_xlfn.XLOOKUP(C17,'SIMBA LIST'!B:B,'SIMBA LIST'!C:C)","v":{"$error":"#NAME?"}}]
["2024-09-19",{"$f":"_xlfn.XLOOKUP(C18,'SIMBA LIST'!B:B,'SIMBA LIST'!A:A)","v":{"$error":"#NAME?"}},"奶樽嘴-小獅王-超柔防脹氣寬口十字奶嘴M-4入(3個月以上)-",4,{"$f":"_xlfn.XLOOKUP(C18,'SIMBA LIST'!B:B,'SIMBA LIST'!C:C)","v":{"$error":"#NAME?"}}]
["2024-09-19",{"$f":"_xlfn.XLOOKUP(C19,'SIMBA LIST'!B:B,'SIMBA LIST'!A:A)","v":{"$error":"#NAME?"}},"奶樽嘴-小獅王-超柔防脹氣寬口十字奶嘴L-4入(6個月以上)-",4,{"$f":"_xlfn.XLOOKUP(C19,'SIMBA LIST'!B:B,'SIMBA LIST'!C:C)","v":{"$error":"#NAME?"}}]
["2024-09-19",{"$f":"_xlfn.XLOOKUP(C20,'SIMBA LIST'!B:B,'SIMBA LIST'!A:A)","v":{"$error":"#NAME?"}},"奶樽嘴-小獅王-超柔防脹氣寬口十字奶嘴XL-4入(12個月以上)-",2,{"$f":"_xlfn.XLOOKUP(C20,'SIMBA LIST'!B:B,'SIMBA LIST'!C:C)","v":{"$error":"#NAME?"}}]
["2024-09-19",{"$f":"_xlfn.XLOOKUP(C21,'SIMBA LIST'!B:B,'SIMBA LIST'!A:A)","v":{"$error":"#NAME?"}},"安撫奶嘴-小獅王-小辛巴拇指安撫奶嘴(初生)-",2,{"$f":"_xlfn.XLOOKUP(C21,'SIMBA LIST'!B:B,'SIMBA LIST'!C:C)","v":{"$error":"#NAME?"}}]
["2024-09-19",{"$f":"_xlfn.XLOOKUP(C22,'SIMBA LIST'!B:B,'SIMBA LIST'!A:A)","v":{"$error":"#NAME?"}},"安撫奶嘴-小獅王-小辛巴拇指安撫奶嘴(較大)-",1,{"$f":"_xlfn.XLOOKUP(C22,'SIMBA LIST'!B:B,'SIMBA LIST'!C:C)","v":{"$error":"#NAME?"}}]
["2024-09-19",{"$f":"_xlfn.XLOOKUP(C23,'SIMBA LIST'!B:B,'SIMBA LIST'!A:A)","v":{"$error":"#NAME?"}},"好樂飲-小獅王-好樂飲PPSU防漏滑蓋學習水杯250ml(可可杏)-",3,{"$f":"_xlfn.XLOOKUP(C23,'SIMBA LIST'!B:B,'SIMBA LIST'!C:C)","v":{"$error":"#NAME?"}}]
["2024-09-19",{"$f":"_xlfn.XLOOKUP(C24,'SIMBA LIST'!B:B,'SIMBA LIST'!A:A)","v":{"$error":"#NAME?"}},"好樂飲-小獅王-好樂飲PPSU防漏滑蓋學習水杯250ml(悠悠粉)-",1,{"$f":"_xlfn.XLOOKUP(C24,'SIMBA LIST'!B:B,'SIMBA LIST'!C:C)","v":{"$error":"#NAME?"}}]
["2024-09-19",{"$f":"_xlfn.XLOOKUP(C25,'SIMBA LIST'!B:B,'SIMBA LIST'!A:A)","v":{"$error":"#NAME?"}},"配件6-小獅王-蘊蜜寬口奶瓶防漏學習吸管組-",2,{"$f":"_xlfn.XLOOKUP(C25,'SIMBA LIST'!B:B,'SIMBA LIST'!C:C)","v":{"$error":"#NAME?"}}]
["2024-09-19",{"$f":"_xlfn.XLOOKUP(C26,'SIMBA LIST'!B:B,'SIMBA LIST'!A:A)","v":{"$error":"#NAME?"}},"配件1-小獅王-蘊蜜寬口奶瓶儲乳片5入-",1,{"$f":"_xlfn.XLOOKUP(C26,'SIMBA LIST'!B:B,'SIMBA LIST'!C:C)","v":{"$error":"#NAME?"}}]
["2024-09-19",{"$f":"_xlfn.XLOOKUP(C27,'SIMBA LIST'!B:B,'SIMBA LIST'!A:A)","v":{"$error":"#NAME?"}},"配件7-小獅王-蘊蜜寬口防漏滑蓋吸管組-",4,{"$f":"_xlfn.XLOOKUP(C27,'SIMBA LIST'!B:B,'SIMBA LIST'!C:C)","v":{"$error":"#NAME?"}}]
["2024-09-19",{"$f":"_xlfn.XLOOKUP(C28,'SIMBA LIST'!B:B,'SIMBA LIST'!A:A)","v":{"$error":"#NAME?"}},"配件5-小獅王-蘊蜜寬口奶瓶蝶型吸管組-",7,{"$f":"_xlfn.XLOOKUP(C28,'SIMBA LIST'!B:B,'SIMBA LIST'!C:C)","v":{"$error":"#NAME?"}}]
["2024-09-19",{"$f":"_xlfn.XLOOKUP(C29,'SIMBA LIST'!B:B,'SIMBA LIST'!A:A)","v":{"$error":"#NAME?"}},"食物剪刀-小獅王-嬰兒食物金剛剪(杏茶)-",3,{"$f":"_xlfn.XLOOKUP(C29,'SIMBA LIST'!B:B,'SIMBA LIST'!C:C)","v":{"$error":"#NAME?"}}]
["2024-09-19",{"$f":"_xlfn.XLOOKUP(C30,'SIMBA LIST'!B:B,'SIMBA LIST'!A:A)","v":{"$error":"#NAME?"}},"食物剪刀-小獅王-嬰兒食物金剛剪(晨藍)-",3,{"$f":"_xlfn.XLOOKUP(C30,'SIMBA LIST'!B:B,'SIMBA LIST'!C:C)","v":{"$error":"#NAME?"}}]
["2024-09-19",{"$f":"_xlfn.XLOOKUP(C31,'SIMBA LIST'!B:B,'SIMBA LIST'!A:A)","v":{"$error":"#NAME?"}},"吸管刷-小獅王-蘊蜜清潔刷6入-",3,{"$f":"_xlfn.XLOOKUP(C31,'SIMBA LIST'!B:B,'SIMBA LIST'!C:C)","v":{"$error":"#NAME?"}}]
["2024-09-19",{"$f":"_xlfn.XLOOKUP(C32,'SIMBA LIST'!B:B,'SIMBA LIST'!A:A)","v":{"$error":"#NAME?"}},"-小獅王-好樂飲防漏滑蓋替換吸管組(2入)-",2,{"$f":"_xlfn.XLOOKUP(C32,'SIMBA LIST'!B:B,'SIMBA LIST'!C:C)","v":{"$error":"#NAME?"}}]
["2024-09-19",{"$f":"_xlfn.XLOOKUP(C33,'SIMBA LIST'!B:B,'SIMBA LIST'!A:A)","v":{"$error":"#NAME?"}},"-小獅王-平安御守香火袋-恐龍樂園(藍)-",1,{"$f":"_xlfn.XLOOKUP(C33,'SIMBA LIST'!B:B,'SIMBA LIST'!C:C)","v":{"$error":"#NAME?"}}]
["2024-09-19",{"$f":"_xlfn.XLOOKUP(C34,'SIMBA LIST'!B:B,'SIMBA LIST'!A:A)","v":{"$error":"#NAME?"}},"-小獅王-平安御守香火袋-蜜桃菠菠(粉)-",1,{"$f":"_xlfn.XLOOKUP(C34,'SIMBA LIST'!B:B,'SIMBA LIST'!C:C)","v":{"$error":"#NAME?"}}]
["2024-09-19",{"$f":"_xlfn.XLOOKUP(C35,'SIMBA LIST'!B:B,'SIMBA LIST'!A:A)","v":{"$error":"#NAME?"}},"-小獅王-平安御守香火袋-奶油字母(杏)-",2,{"$f":"_xlfn.XLOOKUP(C35,'SIMBA LIST'!B:B,'SIMBA LIST'!C:C)","v":{"$error":"#NAME?"}}]
["2024-09-19",{"$f":"_xlfn.XLOOKUP(C36,'SIMBA LIST'!B:B,'SIMBA LIST'!A:A)","v":{"$error":"#NAME?"}},"-小獅王-平安御守香火袋-小鳥星球(綠)-",2,{"$f":"_xlfn.XLOOKUP(C36,'SIMBA LIST'!B:B,'SIMBA LIST'!C:C)","v":{"$error":"#NAME?"}}]
["2024-09-19",{"$f":"_xlfn.XLOOKUP(C37,'SIMBA LIST'!B:B,'SIMBA LIST'!A:A)","v":{"$error":"#NAME?"}},"-小獅王-長效檸檬草精油防蚊貼(32枚)-",2,{"$f":"_xlfn.XLOOKUP(C37,'SIMBA LIST'!B:B,'SIMBA LIST'!C:C)","v":{"$error":"#NAME?"}}]
["2024-09-19",{"$f":"_xlfn.XLOOKUP(C38,'SIMBA LIST'!B:B,'SIMBA LIST'!A:A)","v":{"$error":"#NAME?"}},"-小獅王-蘊蜜萬用防掉雙頭夾(晨藍)-",3,{"$f":"_xlfn.XLOOKUP(C38,'SIMBA LIST'!B:B,'SIMBA LIST'!C:C)","v":{"$error":"#NAME?"}}]
["2024-09-19",{"$f":"_xlfn.XLOOKUP(C39,'SIMBA LIST'!B:B,'SIMBA LIST'!A:A)","v":{"$error":"#NAME?"}},"-小獅王-蘊蜜萬用防掉雙頭夾(杏茶)-",3,{"$f":"_xlfn.XLOOKUP(C39,'SIMBA LIST'!B:B,'SIMBA LIST'!C:C)","v":{"$error":"#NAME?"}}]
["2024-09-19",{"$f":"_xlfn.XLOOKUP(C40,'SIMBA LIST'!B:B,'SIMBA LIST'!A:A)","v":{"$error":"#NAME?"}},"-小獅王-蘊蜜萬用防掉雙頭夾(綠沐)-",2,{"$f":"_xlfn.XLOOKUP(C40,'SIMBA LIST'!B:B,'SIMBA LIST'!C:C)","v":{"$error":"#NAME?"}}]
["2024-09-19",{"$f":"_xlfn.XLOOKUP(C41,'SIMBA LIST'!B:B,'SIMBA LIST'!A:A)","v":{"$error":"#NAME?"}},"-小獅王-蘊蜜萬用防掉雙頭夾(栗粉)-",2,{"$f":"_xlfn.XLOOKUP(C41,'SIMBA LIST'!B:B,'SIMBA LIST'!C:C)","v":{"$error":"#NAME?"}}]
["2024-09-19",{"$f":"_xlfn.XLOOKUP(C42,'SIMBA LIST'!B:B,'SIMBA LIST'!A:A)","v":{"$error":"#NAME?"}},"-小獅王-蘊蜜夜光奶嘴帶-栗粉-",1,{"$f":"_xlfn.XLOOKUP(C42,'SIMBA LIST'!B:B,'SIMBA LIST'!C:C)","v":{"$error":"#NAME?"}}]
["2024-09-19",{"$f":"_xlfn.XLOOKUP(C43,'SIMBA LIST'!B:B,'SIMBA LIST'!A:A)","v":{"$error":"#NAME?"}},"-小獅王-蘊蜜夜光奶嘴帶-綠沐-",1,{"$f":"_xlfn.XLOOKUP(C43,'SIMBA LIST'!B:B,'SIMBA LIST'!C:C)","v":{"$error":"#NAME?"}}]
["2024-09-19",{"$f":"_xlfn.XLOOKUP(C44,'SIMBA LIST'!B:B,'SIMBA LIST'!A:A)","v":{"$error":"#NAME?"}},"配件8-小獅王-蘊蜜寬口即飲杯蓋組(杏茶)-",1,{"$f":"_xlfn.XLOOKUP(C44,'SIMBA LIST'!B:B,'SIMBA LIST'!C:C)","v":{"$error":"#NAME?"}}]
["2024-09-19",{"$f":"_xlfn.XLOOKUP(C45,'SIMBA LIST'!B:B,'SIMBA LIST'!A:A)","v":{"$error":"#NAME?"}},"配件8-小獅王-蘊蜜寬口即飲杯蓋組(苜白)-",1,{"$f":"_xlfn.XLOOKUP(C45,'SIMBA LIST'!B:B,'SIMBA LIST'!C:C)","v":{"$error":"#NAME?"}}]
["2024-09-19",{"$f":"_xlfn.XLOOKUP(C46,'SIMBA LIST'!B:B,'SIMBA LIST'!A:A)","v":{"$error":"#NAME?"}},"配件8-小獅王-蘊蜜寬口即飲杯蓋組(蒔黑)-",1,{"$f":"_xlfn.XLOOKUP(C46,'SIMBA LIST'!B:B,'SIMBA LIST'!C:C)","v":{"$error":"#NAME?"}}]
["2024-09-19",{"$f":"_xlfn.XLOOKUP(C47,'SIMBA LIST'!B:B,'SIMBA LIST'!A:A)","v":{"$error":"#NAME?"}},"配件8-小獅王-蘊蜜寬口即飲杯蓋組(栗粉)-",1,{"$f":"_xlfn.XLOOKUP(C47,'SIMBA LIST'!B:B,'SIMBA LIST'!C:C)","v":{"$error":"#NAME?"}}]
["2024-09-19",{"$f":"_xlfn.XLOOKUP(C48,'SIMBA LIST'!B:B,'SIMBA LIST'!A:A)","v":{"$error":"#NAME?"}},"配件8-小獅王-蘊蜜寬口即飲杯蓋組(紫芙)-",1,{"$f":"_xlfn.XLOOKUP(C48,'SIMBA LIST'!B:B,'SIMBA LIST'!C:C)","v":{"$error":"#NAME?"}}]
["2024-09-19",{"$f":"_xlfn.XLOOKUP(C49,'SIMBA LIST'!B:B,'SIMBA LIST'!A:A)","v":{"$error":"#NAME?"}},"配件2-小獅王-蘊蜜寬口奶瓶萬用蓋(紫芙)-",1,{"$f":"_xlfn.XLOOKUP(C49,'SIMBA LIST'!B:B,'SIMBA LIST'!C:C)","v":{"$error":"#NAME?"}}]
["2024-09-19",{"$f":"_xlfn.XLOOKUP(C50,'SIMBA LIST'!B:B,'SIMBA LIST'!A:A)","v":{"$error":"#NAME?"}},"配件2-小獅王-蘊蜜寬口奶瓶萬用蓋(栗粉)-",3,{"$f":"_xlfn.XLOOKUP(C50,'SIMBA LIST'!B:B,'SIMBA LIST'!C:C)","v":{"$error":"#NAME?"}}]
["2024-09-19",{"$f":"_xlfn.XLOOKUP(C51,'SIMBA LIST'!B:B,'SIMBA LIST'!A:A)","v":{"$error":"#NAME?"}},"配件2-小獅王-蘊蜜寬口奶瓶萬用蓋(綠沐)-",3,{"$f":"_xlfn.XLOOKUP(C51,'SIMBA LIST'!B:B,'SIMBA LIST'!C:C)","v":{"$error":"#NAME?"}}]
["2024-09-19",{"$f":"_xlfn.XLOOKUP(C52,'SIMBA LIST'!B:B,'SIMBA LIST'!A:A)","v":{"$error":"#NAME?"}},"配件2-小獅王-蘊蜜寬口奶瓶萬用蓋(杏茶)-",2,{"$f":"_xlfn.XLOOKUP(C52,'SIMBA LIST'!B:B,'SIMBA LIST'!C:C)","v":{"$error":"#NAME?"}}]
["2024-09-19",{"$f":"_xlfn.XLOOKUP(C53,'SIMBA LIST'!B:B,'SIMBA LIST'!A:A)","v":{"$error":"#NAME?"}},"奶粉盒-小獅王-神奇定量奶粉罐-肉桂捲(米)-",1,{"$f":"_xlfn.XLOOKUP(C53,'SIMBA LIST'!B:B,'SIMBA LIST'!C:C)","v":{"$error":"#NAME?"}}]
["2024-09-19",{"$f":"_xlfn.XLOOKUP(C54,'SIMBA LIST'!B:B,'SIMBA LIST'!A:A)","v":{"$error":"#NAME?"}},"奶粉盒-小獅王-神奇定量奶粉罐-無花果(粉)-",1,{"$f":"_xlfn.XLOOKUP(C54,'SIMBA LIST'!B:B,'SIMBA LIST'!C:C)","v":{"$error":"#NAME?"}}]
["2024-09-19",{"$f":"_xlfn.XLOOKUP(C55,'SIMBA LIST'!B:B,'SIMBA LIST'!A:A)","v":{"$error":"#NAME?"}},"奶粉盒-小獅王-神奇定量奶粉罐-酪梨(綠)-",1,{"$f":"_xlfn.XLOOKUP(C55,'SIMBA LIST'!B:B,'SIMBA LIST'!C:C)","v":{"$error":"#NAME?"}}]
["2024-09-19",{"$f":"_xlfn.XLOOKUP(C56,'SIMBA LIST'!B:B,'SIMBA LIST'!A:A)","v":{"$error":"#NAME?"}},"奶嘴鍊-小獅王-辛巴防塵奶嘴鍊-經典(橘色)-",2,{"$f":"_xlfn.XLOOKUP(C56,'SIMBA LIST'!B:B,'SIMBA LIST'!C:C)","v":{"$error":"#NAME?"}}]
["2024-09-19",{"$f":"_xlfn.XLOOKUP(C57,'SIMBA LIST'!B:B,'SIMBA LIST'!A:A)","v":{"$error":"#NAME?"}},"奶嘴鍊-小獅王-辛巴防塵奶嘴鍊-焦糖(咖啡)-",2,{"$f":"_xlfn.XLOOKUP(C57,'SIMBA LIST'!B:B,'SIMBA LIST'!C:C)","v":{"$error":"#NAME?"}}]
["2024-09-19",{"$f":"_xlfn.XLOOKUP(C58,'SIMBA LIST'!B:B,'SIMBA LIST'!A:A)","v":{"$error":"#NAME?"}},"奶嘴鍊-小獅王-辛巴防塵奶嘴鍊-香草(藍色)-",3,{"$f":"_xlfn.XLOOKUP(C58,'SIMBA LIST'!B:B,'SIMBA LIST'!C:C)","v":{"$error":"#NAME?"}}]
["2024-09-19",{"$f":"_xlfn.XLOOKUP(C59,'SIMBA LIST'!B:B,'SIMBA LIST'!A:A)","v":{"$error":"#NAME?"}},"奶嘴鍊-小獅王-辛巴防塵奶嘴鍊-莓果(粉紅)-",8,{"$f":"_xlfn.XLOOKUP(C59,'SIMBA LIST'!B:B,'SIMBA LIST'!C:C)","v":{"$error":"#NAME?"}}]
["2024-09-19",{"$f":"_xlfn.XLOOKUP(C60,'SIMBA LIST'!B:B,'SIMBA LIST'!A:A)","v":{"$error":"#NAME?"}},"配件4-小獅王-蘊蜜寬口奶瓶防滑把手(栗粉)-",1,{"$f":"_xlfn.XLOOKUP(C60,'SIMBA LIST'!B:B,'SIMBA LIST'!C:C)","v":{"$error":"#NAME?"}}]
["2024-09-19",{"$f":"_xlfn.XLOOKUP(C61,'SIMBA LIST'!B:B,'SIMBA LIST'!A:A)","v":{"$error":"#NAME?"}},"配件4-小獅王-蘊蜜寬口奶瓶防滑把手(紫芙)-",1,{"$f":"_xlfn.XLOOKUP(C61,'SIMBA LIST'!B:B,'SIMBA LIST'!C:C)","v":{"$error":"#NAME?"}}]
["2024-09-19",{"$f":"_xlfn.XLOOKUP(C62,'SIMBA LIST'!B:B,'SIMBA LIST'!A:A)","v":{"$error":"#NAME?"}},"配件4-小獅王-蘊蜜寬口奶瓶防滑把手(苜白)-",1,{"$f":"_xlfn.XLOOKUP(C62,'SIMBA LIST'!B:B,'SIMBA LIST'!C:C)","v":{"$error":"#NAME?"}}]
["2024-09-19",{"$f":"_xlfn.XLOOKUP(C63,'SIMBA LIST'!B:B,'SIMBA LIST'!A:A)","v":{"$error":"#NAME?"}},"-小獅王-美味曲奇吸盤碗-栗粉-",2,{"$f":"_xlfn.XLOOKUP(C63,'SIMBA LIST'!B:B,'SIMBA LIST'!C:C)","v":{"$error":"#NAME?"}}]
["2024-09-19",{"$f":"_xlfn.XLOOKUP(C64,'SIMBA LIST'!B:B,'SIMBA LIST'!A:A)","v":{"$error":"#NAME?"}},"-小獅王-美味曲奇吸盤碗-晨藍-",2,{"$f":"_xlfn.XLOOKUP(C64,'SIMBA LIST'!B:B,'SIMBA LIST'!C:C)","v":{"$error":"#NAME?"}}]
["2024-09-19",{"$f":"_xlfn.XLOOKUP(C65,'SIMBA LIST'!B:B,'SIMBA LIST'!A:A)","v":{"$error":"#NAME?"}},"-小獅王-美味曲奇吸盤碗-杏茶-",2,{"$f":"_xlfn.XLOOKUP(C65,'SIMBA LIST'!B:B,'SIMBA LIST'!C:C)","v":{"$error":"#NAME?"}}]
["2024-09-19",{"$f":"_xlfn.XLOOKUP(C66,'SIMBA LIST'!B:B,'SIMBA LIST'!A:A)","v":{"$error":"#NAME?"}},"配件3-小獅王-蘊蜜寬口奶瓶瓶蓋組(栗粉)-",1,{"$f":"_xlfn.XLOOKUP(C66,'SIMBA LIST'!B:B,'SIMBA LIST'!C:C)","v":{"$error":"#NAME?"}}]
["2024-09-19",{"$f":"_xlfn.XLOOKUP(C67,'SIMBA LIST'!B:B,'SIMBA LIST'!A:A)","v":{"$error":"#NAME?"}},"配件3-小獅王-蘊蜜寬口奶瓶瓶蓋組(晨藍)-",1,{"$f":"_xlfn.XLOOKUP(C67,'SIMBA LIST'!B:B,'SIMBA LIST'!C:C)","v":{"$error":"#NAME?"}}]
["2024-09-19",{"$f":"_xlfn.XLOOKUP(C68,'SIMBA LIST'!B:B,'SIMBA LIST'!A:A)","v":{"$error":"#NAME?"}},"配件3-小獅王-蘊蜜寬口奶瓶瓶蓋組(杏茶)-",1,{"$f":"_xlfn.XLOOKUP(C68,'SIMBA LIST'!B:B,'SIMBA LIST'!C:C)","v":{"$error":"#NAME?"}}]
["2024-09-19",{"$f":"_xlfn.XLOOKUP(C69,'SIMBA LIST'!B:B,'SIMBA LIST'!A:A)","v":{"$error":"#NAME?"}},"配件3-小獅王-蘊蜜寬口奶瓶瓶蓋組(綠沐)-",1,{"$f":"_xlfn.XLOOKUP(C69,'SIMBA LIST'!B:B,'SIMBA LIST'!C:C)","v":{"$error":"#NAME?"}}]
["2024-09-19",{"$f":"_xlfn.XLOOKUP(C70,'SIMBA LIST'!B:B,'SIMBA LIST'!A:A)","v":{"$error":"#NAME?"}},"奶嘴刷-小獅王-超柔無垢白金矽膠奶嘴刷(小樹)-綠-",1,{"$f":"_xlfn.XLOOKUP(C70,'SIMBA LIST'!B:B,'SIMBA LIST'!C:C)","v":{"$error":"#NAME?"}}]
["2024-09-19",{"$f":"_xlfn.XLOOKUP(C71,'SIMBA LIST'!B:B,'SIMBA LIST'!A:A)","v":{"$error":"#NAME?"}},"奶嘴刷-小獅王-超柔無垢白金矽膠奶嘴刷(小麥)-米-",1,{"$f":"_xlfn.XLOOKUP(C71,'SIMBA LIST'!B:B,'SIMBA LIST'!C:C)","v":{"$error":"#NAME?"}}]
["2024-09-19",{"$f":"_xlfn.XLOOKUP(C72,'SIMBA LIST'!B:B,'SIMBA LIST'!A:A)","v":{"$error":"#NAME?"}},"奶嘴刷-小獅王-超柔無垢白金矽膠奶嘴刷(小櫻)-紅-",1,{"$f":"_xlfn.XLOOKUP(C72,'SIMBA LIST'!B:B,'SIMBA LIST'!C:C)","v":{"$error":"#NAME?"}}]
["2024-09-19",{"$f":"_xlfn.XLOOKUP(C73,'SIMBA LIST'!B:B,'SIMBA LIST'!A:A)","v":{"$error":"#NAME?"}},"奶嘴刷-小獅王-超柔無垢白金矽膠奶嘴刷(小石)-灰-",1,{"$f":"_xlfn.XLOOKUP(C73,'SIMBA LIST'!B:B,'SIMBA LIST'!C:C)","v":{"$error":"#NAME?"}}]
["2024-09-19",{"$f":"_xlfn.XLOOKUP(C74,'SIMBA LIST'!B:B,'SIMBA LIST'!A:A)","v":{"$error":"#NAME?"}},"奶樽刷-小獅王-超柔無垢白金矽膠旋轉奶瓶刷(小樹)-綠-",1,{"$f":"_xlfn.XLOOKUP(C74,'SIMBA LIST'!B:B,'SIMBA LIST'!C:C)","v":{"$error":"#NAME?"}}]
["2024-09-19",{"$f":"_xlfn.XLOOKUP(C75,'SIMBA LIST'!B:B,'SIMBA LIST'!A:A)","v":{"$error":"#NAME?"}},"奶樽刷-小獅王-超柔無垢白金矽膠旋轉奶瓶刷(小麥)-米-",1,{"$f":"_xlfn.XLOOKUP(C75,'SIMBA LIST'!B:B,'SIMBA LIST'!C:C)","v":{"$error":"#NAME?"}}]
["2024-09-19",{"$f":"_xlfn.XLOOKUP(C76,'SIMBA LIST'!B:B,'SIMBA LIST'!A:A)","v":{"$error":"#NAME?"}},"奶樽刷-小獅王-超柔無垢白金矽膠旋轉奶瓶刷(小櫻)-紅-",1,{"$f":"_xlfn.XLOOKUP(C76,'SIMBA LIST'!B:B,'SIMBA LIST'!C:C)","v":{"$error":"#NAME?"}}]
["2024-09-19",{"$f":"_xlfn.XLOOKUP(C77,'SIMBA LIST'!B:B,'SIMBA LIST'!A:A)","v":{"$error":"#NAME?"}},"奶樽刷-小獅王-超柔無垢白金矽膠旋轉奶瓶刷(小石)-灰-",1,{"$f":"_xlfn.XLOOKUP(C77,'SIMBA LIST'!B:B,'SIMBA LIST'!C:C)","v":{"$error":"#NAME?"}}]
["2024-09-19",{"$f":"_xlfn.XLOOKUP(C78,'SIMBA LIST'!B:B,'SIMBA LIST'!A:A)","v":{"$error":"#NAME?"}},"奶樽刷-小獅王-超柔無垢白金矽膠奶瓶刷(小樹)-綠-",1,{"$f":"_xlfn.XLOOKUP(C78,'SIMBA LIST'!B:B,'SIMBA LIST'!C:C)","v":{"$error":"#NAME?"}}]
["2024-09-19",{"$f":"_xlfn.XLOOKUP(C79,'SIMBA LIST'!B:B,'SIMBA LIST'!A:A)","v":{"$error":"#NAME?"}},"奶樽刷-小獅王-超柔無垢白金矽膠奶瓶刷(小麥)-米-",1,{"$f":"_xlfn.XLOOKUP(C79,'SIMBA LIST'!B:B,'SIMBA LIST'!C:C)","v":{"$error":"#NAME?"}}]
["2024-09-19",{"$f":"_xlfn.XLOOKUP(C80,'SIMBA LIST'!B:B,'SIMBA LIST'!A:A)","v":{"$error":"#NAME?"}},"奶樽刷-小獅王-超柔無垢白金矽膠奶瓶刷(小櫻)-紅-",1,{"$f":"_xlfn.XLOOKUP(C80,'SIMBA LIST'!B:B,'SIMBA LIST'!C:C)","v":{"$error":"#NAME?"}}]
["2024-09-19",{"$f":"_xlfn.XLOOKUP(C81,'SIMBA LIST'!B:B,'SIMBA LIST'!A:A)","v":{"$error":"#NAME?"}},"奶樽刷-小獅王-超柔無垢白金矽膠奶瓶刷(小石)-灰-",1,{"$f":"_xlfn.XLOOKUP(C81,'SIMBA LIST'!B:B,'SIMBA LIST'!C:C)","v":{"$error":"#NAME?"}}]
["2024-09-19",{"$f":"_xlfn.XLOOKUP(C82,'SIMBA LIST'!B:B,'SIMBA LIST'!A:A)","v":{"$error":"#NAME?"}},"-小獅王-矽膠練習牙刷(天空藍)-",2,{"$f":"_xlfn.XLOOKUP(C82,'SIMBA LIST'!B:B,'SIMBA LIST'!C:C)","v":{"$error":"#NAME?"}}]
["2024-09-19",{"$f":"_xlfn.XLOOKUP(C83,'SIMBA LIST'!B:B,'SIMBA LIST'!A:A)","v":{"$error":"#NAME?"}},"-小獅王-矽膠練習牙刷(淘氣綠)-",1,{"$f":"_xlfn.XLOOKUP(C83,'SIMBA LIST'!B:B,'SIMBA LIST'!C:C)","v":{"$error":"#NAME?"}}]
["2024-09-19",{"$f":"_xlfn.XLOOKUP(C84,'SIMBA LIST'!B:B,'SIMBA LIST'!A:A)","v":{"$error":"#NAME?"}},"-小獅王-矽膠練習牙刷(溫暖橘)-",2,{"$f":"_xlfn.XLOOKUP(C84,'SIMBA LIST'!B:B,'SIMBA LIST'!C:C)","v":{"$error":"#NAME?"}}]
["2024-09-19",{"$f":"_xlfn.XLOOKUP(C85,'SIMBA LIST'!B:B,'SIMBA LIST'!A:A)","v":{"$error":"#NAME?"}},"-小獅王-美味兒童叉匙組-杏茶-",1,{"$f":"_xlfn.XLOOKUP(C85,'SIMBA LIST'!B:B,'SIMBA LIST'!C:C)","v":{"$error":"#NAME?"}}]
["2024-09-19",{"$f":"_xlfn.XLOOKUP(C86,'SIMBA LIST'!B:B,'SIMBA LIST'!A:A)","v":{"$error":"#NAME?"}},"-小獅王-美味兒童叉匙組-晨藍-",1,{"$f":"_xlfn.XLOOKUP(C86,'SIMBA LIST'!B:B,'SIMBA LIST'!C:C)","v":{"$error":"#NAME?"}}]
["2024-09-19",{"$f":"_xlfn.XLOOKUP(C87,'SIMBA LIST'!B:B,'SIMBA LIST'!A:A)","v":{"$error":"#NAME?"}},"學習水杯-小獅王-蘊蜜鉑金PPSU防漏滑蓋學習水杯270ml(晨藍)-",1,{"$f":"_xlfn.XLOOKUP(C87,'SIMBA LIST'!B:B,'SIMBA LIST'!C:C)","v":{"$error":"#NAME?"}}]
["2024-09-19",{"$f":"_xlfn.XLOOKUP(C88,'SIMBA LIST'!B:B,'SIMBA LIST'!A:A)","v":{"$error":"#NAME?"}},"學習水杯-小獅王-蘊蜜鉑金PPSU防漏滑蓋學習水杯270ml(栗粉)-",2,{"$f":"_xlfn.XLOOKUP(C88,'SIMBA LIST'!B:B,'SIMBA LIST'!C:C)","v":{"$error":"#NAME?"}}]
["2024-09-19",{"$f":"_xlfn.XLOOKUP(C89,'SIMBA LIST'!B:B,'SIMBA LIST'!A:A)","v":{"$error":"#NAME?"}},"學習水杯-小獅王-蘊蜜鉑金PPSU防漏滑蓋學習水杯270ml(杏茶)-",0,{"$f":"_xlfn.XLOOKUP(C89,'SIMBA LIST'!B:B,'SIMBA LIST'!C:C)","v":{"$error":"#NAME?"}}]
["2024-09-19",{"$f":"_xlfn.XLOOKUP(C90,'SIMBA LIST'!B:B,'SIMBA LIST'!A:A)","v":{"$error":"#NAME?"}},"學習水杯-小獅王-蘊蜜鉑金PPSU防漏滑蓋學習水杯270ml(紫芙)-",2,{"$f":"_xlfn.XLOOKUP(C90,'SIMBA LIST'!B:B,'SIMBA LIST'!C:C)","v":{"$error":"#NAME?"}}]
["2024-09-19",{"$f":"_xlfn.XLOOKUP(C91,'SIMBA LIST'!B:B,'SIMBA LIST'!A:A)","v":{"$error":"#NAME?"}},"學習水杯-小獅王-蘊蜜鉑金PPSU防漏滑蓋學習水杯270ml(綠沐)-",4,{"$f":"_xlfn.XLOOKUP(C91,'SIMBA LIST'!B:B,'SIMBA LIST'!C:C)","v":{"$error":"#NAME?"}}]
["2024-09-19",{"$f":"_xlfn.XLOOKUP(C92,'SIMBA LIST'!B:B,'SIMBA LIST'!A:A)","v":{"$error":"#NAME?"}},"把手奶樽-小獅王-蘊蜜鉑金PPSU寬口吸管把手防脹氣奶瓶270ml(晨藍)-十字M",2,{"$f":"_xlfn.XLOOKUP(C92,'SIMBA LIST'!B:B,'SIMBA LIST'!C:C)","v":{"$error":"#NAME?"}}]
["2024-09-19",{"$f":"_xlfn.XLOOKUP(C93,'SIMBA LIST'!B:B,'SIMBA LIST'!A:A)","v":{"$error":"#NAME?"}},"把手奶樽-小獅王-蘊蜜鉑金PPSU寬口吸管把手防脹氣奶瓶270ml(綠沐)-十字M",3,{"$f":"_xlfn.XLOOKUP(C93,'SIMBA LIST'!B:B,'SIMBA LIST'!C:C)","v":{"$error":"#NAME?"}}]
["2024-09-19",{"$f":"_xlfn.XLOOKUP(C94,'SIMBA LIST'!B:B,'SIMBA LIST'!A:A)","v":{"$error":"#NAME?"}},"把手奶樽-小獅王-蘊蜜鉑金PPSU寬口吸管把手防脹氣奶瓶270ml(栗粉)-十字M",3,{"$f":"_xlfn.XLOOKUP(C94,'SIMBA LIST'!B:B,'SIMBA LIST'!C:C)","v":{"$error":"#NAME?"}}]
["2024-09-19",{"$f":"_xlfn.XLOOKUP(C95,'SIMBA LIST'!B:B,'SIMBA LIST'!A:A)","v":{"$error":"#NAME?"}},"把手奶樽-小獅王-蘊蜜鉑金PPSU寬口吸管把手防脹氣奶瓶270ml(杏茶)-十字M",3,{"$f":"_xlfn.XLOOKUP(C95,'SIMBA LIST'!B:B,'SIMBA LIST'!C:C)","v":{"$error":"#NAME?"}}]
["2024-09-19",{"$f":"_xlfn.XLOOKUP(C96,'SIMBA LIST'!B:B,'SIMBA LIST'!A:A)","v":{"$error":"#NAME?"}},"把手奶樽-小獅王-蘊蜜鉑金PPSU寬口吸管把手防脹氣奶瓶360ml(晨藍)-十字M",3,{"$f":"_xlfn.XLOOKUP(C96,'SIMBA LIST'!B:B,'SIMBA LIST'!C:C)","v":{"$error":"#NAME?"}}]
["2024-09-19",{"$f":"_xlfn.XLOOKUP(C97,'SIMBA LIST'!B:B,'SIMBA LIST'!A:A)","v":{"$error":"#NAME?"}},"把手奶樽-小獅王-蘊蜜鉑金PPSU寬口吸管把手防脹氣奶瓶360ml(杏茶)-十字M",2,{"$f":"_xlfn.XLOOKUP(C97,'SIMBA LIST'!B:B,'SIMBA LIST'!C:C)","v":{"$error":"#NAME?"}}]
["2024-09-19",{"$f":"_xlfn.XLOOKUP(C98,'SIMBA LIST'!B:B,'SIMBA LIST'!A:A)","v":{"$error":"#NAME?"}},"把手奶樽-小獅王-蘊蜜鉑金PPSU寬口吸管把手防脹氣奶瓶360ml(栗粉)-十字M",5,{"$f":"_xlfn.XLOOKUP(C98,'SIMBA LIST'!B:B,'SIMBA LIST'!C:C)","v":{"$error":"#NAME?"}}]
["2024-09-19",{"$f":"_xlfn.XLOOKUP(C99,'SIMBA LIST'!B:B,'SIMBA LIST'!A:A)","v":{"$error":"#NAME?"}},"PPSU 普通奶樽-小獅王-蘊蜜鉑金PPSU寬口防脹氣奶瓶200ml(栗粉)-圓S",3,{"$f":"_xlfn.XLOOKUP(C99,'SIMBA LIST'!B:B,'SIMBA LIST'!C:C)","v":{"$error":"#NAME?"}}]
["2024-09-19",{"$f":"_xlfn.XLOOKUP(C100,'SIMBA LIST'!B:B,'SIMBA LIST'!A:A)","v":{"$error":"#NAME?"}},"PPSU 普通奶樽-小獅王-蘊蜜鉑金PPSU寬口防脹氣奶瓶200ml(紫芙)-圓S",2,{"$f":"_xlfn.XLOOKUP(C100,'SIMBA LIST'!B:B,'SIMBA LIST'!C:C)","v":{"$error":"#NAME?"}}]
["2024-09-19",{"$f":"_xlfn.XLOOKUP(C101,'SIMBA LIST'!B:B,'SIMBA LIST'!A:A)","v":{"$error":"#NAME?"}},"PPSU 普通奶樽-小獅王-蘊蜜鉑金PPSU寬口防脹氣奶瓶200ml(綠沐)-圓S",6,{"$f":"_xlfn.XLOOKUP(C101,'SIMBA LIST'!B:B,'SIMBA LIST'!C:C)","v":{"$error":"#NAME?"}}]
["2024-09-19",{"$f":"_xlfn.XLOOKUP(C102,'SIMBA LIST'!B:B,'SIMBA LIST'!A:A)","v":{"$error":"#NAME?"}},"PPSU 普通奶樽-小獅王-蘊蜜鉑金PPSU寬口防脹氣奶瓶200ml(杏茶)-圓S",3,{"$f":"_xlfn.XLOOKUP(C102,'SIMBA LIST'!B:B,'SIMBA LIST'!C:C)","v":{"$error":"#NAME?"}}]
["2024-09-19",{"$f":"_xlfn.XLOOKUP(C103,'SIMBA LIST'!B:B,'SIMBA LIST'!A:A)","v":{"$error":"#NAME?"}},"PPSU 普通奶樽-小獅王-蘊蜜鉑金PPSU寬口防脹氣奶瓶200ml(晨藍)-圓S",1,{"$f":"_xlfn.XLOOKUP(C103,'SIMBA LIST'!B:B,'SIMBA LIST'!C:C)","v":{"$error":"#NAME?"}}]
["2024-09-19",{"$f":"_xlfn.XLOOKUP(C104,'SIMBA LIST'!B:B,'SIMBA LIST'!A:A)","v":{"$error":"#NAME?"}},"PPSU 普通奶樽-小獅王-蘊蜜鉑金PPSU寬口防脹氣奶瓶270ml(栗粉)-十字M",3,{"$f":"_xlfn.XLOOKUP(C104,'SIMBA LIST'!B:B,'SIMBA LIST'!C:C)","v":{"$error":"#NAME?"}}]
["2024-09-19",{"$f":"_xlfn.XLOOKUP(C105,'SIMBA LIST'!B:B,'SIMBA LIST'!A:A)","v":{"$error":"#NAME?"}},"PPSU 普通奶樽-小獅王-蘊蜜鉑金PPSU寬口防脹氣奶瓶270ml(紫芙)-十字M",1,{"$f":"_xlfn.XLOOKUP(C105,'SIMBA LIST'!B:B,'SIMBA LIST'!C:C)","v":{"$error":"#NAME?"}}]
["2024-09-19",{"$f":"_xlfn.XLOOKUP(C106,'SIMBA LIST'!B:B,'SIMBA LIST'!A:A)","v":{"$error":"#NAME?"}},"PPSU 普通奶樽-小獅王-蘊蜜鉑金PPSU寬口防脹氣奶瓶270ml(綠沐)-十字M",2,{"$f":"_xlfn.XLOOKUP(C106,'SIMBA LIST'!B:B,'SIMBA LIST'!C:C)","v":{"$error":"#NAME?"}}]
["2024-09-19",{"$f":"_xlfn.XLOOKUP(C107,'SIMBA LIST'!B:B,'SIMBA LIST'!A:A)","v":{"$error":"#NAME?"}},"PPSU 普通奶樽-小獅王-蘊蜜鉑金PPSU寬口防脹氣奶瓶270ml(杏茶)-十字M",3,{"$f":"_xlfn.XLOOKUP(C107,'SIMBA LIST'!B:B,'SIMBA LIST'!C:C)","v":{"$error":"#NAME?"}}]
["2024-09-19",{"$f":"_xlfn.XLOOKUP(C108,'SIMBA LIST'!B:B,'SIMBA LIST'!A:A)","v":{"$error":"#NAME?"}},"PPSU 普通奶樽-小獅王-蘊蜜鉑金PPSU寬口防脹氣奶瓶270ml(晨藍)-十字M",2,{"$f":"_xlfn.XLOOKUP(C108,'SIMBA LIST'!B:B,'SIMBA LIST'!C:C)","v":{"$error":"#NAME?"}}]
["2024-09-19",{"$f":"_xlfn.XLOOKUP(C109,'SIMBA LIST'!B:B,'SIMBA LIST'!A:A)","v":{"$error":"#NAME?"}},"PPSU 普通奶樽-小獅王-蘊蜜鉑金PPSU寬口防脹氣奶瓶360ml(晨藍)-十字M",4,{"$f":"_xlfn.XLOOKUP(C109,'SIMBA LIST'!B:B,'SIMBA LIST'!C:C)","v":{"$error":"#NAME?"}}]
["2024-09-19",{"$f":"_xlfn.XLOOKUP(C110,'SIMBA LIST'!B:B,'SIMBA LIST'!A:A)","v":{"$error":"#NAME?"}},"PPSU 普通奶樽-小獅王-蘊蜜鉑金PPSU寬口防脹氣奶瓶360ml(綠沐)-十字M",5,{"$f":"_xlfn.XLOOKUP(C110,'SIMBA LIST'!B:B,'SIMBA LIST'!C:C)","v":{"$error":"#NAME?"}}]
["2024-09-19",{"$f":"_xlfn.XLOOKUP(C111,'SIMBA LIST'!B:B,'SIMBA LIST'!A:A)","v":{"$error":"#NAME?"}},"PPSU 普通奶樽-小獅王-蘊蜜鉑金PPSU寬口防脹氣奶瓶360ml(紫芙)-十字M",5,{"$f":"_xlfn.XLOOKUP(C111,'SIMBA LIST'!B:B,'SIMBA LIST'!C:C)","v":{"$error":"#NAME?"}}]
["2024-09-19",{"$f":"_xlfn.XLOOKUP(C112,'SIMBA LIST'!B:B,'SIMBA LIST'!A:A)","v":{"$error":"#NAME?"}},"PPSU 普通奶樽-小獅王-蘊蜜鉑金PPSU寬口防脹氣奶瓶360ml(栗粉)-十字M",5,{"$f":"_xlfn.XLOOKUP(C112,'SIMBA LIST'!B:B,'SIMBA LIST'!C:C)","v":{"$error":"#NAME?"}}]
["2024-09-19",{"$f":"_xlfn.XLOOKUP(C113,'SIMBA LIST'!B:B,'SIMBA LIST'!A:A)","v":{"$error":"#NAME?"}},"把手奶樽-小獅王-蘊蜜鉑金PPSU寬口吸管把手防脹氣奶瓶200ml(栗粉)-十字S",3,{"$f":"_xlfn.XLOOKUP(C113,'SIMBA LIST'!B:B,'SIMBA LIST'!C:C)","v":{"$error":"#NAME?"}}]
["2024-09-19",{"$f":"_xlfn.XLOOKUP(C114,'SIMBA LIST'!B:B,'SIMBA LIST'!A:A)","v":{"$error":"#NAME?"}},"把手奶樽-小獅王-蘊蜜鉑金PPSU寬口吸管把手防脹氣奶瓶200ml(晨藍)-十字S",2,{"$f":"_xlfn.XLOOKUP(C114,'SIMBA LIST'!B:B,'SIMBA LIST'!C:C)","v":{"$error":"#NAME?"}}]
["2024-09-19",{"$f":"_xlfn.XLOOKUP(C115,'SIMBA LIST'!B:B,'SIMBA LIST'!A:A)","v":{"$error":"#NAME?"}},"把手奶樽-小獅王-蘊蜜鉑金PPSU寬口吸管把手防脹氣奶瓶200ml(杏茶)-十字S",1,{"$f":"_xlfn.XLOOKUP(C115,'SIMBA LIST'!B:B,'SIMBA LIST'!C:C)","v":{"$error":"#NAME?"}}]
["2024-09-19",{"$f":"_xlfn.XLOOKUP(C116,'SIMBA LIST'!B:B,'SIMBA LIST'!A:A)","v":{"$error":"#NAME?"}},"把手奶樽-小獅王-蘊蜜鉑金PPSU寬口吸管把手防脹氣奶瓶200ml(綠沐)-十字S",2,{"$f":"_xlfn.XLOOKUP(C116,'SIMBA LIST'!B:B,'SIMBA LIST'!C:C)","v":{"$error":"#NAME?"}}]
[]
[]
[]
[]
[]
[]
[]
[]
[]
[]
[]
[]
[]
[]
[]
[]
[]
[]
[]
[]
[]
[]
[]
[]
[]
[]
[]
[]
[]
[]
[]
[]
[]
[]
[]
[]
[]
[]
[]
[]
[]
[]
[]
[]
[]
[]
[]
[]
[]
[]
[]
[]
[]
[]
[]
[]
[]
[]
[]
[]
[]
[]
[]
[]
[]
[]
[]
[]
[]
[]
[]
[]
[]
[]
[]
[]
[]
[]
[]
[]
[]
[]
[]
[]
[]
[]
[]
[]
[]
[]
[]
[]
[]
[]
[]
[]
[]
[]
[]
[]
[]
[]
[]
[]
[]
[]
[]
[]
[]
[]
[]
[]
[]
[]
[]
[]
[]
[]
[]
[]
[]
[]
[]
[]
[]
[]
[]
[]
[]
[]
[]
[]
[]
[]
[]
[]
[]
[]
[]
[]
[]
[]
[]
[]
[]
[]
[]
[]
[]
[]
[]
[]
[]
[]
[]
[]
[]
[]
[]
[]
[]
[]
[]
[]
[]
[]
[]
[]
[]
[]
[]
[]
[]
[]
[]
[]
[]
[]
[]
[]
[]
[]
[]
[]
[]
[]
[]
[]
[]
[]
[]
[]
[]
[]
[]
[]
[]
[]
[]
[]
[]
[]
[]
[]
[]
[]
[]
[]
[]
[]
[]
[]
[]
[]
[]
[]
[]
[]
[]
[]
[]
[]
[]
[]
[]
[]
[]
[]
[]
[]
[]
[]
[]
[]
[]
[]
[]
[]
[]
[]
[]
[]
[]
[]
[]
[]
[]
[]
[]
[]
[]
[]
[]
[]
[]
[]
[]
[]
[]
[]
[]
[]
[]
[]
[]
[]
[]
[]
[]
[]
[]
[]
[]
[]
[]
[]
[]
[]
[]
[]
[]
[]
[]
[]
[]
[]
[]
[]
[]
[]
[]
[]
[]
[]
[]
[]
[]
[]
[]
[]
[]
[]
[]
[]
[]
[]
[]
[]
[]
[]
[]
[]
[]
[]
[]
[]
[]
[]
[]
[]
[]
[]
[]
[]
[]
[]
[]
[]
[]
[]
[]
[]
[]
[]
[]
[]
[]
[]
[]
[]
[]
[]
[]
[]
[]
[]
[]
[]
[]
[]
[]
[]
[]
[]
[]
[]
[]
[]
[]
[]
[]
[]
[]
[]
[]
[]
[]
[]
[]
[]
[]
[]
[]
[]
[]
[]
[]
[]
[]
[]
[]
[]
[]
[]
[]
[]
[]
[]
[]
[]
[]
[]
[]
[]
[]
[]
[]
[]
[]
[]
[]
[]
[]
[]
[]
[]
[]
[]
[]
[]
[]
[]
[]
[]
[]
[]
[]
[]
[]
[]
[]
[]
[]
[]
[]
[]
[]
[]
[]
[]
[]
[]
[]
[]
[]
[]
[]
[]
[]
[]
[]
[]
[]
[]
[]
[]
[]
[]
[]
[]
[]
[]
[]
[]
[]
[]
[]
[]
[]
[]
[]
[]
[]
[]
[]
[]
[]
[]
[]
[]
[]
[]
[]
[]
[]
[]
[]
[]
[]
[]
[]
[]
[]
[]
[]
[]
[]
[]
[]
[]
[]
[]
[]
[]
[]
[]
[]
[]
[]
[]
[]
[]
[]
[]
[]
[]
[]
[]
[]
[]
[]
[]
[]
[]
[]
[]
[]
[]
[]
[]
[]
[]
[]
[]
[]
[]
[]
[]
[]
[]
[]
[]
[]
[]
[]
[]
[]
[]
[]
[]
[]
[]
[]
[]
[]
[]
[]
[]
[]
[]
[]
[]
[]
[]
[]
[]
[]
[]
[]
[]
[]
[]
[]
[]
[]
[]
[]
[]
[]
[]
[]
[]
[]
[]
[]
[]
[]
[]
[]
[]
[]
[]
[]
[]
[]
[]
[]
[]
[]
[]
[]
[]
[]
[]
[]
[]
[]
[]
[]
[]
[]
[]
[]
[]
[]
[]
[]
[]
[]
[]
[]
[]
[]
[]
[]
[]
[]
[]
[]
[]
[]
[]
[]
[]
[]
[]
[]
[]
[]
[]
[]
[]
[]
[]
[]
[]
[]
[]
[]
[]
[]
[]
[]
[]
[]
[]
[]
[]
[]
[]
[]
[]
[]
[]
[]
[]
[]
[]
[]
[]
[]
[]
[]
[]
[]
[]
[]
[]
[]
[]
[]
[]
[]
[]
[]
[]
[]
[]
[]
[]
[]
[]
[]
[]
[]
[]
[]
[]
[]
[]
[]
[]
[]
[]
[]
[]
[]
[]
[]
[]
[]
[]
[]
[]
[]
[]
[]
[]
[]
[]
[]
[]
[]
[]
[]
[]
[]
[]
[]
[]
[]
[]
[]
[]
[]
[]
[]
[]
[]
[]
[]
[]
[]
[]
[]
[]
[]
[]
[]
[]
[]
[]
[]
[]
[]
[]
[]
[]
[]
[]
[]
[]
[]
[]
[]
[]
[]
[]
[]
[]
[]
[]
[]
[]
[]
[]
[]
[]
[]
[]
[]
[]
[]
[]
[]
[]
[]
[]
[]
[]
[]
[]
[]
[]
[]
[]
[]
[]
[]
[]
[]
[]
[]
[]
[]
[]
[]
[]
[]
[]
[]
[]
[]
[]
[]
[]
[]
[]
[]
[]
[]
[]
[]
[]
[]
[]
[]
[]
[]
[]
[]
[]
[]
[]
[]
[]
[]
[]
[]
[]
[]
[]
[]
[]
[]
[]
[]
[]
[]
[]
[]
[]
[]
[]
[]
[]
[]
[]
[]
[]
[]
[]
[]
[]
[]
[]
[]
[]
[]
[]
[]
[]
[]
[]
[]
[]
[]
[]
[]
[]
[]
[]
[]
[]
[]
[]
[]
[]
[]
[]
[]
[]
[null,null,null,0]