{"text_format":"1","workbook":"xlsx","n_sheets":12,"sheets":["訂單","入貨單","商品","訂貨資料庫","資料庫","客戶","SEND","工作表4","訂貨","庫存計算","SIMBA LIST","SIMBA入庫表"],"not_rendered":{"charts":0,"images":1,"macros":1,"external_links":0,"defined_names":9,"comments":0,"pivot_tables":3},"unopened":[],"bounds":{"document_bytes":16777216,"sheet_cells":100000,"rows_first":2000,"rows_last":500,"rows_between":2000,"halvings":0,"cell_chars":16384,"cell_head_chars":4096},"cells_cut":0,"cells_raw":0,"read":"whole","date_system":"1900"}

{"sheet":"訂單","index":0,"n_rows":27,"n_cols":8,"rows_kept":27,"cut":false,"hidden":false,"merged":[[23,2,23,6],[2,6,2,7]]}
["INVOICE_START"]
[]
[null,null,"INVOICE",null,null,null,"WWW.1683KIDS.COM\nIG: 1683_KIDS"]
[]
[null,null,"客戶電話"]
[null,null,null,null,null,"訂單編號",260]
[null,null,null,null,null,"訂單日期","2024-11-05"]
[]
[null,null,"編號","產品項目","數量","單價","金額"]
["S3_R3,QTY_SELL_NOK,(9)",null,{"$f":"_xlfn.XLOOKUP(D10,表格2[產品],表格2[編號],\"\")","v":{"$error":"#NAME?"}},"Apple",1,{"$f":"IFERROR(VLOOKUP(D10,表格2[[產品]:[單價]],3,0),\"\")","v":1},{"$f":"IF(OR(E10=\"\",F10=\"\"),\"\",E10*F10)","v":1}]
["S3_R4,PRESELL_SKIP,(12)",null,{"$f":"_xlfn.XLOOKUP(D11,表格2[產品],表格2[編號],\"\")","v":{"$error":"#NAME?"}},"Orange",2,{"$f":"IFERROR(VLOOKUP(D11,表格2[[產品]:[單價]],3,0),\"\")","v":2},4]
["S3_R6,QTY_SELL_OK,(27)",null,{"$f":"_xlfn.XLOOKUP(D12,表格2[產品],表格2[編號],\"\")","v":{"$error":"#NAME?"}},"Grape",3,{"$f":"IFERROR(VLOOKUP(D12,表格2[[產品]:[單價]],3,0),\"\")","v":4},12]
[null,null,{"$f":"_xlfn.XLOOKUP(D13,表格2[產品],表格2[編號],\"\")","v":{"$error":"#NAME?"}},null,null,{"$f":"IFERROR(VLOOKUP(D13,表格2[[產品]:[單價]],3,0),\"\")","v":""},""]
[null,null,{"$f":"_xlfn.XLOOKUP(D14,表格2[產品],表格2[編號],\"\")","v":{"$error":"#NAME?"}},null,null,{"$f":"IFERROR(VLOOKUP(D14,表格2[[產品]:[單價]],3,0),\"\")","v":""},""]
[null,null,{"$f":"_xlfn.XLOOKUP(D15,表格2[產品],表格2[編號],\"\")","v":{"$error":"#NAME?"}},null,null,{"$f":"IFERROR(VLOOKUP(D15,表格2[[產品]:[單價]],3,0),\"\")","v":""},""]
[null,null,{"$f":"_xlfn.XLOOKUP(D16,表格2[產品],表格2[編號],\"\")","v":{"$error":"#NAME?"}},null,null,{"$f":"IFERROR(VLOOKUP(D16,表格2[[產品]:[單價]],3,0),\"\")","v":""},""]
[null,null,null,"ITEM_END",null,"總金額",{"$f":"SUM(G10:G16)","v":17}]
[null,null,"付款方式:"]
[null,null,"FPS 轉數快: 59831890",null,null,"收件方式:"]
[null,null,"PAYME: 59831890",null,null,"順豐到付"]
[null,null,"ALIPAY: 59831890",null,null,"大埔廣場自提點 (需提前約時間)"]
[]
[null,null,"為免出現棄單情況,請於24小時內或截單前轉數,入數後請whatsapp 收據,否則會視訂單無效 🙏🏻"]
[null,null,"訂單細則:\n1.\t訂單已確立後,不可更改尺碼或款式\n2.\t預訂產品有機會延誤或早到,不接受貨期延誤作退款原因\n3.\t貨品不設退換, 寄出前會檢查清楚才寄出\n4.\t寄出前會WHATSAPP拍攝寄出的產品, 請檢查款式是否正確\n5.\t如發現產品有任何問題,請簽收後48小時內通知,逾期通知恕不處理"]
[]
[]
[null,null,null,null,null,null,null,"INVOICE_END"]

{"sheet":"入貨單","index":1,"n_rows":27,"n_cols":9,"rows_kept":27,"cut":false,"hidden":false,"merged":[[2,6,2,7]]}
["INVOICE_START"]
[]
[null,null,"1683KIDS_訂貨單"]
[]
[null,null,"日期:","2024-11-03",null,"單號:","00002"]
[]
[]
[]
[null,null,"編號","產品項目","數量","入貨價","金額"]
["history added",null,1,"Apple",10,1,{"$f":"IF(OR(E10=\"\",F10=\"\"),\"\",E10*F10)","v":10},null,{"$f":"VLOOKUP(D10,商品!B:L,11,FALSE)","v":19}]
["history added",null,2,"Banana",1,2,2,null,{"$f":"VLOOKUP(D11,商品!B:L,11,FALSE)","v":21}]
["history added",null,3,"Grape",20,3,60,null,{"$f":"VLOOKUP(D12,商品!B:L,11,FALSE)","v":47}]
["qty not found",null,4,"Watermelon",null,4,"",null,{"$f":"VLOOKUP(D13,商品!B:L,11,FALSE)","v":11}]
["presell not added",null,null,"Orange",5,null,null,null,{"$f":"VLOOKUP(D14,商品!B:L,11,FALSE)","v":"p"}]
[null,null,null,null,null,null,""]
[null,null,null,null,{"$f":"SUM(E10:E15)","v":36}]
[null,null,null,null,null,"總金額",{"$f":"SUM(G10:G15)","v":72}]
[]
[]
[]
[]
[]
[]
[]
[]
[]
[null,null,null,null,null,null,null,"INVOICE_END"]

{"sheet":"商品","index":2,"n_rows":482,"n_cols":14,"rows_kept":482,"cut":false,"hidden":false,"merged":[]}
["編號","產品","入貨價","單價","出POST日期","到貨日","狀態","ITEM","SIZE","顏色","貨源","數量","ALERT","COUNTER"]
["HK2",{"$f":"表格2[[#This Row],[ITEM]]&\"-\"&表格2[[#This Row],[SIZE]]&\"-\"&表格2[[#This Row],[顏色]]","v":"BBB經典餐具-米-"},null,88,null,null,null,"BBB經典餐具","米"]
[null,"Apple",null,1,null,null,null,null,null,1,null,19,10]
[null,"Orange",null,2,null,null,null,null,null,2,null,"p",null,12]
[null,"Banana",null,3,null,null,null,null,null,3,null,21,10]
[null,"Grape",null,4,null,null,null,null,null,4,null,47]
[null,"Watermelon",null,5,null,null,null,null,null,5,null,11]
[null,null,null,null,null,null,null,null,null,null,null,0]
[]
[]
[]
[]
[]
[]
[]
[]
[]
[]
[]
[]
[]
[]
[]
[]
[]
[]
[]
[]
[]
[]
[]
[]
[]
[]
[]
[]
[]
[]
[]
[]
[]
[]
[]
[]
[]
[]
[]
[]
[]
[]
[]
[]
[]
[]
[]
[]
[]
[]
[]
[]
[]
[]
[]
[]
[]
[]
[]
[]
[]
[]
[]
[]
[]
[]
[]
[]
[]
[]
[]
[]
[]
[]
[]
[]
[]
[]
[]
[]
[]
[]
[]
[]
[]
[]
[]
[]
[]
[]
[]
[]
[]
[]
[]
[]
[]
[]
[]
[]
[]
[]
[]
[]
[]
[]
[]
[]
[]
[]
[]
[]
[]
[]
[]
[]
[]
[]
[]
[]
[]
[]
[]
[]
[]
[]
[]
[]
[]
[]
[]
[]
[]
[]
[]
[]
[]
[]
[]
[]
[]
[]
[]
[]
[]
[]
[]
[]
[]
[]
[]
[]
[]
[]
[]
[]
[]
[]
[]
[]
[]
[]
[]
[]
[]
[]
[]
[]
[]
[]
[]
[]
[]
[]
[]
[]
[]
[]
[]
[]
[]
[]
[]
[]
[]
[]
[]
[]
[]
[]
[]
[]
[]
[]
[]
[]
[]
[]
[]
[]
[]
[]
[]
[]
[]
[]
[]
[]
[]
[]
[]
[]
[]
[]
[]
[]
[]
[]
[]
[]
[]
[]
[]
[]
[]
[]
[]
[]
[]
[]
[]
[]
[]
[]
[]
[]
[]
[]
[]
[]
[]
[]
[]
[]
[]
[]
[]
[]
[]
[]
[]
[]
[]
[]
[]
[]
[]
[]
[]
[]
[]
[]
[]
[]
[]
[]
[]
[]
[]
[]
[]
[]
[]
[]
[]
[]
[]
[]
[]
[]
[]
[]
[]
[]
[]
[]
[]
[]
[]
[]
[]
[]
[]
[]
[]
[]
[]
[]
[]
[]
[]
[]
[]
[]
[]
[]
[]
[]
[]
[]
[]
[]
[]
[]
[]
[]
[]
[]
[]
[]
[]
[]
[]
[]
[]
[]
[]
[]
[]
[]
[]
[]
[]
[]
[]
[]
[]
[]
[]
[]
[]
[]
[]
[]
[]
[]
[]
[]
[]
[]
[]
[]
[]
[]
[]
[]
[]
[]
[]
[]
[]
[]
[]
[]
[]
[]
[]
[]
[]
[]
[]
[]
[]
[]
[]
[]
[]
[]
[]
[]
[]
[]
[]
[]
[]
[]
[]
[]
[]
[]
[]
[]
[]
[]
[]
[]
[]
[]
[]
[]
[]
[]
[]
[]
[]
[]
[]
[]
[]
[]
[]
[]
[]
[]
[]
[]
[]
[]
[]
[]
[]
[]
[]
[]
[]
[]
[]
[]
[]
[]
[]
[]
[]
[]
[]
[]
[]
[]
[]
[]
[]
[]
[]
[]
[]
[]
[]
[]
[]
[]
[]
[]
[]
[]
[]
[]
[]
[]
[]
[]
[]
[]
[]
[]
[]
[]
[]
[]
[]
[null,null,null,null,null,null,null,null,null,null,null,101,10]
[null,null,null,null,null,null,null,null,null,null,null,"PRESELL",null,1]
[null,null,null,null,null,null,null,null,null,null,null,15,10]
[null,null,null,null,null,null,null,null,null,null,null,-10]
[null,null,null,null,null,null,null,null,null,null,null,1]

{"sheet":"訂貨資料庫","index":3,"n_rows":5,"n_cols":7,"rows_kept":5,"cut":false,"hidden":false,"merged":[]}
["訂單編號","訂單日期","購買商品","數量","入貨價","金額","狀態"]
[1,"2022-12-20","圓領長版上衣",2,490,980,"已寄"]
[2,"2024-11-03","Apple",10,1,10,"not_arrived"]
[2,"2024-11-03","Banana",1,2,2,"not_arrived"]
[2,"2024-11-03","Grape",20,3,60,"not_arrived"]

{"sheet":"資料庫","index":4,"n_rows":1048576,"n_cols":10,"rows_kept":4500,"cut":true,"hidden":false,"merged":[],"bounds":{"rows_first":2000,"rows_last":500,"rows_between":2000,"halvings":0}}
["訂單編號","訂單日期","客戶電話","購買商品","數量","單價","金額","狀態","編號","已付款"]
[1,"2022-12-20","林阿杰","圓領長版上衣",2,490,980,"已寄",{"$f":"_xlfn.XLOOKUP(D2,表格2[產品],表格2[編號],\"\")","v":{"$error":"#NAME?"}},false]
[2,"2024-10-13",null,"寬版條紋T恤",2,350,700,"已寄",{"$f":"_xlfn.XLOOKUP(D3,表格2[產品],表格2[編號],\"\")","v":{"$error":"#NAME?"}},false]
[3,"2024-10-13",96638494,"小木馬",2,60,120,"已寄",{"$f":"_xlfn.XLOOKUP(D4,表格2[產品],表格2[編號],\"\")","v":{"$error":"#NAME?"}},false]
[4,"2024-10-13",68438099,"唐老鴨連身-80",2,50,100,"已寄",{"$f":"_xlfn.XLOOKUP(D5,表格2[產品],表格2[編號],\"\")","v":{"$error":"#NAME?"}},false]
[5,"2024-10-13",96638494,"唐老鴨連身-70",1,50,50,"已寄",{"$f":"_xlfn.XLOOKUP(D6,表格2[產品],表格2[編號],\"\")","v":{"$error":"#NAME?"}},false]
[5,"2024-10-13",96638494,"唐老鴨連身-70",1,50,50,"已寄",{"$f":"_xlfn.XLOOKUP(D7,表格2[產品],表格2[編號],\"\")","v":{"$error":"#NAME?"}},false]
[5,"2024-10-13",96638494,"唐老鴨連身-80",1,50,50,"已寄",{"$f":"_xlfn.XLOOKUP(D8,表格2[產品],表格2[編號],\"\")","v":{"$error":"#NAME?"}},false]
[6,"2024-10-13","TEL1","唐老鴨長袖上衣-60-藍",2,50,100,"已寄",{"$f":"_xlfn.XLOOKUP(D9,表格2[產品],表格2[編號],\"\")","v":{"$error":"#NAME?"}},false]
[7,"2024-10-13",68438099,"唐老鴨長袖上衣-50-粉",1,350,350,"已寄",{"$f":"_xlfn.XLOOKUP(D10,表格2[產品],表格2[編號],\"\")","v":{"$error":"#NAME?"}},false]
[8,"2024-10-13",51047798,"毛衛衣-MELODY80-",1,69,69,"預訂－未到貨",{"$f":"_xlfn.XLOOKUP(D11,表格2[產品],表格2[編號],\"\")","v":{"$error":"#NAME?"}},false]
[9,"2024-10-13",51822020,"NF 被-黑-",1,0,0,"預訂－未到貨",{"$f":"_xlfn.XLOOKUP(D12,表格2[產品],表格2[編號],\"\")","v":{"$error":"#NAME?"}},false]
[9,"2024-10-13",51822020,"豬仔-包70-",1,0,0,"預訂－未到貨",{"$f":"_xlfn.XLOOKUP(D13,表格2[產品],表格2[編號],\"\")","v":{"$error":"#NAME?"}},false]
[11,"2024-10-13",54236849,"NF 熊仔外套-白100-",1,0,0,"預訂－未到貨",{"$f":"_xlfn.XLOOKUP(D14,表格2[產品],表格2[編號],\"\")","v":{"$error":"#NAME?"}},false]
[12,"2024-10-13",55459945,"三合一-粉90-",1,139,139,"已寄",{"$f":"_xlfn.XLOOKUP(D15,表格2[產品],表格2[編號],\"\")","v":{"$error":"#NAME?"}},false]
[13,"2024-10-13",56003806,"NF 熊仔外套-白90-",1,0,0,"預訂－未到貨",{"$f":"_xlfn.XLOOKUP(D16,表格2[產品],表格2[編號],\"\")","v":{"$error":"#NAME?"}},false]
[14,"2024-10-13",60212108,"POLO純色連身裙-藍100-",1,0,0,"預訂－未到貨",{"$f":"_xlfn.XLOOKUP(D17,表格2[產品],表格2[編號],\"\")","v":{"$error":"#NAME?"}},false]
[14,"2024-10-13",60212108,"POLO條紋裙-100-",1,0,0,"預訂－未到貨",{"$f":"_xlfn.XLOOKUP(D18,表格2[產品],表格2[編號],\"\")","v":{"$error":"#NAME?"}},false]
[16,"2024-10-13",60293351,"NF 熊仔外套-白90-",1,0,0,"預訂－未到貨",{"$f":"_xlfn.XLOOKUP(D19,表格2[產品],表格2[編號],\"\")","v":{"$error":"#NAME?"}},false]
[17,"2024-10-13",60377123,"MELODY紅白衛衣-80-",1,0,0,"已寄",{"$f":"_xlfn.XLOOKUP(D20,表格2[產品],表格2[編號],\"\")","v":{"$error":"#NAME?"}},false]
[17,"2024-10-13",60377123,"MELODY紅白衛衣-90-",1,0,0,"已寄",{"$f":"_xlfn.XLOOKUP(D21,表格2[產品],表格2[編號],\"\")","v":{"$error":"#NAME?"}},false]
[17,"2024-10-13",60377123,"MIFFY A-粉80-",1,0,0,"已寄",{"$f":"_xlfn.XLOOKUP(D22,表格2[產品],表格2[編號],\"\")","v":{"$error":"#NAME?"}},false]
[17,"2024-10-13",60377123,"MIFFY A-藍80-",1,0,0,"已寄",{"$f":"_xlfn.XLOOKUP(D23,表格2[產品],表格2[編號],\"\")","v":{"$error":"#NAME?"}},false]
[17,"2024-10-13",60377123,"福袋D-90-",2,0,0,"預訂－未到貨",{"$f":"_xlfn.XLOOKUP(D24,表格2[產品],表格2[編號],\"\")","v":{"$error":"#NAME?"}},false]
[17,"2024-10-13",60377123,"頸巾-兔-",1,0,0,"預訂－未到貨",{"$f":"_xlfn.XLOOKUP(D25,表格2[產品],表格2[編號],\"\")","v":{"$error":"#NAME?"}},false]
[17,"2024-10-13",60377123,"頸巾-熊-",1,0,0,"預訂－未到貨",{"$f":"_xlfn.XLOOKUP(D26,表格2[產品],表格2[編號],\"\")","v":{"$error":"#NAME?"}},false]
[18,"2024-10-13",60377123,"MIFFYB-白90-",1,0,0,"預訂－未到貨",{"$f":"_xlfn.XLOOKUP(D27,表格2[產品],表格2[編號],\"\")","v":{"$error":"#NAME?"}},false]
[18,"2024-10-13",60377123,"MIFFYB-粉90-",1,0,0,"預訂－未到貨",{"$f":"_xlfn.XLOOKUP(D28,表格2[產品],表格2[編號],\"\")","v":{"$error":"#NAME?"}},false]
[18,"2024-10-13",60377123,"MIFFY滿印-白90-",1,0,0,"預訂－未到貨",{"$f":"_xlfn.XLOOKUP(D29,表格2[產品],表格2[編號],\"\")","v":{"$error":"#NAME?"}},false]
[18,"2024-10-13",60377123,"MIFFY滿印-粉90-",1,0,0,"預訂－未到貨",{"$f":"_xlfn.XLOOKUP(D30,表格2[產品],表格2[編號],\"\")","v":{"$error":"#NAME?"}},false]
[18,"2024-10-13",60377123,"NF 被-黑-",2,0,0,"預訂－未到貨",{"$f":"_xlfn.XLOOKUP(D31,表格2[產品],表格2[編號],\"\")","v":{"$error":"#NAME?"}},false]
[18,"2024-10-13",60377123,"NF 熊仔外套-粉90-",1,0,0,"預訂－未到貨",{"$f":"_xlfn.XLOOKUP(D32,表格2[產品],表格2[編號],\"\")","v":{"$error":"#NAME?"}},false]
[18,"2024-10-13",60377123,"NF 熊仔外套-啡90-",1,0,0,"預訂－未到貨",{"$f":"_xlfn.XLOOKUP(D33,表格2[產品],表格2[編號],\"\")","v":{"$error":"#NAME?"}},false]
[19,"2024-10-13",60377123,"POLO條紋裙-90-",2,0,0,"預訂－未到貨",{"$f":"_xlfn.XLOOKUP(D34,表格2[產品],表格2[編號],\"\")","v":{"$error":"#NAME?"}},false]
[20,"2024-10-13",60377123,"毛衛衣-MELODY80-",1,69,69,"預訂－未到貨",{"$f":"_xlfn.XLOOKUP(D35,表格2[產品],表格2[編號],\"\")","v":{"$error":"#NAME?"}},false]
[20,"2024-10-13",60377123,"毛衛衣-MELODY90-",1,0,0,"預訂－未到貨",{"$f":"_xlfn.XLOOKUP(D36,表格2[產品],表格2[編號],\"\")","v":{"$error":"#NAME?"}},false]
[21,"2024-10-13",60512140,"面包超人袋--",1,0,0,"預訂－未到貨",{"$f":"_xlfn.XLOOKUP(D37,表格2[產品],表格2[編號],\"\")","v":{"$error":"#NAME?"}},false]
[22,"2024-10-13",60545685,"Linabell 粉外套-120-",1,0,0,"預訂－未到貨",{"$f":"_xlfn.XLOOKUP(D38,表格2[產品],表格2[編號],\"\")","v":{"$error":"#NAME?"}},false]
[23,"2024-10-13",60857755,"nf legging褲-黑100-",1,0,0,"已寄",{"$f":"_xlfn.XLOOKUP(D39,表格2[產品],表格2[編號],\"\")","v":{"$error":"#NAME?"}},false]
[24,"2024-10-13",60895155,"現-牛仔花花裙-90-",1,0,0,"已寄",{"$f":"_xlfn.XLOOKUP(D40,表格2[產品],表格2[編號],\"\")","v":{"$error":"#NAME?"}},false]
[24,"2024-10-13",60895155,"間條連身-MELODY90-",1,0,0,"已寄",{"$f":"_xlfn.XLOOKUP(D41,表格2[產品],表格2[編號],\"\")","v":{"$error":"#NAME?"}},false]
[24,"2024-10-13",60895155,"間條連身-青90-",1,0,0,"已寄",{"$f":"_xlfn.XLOOKUP(D42,表格2[產品],表格2[編號],\"\")","v":{"$error":"#NAME?"}},false]
[25,"2024-10-13",60920829,"印章--",1,65,65,"已寄",{"$f":"_xlfn.XLOOKUP(D43,表格2[產品],表格2[編號],\"\")","v":{"$error":"#NAME?"}},false]
[26,"2024-10-13",60931124,"konny碗-藍-",1,0,0,"已寄",{"$f":"_xlfn.XLOOKUP(D44,表格2[產品],表格2[編號],\"\")","v":{"$error":"#NAME?"}},false]
[26,"2024-10-13",60931124,"印章--",1,65,65,"已寄",{"$f":"_xlfn.XLOOKUP(D45,表格2[產品],表格2[編號],\"\")","v":{"$error":"#NAME?"}},false]
[26,"2024-10-13",60931124,"姓名貼--",2,0,0,"已寄",{"$f":"_xlfn.XLOOKUP(D46,表格2[產品],表格2[編號],\"\")","v":{"$error":"#NAME?"}},false]
[26,"2024-10-13",60931124,"小魔怪-100-",1,85,85,"已寄",{"$f":"_xlfn.XLOOKUP(D47,表格2[產品],表格2[編號],\"\")","v":{"$error":"#NAME?"}},false]
[26,"2024-10-13",60931124,"聖誕鹿-120-",1,0,0,"已寄",{"$f":"_xlfn.XLOOKUP(D48,表格2[產品],表格2[編號],\"\")","v":{"$error":"#NAME?"}},false]
[26,"2024-10-13",60931124,"NF 被-黑-",1,0,0,"預訂－未到貨",{"$f":"_xlfn.XLOOKUP(D49,表格2[產品],表格2[編號],\"\")","v":{"$error":"#NAME?"}},false]
[27,"2024-10-13",60956161,"聖誕樹-90-",1,0,0,"已寄",{"$f":"_xlfn.XLOOKUP(D50,表格2[產品],表格2[編號],\"\")","v":{"$error":"#NAME?"}},false]
[28,"2024-10-13",61060504,"水怪滿印set-90-",1,75,75,"已寄",{"$f":"_xlfn.XLOOKUP(D51,表格2[產品],表格2[編號],\"\")","v":{"$error":"#NAME?"}},false]
[28,"2024-10-13",61060504,"唐老鴨背包--",1,0,0,"已寄",{"$f":"_xlfn.XLOOKUP(D52,表格2[產品],表格2[編號],\"\")","v":{"$error":"#NAME?"}},false]
[29,"2024-10-13",61079988,"NF雙面棉外套-米杏100-",1,0,0,"預訂－未到貨",{"$f":"_xlfn.XLOOKUP(D53,表格2[產品],表格2[編號],\"\")","v":{"$error":"#NAME?"}},false]
[29,"2024-10-13",61079988,"NF雙面棉外套-米杏L-",1,0,0,"預訂－未到貨",{"$f":"_xlfn.XLOOKUP(D54,表格2[產品],表格2[編號],\"\")","v":{"$error":"#NAME?"}},false]
[30,"2024-10-13",61220054,"DTD車帶--",1,0,0,"已寄",{"$f":"_xlfn.XLOOKUP(D55,表格2[產品],表格2[編號],\"\")","v":{"$error":"#NAME?"}},false]
[30,"2024-10-13",61220054,"三合一-藍100-",1,139,139,"已寄",{"$f":"_xlfn.XLOOKUP(D56,表格2[產品],表格2[編號],\"\")","v":{"$error":"#NAME?"}},false]
[30,"2024-10-13",61220054,"間條連身-青90-",1,0,0,"已寄",{"$f":"_xlfn.XLOOKUP(D57,表格2[產品],表格2[編號],\"\")","v":{"$error":"#NAME?"}},false]
[30,"2024-10-13",61220054,"NF雙面棉外套-粉M-",1,0,0,"預訂－未到貨",{"$f":"_xlfn.XLOOKUP(D58,表格2[產品],表格2[編號],\"\")","v":{"$error":"#NAME?"}},false]
[30,"2024-10-13",61220054,"NF雙面棉外套-綠90-",1,0,0,"預訂－未到貨",{"$f":"_xlfn.XLOOKUP(D59,表格2[產品],表格2[編號],\"\")","v":{"$error":"#NAME?"}},false]
[30,"2024-10-13",61220054,"面包超人袋--",1,0,0,"預訂－未到貨",{"$f":"_xlfn.XLOOKUP(D60,表格2[產品],表格2[編號],\"\")","v":{"$error":"#NAME?"}},false]
[31,"2024-10-13",61249253,"現-george-滿印littlemonkey-白-95-",1,0,0,"已到貨",{"$f":"_xlfn.XLOOKUP(D61,表格2[產品],表格2[編號],\"\")","v":{"$error":"#NAME?"}},false]
[32,"2024-10-13",61500548,"MIFFY杯套-藍--",1,0,0,"已到貨",{"$f":"_xlfn.XLOOKUP(D62,表格2[產品],表格2[編號],\"\")","v":{"$error":"#NAME?"}},false]
[33,"2024-10-13",61869513,"唐老鴨連身-90-",1,0,0,"已寄",{"$f":"_xlfn.XLOOKUP(D63,表格2[產品],表格2[編號],\"\")","v":{"$error":"#NAME?"}},false]
[33,"2024-10-13",61869513,"豬仔連身-90-",1,0,0,"已寄",{"$f":"_xlfn.XLOOKUP(D64,表格2[產品],表格2[編號],\"\")","v":{"$error":"#NAME?"}},false]
[34,"2024-10-13",61997281,"唐老鴨連身-100-",1,0,0,"已寄",{"$f":"_xlfn.XLOOKUP(D65,表格2[產品],表格2[編號],\"\")","v":{"$error":"#NAME?"}},false]
[34,"2024-10-13",61997281,"Linabell 粉外套-110-",1,0,0,"預訂－未到貨",{"$f":"_xlfn.XLOOKUP(D66,表格2[產品],表格2[編號],\"\")","v":{"$error":"#NAME?"}},false]
[35,"2024-10-13",62004948,"NF雙面棉外套-米杏L-",1,0,0,"預訂－未到貨",{"$f":"_xlfn.XLOOKUP(D67,表格2[產品],表格2[編號],\"\")","v":{"$error":"#NAME?"}},false]
[35,"2024-10-13",62004948,"NF雙面棉外套-粉M-",1,0,0,"預訂－未到貨",{"$f":"_xlfn.XLOOKUP(D68,表格2[產品],表格2[編號],\"\")","v":{"$error":"#NAME?"}},false]
[35,"2024-10-13",62004948,"NF雙面棉外套-綠100-",1,0,0,"預訂－未到貨",{"$f":"_xlfn.XLOOKUP(D69,表格2[產品],表格2[編號],\"\")","v":{"$error":"#NAME?"}},false]
[35,"2024-10-13",62004948,"獅子外套-100-",1,0,0,"已到貨",{"$f":"_xlfn.XLOOKUP(D70,表格2[產品],表格2[編號],\"\")","v":{"$error":"#NAME?"}},false]
[36,"2024-10-13",62235095,"現-綠龍長袖-90--",1,0,0,"已寄",{"$f":"_xlfn.XLOOKUP(D71,表格2[產品],表格2[編號],\"\")","v":{"$error":"#NAME?"}},false]
[37,"2024-10-13",62370523,"POLO純色連身裙-卡其90-",1,0,0,"預訂－未到貨",{"$f":"_xlfn.XLOOKUP(D72,表格2[產品],表格2[編號],\"\")","v":{"$error":"#NAME?"}},false]
[37,"2024-10-13",62370523,"POLO純色連身裙-藍110-",1,0,0,"預訂－未到貨",{"$f":"_xlfn.XLOOKUP(D73,表格2[產品],表格2[編號],\"\")","v":{"$error":"#NAME?"}},false]
[37,"2024-10-13",62370523,"印章--",1,65,65,"已到貨",{"$f":"_xlfn.XLOOKUP(D74,表格2[產品],表格2[編號],\"\")","v":{"$error":"#NAME?"}},false]
[37,"2024-10-13",62370523,"滿印熊-PAT-啡80-",1,0,0,"已到貨",{"$f":"_xlfn.XLOOKUP(D75,表格2[產品],表格2[編號],\"\")","v":{"$error":"#NAME?"}},false]
[38,"2024-10-13",62441454,"GAP 連身米-100-",1,0,0,"已寄",{"$f":"_xlfn.XLOOKUP(D76,表格2[產品],表格2[編號],\"\")","v":{"$error":"#NAME?"}},false]
[38,"2024-10-13",62441454,"H2-18-24-",1,0,0,"已寄",{"$f":"_xlfn.XLOOKUP(D77,表格2[產品],表格2[編號],\"\")","v":{"$error":"#NAME?"}},false]
[38,"2024-10-13",62441454,"LEE吊帶褲-灰100-",1,0,0,"已寄",{"$f":"_xlfn.XLOOKUP(D78,表格2[產品],表格2[編號],\"\")","v":{"$error":"#NAME?"}},false]
[39,"2024-10-13",62748251,"POLO條紋裙-90-",1,0,0,"預訂－未到貨",{"$f":"_xlfn.XLOOKUP(D79,表格2[產品],表格2[編號],\"\")","v":{"$error":"#NAME?"}},false]
[40,"2024-10-13",62750318,"單眼仔-包80-",1,0,0,"預訂－未到貨",{"$f":"_xlfn.XLOOKUP(D80,表格2[產品],表格2[編號],\"\")","v":{"$error":"#NAME?"}},false]
[40,"2024-10-13",62750318,"單眼仔-衛100-",2,0,0,"預訂－未到貨",{"$f":"_xlfn.XLOOKUP(D81,表格2[產品],表格2[編號],\"\")","v":{"$error":"#NAME?"}},false]
[40,"2024-10-13",62750318,"單眼仔-衛130-",1,0,0,"預訂－未到貨",{"$f":"_xlfn.XLOOKUP(D82,表格2[產品],表格2[編號],\"\")","v":{"$error":"#NAME?"}},false]
[41,"2024-10-13",62834583,"SANRIO 滿印-HT80-",1,0,0,"預訂－未到貨",{"$f":"_xlfn.XLOOKUP(D83,表格2[產品],表格2[編號],\"\")","v":{"$error":"#NAME?"}},false]
[42,"2024-10-13",62991441,"豬仔連身-80-",1,0,0,"已寄",{"$f":"_xlfn.XLOOKUP(D84,表格2[產品],表格2[編號],\"\")","v":{"$error":"#NAME?"}},false]
[43,"2024-10-13",62995454,"nf legging褲-黑100-",1,0,0,"已到貨",{"$f":"_xlfn.XLOOKUP(D85,表格2[產品],表格2[編號],\"\")","v":{"$error":"#NAME?"}},false]
[43,"2024-10-13",62995454,"nf legging褲-黑130-",1,0,0,"已到貨",{"$f":"_xlfn.XLOOKUP(D86,表格2[產品],表格2[編號],\"\")","v":{"$error":"#NAME?"}},false]
[43,"2024-10-13",62995454,"lee 衛衣-灰白130-",1,0,0,"缺貨",{"$f":"_xlfn.XLOOKUP(D87,表格2[產品],表格2[編號],\"\")","v":{"$error":"#NAME?"}},false]
[43,"2024-10-13",62995454,"NF 熊仔外套-粉100-",1,0,0,"預訂－未到貨",{"$f":"_xlfn.XLOOKUP(D88,表格2[產品],表格2[編號],\"\")","v":{"$error":"#NAME?"}},false]
[43,"2024-10-13",62995454,"NF 熊仔外套-啡110-",1,0,0,"預訂－未到貨",{"$f":"_xlfn.XLOOKUP(D89,表格2[產品],表格2[編號],\"\")","v":{"$error":"#NAME?"}},false]
[43,"2024-10-13",62995454,"NF 熊仔外套-啡130-",1,0,0,"預訂－未到貨",{"$f":"_xlfn.XLOOKUP(D90,表格2[產品],表格2[編號],\"\")","v":{"$error":"#NAME?"}},false]
[44,"2024-10-13",63060103,"POLO純色連身裙-卡其100-",1,0,0,"預訂－未到貨",{"$f":"_xlfn.XLOOKUP(D91,表格2[產品],表格2[編號],\"\")","v":{"$error":"#NAME?"}},false]
[44,"2024-10-13",63060103,"POLO純色連身裙-藍110-",1,0,0,"預訂－未到貨",{"$f":"_xlfn.XLOOKUP(D92,表格2[產品],表格2[編號],\"\")","v":{"$error":"#NAME?"}},false]
[44,"2024-10-13",63060103,"安撫巾-KU-",1,0,0,"預訂－未到貨",{"$f":"_xlfn.XLOOKUP(D93,表格2[產品],表格2[編號],\"\")","v":{"$error":"#NAME?"}},false]
[44,"2024-10-13",63060103,"安撫巾-玉-",1,0,0,"預訂－未到貨",{"$f":"_xlfn.XLOOKUP(D94,表格2[產品],表格2[編號],\"\")","v":{"$error":"#NAME?"}},false]
[44,"2024-10-13",63060103,"聖誕老人裙-100-",1,0,0,"預訂－未到貨",{"$f":"_xlfn.XLOOKUP(D95,表格2[產品],表格2[編號],\"\")","v":{"$error":"#NAME?"}},false]
[45,"2024-10-13",63195972,"POLO條紋裙-100-",1,0,0,"預訂－未到貨",{"$f":"_xlfn.XLOOKUP(D96,表格2[產品],表格2[編號],\"\")","v":{"$error":"#NAME?"}},false]
[46,"2024-10-13",63236944,"唐老鴨連身-80-",1,0,0,"已寄",{"$f":"_xlfn.XLOOKUP(D97,表格2[產品],表格2[編號],\"\")","v":{"$error":"#NAME?"}},false]
[47,"2024-10-13",63467671,"konny碗-藍-",1,0,"","已寄",{"$f":"_xlfn.XLOOKUP(D98,表格2[產品],表格2[編號],\"\")","v":{"$error":"#NAME?"}},false]
[47,"2024-10-13",63467671,"唐老鴨連身-90-",1,0,"","已寄",{"$f":"_xlfn.XLOOKUP(D99,表格2[產品],表格2[編號],\"\")","v":{"$error":"#NAME?"}},false]
[47,"2024-10-13",63467671,"安撫巾-水-",1,0,"","預訂－未到貨",{"$f":"_xlfn.XLOOKUP(D100,表格2[產品],表格2[編號],\"\")","v":{"$error":"#NAME?"}},false]
[48,"2024-10-13",63734193,"現-淺藍史迪仔aloha-3-6-",1,0,0,"已到貨",{"$f":"_xlfn.XLOOKUP(D101,表格2[產品],表格2[編號],\"\")","v":{"$error":"#NAME?"}},false]
[49,"2024-10-13",63775251,"konny口水肩-4-",1,0,0,"已寄",{"$f":"_xlfn.XLOOKUP(D102,表格2[產品],表格2[編號],\"\")","v":{"$error":"#NAME?"}},false]
[50,"2024-10-13",64096879,"lee 衛衣-灰白130-",1,0,0,"缺貨",{"$f":"_xlfn.XLOOKUP(D103,表格2[產品],表格2[編號],\"\")","v":{"$error":"#NAME?"}},false]
[50,"2024-10-13",64096879,"lee 衛衣-灰藍90-",1,0,0,"缺貨",{"$f":"_xlfn.XLOOKUP(D104,表格2[產品],表格2[編號],\"\")","v":{"$error":"#NAME?"}},false]
[51,"2024-10-13",64371840,"CARE BEAR C1-藍100-",1,0,0,"已寄",{"$f":"_xlfn.XLOOKUP(D105,表格2[產品],表格2[編號],\"\")","v":{"$error":"#NAME?"}},false]
[51,"2024-10-13",64371840,"GAP 連身紅-100-",1,0,0,"已寄",{"$f":"_xlfn.XLOOKUP(D106,表格2[產品],表格2[編號],\"\")","v":{"$error":"#NAME?"}},false]
[51,"2024-10-13",64371840,"滿印熊-PAT-白100-",1,0,0,"已寄",{"$f":"_xlfn.XLOOKUP(D107,表格2[產品],表格2[編號],\"\")","v":{"$error":"#NAME?"}},false]
[52,"2024-10-13",64765587,"NF 被-黑-",1,0,0,"預訂－未到貨",{"$f":"_xlfn.XLOOKUP(D108,表格2[產品],表格2[編號],\"\")","v":{"$error":"#NAME?"}},false]
[52,"2024-10-13",64765587,"nf legging褲-白80-",1,0,0,"已寄",{"$f":"_xlfn.XLOOKUP(D109,表格2[產品],表格2[編號],\"\")","v":{"$error":"#NAME?"}},false]
[53,"2024-10-13",64776663,"SANRIO 滿印-水90-",1,0,0,"預訂－未到貨",{"$f":"_xlfn.XLOOKUP(D110,表格2[產品],表格2[編號],\"\")","v":{"$error":"#NAME?"}},false]
[53,"2024-10-13",64776663,"吊帶褲-水90-",1,79,79,"預訂－未到貨",{"$f":"_xlfn.XLOOKUP(D111,表格2[產品],表格2[編號],\"\")","v":{"$error":"#NAME?"}},false]
[54,"2024-10-13",65360098,"nf legging褲-白80-",1,0,0,"已寄",{"$f":"_xlfn.XLOOKUP(D112,表格2[產品],表格2[編號],\"\")","v":{"$error":"#NAME?"}},false]
[54,"2024-10-13",65360098,"lee 衛衣-灰藍90-",1,0,0,"缺貨",{"$f":"_xlfn.XLOOKUP(D113,表格2[產品],表格2[編號],\"\")","v":{"$error":"#NAME?"}},false]
[55,"2024-10-13",66272332,"三合一-粉90-",1,139,139,"已寄",{"$f":"_xlfn.XLOOKUP(D114,表格2[產品],表格2[編號],\"\")","v":{"$error":"#NAME?"}},false]
[55,"2024-10-13",66272332,"面包超人袋--",1,0,0,"預訂－未到貨",{"$f":"_xlfn.XLOOKUP(D115,表格2[產品],表格2[編號],\"\")","v":{"$error":"#NAME?"}},false]
[55,"2024-10-13",66272332,"綠仙子SET-90-",1,0,0,"預訂－未到貨",{"$f":"_xlfn.XLOOKUP(D116,表格2[產品],表格2[編號],\"\")","v":{"$error":"#NAME?"}},false]
[56,"2024-10-13",66297983,"點點筆--",1,0,0,"已寄",{"$f":"_xlfn.XLOOKUP(D117,表格2[產品],表格2[編號],\"\")","v":{"$error":"#NAME?"}},false]
[56,"2024-10-13",66297983,"蠟筆--",1,0,0,"已寄",{"$f":"_xlfn.XLOOKUP(D118,表格2[產品],表格2[編號],\"\")","v":{"$error":"#NAME?"}},false]
[57,"2024-10-13",66778200,"NF雙面棉外套-米杏L-",1,0,0,"預訂－未到貨",{"$f":"_xlfn.XLOOKUP(D119,表格2[產品],表格2[編號],\"\")","v":{"$error":"#NAME?"}},false]
[57,"2024-10-13",66778200,"NF雙面棉外套-粉100-",1,0,0,"預訂－未到貨",{"$f":"_xlfn.XLOOKUP(D120,表格2[產品],表格2[編號],\"\")","v":{"$error":"#NAME?"}},false]
[58,"2024-10-13",66826841,"GAP 連身米-90-",1,0,0,"已寄",{"$f":"_xlfn.XLOOKUP(D121,表格2[產品],表格2[編號],\"\")","v":{"$error":"#NAME?"}},false]
[58,"2024-10-13",66826841,"POLO背心-白90-",1,0,0,"已寄",{"$f":"_xlfn.XLOOKUP(D122,表格2[產品],表格2[編號],\"\")","v":{"$error":"#NAME?"}},false]
[58,"2024-10-13",66826841,"印章--",1,65,65,"已寄",{"$f":"_xlfn.XLOOKUP(D123,表格2[產品],表格2[編號],\"\")","v":{"$error":"#NAME?"}},false]
[58,"2024-10-13",66826841,"獅子外套-90-",1,0,0,"已寄",{"$f":"_xlfn.XLOOKUP(D124,表格2[產品],表格2[編號],\"\")","v":{"$error":"#NAME?"}},false]
[58,"2024-10-13",66826841,"獅子褲-90-",1,0,0,"已寄",{"$f":"_xlfn.XLOOKUP(D125,表格2[產品],表格2[編號],\"\")","v":{"$error":"#NAME?"}},false]
[59,"2024-10-13",67063660,"睡衣SET B-90-",1,0,0,"預訂－未到貨",{"$f":"_xlfn.XLOOKUP(D126,表格2[產品],表格2[編號],\"\")","v":{"$error":"#NAME?"}},false]
[60,"2024-10-13",67086999,"bb 防曬lotion--",1,0,0,"已寄",{"$f":"_xlfn.XLOOKUP(D127,表格2[產品],表格2[編號],\"\")","v":{"$error":"#NAME?"}},false]
[60,"2024-10-13",67086999,"小兵-18-24-",1,38,38,"已寄",{"$f":"_xlfn.XLOOKUP(D128,表格2[產品],表格2[編號],\"\")","v":{"$error":"#NAME?"}},false]
[60,"2024-10-13",67086999,"聖誕樹-100-",1,0,0,"已寄",{"$f":"_xlfn.XLOOKUP(D129,表格2[產品],表格2[編號],\"\")","v":{"$error":"#NAME?"}},false]
[61,"2024-10-13",67300146,"NF雙面棉外套-粉100-",1,0,0,"預訂－未到貨",{"$f":"_xlfn.XLOOKUP(D130,表格2[產品],表格2[編號],\"\")","v":{"$error":"#NAME?"}},false]
[61,"2024-10-13",67300146,"秋褲2條裝-A-90-",1,0,0,"已到貨",{"$f":"_xlfn.XLOOKUP(D131,表格2[產品],表格2[編號],\"\")","v":{"$error":"#NAME?"}},false]
[62,"2024-10-13",67398830,"NF 被-黑-",1,0,0,"預訂－未到貨",{"$f":"_xlfn.XLOOKUP(D132,表格2[產品],表格2[編號],\"\")","v":{"$error":"#NAME?"}},false]
[62,"2024-10-13",67398830,"H8-0-6-",1,0,0,"已寄",{"$f":"_xlfn.XLOOKUP(D133,表格2[產品],表格2[編號],\"\")","v":{"$error":"#NAME?"}},false]
[62,"2024-10-13",67398830,"miffy 拖鞋-白37-",1,0,0,"已寄",{"$f":"_xlfn.XLOOKUP(D134,表格2[產品],表格2[編號],\"\")","v":{"$error":"#NAME?"}},false]
[62,"2024-10-13",67398830,"唐老鴨連身-73-",1,0,0,"已寄",{"$f":"_xlfn.XLOOKUP(D135,表格2[產品],表格2[編號],\"\")","v":{"$error":"#NAME?"}},false]
[63,"2024-10-13",67438170,"NF雙面棉外套-杏M-",1,0,0,"預訂－未到貨",{"$f":"_xlfn.XLOOKUP(D136,表格2[產品],表格2[編號],\"\")","v":{"$error":"#NAME?"}},false]
[63,"2024-10-13",67438170,"NF雙面棉外套-綠90-",1,0,0,"預訂－未到貨",{"$f":"_xlfn.XLOOKUP(D137,表格2[產品],表格2[編號],\"\")","v":{"$error":"#NAME?"}},false]
[63,"2024-10-13",67438170,"NF雙面棉外套-綠L-",1,0,0,"預訂－未到貨",{"$f":"_xlfn.XLOOKUP(D138,表格2[產品],表格2[編號],\"\")","v":{"$error":"#NAME?"}},false]
[64,"2024-10-13",67623732,"唐老鴨背包--",1,0,0,"已寄",{"$f":"_xlfn.XLOOKUP(D139,表格2[產品],表格2[編號],\"\")","v":{"$error":"#NAME?"}},false]
[65,"2024-10-13",68822283,"印章--",1,65,65,"已寄",{"$f":"_xlfn.XLOOKUP(D140,表格2[產品],表格2[編號],\"\")","v":{"$error":"#NAME?"}},false]
[66,"2024-10-13",69053111,"MLB-5外套-黑-",1,0,0,"已寄",{"$f":"_xlfn.XLOOKUP(D141,表格2[產品],表格2[編號],\"\")","v":{"$error":"#NAME?"}},false]
[67,"2024-10-13",69330401,"POOH 背包--",2,0,0,"已寄",{"$f":"_xlfn.XLOOKUP(D142,表格2[產品],表格2[編號],\"\")","v":{"$error":"#NAME?"}},false]
[68,"2024-10-13",69331107,"安撫巾-水-",1,0,0,"預訂－未到貨",{"$f":"_xlfn.XLOOKUP(D143,表格2[產品],表格2[編號],\"\")","v":{"$error":"#NAME?"}},false]
[69,"2024-10-13",90166250,"GAP 連身灰-100-",1,0,0,"已寄",{"$f":"_xlfn.XLOOKUP(D144,表格2[產品],表格2[編號],\"\")","v":{"$error":"#NAME?"}},false]
[69,"2024-10-13",90166250,"三合一-橙100-",1,139,139,"已寄",{"$f":"_xlfn.XLOOKUP(D145,表格2[產品],表格2[編號],\"\")","v":{"$error":"#NAME?"}},false]
[69,"2024-10-13",90166250,"唐老鴨背包--",1,0,0,"已寄",{"$f":"_xlfn.XLOOKUP(D146,表格2[產品],表格2[編號],\"\")","v":{"$error":"#NAME?"}},false]
[70,"2024-10-13",90474586,"聖誕樹-90-",1,0,0,"已到貨",{"$f":"_xlfn.XLOOKUP(D147,表格2[產品],表格2[編號],\"\")","v":{"$error":"#NAME?"}},false]
[71,"2024-10-13",91283990,"NF 被-啡-",1,0,0,"預訂－未到貨",{"$f":"_xlfn.XLOOKUP(D148,表格2[產品],表格2[編號],\"\")","v":{"$error":"#NAME?"}},false]
[72,"2024-10-13",91464628,"BEAR BEAR 直間-110-",1,0,0,"預訂－未到貨",{"$f":"_xlfn.XLOOKUP(D149,表格2[產品],表格2[編號],\"\")","v":{"$error":"#NAME?"}},false]
[73,"2024-10-13",91760930,"三合一-粉100-",1,139,139,"已寄",{"$f":"_xlfn.XLOOKUP(D150,表格2[產品],表格2[編號],\"\")","v":{"$error":"#NAME?"}},false]
[73,"2024-10-13",91760930,"三合一-粉160-",1,139,139,"已寄",{"$f":"_xlfn.XLOOKUP(D151,表格2[產品],表格2[編號],\"\")","v":{"$error":"#NAME?"}},false]
[73,"2024-10-13",91760930,"三合一-藍160-",1,139,139,"已寄",{"$f":"_xlfn.XLOOKUP(D152,表格2[產品],表格2[編號],\"\")","v":{"$error":"#NAME?"}},false]
[73,"2024-10-13",91760930,"印章--",1,65,65,"已寄",{"$f":"_xlfn.XLOOKUP(D153,表格2[產品],表格2[編號],\"\")","v":{"$error":"#NAME?"}},false]
[73,"2024-10-13",91760930,"聖誕老人連身-70-",1,0,0,"預訂－未到貨",{"$f":"_xlfn.XLOOKUP(D154,表格2[產品],表格2[編號],\"\")","v":{"$error":"#NAME?"}},false]
[73,"2024-10-13",91760930,"聖誕老人裙-100-",1,0,0,"預訂－未到貨",{"$f":"_xlfn.XLOOKUP(D155,表格2[產品],表格2[編號],\"\")","v":{"$error":"#NAME?"}},false]
[73,"2024-10-13",91760930,"聖誕鹿-100-",1,0,0,"已寄",{"$f":"_xlfn.XLOOKUP(D156,表格2[產品],表格2[編號],\"\")","v":{"$error":"#NAME?"}},false]
[74,"2024-10-13",91760930,"NF 熊仔外套-白90-",1,0,0,"預訂－未到貨",{"$f":"_xlfn.XLOOKUP(D157,表格2[產品],表格2[編號],\"\")","v":{"$error":"#NAME?"}},false]
[74,"2024-10-13",91760930,"NF 熊仔爬服-粉100-",1,0,0,"預訂－未到貨",{"$f":"_xlfn.XLOOKUP(D158,表格2[產品],表格2[編號],\"\")","v":{"$error":"#NAME?"}},false]
[75,"2024-10-13",91865815,"miffy 書包--",1,0,0,"已寄",{"$f":"_xlfn.XLOOKUP(D159,表格2[產品],表格2[編號],\"\")","v":{"$error":"#NAME?"}},false]
[75,"2024-10-13",91865815,"花邊冷衫-粉100-",1,0,0,"已寄",{"$f":"_xlfn.XLOOKUP(D160,表格2[產品],表格2[編號],\"\")","v":{"$error":"#NAME?"}},false]
[75,"2024-10-13",91865815,"碎花衫-100-",1,0,0,"已寄",{"$f":"_xlfn.XLOOKUP(D161,表格2[產品],表格2[編號],\"\")","v":{"$error":"#NAME?"}},false]
[75,"2024-10-13",91865815,"褲-啡100-",1,0,0,"已寄",{"$f":"_xlfn.XLOOKUP(D162,表格2[產品],表格2[編號],\"\")","v":{"$error":"#NAME?"}},false]
[76,"2024-10-13",92116493,"獅子外套-100-",1,0,0,"已寄",{"$f":"_xlfn.XLOOKUP(D163,表格2[產品],表格2[編號],\"\")","v":{"$error":"#NAME?"}},false]
[76,"2024-10-13",92116493,"獅子褲-100-",1,0,0,"已寄",{"$f":"_xlfn.XLOOKUP(D164,表格2[產品],表格2[編號],\"\")","v":{"$error":"#NAME?"}},false]
[77,"2024-10-13",92247990,"三合一-橙110-",1,139,139,"已到貨",{"$f":"_xlfn.XLOOKUP(D165,表格2[產品],表格2[編號],\"\")","v":{"$error":"#NAME?"}},false]
[78,"2024-10-13",92748648,"BEAR BEAR 冷衫-100-",1,0,0,"預訂－未到貨",{"$f":"_xlfn.XLOOKUP(D166,表格2[產品],表格2[編號],\"\")","v":{"$error":"#NAME?"}},false]
[78,"2024-10-13",92748648,"BEAR BEAR 風嬲-110-",1,0,0,"預訂－未到貨",{"$f":"_xlfn.XLOOKUP(D167,表格2[產品],表格2[編號],\"\")","v":{"$error":"#NAME?"}},false]
[79,"2024-10-13",93084927,"GAP 連身棒球-90-",1,0,0,"已到貨",{"$f":"_xlfn.XLOOKUP(D168,表格2[產品],表格2[編號],\"\")","v":{"$error":"#NAME?"}},false]
[80,"2024-10-13",93146061,"NF 熊仔外套-啡90-",1,0,0,"預訂－未到貨",{"$f":"_xlfn.XLOOKUP(D169,表格2[產品],表格2[編號],\"\")","v":{"$error":"#NAME?"}},false]
[80,"2024-10-13",93146061,"三合一-藍90-",1,139,139,"已寄",{"$f":"_xlfn.XLOOKUP(D170,表格2[產品],表格2[編號],\"\")","v":{"$error":"#NAME?"}},false]
[80,"2024-10-13",93146061,"印章--",1,65,65,"已寄",{"$f":"_xlfn.XLOOKUP(D171,表格2[產品],表格2[編號],\"\")","v":{"$error":"#NAME?"}},false]
[80,"2024-10-13",93146061,"唐老鴨背包--",1,0,0,"已寄",{"$f":"_xlfn.XLOOKUP(D172,表格2[產品],表格2[編號],\"\")","v":{"$error":"#NAME?"}},false]
[81,"2024-10-13",93235598,"konny 咩帶-灰米-",1,0,0,"已寄",{"$f":"_xlfn.XLOOKUP(D173,表格2[產品],表格2[編號],\"\")","v":{"$error":"#NAME?"}},false]
[82,"2024-10-13",93451014,"星月亮水手-衛衣-藍90-",1,0,0,"已寄",{"$f":"_xlfn.XLOOKUP(D174,表格2[產品],表格2[編號],\"\")","v":{"$error":"#NAME?"}},false]
[83,"2024-10-13",94445366,"BEAR BEAR 風嬲-120-",1,0,0,"預訂－未到貨",{"$f":"_xlfn.XLOOKUP(D175,表格2[產品],表格2[編號],\"\")","v":{"$error":"#NAME?"}},false]
[84,"2024-10-13",94511204,"h7-6-12-",1,0,0,"已寄",{"$f":"_xlfn.XLOOKUP(D176,表格2[產品],表格2[編號],\"\")","v":{"$error":"#NAME?"}},false]
[84,"2024-10-13",94511204,"印章--",1,65,65,"已寄",{"$f":"_xlfn.XLOOKUP(D177,表格2[產品],表格2[編號],\"\")","v":{"$error":"#NAME?"}},false]
[85,"2024-10-13",94525765,"星月亮水手-PAT-藍100-",1,0,0,"已寄",{"$f":"_xlfn.XLOOKUP(D178,表格2[產品],表格2[編號],\"\")","v":{"$error":"#NAME?"}},false]
[85,"2024-10-13",94525765,"聖誕樹-100-",1,0,0,"已寄",{"$f":"_xlfn.XLOOKUP(D179,表格2[產品],表格2[編號],\"\")","v":{"$error":"#NAME?"}},false]
[85,"2024-10-13",94525765,"滿印熊-衛-白100-",1,0,0,"已寄",{"$f":"_xlfn.XLOOKUP(D180,表格2[產品],表格2[編號],\"\")","v":{"$error":"#NAME?"}},false]
[86,"2024-10-13",95020312,"聖誕鹿-100-",1,0,0,"已寄",{"$f":"_xlfn.XLOOKUP(D181,表格2[產品],表格2[編號],\"\")","v":{"$error":"#NAME?"}},false]
[87,"2024-10-13",95069532,"唐老鴨連身-100-",1,0,0,"已寄",{"$f":"_xlfn.XLOOKUP(D182,表格2[產品],表格2[編號],\"\")","v":{"$error":"#NAME?"}},false]
[88,"2024-10-13",96101095,"吊帶褲-水110-",1,79,79,"預訂－未到貨",{"$f":"_xlfn.XLOOKUP(D183,表格2[產品],表格2[編號],\"\")","v":{"$error":"#NAME?"}},false]
[89,"2024-10-13",96155952,"印章--",1,65,65,"已到貨",{"$f":"_xlfn.XLOOKUP(D184,表格2[產品],表格2[編號],\"\")","v":{"$error":"#NAME?"}},false]
[90,"2024-10-13",96256235,"NF雙面棉外套-綠110-",1,0,0,"預訂－未到貨",{"$f":"_xlfn.XLOOKUP(D185,表格2[產品],表格2[編號],\"\")","v":{"$error":"#NAME?"}},false]
[91,"2024-10-13",96293476,"MIFFY 外套-白100-",1,0,0,"預訂－未到貨",{"$f":"_xlfn.XLOOKUP(D186,表格2[產品],表格2[編號],\"\")","v":{"$error":"#NAME?"}},false]
[92,"2024-10-13",96327298,"POOH 背包--",1,0,0,"已寄",{"$f":"_xlfn.XLOOKUP(D187,表格2[產品],表格2[編號],\"\")","v":{"$error":"#NAME?"}},false]
[93,"2024-10-13",96531080,"唐老鴨背包--",1,0,0,"已寄",{"$f":"_xlfn.XLOOKUP(D188,表格2[產品],表格2[編號],\"\")","v":{"$error":"#NAME?"}},false]
[93,"2024-10-13",96531080,"聖誕樹-100-",1,0,0,"已到貨",{"$f":"_xlfn.XLOOKUP(D189,表格2[產品],表格2[編號],\"\")","v":{"$error":"#NAME?"}},false]
[94,"2024-10-13",96855563,"姓名貼--",1,0,0,"已到貨",{"$f":"_xlfn.XLOOKUP(D190,表格2[產品],表格2[編號],\"\")","v":{"$error":"#NAME?"}},false]
[95,"2024-10-13",97166744,"小魔怪-100-",1,85,85,"已寄",{"$f":"_xlfn.XLOOKUP(D191,表格2[產品],表格2[編號],\"\")","v":{"$error":"#NAME?"}},false]
[96,"2024-10-13",97457161,"三合一-橙90-",1,139,139,"已寄",{"$f":"_xlfn.XLOOKUP(D192,表格2[產品],表格2[編號],\"\")","v":{"$error":"#NAME?"}},false]
[97,"2024-10-13",97793845,"NF雙面棉外套-綠100-",1,0,0,"預訂－未到貨",{"$f":"_xlfn.XLOOKUP(D193,表格2[產品],表格2[編號],\"\")","v":{"$error":"#NAME?"}},false]
[98,"2024-10-13",98034806,"pooh pat-18-24-",1,0,0,"已寄",{"$f":"_xlfn.XLOOKUP(D194,表格2[產品],表格2[編號],\"\")","v":{"$error":"#NAME?"}},false]
[98,"2024-10-13",98034806,"唐老鴨連身-90-",1,0,0,"已寄",{"$f":"_xlfn.XLOOKUP(D195,表格2[產品],表格2[編號],\"\")","v":{"$error":"#NAME?"}},false]
[99,"2024-10-13",98369540,"三合一-粉80-",1,139,139,"已寄",{"$f":"_xlfn.XLOOKUP(D196,表格2[產品],表格2[編號],\"\")","v":{"$error":"#NAME?"}},false]
[100,"2024-10-13",98378445,"miffy 書包--",1,0,0,"已到貨",{"$f":"_xlfn.XLOOKUP(D197,表格2[產品],表格2[編號],\"\")","v":{"$error":"#NAME?"}},false]
[101,"2024-10-13",98654310,"H4-18-24-",1,0,0,"已寄",{"$f":"_xlfn.XLOOKUP(D198,表格2[產品],表格2[編號],\"\")","v":{"$error":"#NAME?"}},false]
[101,"2024-10-13",98654310,"H5-100-",1,0,0,"已寄",{"$f":"_xlfn.XLOOKUP(D199,表格2[產品],表格2[編號],\"\")","v":{"$error":"#NAME?"}},false]
[102,"2024-10-13",98725367,"唐老鴨連身-80-",1,0,0,"已寄",{"$f":"_xlfn.XLOOKUP(D200,表格2[產品],表格2[編號],\"\")","v":{"$error":"#NAME?"}},false]
[103,"2024-10-13","CHLOE","BEAR BEAR 冷衫-110-",1,0,0,"預訂－未到貨",{"$f":"_xlfn.XLOOKUP(D201,表格2[產品],表格2[編號],\"\")","v":{"$error":"#NAME?"}},false]
[103,"2024-10-13","CHLOE","BEAR BEAR 風嬲-110-",1,0,0,"預訂－未到貨",{"$f":"_xlfn.XLOOKUP(D202,表格2[產品],表格2[編號],\"\")","v":{"$error":"#NAME?"}},false]
[103,"2024-10-13","CHLOE","CART衛衣有帽-110-",1,0,0,"已到貨",{"$f":"_xlfn.XLOOKUP(D203,表格2[產品],表格2[編號],\"\")","v":{"$error":"#NAME?"}},false]
[103,"2024-10-13","CHLOE","CART衛衣有帽-藍L-",1,0,0,"已到貨",{"$f":"_xlfn.XLOOKUP(D204,表格2[產品],表格2[編號],\"\")","v":{"$error":"#NAME?"}},false]
[103,"2024-10-13","CHLOE","CART衛衣有帽-藍S-",1,0,0,"已到貨",{"$f":"_xlfn.XLOOKUP(D205,表格2[產品],表格2[編號],\"\")","v":{"$error":"#NAME?"}},false]
[103,"2024-10-13","CHLOE","NF 熊仔外套-白110-",1,0,0,"預訂－未到貨",{"$f":"_xlfn.XLOOKUP(D206,表格2[產品],表格2[編號],\"\")","v":{"$error":"#NAME?"}},false]
[103,"2024-10-13","CHLOE","POLO背心-白110-",1,0,0,"已到貨",{"$f":"_xlfn.XLOOKUP(D207,表格2[產品],表格2[編號],\"\")","v":{"$error":"#NAME?"}},false]
[104,"2024-10-13","CHLOE","POLO背心-深藍110-",1,0,0,"已到貨",{"$f":"_xlfn.XLOOKUP(D208,表格2[產品],表格2[編號],\"\")","v":{"$error":"#NAME?"}},false]
[105,"2024-10-13","MAISY","小魔怪-120-",1,85,85,"已寄",{"$f":"_xlfn.XLOOKUP(D209,表格2[產品],表格2[編號],\"\")","v":{"$error":"#NAME?"}},false]
[105,"2024-10-13","MAISY","聖誕樹-80-",1,0,0,"已寄",{"$f":"_xlfn.XLOOKUP(D210,表格2[產品],表格2[編號],\"\")","v":{"$error":"#NAME?"}},false]
[106,"2024-10-13",54481922,"奶樽嘴-小獅王-超柔防脹氣寬口十字奶嘴M-4入(3個月以上)-",1,85,85,"已寄",{"$f":"_xlfn.XLOOKUP(D211,表格2[產品],表格2[編號],\"\")","v":{"$error":"#NAME?"}},false]
[106,"2024-10-13",54481922,"知母時--",1,0,0,"已寄",{"$f":"_xlfn.XLOOKUP(D212,表格2[產品],表格2[編號],\"\")","v":{"$error":"#NAME?"}},false]
[106,"2024-10-13",54481922,"配件5-小獅王-蘊蜜寬口奶瓶蝶型吸管組 -",1,35,35,"已寄",{"$f":"_xlfn.XLOOKUP(D213,表格2[產品],表格2[編號],\"\")","v":{"$error":"#NAME?"}},false]
[107,"2024-10-13",60338174,"香火平安符袋--粉",1,55,55,"已寄",{"$f":"_xlfn.XLOOKUP(D214,表格2[產品],表格2[編號],\"\")","v":{"$error":"#NAME?"}},false]
[107,"2024-10-13",60338174,"唐老鴨連身-80",1,0,0,"已寄",{"$f":"_xlfn.XLOOKUP(D215,表格2[產品],表格2[編號],\"\")","v":{"$error":"#NAME?"}},false]
[107,"2024-10-13",60338174,"唐老鴨連身-90-",1,0,0,"已寄",{"$f":"_xlfn.XLOOKUP(D216,表格2[產品],表格2[編號],\"\")","v":{"$error":"#NAME?"}},false]
[107,"2024-10-13",60338174,"豬仔-衛90-",1,0,0,"預訂－未到貨",{"$f":"_xlfn.XLOOKUP(D217,表格2[產品],表格2[編號],\"\")","v":{"$error":"#NAME?"}},false]
[108,"2024-10-13",60534562,"三合一-藍80-",1,139,139,"已寄",{"$f":"_xlfn.XLOOKUP(D218,表格2[產品],表格2[編號],\"\")","v":{"$error":"#NAME?"}},false]
[108,"2024-10-13",60534562,"香火平安符袋--杏",1,55,55,"已寄",{"$f":"_xlfn.XLOOKUP(D219,表格2[產品],表格2[編號],\"\")","v":{"$error":"#NAME?"}},false]
[108,"2024-10-13",60534562,"唐老鴨背包--",1,0,0,"已寄",{"$f":"_xlfn.XLOOKUP(D220,表格2[產品],表格2[編號],\"\")","v":{"$error":"#NAME?"}},false]
[109,"2024-10-13",61319677,"SANRIO 滿印-HT90-",1,0,0,"預訂－未到貨",{"$f":"_xlfn.XLOOKUP(D221,表格2[產品],表格2[編號],\"\")","v":{"$error":"#NAME?"}},false]
[109,"2024-10-13",61319677,"和服-粉90-",1,0,0,"已寄",{"$f":"_xlfn.XLOOKUP(D222,表格2[產品],表格2[編號],\"\")","v":{"$error":"#NAME?"}},false]
[109,"2024-10-13",61319677,"配件7-小獅王-蘊蜜寬口防漏滑蓋把手吸管組(紫)-",1,55,55,"已寄",{"$f":"_xlfn.XLOOKUP(D223,表格2[產品],表格2[編號],\"\")","v":{"$error":"#NAME?"}},false]
[109,"2024-10-13",61319677,"吊帶褲-HT90-",1,79,79,"預訂－未到貨",{"$f":"_xlfn.XLOOKUP(D224,表格2[產品],表格2[編號],\"\")","v":{"$error":"#NAME?"}},false]
[110,"2024-10-13",61381096,"唐老鴨背包--",1,0,0,"已寄",{"$f":"_xlfn.XLOOKUP(D225,表格2[產品],表格2[編號],\"\")","v":{"$error":"#NAME?"}},false]
[110,"2024-10-13",61381096,"配件7-小獅王-蘊蜜寬口防漏滑蓋把手吸管組(晨藍)-",1,55,55,"已寄",{"$f":"_xlfn.XLOOKUP(D226,表格2[產品],表格2[編號],\"\")","v":{"$error":"#NAME?"}},false]
[110,"2024-10-13",61381096,"配件7-小獅王-蘊蜜寬口防漏滑蓋把手吸管組(黑)-",1,55,55,"已寄",{"$f":"_xlfn.XLOOKUP(D227,表格2[產品],表格2[編號],\"\")","v":{"$error":"#NAME?"}},false]
[111,"2024-10-13",63568318,"POLO純色連身裙-卡其90-",1,0,0,"預訂－未到貨",{"$f":"_xlfn.XLOOKUP(D228,表格2[產品],表格2[編號],\"\")","v":{"$error":"#NAME?"}},false]
[111,"2024-10-13",63568318,"POLO條紋衫-90-",1,0,0,"預訂－未到貨",{"$f":"_xlfn.XLOOKUP(D229,表格2[產品],表格2[編號],\"\")","v":{"$error":"#NAME?"}},false]
[111,"2024-10-13",63568318,"POLO條紋裙-90-",1,0,0,"預訂－未到貨",{"$f":"_xlfn.XLOOKUP(D230,表格2[產品],表格2[編號],\"\")","v":{"$error":"#NAME?"}},false]
[111,"2024-10-13",63568318,"食物剪刀-小獅王-嬰兒食物金剛剪(杏茶)-",1,69,69,"已到貨",{"$f":"_xlfn.XLOOKUP(D231,表格2[產品],表格2[編號],\"\")","v":{"$error":"#NAME?"}},false]
[112,"2024-10-13",67681197,"餐具組--粉",1,45,45,"已寄",{"$f":"_xlfn.XLOOKUP(D232,表格2[產品],表格2[編號],\"\")","v":{"$error":"#NAME?"}},false]
[113,"2024-10-13",90234611," 安撫奶嘴-小獅王-蘊蜜超柔拇指安撫奶嘴(杏茶)-耐咬較大型-",1,45,45,"已寄",{"$f":"_xlfn.XLOOKUP(D233,表格2[產品],表格2[編號],\"\")","v":{"$error":"#NAME?"}},false]
[113,"2024-10-13",90234611," 安撫奶嘴-小獅王-蘊蜜超柔拇指安撫奶嘴(綠沐)-耐咬較大型-",1,45,45,"已寄",{"$f":"_xlfn.XLOOKUP(D234,表格2[產品],表格2[編號],\"\")","v":{"$error":"#NAME?"}},false]
[113,"2024-10-13",90234611," 安撫奶嘴-獅子頭奶嘴-6M",1,45,45,"已寄",{"$f":"_xlfn.XLOOKUP(D235,表格2[產品],表格2[編號],\"\")","v":{"$error":"#NAME?"}},false]
[113,"2024-10-13",90234611,"三合一-橙90-",1,139,139,"已寄",{"$f":"_xlfn.XLOOKUP(D236,表格2[產品],表格2[編號],\"\")","v":{"$error":"#NAME?"}},false]
[113,"2024-10-13",90234611,"奶嘴鍊-小獅王-辛巴防塵奶嘴鍊-杏-",1,45,45,"已寄",{"$f":"_xlfn.XLOOKUP(D237,表格2[產品],表格2[編號],\"\")","v":{"$error":"#NAME?"}},false]
[113,"2024-10-13",90234611,"防漏滑蓋學習水杯-小獅王-蘊蜜鉑金PPSU防漏滑蓋學習水杯270ml(杏茶)-",1,155,155,"已寄",{"$f":"_xlfn.XLOOKUP(D238,表格2[產品],表格2[編號],\"\")","v":{"$error":"#NAME?"}},false]
[113,"2024-10-13",90234611,"配件7-小獅王-蘊蜜寬口防漏滑蓋把手吸管組(杏茶)-",1,55,55,"已寄",{"$f":"_xlfn.XLOOKUP(D239,表格2[產品],表格2[編號],\"\")","v":{"$error":"#NAME?"}},false]
[114,"2024-10-13",90234611," 安撫奶嘴- 蘿蔓拇指型安撫奶嘴(香草)6m-",1,45,45,"已寄",{"$f":"_xlfn.XLOOKUP(D240,表格2[產品],表格2[編號],\"\")","v":{"$error":"#NAME?"}},false]
[114,"2024-10-13",90234611,"GAP 連身紅-90-",1,0,"","已寄",{"$f":"_xlfn.XLOOKUP(D241,表格2[產品],表格2[編號],\"\")","v":{"$error":"#NAME?"}},false]
[115,"2024-10-13",91478376,"好樂飲-小獅王-好樂飲PPSU防漏滑蓋學習水杯250ml(可可杏)-",1,170,170,"已寄",{"$f":"_xlfn.XLOOKUP(D242,表格2[產品],表格2[編號],\"\")","v":{"$error":"#NAME?"}},false]
[116,"2024-10-13",92639065,"cool kids 舒緩膏--",1,0,0,"已寄",{"$f":"_xlfn.XLOOKUP(D243,表格2[產品],表格2[編號],\"\")","v":{"$error":"#NAME?"}},false]
[116,"2024-10-13",92639065,"H4-2-3-",1,0,0,"已寄",{"$f":"_xlfn.XLOOKUP(D244,表格2[產品],表格2[編號],\"\")","v":{"$error":"#NAME?"}},false]
[116,"2024-10-13",92639065,"印章--",2,65,130,"已寄",{"$f":"_xlfn.XLOOKUP(D245,表格2[產品],表格2[編號],\"\")","v":{"$error":"#NAME?"}},false]
[116,"2024-10-13",92639065,"食物剪刀-小獅王-嬰兒食物金剛剪(栗粉)-",1,69,69,"已寄",{"$f":"_xlfn.XLOOKUP(D246,表格2[產品],表格2[編號],\"\")","v":{"$error":"#NAME?"}},false]
[116,"2024-10-13",92639065,"食物剪刀-小獅王-嬰兒食物金剛剪(晨藍)-",1,69,69,"已寄",{"$f":"_xlfn.XLOOKUP(D247,表格2[產品],表格2[編號],\"\")","v":{"$error":"#NAME?"}},false]
[117,"2024-10-13",95832157,"香火平安符袋--杏",1,55,55,"已寄",{"$f":"_xlfn.XLOOKUP(D248,表格2[產品],表格2[編號],\"\")","v":{"$error":"#NAME?"}},false]
[118,"2024-10-13",98314743,"GAP 連身米-80-",1,0,0,"已寄",{"$f":"_xlfn.XLOOKUP(D249,表格2[產品],表格2[編號],\"\")","v":{"$error":"#NAME?"}},false]
[118,"2024-10-13",98314743,"GAP 連身棒球-80-",1,0,0,"已寄",{"$f":"_xlfn.XLOOKUP(D250,表格2[產品],表格2[編號],\"\")","v":{"$error":"#NAME?"}},false]
[118,"2024-10-13",98314743,"konny碗-燕-",1,0,0,"已寄",{"$f":"_xlfn.XLOOKUP(D251,表格2[產品],表格2[編號],\"\")","v":{"$error":"#NAME?"}},false]
[118,"2024-10-13",98314743,"配件7-小獅王-蘊蜜寬口防漏滑蓋把手吸管組(杏茶)-",1,55,55,"已寄",{"$f":"_xlfn.XLOOKUP(D252,表格2[產品],表格2[編號],\"\")","v":{"$error":"#NAME?"}},false]
[118,"2024-10-13",98314743,"聖誕鹿-80-",1,0,0,"已寄",{"$f":"_xlfn.XLOOKUP(D253,表格2[產品],表格2[編號],\"\")","v":{"$error":"#NAME?"}},false]
[119,"2024-10-13","YUEN KIU","配件7-小獅王-蘊蜜寬口防漏滑蓋把手吸管組(黑)-",1,55,55,"已寄",{"$f":"_xlfn.XLOOKUP(D254,表格2[產品],表格2[編號],\"\")","v":{"$error":"#NAME?"}},false]
[120,"2024-10-13",51187205,"把手奶樽-小獅王-蘊蜜鉑金PPSU寬口吸管把手防脹氣奶瓶360ml(杏茶)-十字M-",1,148,148,"已寄",{"$f":"_xlfn.XLOOKUP(D255,表格2[產品],表格2[編號],\"\")","v":{"$error":"#NAME?"}},false]
[120,"2024-10-13",51187205,"把手奶樽-小獅王-蘊蜜鉑金PPSU寬口吸管把手防脹氣奶瓶360ml(晨藍)-十字M-",1,148,148,"已寄",{"$f":"_xlfn.XLOOKUP(D256,表格2[產品],表格2[編號],\"\")","v":{"$error":"#NAME?"}},false]
[121,"2024-10-14",61997281,"台防滑襪-SET B-M",1,55,55,"已寄",{"$f":"_xlfn.XLOOKUP(D257,表格2[產品],表格2[編號],\"\")","v":{"$error":"#NAME?"}},true]
[122,"2024-10-14",55933211,"台SANRIO三色衛衣-100-紫",1,109,109,"已寄",{"$f":"_xlfn.XLOOKUP(D258,表格2[產品],表格2[編號],\"\")","v":{"$error":"#NAME?"}},false]
[123,"2024-10-14",69331107,"台小飛象外套-100-粉",1,95,95,"已寄",{"$f":"_xlfn.XLOOKUP(D259,表格2[產品],表格2[編號],\"\")","v":{"$error":"#NAME?"}},true]
[123,"2024-10-14",69331107,"台小飛象外套-90-白",1,95,95,"已寄",null,true]
[124,"2024-10-14",64371840,"台LINE奶茶衛衣-100-白",1,109,109,"已寄",null,false]
[125,"2024-10-14",56003806,"台SANRIO三色衛衣-90-紫",1,109,109,"已到貨",{"$f":"_xlfn.XLOOKUP(D262,表格2[產品],表格2[編號],\"\")","v":{"$error":"#NAME?"}},false]
[126,"2024-10-14",62255544,"台小飛象外套-90-粉",1,95,95,"已到貨",{"$f":"_xlfn.XLOOKUP(D263,表格2[產品],表格2[編號],\"\")","v":{"$error":"#NAME?"}},true]
[127,"2024-10-14",63060103,"台連身扣鏤小仙子-90-紫",1,109,109,"已寄",{"$f":"_xlfn.XLOOKUP(D264,表格2[產品],表格2[編號],\"\")","v":{"$error":"#NAME?"}},false]
[127,"2024-10-14",63060103,"台連身扣鏤小飛象-90-黃",1,109,109,"已寄",{"$f":"_xlfn.XLOOKUP(D265,表格2[產品],表格2[編號],\"\")","v":{"$error":"#NAME?"}},false]
[128,"2024-10-14",63775251,"台LINE奶茶衛衣-80-白",1,109,109,"已寄",{"$f":"_xlfn.XLOOKUP(D266,表格2[產品],表格2[編號],\"\")","v":{"$error":"#NAME?"}},false]
[128,"2024-10-14",63775251,"台三件套小飛象-80-",1,145,145,"已寄",{"$f":"_xlfn.XLOOKUP(D267,表格2[產品],表格2[編號],\"\")","v":{"$error":"#NAME?"}},false]
[128,"2024-10-14",63775251,"台防滑襪-SET B-S",1,55,55,"已寄",{"$f":"_xlfn.XLOOKUP(D268,表格2[產品],表格2[編號],\"\")","v":{"$error":"#NAME?"}},false]
[128,"2024-10-14",63775251,"台魚魚上衣-80-藍白",1,89,89,"已寄",{"$f":"_xlfn.XLOOKUP(D269,表格2[產品],表格2[編號],\"\")","v":{"$error":"#NAME?"}},false]
[130,"2024-10-15",55933211,"台LINE拼色袖-100-粉",1,99,99,"已寄",null,false]
[131,"2024-10-16",93451014,"台LINE熊大啡色衛衣-80-",1,109,109,"已寄",null,false]
[131,"2024-10-16",93451014,"台防滑襪-SET B-M",1,55,55,"已寄",null,false]
[132,"2024-10-16",63324564,"台小飛象外套-90-白",1,95,95,"已寄",null,false]
[132,"2024-10-16",63324564,"台防滑襪-SET B-S",1,55,55,"已寄",null,false]
[132,"2024-10-16",63324564,"台怪獸大學綠色包PAT-90-",1,79,79,"已寄",null,false]
[133,"2024-10-16",55459945,"學習水杯-小獅王-蘊蜜鉑金PPSU防漏滑蓋學習水杯270ml(紫芙)-",1,155,155,"已寄",null,false]
[134,"2024-10-16",64067410,"唐老鴨連身-66-",1,0,0,"已寄",{"$f":"_xlfn.XLOOKUP(D277,表格2[產品],表格2[編號],\"\")","v":{"$error":"#NAME?"}},false]
[135,"2024-10-16",46141219,"日本代購",1,0,0,"已寄",null,false]
[136,"2024-10-16",51063162,"日本代購",1,0,0,"已寄",null,false]
[137,"2024-10-16",51334135,"日本代購",1,null,null,"已寄",null,false]
[138,"2024-10-16",51724523,"日本代購",1,null,null,"已寄",null,false]
[139,"2024-10-16",53310661,"日本代購",1,null,null,"已寄",null,false]
[140,"2024-10-16",53358282,"日本代購",1,null,null,"已寄",null,false]
[141,"2024-10-16",54050245,"日本代購",1,null,null,"已寄",null,false]
[142,"2024-10-16",55110419,"日本代購",1,null,null,"已寄",null,false]
[143,"2024-10-16",55238767,"日本代購",1,null,null,"已寄",null,false]
[144,"2024-10-16",60122974,"日本代購",1,null,null,"已寄",null,false]
[145,"2024-10-16",60377123,"日本代購",1,null,null,"已寄",null,false]
[147,"2024-10-16",60407078,"日本代購",1,null,null,"已寄",null,false]
[148,"2024-10-16",60862790,"日本代購",1,null,null,"已寄",null,false]
[149,"2024-10-16",60922980,"日本代購",1,null,null,"已寄",null,false]
[150,"2024-10-16",61038231,"日本代購",1,null,null,"已寄",null,false]
[151,"2024-10-16",61220054,"日本代購",1,null,null,"已寄",null,false]
[152,"2024-10-16",61274142,"日本代購",1,null,null,"已寄",null,false]
[153,"2024-10-16",61319677,"日本代購",1,null,null,"已寄",null,false]
[154,"2024-10-16",61322842,"日本代購",1,null,null,"已到貨",null,false]
[155,"2024-10-16",61331563,"日本代購",1,null,null,"已寄",null,false]
[156,"2024-10-16",61567271,"日本代購",1,null,null,"已到貨",null,false]
[157,"2024-10-16",62277840,"日本代購",1,null,null,"已寄",null,false]
[164,"2024-10-16",63568251,"日本代購",1,null,null,"已寄",null,false]
[165,"2024-10-16",63775251,"日本代購",1,null,null,"已寄",null,false]
[166,"2024-10-16",64111534,"日本代購",1,null,null,"已寄",null,false]
[167,"2024-10-16",64267782,"日本代購",1,null,null,"已寄",null,false]
[168,"2024-10-16",65775107,"日本代購",1,null,null,"已寄",null,false]
[169,"2024-10-16",65933828,"日本代購",1,null,null,"已寄",null,false]
[170,"2024-10-16",66297983,"日本代購",1,null,null,"已寄",null,false]
[171,"2024-10-16",67300146,"日本代購",1,null,null,"已到貨",null,false]
[172,"2024-10-16",67311512,"日本代購",1,null,null,"已寄",null,false]
[173,"2024-10-16",67681197,"日本代購",1,null,null,"已寄",null,false]
[174,"2024-10-16",68438099,"日本代購",1,null,null,"已寄",null,false]
[175,"2024-10-16",68822283,"日本代購",1,null,null,"已寄",null,false]
[176,"2024-10-16",68988359,"日本代購",1,null,null,"已寄",null,false]
[177,"2024-10-16",69930596,"日本代購",1,null,null,"已寄",null,false]
[178,"2024-10-16",69984177,"日本代購",1,null,null,"已寄",null,false]
[179,"2024-10-16",90166250,"日本代購",1,null,null,"已寄",null,false]
[180,"2024-10-16",90230421,"日本代購",1,null,null,"已寄",null,false]
[181,"2024-10-16",90821275,"日本代購",1,null,null,"已到貨",null,false]
[182,"2024-10-16",91267970,"日本代購",1,null,null,"已寄",null,false]
[183,"2024-10-16",91283990,"日本代購",1,null,null,"已寄",null,false]
[184,"2024-10-16",91488559,"日本代購",1,null,null,"已寄",null,false]
[185,"2024-10-16",91760930,"日本代購",1,null,null,"已寄",null,false]
[186,"2024-10-16",91865815,"日本代購",1,null,null,"已寄",null,false]
[187,"2024-10-16",92639065,"日本代購",1,null,null,"已寄",null,false]
[188,"2024-10-16",92667411,"日本代購",1,null,null,"已到貨",null,false]
[189,"2024-10-16",92748648,"日本代購",1,null,null,"已到貨",null,false]
[190,"2024-10-16",93451014,"日本代購",1,null,null,"已寄",null,false]
[192,"2024-10-16",96101095,"日本代購",1,null,null,"已到貨",null,false]
[193,"2024-10-16",96105577,"日本代購",1,null,null,"已寄",null,false]
[194,"2024-10-16",96427340,"日本代購",1,null,null,"已寄",null,false]
[195,"2024-10-16",96877422,"日本代購",1,null,null,"已寄",null,false]
[196,"2024-10-16",97040118,"日本代購",1,null,null,"已寄",null,false]
[197,"2024-10-16",97457161,"日本代購",1,null,null,"已寄",null,false]
[198,"2024-10-16",97675720,"日本代購",1,null,null,"已寄",null,false]
[199,"2024-10-16",97811152,"日本代購",1,null,null,"已寄",null,false]
[200,"2024-10-16",98287157,"日本代購",1,null,null,"已寄",null,false]
[201,"2024-10-16",98296339,"日本代購",1,null,null,"已寄",null,false]
[202,"2024-10-16",98314743,"日本代購",1,null,null,"已寄",null,false]
[203,"2024-10-16",98855791,"日本代購",1,null,null,"已寄",null,false]
[204,"2024-10-17",974571611,"日本代購(花SET)",1,null,null,"已寄",null,false]
[205,"2024-10-17",61220054,"日本代購(腳尺)",1,null,null,"已到貨",null,false]
[206,"2024-10-17",61274142,"日本代購(襪+綠白)",1,null,null,"已寄",null,false]
[207,"2024-10-17",61319677,"日本代購(被)",1,null,null,"已到貨",null,false]
[208,"2024-10-17",63775251,"日本代購(LEG SUPPORT)",1,null,null,"已寄",null,false]
[209,"2024-10-21",61220054,"安撫奶嘴-小獅王-蘊蜜超柔拇指安撫奶嘴(杏茶)-耐咬較大型-",1,45,45,"已寄",{"$f":"_xlfn.XLOOKUP(D344,表格2[產品],表格2[編號],\"\")","v":{"$error":"#NAME?"}},false]
[209,"2024-10-21",61220054,"安撫奶嘴-小獅王-蘊蜜超柔拇指安撫奶嘴(晨藍)-耐咬較大型-",1,45,45,"已寄",null,false]
[209,"2024-10-21",61220054,"安撫奶嘴-小獅王-蘊蜜超柔拇指安撫奶嘴(綠沐)-耐咬較大型-",1,45,45,"已寄",{"$f":"_xlfn.XLOOKUP(D346,表格2[產品],表格2[編號],\"\")","v":{"$error":"#NAME?"}},false]
[210,"2024-10-21",61274142,"BBB車車餐具-黃-",1,98,98,"預訂－未到貨",null,false]
[210,"2024-10-21",61274142,"學習水杯-小獅王-蘊蜜鉑金PPSU防漏滑蓋學習水杯270ml(晨藍)-",1,155,155,"已寄",null,false]
[211,"2024-10-21",63775251,"BBB經典餐具-藍-",1,88,88,"預訂－未到貨",null,false]
[212,"2024-10-21",66826841,"奶樽刷-小獅王-超柔無垢白金矽膠奶瓶刷(小櫻)-紅-",1,69,69,"已寄",null,false]
[213,"2024-10-21",92639065,"BBB車車餐具-紫-",1,98,98,"預訂－未到貨",null,false]
[213,"2024-10-21",92639065,"BBB經典餐具-粉-",1,88,88,"預訂－未到貨",null,false]
[214,"2024-10-21",91283990,"配件7-小獅王-蘊蜜寬口防漏滑蓋吸管組-",1,55,55,"已到貨",null,false]
[215,"2024-10-21",67681197,"配件7-小獅王-蘊蜜寬口防漏滑蓋把手吸管組(栗粉)-",1,55,55,"已寄",null,false]
[216,"2024-10-21",61322842,"BBB車車餐具-黃-",1,98,98,"預訂－未到貨",null,false]
[216,"2024-10-21",61322842,"BBB經典餐具-藍-",1,88,88,"預訂－未到貨",null,false]
[217,"2024-10-21",96449760,"學習水杯-小獅王-蘊蜜鉑金PPSU防漏滑蓋學習水杯270ml(綠沐)-",1,155,155,"已寄",null,false]
[218,"2024-10-21",68438099,"BBB經典餐具-粉-",1,88,88,"預訂－未到貨",null,false]
[219,"2024-10-22",93826979,"BBB經典餐具-黃-",1,88,88,"預訂－未到貨",null,false]
[220,"2024-10-27","ritatatatahui","把手奶樽-小獅王-蘊蜜鉑金PPSU寬口吸管把手防脹氣奶瓶270ml(栗粉)-十字M",1,140,140,"已寄",null,false]
[220,"2024-10-27","ritatatatahui","把手奶樽-小獅王-蘊蜜鉑金PPSU寬口吸管把手防脹氣奶瓶270ml(杏茶)-十字M",1,140,140,"已寄",null,false]
[220,"2024-10-27","ritatatatahui","奶樽嘴-小獅王-超柔防脹氣寬口十字奶嘴L-4入(6個月以上)-",1,85,85,"已寄",null,false]
[221,"2024-10-28",60377123,"配件6-小獅王-蘊蜜寬口奶瓶防漏學習吸管組-",4,38,152,"預訂－未到貨",null,false]
[222,"2024-10-28",93146061,"UBMOM矽膠零食杯-米-",1,108,108,"預訂－未到貨",null,false]
[222,"2024-10-28",93146061,"好樂飲-小獅王-好樂飲PPSU防漏滑蓋學習水杯250ml(可可杏)-",1,170,170,"已到貨",null,false]
[223,"2024-10-28",91760930,"CAREBEAR白色滿印衛衣-100-",1,89,89,"預訂－未到貨",null,false]
[223,"2024-10-28",91760930,"CUTEMILY秋冬波波冷衫-100-白",1,89,89,"預訂－未到貨",null,false]
[224,"2024-10-28",63723318,"LABUBU衛衣-90-淺灰",1,69,69,"預訂－未到貨",null,false]
[224,"2024-10-28",63723318,"TOMANDJERRY手袖公仔衛衣-90-黃",1,69,69,"預訂－未到貨",null,false]
[225,"2024-10-28",63236944,"TOMANDJERRY手袖公仔衛衣-100-白",1,69,69,"預訂－未到貨",null,false]
[226,"2024-10-28",53403193,"CAREBEAR白色滿印衛衣-80-",1,89,89,"預訂－未到貨",null,false]
[227,"2024-10-28",93826979,"CAREBEAR白色滿印衛衣-110-",1,89,89,"預訂－未到貨",null,false]
[228,"2024-10-29",62995454,"TOMANDJERRY帶帽睡覺款衛衣-110-白",1,69,69,"預訂－未到貨",null,false]
[228,"2024-10-29",62995454,"TOMANDJERRY帶帽睡覺款衛衣-130-黑",1,69,69,"預訂－未到貨",null,false]
[229,"2024-10-29",92247990,"LABUBU衛衣-100-米白",1,69,69,"預訂－未到貨",null,false]
[230,"2024-10-29",95659964,"CUTEMILY秋冬短褲-90-黑",1,75,75,"預訂－未到貨",null,false]
[232,"2024-10-29",63161303,"TOMANDJERRY手袖公仔衛衣-100-灰",1,69,69,"預訂－未到貨",null,false]
[233,"2024-10-30",96531080,"配件7-小獅王-蘊蜜寬口防漏滑蓋把手吸管組(綠沐)-",1,55,55,"已寄",null,false]
[233,"2024-10-30",96531080,"配件7-小獅王-蘊蜜寬口防漏滑蓋把手吸管組(紫芙)-",1,55,55,"已寄",null,false]
[233,"2024-10-30",96531080,"配件7-小獅王-蘊蜜寬口防漏滑蓋把手吸管組(苜白)-",1,55,55,"已寄",null,false]
[234,"2024-10-30",91283990,"CUTEMILY秋冬波波冷衫-90-白",1,89,89,"預訂－未到貨",null,false]
[234,"2024-10-30",91283990,"CUTEMILY秋冬短褲-90-黑",1,75,75,"預訂－未到貨",null,false]
[235,"2024-10-30",96109964,"CAREBEAR白色滿印衛衣-100-",1,89,89,"預訂－未到貨",null,false]
[236,"2024-10-30",97040118,"CUTEMILY秋冬波波冷衫-80-白",1,89,89,"預訂－未到貨",null,false]
[236,"2024-10-30",97040118,"TOMANDJERRY手袖公仔衛衣-90-黃",1,69,69,"預訂－未到貨",null,false]
[237,"2024-10-30",60377123,"CUTEMILY秋冬波波冷衫-90-白",1,89,89,"預訂－未到貨",null,false]
[237,"2024-10-30",60377123,"CUTEMILY秋冬波波冷衫-90-紅",1,89,89,"預訂－未到貨",null,false]
[237,"2024-10-30",60377123,"CUTEMILY秋冬短裙-80-紅",1,75,75,"預訂－未到貨",null,false]
[237,"2024-10-30",60377123,"CUTEMILY秋冬短褲-80-黑",1,75,75,"預訂－未到貨",null,false]
[238,"2024-10-30",55110419,"好吃防水圍兜-奶油字母-杏",1,89,89,"預訂－未到貨",null,false]
[239,"2024-10-30",69984177,"好吃防水圍兜-小島星球-淺藍",1,89,89,"預訂－未到貨",null,false]
[240,"2024-10-30",90166250,"好吃防水圍兜-小島星球-淺藍",1,89,89,"預訂－未到貨",null,false]
[241,"2024-10-30",63568318,"好吃防水圍兜-奶油字母-杏",1,89,89,"預訂－未到貨",null,false]
[241,"2024-10-30",63568318,"好吃防水圍兜-蜜桃菠菠-粉",1,89,89,"預訂－未到貨",null,false]
[242,"2024-10-31",98483373,"好吃防水圍兜-奶油字母-杏",1,89,89,"預訂－未到貨",null,false]
[242,"2024-10-31",98483373,"配件6-小獅王-蘊蜜寬口奶瓶防漏學習吸管組-",1,38,38,"預訂－未到貨",null,false]
[242,"2024-10-31",98483373,"配件7-小獅王-蘊蜜寬口防漏滑蓋把手吸管組(綠沐)-",1,55,55,"已到貨",null,false]
[243,"2024-10-15",91488559,"台三件套小飛象-90-",1,145,145,"預訂－未到貨",null,false]
[243,"2024-10-15",91488559,"台小飛象外套-100-白",1,95,95,"預訂－未到貨",null,false]
[243,"2024-10-15",91488559,"台連身扣鏤小飛象-70-黃",1,109,109,"預訂－未到貨",null,false]
[244,"2024-11-01","LAUONNA","把手奶樽-小獅王-蘊蜜鉑金PPSU寬口吸管把手防脹氣奶瓶200ml(晨藍)-十字S",1,135,135,"已寄",null,false]
[244,"2024-11-01","LAUONNA","把手奶樽-小獅王-蘊蜜鉑金PPSU寬口吸管把手防脹氣奶瓶200ml(綠沐)-十字S",1,135,135,"已寄",null,false]
[244,"2024-11-01","LAUONNA","奶樽嘴-小獅王-超柔防脹氣寬口十字奶嘴L-4入(6個月以上)-",1,85,85,"已寄",null,false]
[244,"2024-11-01","LAUONNA","吸管刷-小獅王-蘊蜜清潔刷6入-",1,38,38,"已寄",null,false]
[245,"2024-11-01","YONSI HEUNG","奶嘴刷-小獅王-超柔無垢白金矽膠奶嘴刷(小石)-灰-",1,49,49,"已寄",null,false]
[245,"2024-11-01","YONSI HEUNG","奶樽刷-小獅王-超柔無垢白金矽膠旋轉奶瓶刷(小石)-灰-",1,69,69,"已寄",null,false]
[246,"2024-11-02",98483373,"奶樽嘴-小獅王-超柔防脹氣寬口十字奶嘴M-4入(3個月以上)-",1,85,85,"已到貨",null,false]
[247,"2024-11-02",61569377,"紗巾-西瓜-",1,50,50,"已寄",null,false]
[247,"2024-11-02",61569377,"紗巾-熊-",1,50,50,"已寄",null,false]
[248,"2024-11-02",61220054,"安撫奶嘴-小獅王-蘊蜜超柔拇指安撫奶嘴(杏茶)-耐咬較大型-",1,45,45,"已到貨",null,false]
[248,"2024-11-02",61220054,"安撫奶嘴-小獅王-蘊蜜超柔拇指安撫奶嘴(晨藍)-耐咬較大型-",1,45,45,"已到貨",null,false]
[248,"2024-11-02",61220054,"安撫奶嘴-小獅王-蘊蜜超柔拇指安撫奶嘴(綠沐)-耐咬較大型-",1,45,45,"預訂－未到貨",null,false]
[249,"2024-11-02",60931124,"SANRIO 滿印-水100-",1,0,0,"預訂－未到貨",null,false]
[249,"2024-11-02",60931124,"吊帶褲-水100-",1,0,0,"預訂－未到貨",null,false]
[250,"2024-11-03",93146061,"PPSU 普通奶樽-小獅王-蘊蜜鉑金PPSU寬口防脹氣奶瓶270ml(杏茶)-十字M",1,128,128,"已到貨",null,false]
[250,"2024-11-03",93146061,"PPSU 普通奶樽-小獅王-蘊蜜鉑金PPSU寬口防脹氣奶瓶270ml(晨藍)-十字M",1,128,128,"已到貨",null,false]
[250,"2024-11-03",93146061,"PPSU 普通奶樽-小獅王-蘊蜜鉑金PPSU寬口防脹氣奶瓶270ml(綠沐)-十字M",1,128,128,"已到貨",null,false]
[250,"2024-11-03",93146061,"好吃防水圍兜-奶油字母-杏",1,89,89,"預訂－未到貨",null,false]
[250,"2024-11-03",93146061,"好吃防水圍兜-奶油字母-杏",1,89,89,"預訂－未到貨",{"$f":"_xlfn.XLOOKUP(D419,表格2[產品],表格2[編號],\"\")","v":{"$error":"#NAME?"}},false]
[250,"2024-11-03",93146061,"食物剪刀-小獅王-嬰兒食物金剛剪(杏茶)-",1,69,69,"預訂－未到貨",null,false]
[250,"2024-11-03",93146061,"配件6-小獅王-蘊蜜寬口奶瓶防漏學習吸管組-",3,38,114,"預訂－未到貨",null,false]
[251,"2024-11-03",97139005,"好吃防水圍兜-蜜桃菠菠-粉",1,89,89,"預訂－未到貨",null,false]
[252,"2024-11-03",60122974,"日本代購(咬咬巾)--",1,99,99,"已到貨",null,false]
[252,"2024-11-03",60122974,"好吃防水圍兜-奶油字母-杏",1,89,89,"預訂－未到貨",null,false]
[253,"2024-11-03",97504903,"好吃防水圍兜-奶油字母-杏",1,89,89,"預訂－未到貨",null,false]
[254,"2024-11-03",92116493,"好吃防水圍兜-奶油字母-杏",1,89,89,"預訂－未到貨",null,false]
[254,"2024-11-03",92116493,"好吃防水圍兜-恐龍樂團-深藍",1,89,89,"預訂－未到貨",null,false]
[255,"2024-11-03","MEI CHAN","配件7-小獅王-蘊蜜寬口防漏滑蓋吸管組-",1,55,55,"已寄",null,false]
[256,"2024-11-03",63236944,"把手奶樽-小獅王-蘊蜜鉑金PPSU寬口吸管把手防脹氣奶瓶360ml(杏茶)-十字M",1,148,148,"已寄",null,false]
[256,"2024-11-03",63236944,"把手奶樽-小獅王-蘊蜜鉑金PPSU寬口吸管把手防脹氣奶瓶360ml(栗粉)-十字M",1,148,148,"已寄",null,false]
[257,"2024-11-03",61274142,"好吃防水圍兜-小島星球-淺藍",1,89,89,"預訂－未到貨",null,false]
[257,"2024-11-03",61274142,"好吃防水圍兜-恐龍樂團-深藍",1,89,89,"預訂－未到貨",null,false]
[258,"2024-11-04",92667411,"BBB經典餐具-米-",1,88,88,"已到貨",null,false]
[259,"2024-11-04",98725367,"配件5-小獅王-蘊蜜寬口奶瓶蝶型吸管組-",2,35,70,"已寄",null,false]
[null,null,null,null,null,null,null,null,null,false]
[null,null,null,null,null,null,null,null,null,false]
[null,null,null,null,null,null,null,null,null,false]
[null,null,null,null,null,null,null,null,null,false]
[null,null,null,null,null,null,null,null,null,false]
[null,null,null,null,null,null,null,null,null,false]
[null,null,null,null,null,null,null,null,null,false]
[null,null,null,null,null,null,null,null,null,false]
[null,null,null,null,null,null,null,null,null,false]
[null,null,null,null,null,null,null,null,null,false]
[null,null,null,null,null,null,null,null,null,false]
[null,null,null,null,null,null,null,null,null,false]
[null,null,null,null,null,null,null,null,null,false]
[null,null,null,null,null,null,null,null,null,false]
[null,null,null,null,null,null,null,null,null,false]
[null,null,null,null,null,null,null,null,null,false]
[null,null,null,null,null,null,null,null,null,false]
[null,null,null,null,null,null,null,null,null,false]
[null,null,null,null,null,null,null,null,null,false]
[null,null,null,null,null,null,null,null,null,false]
[null,null,null,null,null,null,null,null,null,false]
[null,null,null,null,null,null,null,null,null,false]
[null,null,null,null,null,null,null,null,null,false]
[null,null,null,null,null,null,null,null,null,false]
[null,null,null,null,null,null,null,null,null,false]
[null,null,null,null,null,null,null,null,null,false]
[null,null,null,null,null,null,null,null,null,false]
[null,null,null,null,null,null,null,null,null,false]
[null,null,null,null,null,null,null,null,null,false]
[null,null,null,null,null,null,null,null,null,false]
[null,null,null,null,null,null,null,null,null,false]
[null,null,null,null,null,null,null,null,null,false]
[null,null,null,null,null,null,null,null,null,false]
[null,null,null,null,null,null,null,null,null,false]
[null,null,null,null,null,null,null,null,null,false]
[null,null,null,null,null,null,null,null,null,false]
[null,null,null,null,null,null,null,null,null,false]
[null,null,null,null,null,null,null,null,null,false]
[null,null,null,null,null,null,null,null,null,false]
[null,null,null,null,null,null,null,null,null,false]
[null,null,null,null,null,null,null,null,null,false]
[null,null,null,null,null,null,null,null,null,false]
[null,null,null,null,null,null,null,null,null,false]
[null,null,null,null,null,null,null,null,null,false]
[null,null,null,null,null,null,null,null,null,false]
[null,null,null,null,null,null,null,null,null,false]
[null,null,null,null,null,null,null,null,null,false]
[null,null,null,null,null,null,null,null,null,false]
[null,null,null,null,null,null,null,null,null,false]
[null,null,null,null,null,null,null,null,null,false]
[null,null,null,null,null,null,null,null,null,false]
[null,null,null,null,null,null,null,null,null,false]
[null,null,null,null,null,null,null,null,null,false]
[null,null,null,null,null,null,null,null,null,false]
[null,null,null,null,null,null,null,null,null,false]
[null,null,null,null,null,null,null,null,null,false]
[null,null,null,null,null,null,null,null,null,false]
[null,null,null,null,null,null,null,null,null,false]
[null,null,null,null,null,null,null,null,null,false]
[null,null,null,null,null,null,null,null,null,false]
[null,null,null,null,null,null,null,null,null,false]
[null,null,null,null,null,null,null,null,null,false]
[null,null,null,null,null,null,null,null,null,false]
[null,null,null,null,null,null,null,null,null,false]
[null,null,null,null,null,null,null,null,null,false]
[null,null,null,null,null,null,null,null,null,false]
[null,null,null,null,null,null,null,null,null,false]
[null,null,null,null,null,null,null,null,null,false]
[null,null,null,null,null,null,null,null,null,false]
[null,null,null,null,null,null,null,null,null,false]
[null,null,null,null,null,null,null,null,null,false]
[null,null,null,null,null,null,null,null,null,false]
[null,null,null,null,null,null,null,null,null,false]
[null,null,null,null,null,null,null,null,null,false]
[null,null,null,null,null,null,null,null,null,false]
[null,null,null,null,null,null,null,null,null,false]
[null,null,null,null,null,null,null,null,null,false]
[null,null,null,null,null,null,null,null,null,false]
[null,null,null,null,null,null,null,null,null,false]
[null,null,null,null,null,null,null,null,null,false]
[null,null,null,null,null,null,null,null,null,false]
[null,null,null,null,null,null,null,null,null,false]
[null,null,null,null,null,null,null,null,null,false]
[null,null,null,null,null,null,null,null,null,false]
[null,null,null,null,null,null,null,null,null,false]
[null,null,null,null,null,null,null,null,null,false]
[null,null,null,null,null,null,null,null,null,false]
[null,null,null,null,null,null,null,null,null,false]
[null,null,null,null,null,null,null,null,null,false]
[null,null,null,null,null,null,null,null,null,false]
[null,null,null,null,null,null,null,null,null,false]
[null,null,null,null,null,null,null,null,null,false]
[null,null,null,null,null,null,null,null,null,false]
[null,null,null,null,null,null,null,null,null,false]
[null,null,null,null,null,null,null,null,null,false]
[null,null,null,null,null,null,null,null,null,false]
[null,null,null,null,null,null,null,null,null,false]
[null,null,null,null,null,null,null,null,null,false]
[null,null,null,null,null,null,null,null,null,false]
[null,null,null,null,null,null,null,null,null,false]
[null,null,null,null,null,null,null,null,null,false]
[null,null,null,null,null,null,null,null,null,false]
[null,null,null,null,null,null,null,null,null,false]
[null,null,null,null,null,null,null,null,null,false]
[null,null,null,null,null,null,null,null,null,false]
[null,null,null,null,null,null,null,null,null,false]
[null,null,null,null,null,null,null,null,null,false]
[null,null,null,null,null,null,null,null,null,false]
[null,null,null,null,null,null,null,null,null,false]
[null,null,null,null,null,null,null,null,null,false]
[null,null,null,null,null,null,null,null,null,false]
[null,null,null,null,null,null,null,null,null,false]
[null,null,null,null,null,null,null,null,null,false]
[null,null,null,null,null,null,null,null,null,false]
[null,null,null,null,null,null,null,null,null,false]
[null,null,null,null,null,null,null,null,null,false]
[null,null,null,null,null,null,null,null,null,false]
[null,null,null,null,null,null,null,null,null,false]
[null,null,null,null,null,null,null,null,null,false]
[null,null,null,null,null,null,null,null,null,false]
[null,null,null,null,null,null,null,null,null,false]
[null,null,null,null,null,null,null,null,null,false]
[null,null,null,null,null,null,null,null,null,false]
[null,null,null,null,null,null,null,null,null,false]
[null,null,null,null,null,null,null,null,null,false]
[null,null,null,null,null,null,null,null,null,false]
[null,null,null,null,null,null,null,null,null,false]
[null,null,null,null,null,null,null,null,null,false]
[null,null,null,null,null,null,null,null,null,false]
[null,null,null,null,null,null,null,null,null,false]
[null,null,null,null,null,null,null,null,null,false]
[null,null,null,null,null,null,null,null,null,false]
[null,null,null,null,null,null,null,null,null,false]
[null,null,null,null,null,null,null,null,null,false]
[null,null,null,null,null,null,null,null,null,false]
[null,null,null,null,null,null,null,null,null,false]
[null,null,null,null,null,null,null,null,null,false]
[null,null,null,null,null,null,null,null,null,false]
[null,null,null,null,null,null,null,null,null,false]
[null,null,null,null,null,null,null,null,null,false]
[null,null,null,null,null,null,null,null,null,false]
[null,null,null,null,null,null,null,null,null,false]
[null,null,null,null,null,null,null,null,null,false]
[null,null,null,null,null,null,null,null,null,false]
[null,null,null,null,null,null,null,null,null,false]
[null,null,null,null,null,null,null,null,null,false]
[null,null,null,null,null,null,null,null,null,false]
[null,null,null,null,null,null,null,null,null,false]
[null,null,null,null,null,null,null,null,null,false]
[null,null,null,null,null,null,null,null,null,false]
[null,null,null,null,null,null,null,null,null,false]
[null,null,null,null,null,null,null,null,null,false]
[null,null,null,null,null,null,null,null,null,false]
[null,null,null,null,null,null,null,null,null,false]
[null,null,null,null,null,null,null,null,null,false]
[null,null,null,null,null,null,null,null,null,false]
[null,null,null,null,null,null,null,null,null,false]
[null,null,null,null,null,null,null,null,null,false]
[null,null,null,null,null,null,null,null,null,false]
[null,null,null,null,null,null,null,null,null,false]
[null,null,null,null,null,null,null,null,null,false]
[null,null,null,null,null,null,null,null,null,false]
[null,null,null,null,null,null,null,null,null,false]
[null,null,null,null,null,null,null,null,null,false]
[null,null,null,null,null,null,null,null,null,false]
[null,null,null,null,null,null,null,null,null,false]
[null,null,null,null,null,null,null,null,null,false]
[null,null,null,null,null,null,null,null,null,false]
[null,null,null,null,null,null,null,null,null,false]
[null,null,null,null,null,null,null,null,null,false]
[null,null,null,null,null,null,null,null,null,false]
[null,null,null,null,null,null,null,null,null,false]
[null,null,null,null,null,null,null,null,null,false]
[null,null,null,null,null,null,null,null,null,false]
[null,null,null,null,null,null,null,null,null,false]
[null,null,null,null,null,null,null,null,null,false]
[null,null,null,null,null,null,null,null,null,false]
[null,null,null,null,null,null,null,null,null,false]
[null,null,null,null,null,null,null,null,null,false]
[null,null,null,null,null,null,null,null,null,false]
[null,null,null,null,null,null,null,null,null,false]
[null,null,null,null,null,null,null,null,null,false]
[null,null,null,null,null,null,null,null,null,false]
[null,null,null,null,null,null,null,null,null,false]
[null,null,null,null,null,null,null,null,null,false]
[null,null,null,null,null,null,null,null,null,false]
[null,null,null,null,null,null,null,null,null,false]
[null,null,null,null,null,null,null,null,null,false]
[null,null,null,null,null,null,null,null,null,false]
[null,null,null,null,null,null,null,null,null,false]
[null,null,null,null,null,null,null,null,null,false]
[null,null,null,null,null,null,null,null,null,false]
[null,null,null,null,null,null,null,null,null,false]
[null,null,null,null,null,null,null,null,null,false]
[null,null,null,null,null,null,null,null,null,false]
[null,null,null,null,null,null,null,null,null,false]
[null,null,null,null,null,null,null,null,null,false]
[null,null,null,null,null,null,null,null,null,false]
[null,null,null,null,null,null,null,null,null,false]
[null,null,null,null,null,null,null,null,null,false]
[null,null,null,null,null,null,null,null,null,false]
[null,null,null,null,null,null,null,null,null,false]
[null,null,null,null,null,null,null,null,null,false]
[null,null,null,null,null,null,null,null,null,false]
[null,null,null,null,null,null,null,null,null,false]
[null,null,null,null,null,null,null,null,null,false]
[null,null,null,null,null,null,null,null,null,false]
[null,null,null,null,null,null,null,null,null,false]
[null,null,null,null,null,null,null,null,null,false]
[null,null,null,null,null,null,null,null,null,false]
[null,null,null,null,null,null,null,null,null,false]
[null,null,null,null,null,null,null,null,null,false]
[null,null,null,null,null,null,null,null,null,false]
[null,null,null,null,null,null,null,null,null,false]
[null,null,null,null,null,null,null,null,null,false]
[null,null,null,null,null,null,null,null,null,false]
[null,null,null,null,null,null,null,null,null,false]
[null,null,null,null,null,null,null,null,null,false]
[null,null,null,null,null,null,null,null,null,false]
[null,null,null,null,null,null,null,null,null,false]
[null,null,null,null,null,null,null,null,null,false]
[null,null,null,null,null,null,null,null,null,false]
[null,null,null,null,null,null,null,null,null,false]
[null,null,null,null,null,null,null,null,null,false]
[null,null,null,null,null,null,null,null,null,false]
[null,null,null,null,null,null,null,null,null,false]
[null,null,null,null,null,null,null,null,null,false]
[null,null,null,null,null,null,null,null,null,false]
[null,null,null,null,null,null,null,null,null,false]
[null,null,null,null,null,null,null,null,null,false]
[null,null,null,null,null,null,null,null,null,false]
[null,null,null,null,null,null,null,null,null,false]
[null,null,null,null,null,null,null,null,null,false]
[null,null,null,null,null,null,null,null,null,false]
[null,null,null,null,null,null,null,null,null,false]
[null,null,null,null,null,null,null,null,null,false]
[null,null,null,null,null,null,null,null,null,false]
[null,null,null,null,null,null,null,null,null,false]
[null,null,null,null,null,null,null,null,null,false]
[null,null,null,null,null,null,null,null,null,false]
[null,null,null,null,null,null,null,null,null,false]
[null,null,null,null,null,null,null,null,null,false]
[null,null,null,null,null,null,null,null,null,false]
[null,null,null,null,null,null,null,null,null,false]
[null,null,null,null,null,null,null,null,null,false]
[null,null,null,null,null,null,null,null,null,false]
[null,null,null,null,null,null,null,null,null,false]
[null,null,null,null,null,null,null,null,null,false]
[null,null,null,null,null,null,null,null,null,false]
[null,null,null,null,null,null,null,null,null,false]
[null,null,null,null,null,null,null,null,null,false]
[null,null,null,null,null,null,null,null,null,false]
[null,null,null,null,null,null,null,null,null,false]
[null,null,null,null,null,null,null,null,null,false]
[null,null,null,null,null,null,null,null,null,false]
[null,null,null,null,null,null,null,null,null,false]
[null,null,null,null,null,null,null,null,null,false]
[null,null,null,null,null,null,null,null,null,false]
[null,null,null,null,null,null,null,null,null,false]
[null,null,null,null,null,null,null,null,null,false]
[null,null,null,null,null,null,null,null,null,false]
[null,null,null,null,null,null,null,null,null,false]
[null,null,null,null,null,null,null,null,null,false]
[null,null,null,null,null,null,null,null,null,false]
[null,null,null,null,null,null,null,null,null,false]
[null,null,null,null,null,null,null,null,null,false]
[null,null,null,null,null,null,null,null,null,false]
[null,null,null,null,null,null,null,null,null,false]
[null,null,null,null,null,null,null,null,null,false]
[null,null,null,null,null,null,null,null,null,false]
[null,null,null,null,null,null,null,null,null,false]
[null,null,null,null,null,null,null,null,null,false]
[null,null,null,null,null,null,null,null,null,false]
[null,null,null,null,null,null,null,null,null,false]
[null,null,null,null,null,null,null,null,null,false]
[null,null,null,null,null,null,null,null,null,false]
[null,null,null,null,null,null,null,null,null,false]
[null,null,null,null,null,null,null,null,null,false]
[null,null,null,null,null,null,null,null,null,false]
[null,null,null,null,null,null,null,null,null,false]
[null,null,null,null,null,null,null,null,null,false]
[null,null,null,null,null,null,null,null,null,false]
[null,null,null,null,null,null,null,null,null,false]
[null,null,null,null,null,null,null,null,null,false]
[null,null,null,null,null,null,null,null,null,false]
[null,null,null,null,null,null,null,null,null,false]
[null,null,null,null,null,null,null,null,null,false]
[null,null,null,null,null,null,null,null,null,false]
[null,null,null,null,null,null,null,null,null,false]
[null,null,null,null,null,null,null,null,null,false]
[null,null,null,null,null,null,null,null,null,false]
[null,null,null,null,null,null,null,null,null,false]
[null,null,null,null,null,null,null,null,null,false]
[null,null,null,null,null,null,null,null,null,false]
[null,null,null,null,null,null,null,null,null,false]
[null,null,null,null,null,null,null,null,null,false]
[null,null,null,null,null,null,null,null,null,false]
[null,null,null,null,null,null,null,null,null,false]
[null,null,null,null,null,null,null,null,null,false]
[null,null,null,null,null,null,null,null,null,false]
[null,null,null,null,null,null,null,null,null,false]
[null,null,null,null,null,null,null,null,null,false]
[null,null,null,null,null,null,null,null,null,false]
[null,null,null,null,null,null,null,null,null,false]
[null,null,null,null,null,null,null,null,null,false]
[null,null,null,null,null,null,null,null,null,false]
[null,null,null,null,null,null,null,null,null,false]
[null,null,null,null,null,null,null,null,null,false]
[null,null,null,null,null,null,null,null,null,false]
[null,null,null,null,null,null,null,null,null,false]
[null,null,null,null,null,null,null,null,null,false]
[null,null,null,null,null,null,null,null,null,false]
[null,null,null,null,null,null,null,null,null,false]
[null,null,null,null,null,null,null,null,null,false]
[null,null,null,null,null,null,null,null,null,false]
[null,null,null,null,null,null,null,null,null,false]
[null,null,null,null,null,null,null,null,null,false]
[null,null,null,null,null,null,null,null,null,false]
[null,null,null,null,null,null,null,null,null,false]
[null,null,null,null,null,null,null,null,null,false]
[null,null,null,null,null,null,null,null,null,false]
[null,null,null,null,null,null,null,null,null,false]
[null,null,null,null,null,null,null,null,null,false]
[null,null,null,null,null,null,null,null,null,false]
[null,null,null,null,null,null,null,null,null,false]
[null,null,null,null,null,null,null,null,null,false]
[null,null,null,null,null,null,null,null,null,false]
[null,null,null,null,null,null,null,null,null,false]
[null,null,null,null,null,null,null,null,null,false]
[null,null,null,null,null,null,null,null,null,false]
[null,null,null,null,null,null,null,null,null,false]
[null,null,null,null,null,null,null,null,null,false]
[null,null,null,null,null,null,null,null,null,false]
[null,null,null,null,null,null,null,null,null,false]
[null,null,null,null,null,null,null,null,null,false]
[null,null,null,null,null,null,null,null,null,false]
[null,null,null,null,null,null,null,null,null,false]
[null,null,null,null,null,null,null,null,null,false]
[null,null,null,null,null,null,null,null,null,false]
[null,null,null,null,null,null,null,null,null,false]
[null,null,null,null,null,null,null,null,null,false]
[null,null,null,null,null,null,null,null,null,false]
[null,null,null,null,null,null,null,null,null,false]
[null,null,null,null,null,null,null,null,null,false]
[null,null,null,null,null,null,null,null,null,false]
[null,null,null,null,null,null,null,null,null,false]
[null,null,null,null,null,null,null,null,null,false]
[null,null,null,null,null,null,null,null,null,false]
[null,null,null,null,null,null,null,null,null,false]
[null,null,null,null,null,null,null,null,null,false]
[null,null,null,null,null,null,null,null,null,false]
[null,null,null,null,null,null,null,null,null,false]
[null,null,null,null,null,null,null,null,null,false]
[null,null,null,null,null,null,null,null,null,false]
[null,null,null,null,null,null,null,null,null,false]
[null,null,null,null,null,null,null,null,null,false]
[null,null,null,null,null,null,null,null,null,false]
[null,null,null,null,null,null,null,null,null,false]
[null,null,null,null,null,null,null,null,null,false]
[null,null,null,null,null,null,null,null,null,false]
[null,null,null,null,null,null,null,null,null,false]
[null,null,null,null,null,null,null,null,null,false]
[null,null,null,null,null,null,null,null,null,false]
[null,null,null,null,null,null,null,null,null,false]
[null,null,null,null,null,null,null,null,null,false]
[null,null,null,null,null,null,null,null,null,false]
[null,null,null,null,null,null,null,null,null,false]
[null,null,null,null,null,null,null,null,null,false]
[null,null,null,null,null,null,null,null,null,false]
[null,null,null,null,null,null,null,null,null,false]
[null,null,null,null,null,null,null,null,null,false]
[null,null,null,null,null,null,null,null,null,false]
[null,null,null,null,null,null,null,null,null,false]
[null,null,null,null,null,null,null,null,null,false]
[null,null,null,null,null,null,null,null,null,false]
[null,null,null,null,null,null,null,null,null,false]
[null,null,null,null,null,null,null,null,null,false]
[null,null,null,null,null,null,null,null,null,false]
[null,null,null,null,null,null,null,null,null,false]
[null,null,null,null,null,null,null,null,null,false]
[null,null,null,null,null,null,null,null,null,false]
[null,null,null,null,null,null,null,null,null,false]
[null,null,null,null,null,null,null,null,null,false]
[null,null,null,null,null,null,null,null,null,false]
[null,null,null,null,null,null,null,null,null,false]
[null,null,null,null,null,null,null,null,null,false]
[null,null,null,null,null,null,null,null,null,false]
[null,null,null,null,null,null,null,null,null,false]
[null,null,null,null,null,null,null,null,null,false]
[null,null,null,null,null,null,null,null,null,false]
[null,null,null,null,null,null,null,null,null,false]
[null,null,null,null,null,null,null,null,null,false]
[null,null,null,null,null,null,null,null,null,false]
[null,null,null,null,null,null,null,null,null,false]
[null,null,null,null,null,null,null,null,null,false]
[null,null,null,null,null,null,null,null,null,false]
[null,null,null,null,null,null,null,null,null,false]
[null,null,null,null,null,null,null,null,null,false]
[null,null,null,null,null,null,null,null,null,false]
[null,null,null,null,null,null,null,null,null,false]
[null,null,null,null,null,null,null,null,null,false]
[null,null,null,null,null,null,null,null,null,false]
[null,null,null,null,null,null,null,null,null,false]
[null,null,null,null,null,null,null,null,null,false]
[null,null,null,null,null,null,null,null,null,false]
[null,null,null,null,null,null,null,null,null,false]
[null,null,null,null,null,null,null,null,null,false]
[null,null,null,null,null,null,null,null,null,false]
[null,null,null,null,null,null,null,null,null,false]
[null,null,null,null,null,null,null,null,null,false]
[null,null,null,null,null,null,null,null,null,false]
[null,null,null,null,null,null,null,null,null,false]
[null,null,null,null,null,null,null,null,null,false]
[null,null,null,null,null,null,null,null,null,false]
[null,null,null,null,null,null,null,null,null,false]
[null,null,null,null,null,null,null,null,null,false]
[null,null,null,null,null,null,null,null,null,false]
[null,null,null,null,null,null,null,null,null,false]
[null,null,null,null,null,null,null,null,null,false]
[null,null,null,null,null,null,null,null,null,false]
[null,null,null,null,null,null,null,null,null,false]
[null,null,null,null,null,null,null,null,null,false]
[null,null,null,null,null,null,null,null,null,false]
[null,null,null,null,null,null,null,null,null,false]
[null,null,null,null,null,null,null,null,null,false]
[null,null,null,null,null,null,null,null,null,false]
[null,null,null,null,null,null,null,null,null,false]
[null,null,null,null,null,null,null,null,null,false]
[null,null,null,null,null,null,null,null,null,false]
[null,null,null,null,null,null,null,null,null,false]
[null,null,null,null,null,null,null,null,null,false]
[null,null,null,null,null,null,null,null,null,false]
[null,null,null,null,null,null,null,null,null,false]
[null,null,null,null,null,null,null,null,null,false]
[null,null,null,null,null,null,null,null,null,false]
[null,null,null,null,null,null,null,null,null,false]
[null,null,null,null,null,null,null,null,null,false]
[null,null,null,null,null,null,null,null,null,false]
[null,null,null,null,null,null,null,null,null,false]
[null,null,null,null,null,null,null,null,null,false]
[null,null,null,null,null,null,null,null,null,false]
[null,null,null,null,null,null,null,null,null,false]
[null,null,null,null,null,null,null,null,null,false]
[null,null,null,null,null,null,null,null,null,false]
[null,null,null,null,null,null,null,null,null,false]
[null,null,null,null,null,null,null,null,null,false]
[null,null,null,null,null,null,null,null,null,false]
[null,null,null,null,null,null,null,null,null,false]
[null,null,null,null,null,null,null,null,null,false]
[null,null,null,null,null,null,null,null,null,false]
[null,null,null,null,null,null,null,null,null,false]
[null,null,null,null,null,null,null,null,null,false]
[null,null,null,null,null,null,null,null,null,false]
[null,null,null,null,null,null,null,null,null,false]
[null,null,null,null,null,null,null,null,null,false]
[null,null,null,null,null,null,null,null,null,false]
[null,null,null,null,null,null,null,null,null,false]
[null,null,null,null,null,null,null,null,null,false]
[null,null,null,null,null,null,null,null,null,false]
[null,null,null,null,null,null,null,null,null,false]
[null,null,null,null,null,null,null,null,null,false]
[null,null,null,null,null,null,null,null,null,false]
[null,null,null,null,null,null,null,null,null,false]
[null,null,null,null,null,null,null,null,null,false]
[null,null,null,null,null,null,null,null,null,false]
[null,null,null,null,null,null,null,null,null,false]
[null,null,null,null,null,null,null,null,null,false]
[null,null,null,null,null,null,null,null,null,false]
[null,null,null,null,null,null,null,null,null,false]
[null,null,null,null,null,null,null,null,null,false]
[null,null,null,null,null,null,null,null,null,false]
[null,null,null,null,null,null,null,null,null,false]
[null,null,null,null,null,null,null,null,null,false]
[null,null,null,null,null,null,null,null,null,false]
[null,null,null,null,null,null,null,null,null,false]
[null,null,null,null,null,null,null,null,null,false]
[null,null,null,null,null,null,null,null,null,false]
[null,null,null,null,null,null,null,null,null,false]
[null,null,null,null,null,null,null,null,null,false]
[null,null,null,null,null,null,null,null,null,false]
[null,null,null,null,null,null,null,null,null,false]
[null,null,null,null,null,null,null,null,null,false]
[null,null,null,null,null,null,null,null,null,false]
[null,null,null,null,null,null,null,null,null,false]
[null,null,null,null,null,null,null,null,null,false]
[null,null,null,null,null,null,null,null,null,false]
[null,null,null,null,null,null,null,null,null,false]
[null,null,null,null,null,null,null,null,null,false]
[null,null,null,null,null,null,null,null,null,false]
[null,null,null,null,null,null,null,null,null,false]
[null,null,null,null,null,null,null,null,null,false]
[null,null,null,null,null,null,null,null,null,false]
[null,null,null,null,null,null,null,null,null,false]
[null,null,null,null,null,null,null,null,null,false]
[null,null,null,null,null,null,null,null,null,false]
[null,null,null,null,null,null,null,null,null,false]
[null,null,null,null,null,null,null,null,null,false]
[null,null,null,null,null,null,null,null,null,false]
[null,null,null,null,null,null,null,null,null,false]
[null,null,null,null,null,null,null,null,null,false]
[null,null,null,null,null,null,null,null,null,false]
[null,null,null,null,null,null,null,null,null,false]
[null,null,null,null,null,null,null,null,null,false]
[null,null,null,null,null,null,null,null,null,false]
[null,null,null,null,null,null,null,null,null,false]
[null,null,null,null,null,null,null,null,null,false]
[null,null,null,null,null,null,null,null,null,false]
[null,null,null,null,null,null,null,null,null,false]
[null,null,null,null,null,null,null,null,null,false]
[null,null,null,null,null,null,null,null,null,false]
[null,null,null,null,null,null,null,null,null,false]
[null,null,null,null,null,null,null,null,null,false]
[null,null,null,null,null,null,null,null,null,false]
[null,null,null,null,null,null,null,null,null,false]
[null,null,null,null,null,null,null,null,null,false]
[null,null,null,null,null,null,null,null,null,false]
[null,null,null,null,null,null,null,null,null,false]
[null,null,null,null,null,null,null,null,null,false]
[null,null,null,null,null,null,null,null,null,false]
[null,null,null,null,null,null,null,null,null,false]
[null,null,null,null,null,null,null,null,null,false]
[null,null,null,null,null,null,null,null,null,false]
[null,null,null,null,null,null,null,null,null,false]
[null,null,null,null,null,null,null,null,null,false]
[null,null,null,null,null,null,null,null,null,false]
[null,null,null,null,null,null,null,null,null,false]
[null,null,null,null,null,null,null,null,null,false]
[null,null,null,null,null,null,null,null,null,false]
[null,null,null,null,null,null,null,null,null,false]
[null,null,null,null,null,null,null,null,null,false]
[null,null,null,null,null,null,null,null,null,false]
[null,null,null,null,null,null,null,null,null,false]
[null,null,null,null,null,null,null,null,null,false]
[null,null,null,null,null,null,null,null,null,false]
[null,null,null,null,null,null,null,null,null,false]
[null,null,null,null,null,null,null,null,null,false]
[null,null,null,null,null,null,null,null,null,false]
[null,null,null,null,null,null,null,null,null,false]
[null,null,null,null,null,null,null,null,null,false]
[null,null,null,null,null,null,null,null,null,false]
[null,null,null,null,null,null,null,null,null,false]
[null,null,null,null,null,null,null,null,null,false]
[null,null,null,null,null,null,null,null,null,false]
[null,null,null,null,null,null,null,null,null,false]
[null,null,null,null,null,null,null,null,null,false]
[null,null,null,null,null,null,null,null,null,false]
[null,null,null,null,null,null,null,null,null,false]
[null,null,null,null,null,null,null,null,null,false]
[null,null,null,null,null,null,null,null,null,false]
[null,null,null,null,null,null,null,null,null,false]
[null,null,null,null,null,null,null,null,null,false]
[null,null,null,null,null,null,null,null,null,false]
[null,null,null,null,null,null,null,null,null,false]
[null,null,null,null,null,null,null,null,null,false]
[null,null,null,null,null,null,null,null,null,false]
[null,null,null,null,null,null,null,null,null,false]
[null,null,null,null,null,null,null,null,null,false]
[null,null,null,null,null,null,null,null,null,false]
[null,null,null,null,null,null,null,null,null,false]
[null,null,null,null,null,null,null,null,null,false]
[null,null,null,null,null,null,null,null,null,false]
[null,null,null,null,null,null,null,null,null,false]
[null,null,null,null,null,null,null,null,null,false]
[null,null,null,null,null,null,null,null,null,false]
[null,null,null,null,null,null,null,null,null,false]
[null,null,null,null,null,null,null,null,null,false]
[null,null,null,null,null,null,null,null,null,false]
[null,null,null,null,null,null,null,null,null,false]
[null,null,null,null,null,null,null,null,null,false]
[null,null,null,null,null,null,null,null,null,false]
[null,null,null,null,null,null,null,null,null,false]
[null,null,null,null,null,null,null,null,null,false]
[null,null,null,null,null,null,null,null,null,false]
[null,null,null,null,null,null,null,null,null,false]
[null,null,null,null,null,null,null,null,null,false]
[null,null,null,null,null,null,null,null,null,false]
[null,null,null,null,null,null,null,null,null,false]
[null,null,null,null,null,null,null,null,null,false]
[null,null,null,null,null,null,null,null,null,false]
[null,null,null,null,null,null,null,null,null,false]
[null,null,null,null,null,null,null,null,null,false]
[null,null,null,null,null,null,null,null,null,false]
[null,null,null,null,null,null,null,null,null,false]
[null,null,null,null,null,null,null,null,null,false]
[null,null,null,null,null,null,null,null,null,false]
[null,null,null,null,null,null,null,null,null,false]
[null,null,null,null,null,null,null,null,null,false]
[null,null,null,null,null,null,null,null,null,false]
[null,null,null,null,null,null,null,null,null,false]
[null,null,null,null,null,null,null,null,null,false]
[null,null,null,null,null,null,null,null,null,false]
[null,null,null,null,null,null,null,null,null,false]
[null,null,null,null,null,null,null,null,null,false]
[null,null,null,null,null,null,null,null,null,false]
[null,null,null,null,null,null,null,null,null,false]
[null,null,null,null,null,null,null,null,null,false]
[null,null,null,null,null,null,null,null,null,false]
[null,null,null,null,null,null,null,null,null,false]
[null,null,null,null,null,null,null,null,null,false]
[null,null,null,null,null,null,null,null,null,false]
[null,null,null,null,null,null,null,null,null,false]
[null,null,null,null,null,null,null,null,null,false]
[null,null,null,null,null,null,null,null,null,false]
[null,null,null,null,null,null,null,null,null,false]
[null,null,null,null,null,null,null,null,null,false]
[null,null,null,null,null,null,null,null,null,false]
[null,null,null,null,null,null,null,null,null,false]
[null,null,null,null,null,null,null,null,null,false]
[null,null,null,null,null,null,null,null,null,false]
[null,null,null,null,null,null,null,null,null,false]
[null,null,null,null,null,null,null,null,null,false]
[null,null,null,null,null,null,null,null,null,false]
[null,null,null,null,null,null,null,null,null,false]
[null,null,null,null,null,null,null,null,null,false]
[null,null,null,null,null,null,null,null,null,false]
[null,null,null,null,null,null,null,null,null,false]
[null,null,null,null,null,null,null,null,null,false]
[null,null,null,null,null,null,null,null,null,false]
[null,null,null,null,null,null,null,null,null,false]
[null,null,null,null,null,null,null,null,null,false]
[null,null,null,null,null,null,null,null,null,false]
[null,null,null,null,null,null,null,null,null,false]
[null,null,null,null,null,null,null,null,null,false]
[null,null,null,null,null,null,null,null,null,false]
[null,null,null,null,null,null,null,null,null,false]
[null,null,null,null,null,null,null,null,null,false]
[null,null,null,null,null,null,null,null,null,false]
[null,null,null,null,null,null,null,null,null,false]
[null,null,null,null,null,null,null,null,null,false]
[null,null,null,null,null,null,null,null,null,false]
[null,null,null,null,null,null,null,null,null,false]
[null,null,null,null,null,null,null,null,null,false]
[null,null,null,null,null,null,null,null,null,false]
[null,null,null,null,null,null,null,null,null,false]
[null,null,null,null,null,null,null,null,null,false]
[null,null,null,null,null,null,null,null,null,false]
[null,null,null,null,null,null,null,null,null,false]
[null,null,null,null,null,null,null,null,null,false]
[null,null,null,null,null,null,null,null,null,false]
[null,null,null,null,null,null,null,null,null,false]
[null,null,null,null,null,null,null,null,null,false]
[null,null,null,null,null,null,null,null,null,false]
[null,null,null,null,null,null,null,null,null,false]
[null,null,null,null,null,null,null,null,null,false]
[null,null,null,null,null,null,null,null,null,false]
[null,null,null,null,null,null,null,null,null,false]
[null,null,null,null,null,null,null,null,null,false]
[null,null,null,null,null,null,null,null,null,false]
[null,null,null,null,null,null,null,null,null,false]
[null,null,null,null,null,null,null,null,null,false]
[null,null,null,null,null,null,null,null,null,false]
[null,null,null,null,null,null,null,null,null,false]
[null,null,null,null,null,null,null,null,null,false]
[null,null,null,null,null,null,null,null,null,false]
[null,null,null,null,null,null,null,null,null,false]
[null,null,null,null,null,null,null,null,null,false]
[null,null,null,null,null,null,null,null,null,false]
[null,null,null,null,null,null,null,null,null,false]
[null,null,null,null,null,null,null,null,null,false]
[null,null,null,null,null,null,null,null,null,false]
[null,null,null,null,null,null,null,null,null,false]
[null,null,null,null,null,null,null,null,null,false]
[null,null,null,null,null,null,null,null,null,false]
[null,null,null,null,null,null,null,null,null,false]
[null,null,null,null,null,null,null,null,null,false]
[null,null,null,null,null,null,null,null,null,false]
[null,null,null,null,null,null,null,null,null,false]
[null,null,null,null,null,null,null,null,null,false]
[null,null,null,null,null,null,null,null,null,false]
[null,null,null,null,null,null,null,null,null,false]
[null,null,null,null,null,null,null,null,null,false]
[null,null,null,null,null,null,null,null,null,false]
[null,null,null,null,null,null,null,null,null,false]
[null,null,null,null,null,null,null,null,null,false]
[null,null,null,null,null,null,null,null,null,false]
[null,null,null,null,null,null,null,null,null,false]
[null,null,null,null,null,null,null,null,null,false]
[null,null,null,null,null,null,null,null,null,false]
[null,null,null,null,null,null,null,null,null,false]
[null,null,null,null,null,null,null,null,null,false]
[null,null,null,null,null,null,null,null,null,false]
[null,null,null,null,null,null,null,null,null,false]
[null,null,null,null,null,null,null,null,null,false]
[null,null,null,null,null,null,null,null,null,false]
[null,null,null,null,null,null,null,null,null,false]
[null,null,null,null,null,null,null,null,null,false]
[null,null,null,null,null,null,null,null,null,false]
[null,null,null,null,null,null,null,null,null,false]
[null,null,null,null,null,null,null,null,null,false]
[null,null,null,null,null,null,null,null,null,false]
[null,null,null,null,null,null,null,null,null,false]
[null,null,null,null,null,null,null,null,null,false]
[null,null,null,null,null,null,null,null,null,false]
[null,null,null,null,null,null,null,null,null,false]
[null,null,null,null,null,null,null,null,null,false]
[null,null,null,null,null,null,null,null,null,false]
[null,null,null,null,null,null,null,null,null,false]
[null,null,null,null,null,null,null,null,null,false]
[null,null,null,null,null,null,null,null,null,false]
[null,null,null,null,null,null,null,null,null,false]
[null,null,null,null,null,null,null,null,null,false]
[null,null,null,null,null,null,null,null,null,false]
[null,null,null,null,null,null,null,null,null,false]
[null,null,null,null,null,null,null,null,null,false]
[null,null,null,null,null,null,null,null,null,false]
[null,null,null,null,null,null,null,null,null,false]
[null,null,null,null,null,null,null,null,null,false]
[null,null,null,null,null,null,null,null,null,false]
[null,null,null,null,null,null,null,null,null,false]
[null,null,null,null,null,null,null,null,null,false]
[null,null,null,null,null,null,null,null,null,false]
[null,null,null,null,null,null,null,null,null,false]
[null,null,null,null,null,null,null,null,null,false]
[null,null,null,null,null,null,null,null,null,false]
[null,null,null,null,null,null,null,null,null,false]
[null,null,null,null,null,null,null,null,null,false]
[null,null,null,null,null,null,null,null,null,false]
[null,null,null,null,null,null,null,null,null,false]
[null,null,null,null,null,null,null,null,null,false]
[null,null,null,null,null,null,null,null,null,false]
[null,null,null,null,null,null,null,null,null,false]
[null,null,null,null,null,null,null,null,null,false]
[null,null,null,null,null,null,null,null,null,false]
[null,null,null,null,null,null,null,null,null,false]
[null,null,null,null,null,null,null,null,null,false]
[null,null,null,null,null,null,null,null,null,false]
[null,null,null,null,null,null,null,null,null,false]
[null,null,null,null,null,null,null,null,null,false]
[null,null,null,null,null,null,null,null,null,false]
[null,null,null,null,null,null,null,null,null,false]
[null,null,null,null,null,null,null,null,null,false]
[null,null,null,null,null,null,null,null,null,false]
[null,null,null,null,null,null,null,null,null,false]
[null,null,null,null,null,null,null,null,null,false]
[null,null,null,null,null,null,null,null,null,false]
[null,null,null,null,null,null,null,null,null,false]
[null,null,null,null,null,null,null,null,null,false]
[null,null,null,null,null,null,null,null,null,false]
[null,null,null,null,null,null,null,null,null,false]
[null,null,null,null,null,null,null,null,null,false]
[null,null,null,null,null,null,null,null,null,false]
[null,null,null,null,null,null,null,null,null,false]
[null,null,null,null,null,null,null,null,null,false]
[null,null,null,null,null,null,null,null,null,false]
[null,null,null,null,null,null,null,null,null,false]
[null,null,null,null,null,null,null,null,null,false]
[null,null,null,null,null,null,null,null,null,false]
[null,null,null,null,null,null,null,null,null,false]
[null,null,null,null,null,null,null,null,null,false]
[null,null,null,null,null,null,null,null,null,false]
[null,null,null,null,null,null,null,null,null,false]
[null,null,null,null,null,null,null,null,null,false]
[null,null,null,null,null,null,null,null,null,false]
[null,null,null,null,null,null,null,null,null,false]
[null,null,null,null,null,null,null,null,null,false]
[null,null,null,null,null,null,null,null,null,false]
[null,null,null,null,null,null,null,null,null,false]
[null,null,null,null,null,null,null,null,null,false]
[null,null,null,null,null,null,null,null,null,false]
[null,null,null,null,null,null,null,null,null,false]
[null,null,null,null,null,null,null,null,null,false]
[null,null,null,null,null,null,null,null,null,false]
[null,null,null,null,null,null,null,null,null,false]
[null,null,null,null,null,null,null,null,null,false]
[null,null,null,null,null,null,null,null,null,false]
[null,null,null,null,null,null,null,null,null,false]
[null,null,null,null,null,null,null,null,null,false]
[null,null,null,null,null,null,null,null,null,false]
[null,null,null,null,null,null,null,null,null,false]
[null,null,null,null,null,null,null,null,null,false]
[null,null,null,null,null,null,null,null,null,false]
[null,null,null,null,null,null,null,null,null,false]
[null,null,null,null,null,null,null,null,null,false]
[null,null,null,null,null,null,null,null,null,false]
[null,null,null,null,null,null,null,null,null,false]
[null,null,null,null,null,null,null,null,null,false]
[null,null,null,null,null,null,null,null,null,false]
[null,null,null,null,null,null,null,null,null,false]
[null,null,null,null,null,null,null,null,null,false]
[null,null,null,null,null,null,null,null,null,false]
[null,null,null,null,null,null,null,null,null,false]
[null,null,null,null,null,null,null,null,null,false]
[null,null,null,null,null,null,null,null,null,false]
[null,null,null,null,null,null,null,null,null,false]
[null,null,null,null,null,null,null,null,null,false]
[null,null,null,null,null,null,null,null,null,false]
[null,null,null,null,null,null,null,null,null,false]
[null,null,null,null,null,null,null,null,null,false]
[null,null,null,null,null,null,null,null,null,false]
[null,null,null,null,null,null,null,null,null,false]
[null,null,null,null,null,null,null,null,null,false]
[null,null,null,null,null,null,null,null,null,false]
[null,null,null,null,null,null,null,null,null,false]
[null,null,null,null,null,null,null,null,null,false]
[null,null,null,null,null,null,null,null,null,false]
[null,null,null,null,null,null,null,null,null,false]
[null,null,null,null,null,null,null,null,null,false]
[null,null,null,null,null,null,null,null,null,false]
[null,null,null,null,null,null,null,null,null,false]
[null,null,null,null,null,null,null,null,null,false]
[null,null,null,null,null,null,null,null,null,false]
[null,null,null,null,null,null,null,null,null,false]
[null,null,null,null,null,null,null,null,null,false]
[null,null,null,null,null,null,null,null,null,false]
[null,null,null,null,null,null,null,null,null,false]
[null,null,null,null,null,null,null,null,null,false]
[null,null,null,null,null,null,null,null,null,false]
[null,null,null,null,null,null,null,null,null,false]
[null,null,null,null,null,null,null,null,null,false]
[null,null,null,null,null,null,null,null,null,false]
[null,null,null,null,null,null,null,null,null,false]
[null,null,null,null,null,null,null,null,null,false]
[null,null,null,null,null,null,null,null,null,false]
[null,null,null,null,null,null,null,null,null,false]
[null,null,null,null,null,null,null,null,null,false]
[null,null,null,null,null,null,null,null,null,false]
[null,null,null,null,null,null,null,null,null,false]
[null,null,null,null,null,null,null,null,null,false]
[null,null,null,null,null,null,null,null,null,false]
[null,null,null,null,null,null,null,null,null,false]
[null,null,null,null,null,null,null,null,null,false]
[null,null,null,null,null,null,null,null,null,false]
[null,null,null,null,null,null,null,null,null,false]
[null,null,null,null,null,null,null,null,null,false]
[null,null,null,null,null,null,null,null,null,false]
[null,null,null,null,null,null,null,null,null,false]
[null,null,null,null,null,null,null,null,null,false]
[null,null,null,null,null,null,null,null,null,false]
[null,null,null,null,null,null,null,null,null,false]
[null,null,null,null,null,null,null,null,null,false]
[null,null,null,null,null,null,null,null,null,false]
[null,null,null,null,null,null,null,null,null,false]
[null,null,null,null,null,null,null,null,null,false]
[null,null,null,null,null,null,null,null,null,false]
[null,null,null,null,null,null,null,null,null,false]
[null,null,null,null,null,null,null,null,null,false]
[null,null,null,null,null,null,null,null,null,false]
[null,null,null,null,null,null,null,null,null,false]
[null,null,null,null,null,null,null,null,null,false]
[null,null,null,null,null,null,null,null,null,false]
[null,null,null,null,null,null,null,null,null,false]
[null,null,null,null,null,null,null,null,null,false]
[null,null,null,null,null,null,null,null,null,false]
[null,null,null,null,null,null,null,null,null,false]
[null,null,null,null,null,null,null,null,null,false]
[null,null,null,null,null,null,null,null,null,false]
[null,null,null,null,null,null,null,null,null,false]
[null,null,null,null,null,null,null,null,null,false]
[null,null,null,null,null,null,null,null,null,false]
[null,null,null,null,null,null,null,null,null,false]
[null,null,null,null,null,null,null,null,null,false]
[null,null,null,null,null,null,null,null,null,false]
[null,null,null,null,null,null,null,null,null,false]
[null,null,null,null,null,null,null,null,null,false]
[null,null,null,null,null,null,null,null,null,false]
[null,null,null,null,null,null,null,null,null,false]
[null,null,null,null,null,null,null,null,null,false]
[null,null,null,null,null,null,null,null,null,false]
[null,null,null,null,null,null,null,null,null,false]
[null,null,null,null,null,null,null,null,null,false]
[null,null,null,null,null,null,null,null,null,false]
[null,null,null,null,null,null,null,null,null,false]
[null,null,null,null,null,null,null,null,null,false]
[null,null,null,null,null,null,null,null,null,false]
[null,null,null,null,null,null,null,null,null,false]
[null,null,null,null,null,null,null,null,null,false]
[null,null,null,null,null,null,null,null,null,false]
[null,null,null,null,null,null,null,null,null,false]
[null,null,null,null,null,null,null,null,null,false]
[null,null,null,null,null,null,null,null,null,false]
[null,null,null,null,null,null,null,null,null,false]
[null,null,null,null,null,null,null,null,null,false]
[null,null,null,null,null,null,null,null,null,false]
[null,null,null,null,null,null,null,null,null,false]
[null,null,null,null,null,null,null,null,null,false]
[null,null,null,null,null,null,null,null,null,false]
[null,null,null,null,null,null,null,null,null,false]
[null,null,null,null,null,null,null,null,null,false]
[null,null,null,null,null,null,null,null,null,false]
[null,null,null,null,null,null,null,null,null,false]
[null,null,null,null,null,null,null,null,null,false]
[null,null,null,null,null,null,null,null,null,false]
[null,null,null,null,null,null,null,null,null,false]
[null,null,null,null,null,null,null,null,null,false]
[null,null,null,null,null,null,null,null,null,false]
[null,null,null,null,null,null,null,null,null,false]
[null,null,null,null,null,null,null,null,null,false]
[null,null,null,null,null,null,null,null,null,false]
[null,null,null,null,null,null,null,null,null,false]
[null,null,null,null,null,null,null,null,null,false]
[null,null,null,null,null,null,null,null,null,false]
[null,null,null,null,null,null,null,null,null,false]
[null,null,null,null,null,null,null,null,null,false]
[null,null,null,null,null,null,null,null,null,false]
[null,null,null,null,null,null,null,null,null,false]
[null,null,null,null,null,null,null,null,null,false]
[null,null,null,null,null,null,null,null,null,false]
[null,null,null,null,null,null,null,null,null,false]
[null,null,null,null,null,null,null,null,null,false]
[null,null,null,null,null,null,null,null,null,false]
[null,null,null,null,null,null,null,null,null,false]
[null,null,null,null,null,null,null,null,null,false]
[null,null,null,null,null,null,null,null,null,false]
[null,null,null,null,null,null,null,null,null,false]
[null,null,null,null,null,null,null,null,null,false]
[null,null,null,null,null,null,null,null,null,false]
[null,null,null,null,null,null,null,null,null,false]
[null,null,null,null,null,null,null,null,null,false]
[null,null,null,null,null,null,null,null,null,false]
[null,null,null,null,null,null,null,null,null,false]
[null,null,null,null,null,null,null,null,null,false]
[null,null,null,null,null,null,null,null,null,false]
[null,null,null,null,null,null,null,null,null,false]
[null,null,null,null,null,null,null,null,null,false]
[null,null,null,null,null,null,null,null,null,false]
[null,null,null,null,null,null,null,null,null,false]
[null,null,null,null,null,null,null,null,null,false]
[null,null,null,null,null,null,null,null,null,false]
[null,null,null,null,null,null,null,null,null,false]
[null,null,null,null,null,null,null,null,null,false]
[null,null,null,null,null,null,null,null,null,false]
[null,null,null,null,null,null,null,null,null,false]
[null,null,null,null,null,null,null,null,null,false]
[null,null,null,null,null,null,null,null,null,false]
[null,null,null,null,null,null,null,null,null,false]
[null,null,null,null,null,null,null,null,null,false]
[null,null,null,null,null,null,null,null,null,false]
[null,null,null,null,null,null,null,null,null,false]
[null,null,null,null,null,null,null,null,null,false]
[null,null,null,null,null,null,null,null,null,false]
[null,null,null,null,null,null,null,null,null,false]
[null,null,null,null,null,null,null,null,null,false]
[null,null,null,null,null,null,null,null,null,false]
[null,null,null,null,null,null,null,null,null,false]
[null,null,null,null,null,null,null,null,null,false]
[null,null,null,null,null,null,null,null,null,false]
[null,null,null,null,null,null,null,null,null,false]
[null,null,null,null,null,null,null,null,null,false]
[null,null,null,null,null,null,null,null,null,false]
[null,null,null,null,null,null,null,null,null,false]
[null,null,null,null,null,null,null,null,null,false]
[null,null,null,null,null,null,null,null,null,false]
[null,null,null,null,null,null,null,null,null,false]
[null,null,null,null,null,null,null,null,null,false]
[null,null,null,null,null,null,null,null,null,false]
[null,null,null,null,null,null,null,null,null,false]
[null,null,null,null,null,null,null,null,null,false]
[null,null,null,null,null,null,null,null,null,false]
[null,null,null,null,null,null,null,null,null,false]
[null,null,null,null,null,null,null,null,null,false]
[null,null,null,null,null,null,null,null,null,false]
[null,null,null,null,null,null,null,null,null,false]
[null,null,null,null,null,null,null,null,null,false]
[null,null,null,null,null,null,null,null,null,false]
[null,null,null,null,null,null,null,null,null,false]
[null,null,null,null,null,null,null,null,null,false]
[null,null,null,null,null,null,null,null,null,false]
[null,null,null,null,null,null,null,null,null,false]
[null,null,null,null,null,null,null,null,null,false]
[null,null,null,null,null,null,null,null,null,false]
[null,null,null,null,null,null,null,null,null,false]
[null,null,null,null,null,null,null,null,null,false]
[null,null,null,null,null,null,null,null,null,false]
[null,null,null,null,null,null,null,null,null,false]
[null,null,null,null,null,null,null,null,null,false]
[null,null,null,null,null,null,null,null,null,false]
[null,null,null,null,null,null,null,null,null,false]
[null,null,null,null,null,null,null,null,null,false]
[null,null,null,null,null,null,null,null,null,false]
[null,null,null,null,null,null,null,null,null,false]
[null,null,null,null,null,null,null,null,null,false]
[null,null,null,null,null,null,null,null,null,false]
[null,null,null,null,null,null,null,null,null,false]
[null,null,null,null,null,null,null,null,null,false]
[null,null,null,null,null,null,null,null,null,false]
[null,null,null,null,null,null,null,null,null,false]
[null,null,null,null,null,null,null,null,null,false]
[null,null,null,null,null,null,null,null,null,false]
[null,null,null,null,null,null,null,null,null,false]
[null,null,null,null,null,null,null,null,null,false]
[null,null,null,null,null,null,null,null,null,false]
[null,null,null,null,null,null,null,null,null,false]
[null,null,null,null,null,null,null,null,null,false]
[null,null,null,null,null,null,null,null,null,false]
[null,null,null,null,null,null,null,null,null,false]
[null,null,null,null,null,null,null,null,null,false]
[null,null,null,null,null,null,null,null,null,false]
[null,null,null,null,null,null,null,null,null,false]
[null,null,null,null,null,null,null,null,null,false]
[null,null,null,null,null,null,null,null,null,false]
[null,null,null,null,null,null,null,null,null,false]
[null,null,null,null,null,null,null,null,null,false]
[null,null,null,null,null,null,null,null,null,false]
[null,null,null,null,null,null,null,null,null,false]
[null,null,null,null,null,null,null,null,null,false]
[null,null,null,null,null,null,null,null,null,false]
[null,null,null,null,null,null,null,null,null,false]
[null,null,null,null,null,null,null,null,null,false]
[null,null,null,null,null,null,null,null,null,false]
[null,null,null,null,null,null,null,null,null,false]
[null,null,null,null,null,null,null,null,null,false]
[null,null,null,null,null,null,null,null,null,false]
[null,null,null,null,null,null,null,null,null,false]
[null,null,null,null,null,null,null,null,null,false]
[null,null,null,null,null,null,null,null,null,false]
[null,null,null,null,null,null,null,null,null,false]
[null,null,null,null,null,null,null,null,null,false]
[null,null,null,null,null,null,null,null,null,false]
[null,null,null,null,null,null,null,null,null,false]
[null,null,null,null,null,null,null,null,null,false]
[null,null,null,null,null,null,null,null,null,false]
[null,null,null,null,null,null,null,null,null,false]
[null,null,null,null,null,null,null,null,null,false]
[null,null,null,null,null,null,null,null,null,false]
[null,null,null,null,null,null,null,null,null,false]
[null,null,null,null,null,null,null,null,null,false]
[null,null,null,null,null,null,null,null,null,false]
[null,null,null,null,null,null,null,null,null,false]
[null,null,null,null,null,null,null,null,null,false]
[null,null,null,null,null,null,null,null,null,false]
[null,null,null,null,null,null,null,null,null,false]
[null,null,null,null,null,null,null,null,null,false]
[null,null,null,null,null,null,null,null,null,false]
[null,null,null,null,null,null,null,null,null,false]
[null,null,null,null,null,null,null,null,null,false]
[null,null,null,null,null,null,null,null,null,false]
[null,null,null,null,null,null,null,null,null,false]
[null,null,null,null,null,null,null,null,null,false]
[null,null,null,null,null,null,null,null,null,false]
[null,null,null,null,null,null,null,null,null,false]
[null,null,null,null,null,null,null,null,null,false]
[null,null,null,null,null,null,null,null,null,false]
[null,null,null,null,null,null,null,null,null,false]
[null,null,null,null,null,null,null,null,null,false]
[null,null,null,null,null,null,null,null,null,false]
[null,null,null,null,null,null,null,null,null,false]
[null,null,null,null,null,null,null,null,null,false]
[null,null,null,null,null,null,null,null,null,false]
[null,null,null,null,null,null,null,null,null,false]
[null,null,null,null,null,null,null,null,null,false]
[null,null,null,null,null,null,null,null,null,false]
[null,null,null,null,null,null,null,null,null,false]
[null,null,null,null,null,null,null,null,null,false]
[null,null,null,null,null,null,null,null,null,false]
[null,null,null,null,null,null,null,null,null,false]
[null,null,null,null,null,null,null,null,null,false]
[null,null,null,null,null,null,null,null,null,false]
[null,null,null,null,null,null,null,null,null,false]
[null,null,null,null,null,null,null,null,null,false]
[null,null,null,null,null,null,null,null,null,false]
[null,null,null,null,null,null,null,null,null,false]
[null,null,null,null,null,null,null,null,null,false]
[null,null,null,null,null,null,null,null,null,false]
[null,null,null,null,null,null,null,null,null,false]
[null,null,null,null,null,null,null,null,null,false]
[null,null,null,null,null,null,null,null,null,false]
[null,null,null,null,null,null,null,null,null,false]
[null,null,null,null,null,null,null,null,null,false]
[null,null,null,null,null,null,null,null,null,false]
[null,null,null,null,null,null,null,null,null,false]
[null,null,null,null,null,null,null,null,null,false]
[null,null,null,null,null,null,null,null,null,false]
[null,null,null,null,null,null,null,null,null,false]
[null,null,null,null,null,null,null,null,null,false]
[null,null,null,null,null,null,null,null,null,false]
[null,null,null,null,null,null,null,null,null,false]
[null,null,null,null,null,null,null,null,null,false]
[null,null,null,null,null,null,null,null,null,false]
[null,null,null,null,null,null,null,null,null,false]
[null,null,null,null,null,null,null,null,null,false]
[null,null,null,null,null,null,null,null,null,false]
[null,null,null,null,null,null,null,null,null,false]
[null,null,null,null,null,null,null,null,null,false]
[null,null,null,null,null,null,null,null,null,false]
[null,null,null,null,null,null,null,null,null,false]
[null,null,null,null,null,null,null,null,null,false]
[null,null,null,null,null,null,null,null,null,false]
[null,null,null,null,null,null,null,null,null,false]
[null,null,null,null,null,null,null,null,null,false]
[null,null,null,null,null,null,null,null,null,false]
[null,null,null,null,null,null,null,null,null,false]
[null,null,null,null,null,null,null,null,null,false]
[null,null,null,null,null,null,null,null,null,false]
[null,null,null,null,null,null,null,null,null,false]
[null,null,null,null,null,null,null,null,null,false]
[null,null,null,null,null,null,null,null,null,false]
[null,null,null,null,null,null,null,null,null,false]
[null,null,null,null,null,null,null,null,null,false]
[null,null,null,null,null,null,null,null,null,false]
[null,null,null,null,null,null,null,null,null,false]
[null,null,null,null,null,null,null,null,null,false]
[null,null,null,null,null,null,null,null,null,false]
[null,null,null,null,null,null,null,null,null,false]
[null,null,null,null,null,null,null,null,null,false]
[null,null,null,null,null,null,null,null,null,false]
[null,null,null,null,null,null,null,null,null,false]
[null,null,null,null,null,null,null,null,null,false]
[null,null,null,null,null,null,null,null,null,false]
[null,null,null,null,null,null,null,null,null,false]
[null,null,null,null,null,null,null,null,null,false]
[null,null,null,null,null,null,null,null,null,false]
[null,null,null,null,null,null,null,null,null,false]
[null,null,null,null,null,null,null,null,null,false]
[null,null,null,null,null,null,null,null,null,false]
[null,null,null,null,null,null,null,null,null,false]
[null,null,null,null,null,null,null,null,null,false]
[null,null,null,null,null,null,null,null,null,false]
[null,null,null,null,null,null,null,null,null,false]
[null,null,null,null,null,null,null,null,null,false]
[null,null,null,null,null,null,null,null,null,false]
[null,null,null,null,null,null,null,null,null,false]
[null,null,null,null,null,null,null,null,null,false]
[null,null,null,null,null,null,null,null,null,false]
[null,null,null,null,null,null,null,null,null,false]
[null,null,null,null,null,null,null,null,null,false]
[null,null,null,null,null,null,null,null,null,false]
[null,null,null,null,null,null,null,null,null,false]
[null,null,null,null,null,null,null,null,null,false]
[null,null,null,null,null,null,null,null,null,false]
[null,null,null,null,null,null,null,null,null,false]
[null,null,null,null,null,null,null,null,null,false]
[null,null,null,null,null,null,null,null,null,false]
[null,null,null,null,null,null,null,null,null,false]
[null,null,null,null,null,null,null,null,null,false]
[null,null,null,null,null,null,null,null,null,false]
[null,null,null,null,null,null,null,null,null,false]
[null,null,null,null,null,null,null,null,null,false]
[null,null,null,null,null,null,null,null,null,false]
[null,null,null,null,null,null,null,null,null,false]
[null,null,null,null,null,null,null,null,null,false]
[null,null,null,null,null,null,null,null,null,false]
[null,null,null,null,null,null,null,null,null,false]
[null,null,null,null,null,null,null,null,null,false]
[null,null,null,null,null,null,null,null,null,false]
[null,null,null,null,null,null,null,null,null,false]
[null,null,null,null,null,null,null,null,null,false]
[null,null,null,null,null,null,null,null,null,false]
[null,null,null,null,null,null,null,null,null,false]
[null,null,null,null,null,null,null,null,null,false]
[null,null,null,null,null,null,null,null,null,false]
[null,null,null,null,null,null,null,null,null,false]
[null,null,null,null,null,null,null,null,null,false]
[null,null,null,null,null,null,null,null,null,false]
[null,null,null,null,null,null,null,null,null,false]
[null,null,null,null,null,null,null,null,null,false]
[null,null,null,null,null,null,null,null,null,false]
[null,null,null,null,null,null,null,null,null,false]
[null,null,null,null,null,null,null,null,null,false]
[null,null,null,null,null,null,null,null,null,false]
[null,null,null,null,null,null,null,null,null,false]
[null,null,null,null,null,null,null,null,null,false]
[null,null,null,null,null,null,null,null,null,false]
[null,null,null,null,null,null,null,null,null,false]
[null,null,null,null,null,null,null,null,null,false]
[null,null,null,null,null,null,null,null,null,false]
[null,null,null,null,null,null,null,null,null,false]
[null,null,null,null,null,null,null,null,null,false]
[null,null,null,null,null,null,null,null,null,false]
[null,null,null,null,null,null,null,null,null,false]
[null,null,null,null,null,null,null,null,null,false]
[null,null,null,null,null,null,null,null,null,false]
[null,null,null,null,null,null,null,null,null,false]
[null,null,null,null,null,null,null,null,null,false]
[null,null,null,null,null,null,null,null,null,false]
[null,null,null,null,null,null,null,null,null,false]
[null,null,null,null,null,null,null,null,null,false]
[null,null,null,null,null,null,null,null,null,false]
[null,null,null,null,null,null,null,null,null,false]
[null,null,null,null,null,null,null,null,null,false]
[null,null,null,null,null,null,null,null,null,false]
[null,null,null,null,null,null,null,null,null,false]
[null,null,null,null,null,null,null,null,null,false]
[null,null,null,null,null,null,null,null,null,false]
[null,null,null,null,null,null,null,null,null,false]
[null,null,null,null,null,null,null,null,null,false]
[null,null,null,null,null,null,null,null,null,false]
[null,null,null,null,null,null,null,null,null,false]
[null,null,null,null,null,null,null,null,null,false]
[null,null,null,null,null,null,null,null,null,false]
[null,null,null,null,null,null,null,null,null,false]
[null,null,null,null,null,null,null,null,null,false]
[null,null,null,null,null,null,null,null,null,false]
[null,null,null,null,null,null,null,null,null,false]
[null,null,null,null,null,null,null,null,null,false]
[null,null,null,null,null,null,null,null,null,false]
[null,null,null,null,null,null,null,null,null,false]
[null,null,null,null,null,null,null,null,null,false]
[null,null,null,null,null,null,null,null,null,false]
[null,null,null,null,null,null,null,null,null,false]
[null,null,null,null,null,null,null,null,null,false]
[null,null,null,null,null,null,null,null,null,false]
[null,null,null,null,null,null,null,null,null,false]
[null,null,null,null,null,null,null,null,null,false]
[null,null,null,null,null,null,null,null,null,false]
[null,null,null,null,null,null,null,null,null,false]
[null,null,null,null,null,null,null,null,null,false]
[null,null,null,null,null,null,null,null,null,false]
[null,null,null,null,null,null,null,null,null,false]
[null,null,null,null,null,null,null,null,null,false]
[null,null,null,null,null,null,null,null,null,false]
[null,null,null,null,null,null,null,null,null,false]
[null,null,null,null,null,null,null,null,null,false]
[null,null,null,null,null,null,null,null,null,false]
[null,null,null,null,null,null,null,null,null,false]
[null,null,null,null,null,null,null,null,null,false]
[null,null,null,null,null,null,null,null,null,false]
[null,null,null,null,null,null,null,null,null,false]
[null,null,null,null,null,null,null,null,null,false]
[null,null,null,null,null,null,null,null,null,false]
[null,null,null,null,null,null,null,null,null,false]
[null,null,null,null,null,null,null,null,null,false]
[null,null,null,null,null,null,null,null,null,false]
[null,null,null,null,null,null,null,null,null,false]
[null,null,null,null,null,null,null,null,null,false]
[null,null,null,null,null,null,null,null,null,false]
[null,null,null,null,null,null,null,null,null,false]
[null,null,null,null,null,null,null,null,null,false]
[null,null,null,null,null,null,null,null,null,false]
[null,null,null,null,null,null,null,null,null,false]
[null,null,null,null,null,null,null,null,null,false]
[null,null,null,null,null,null,null,null,null,false]
[null,null,null,null,null,null,null,null,null,false]
[null,null,null,null,null,null,null,null,null,false]
[null,null,null,null,null,null,null,null,null,false]
[null,null,null,null,null,null,null,null,null,false]
[null,null,null,null,null,null,null,null,null,false]
[null,null,null,null,null,null,null,null,null,false]
[null,null,null,null,null,null,null,null,null,false]
[null,null,null,null,null,null,null,null,null,false]
[null,null,null,null,null,null,null,null,null,false]
[null,null,null,null,null,null,null,null,null,false]
[null,null,null,null,null,null,null,null,null,false]
[null,null,null,null,null,null,null,null,null,false]
[null,null,null,null,null,null,null,null,null,false]
[null,null,null,null,null,null,null,null,null,false]
[null,null,null,null,null,null,null,null,null,false]
[null,null,null,null,null,null,null,null,null,false]
[null,null,null,null,null,null,null,null,null,false]
[null,null,null,null,null,null,null,null,null,false]
[null,null,null,null,null,null,null,null,null,false]
[null,null,null,null,null,null,null,null,null,false]
[null,null,null,null,null,null,null,null,null,false]
[null,null,null,null,null,null,null,null,null,false]
[null,null,null,null,null,null,null,null,null,false]
[null,null,null,null,null,null,null,null,null,false]
[null,null,null,null,null,null,null,null,null,false]
[null,null,null,null,null,null,null,null,null,false]
[null,null,null,null,null,null,null,null,null,false]
[null,null,null,null,null,null,null,null,null,false]
[null,null,null,null,null,null,null,null,null,false]
[null,null,null,null,null,null,null,null,null,false]
[null,null,null,null,null,null,null,null,null,false]
[null,null,null,null,null,null,null,null,null,false]
[null,null,null,null,null,null,null,null,null,false]
[null,null,null,null,null,null,null,null,null,false]
[null,null,null,null,null,null,null,null,null,false]
[null,null,null,null,null,null,null,null,null,false]
[null,null,null,null,null,null,null,null,null,false]
[null,null,null,null,null,null,null,null,null,false]
[null,null,null,null,null,null,null,null,null,false]
[null,null,null,null,null,null,null,null,null,false]
[null,null,null,null,null,null,null,null,null,false]
[null,null,null,null,null,null,null,null,null,false]
[null,null,null,null,null,null,null,null,null,false]
[null,null,null,null,null,null,null,null,null,false]
[null,null,null,null,null,null,null,null,null,false]
[null,null,null,null,null,null,null,null,null,false]
[null,null,null,null,null,null,null,null,null,false]
[null,null,null,null,null,null,null,null,null,false]
[null,null,null,null,null,null,null,null,null,false]
[null,null,null,null,null,null,null,null,null,false]
[null,null,null,null,null,null,null,null,null,false]
[null,null,null,null,null,null,null,null,null,false]
[null,null,null,null,null,null,null,null,null,false]
[null,null,null,null,null,null,null,null,null,false]
[null,null,null,null,null,null,null,null,null,false]
[null,null,null,null,null,null,null,null,null,false]
[null,null,null,null,null,null,null,null,null,false]
[null,null,null,null,null,null,null,null,null,false]
[null,null,null,null,null,null,null,null,null,false]
[null,null,null,null,null,null,null,null,null,false]
[null,null,null,null,null,null,null,null,null,false]
[null,null,null,null,null,null,null,null,null,false]
[null,null,null,null,null,null,null,null,null,false]
[null,null,null,null,null,null,null,null,null,false]
[null,null,null,null,null,null,null,null,null,false]
[null,null,null,null,null,null,null,null,null,false]
[null,null,null,null,null,null,null,null,null,false]
[null,null,null,null,null,null,null,null,null,false]
[null,null,null,null,null,null,null,null,null,false]
[null,null,null,null,null,null,null,null,null,false]
[null,null,null,null,null,null,null,null,null,false]
[null,null,null,null,null,null,null,null,null,false]
[null,null,null,null,null,null,null,null,null,false]
[null,null,null,null,null,null,null,null,null,false]
[null,null,null,null,null,null,null,null,null,false]
[null,null,null,null,null,null,null,null,null,false]
[null,null,null,null,null,null,null,null,null,false]
[null,null,null,null,null,null,null,null,null,false]
[null,null,null,null,null,null,null,null,null,false]
[null,null,null,null,null,null,null,null,null,false]
[null,null,null,null,null,null,null,null,null,false]
[null,null,null,null,null,null,null,null,null,false]
[null,null,null,null,null,null,null,null,null,false]
[null,null,null,null,null,null,null,null,null,false]
[null,null,null,null,null,null,null,null,null,false]
[null,null,null,null,null,null,null,null,null,false]
[null,null,null,null,null,null,null,null,null,false]
[null,null,null,null,null,null,null,null,null,false]
[null,null,null,null,null,null,null,null,null,false]
[null,null,null,null,null,null,null,null,null,false]
[null,null,null,null,null,null,null,null,null,false]
[null,null,null,null,null,null,null,null,null,false]
[null,null,null,null,null,null,null,null,null,false]
[null,null,null,null,null,null,null,null,null,false]
[null,null,null,null,null,null,null,null,null,false]
[null,null,null,null,null,null,null,null,null,false]
[null,null,null,null,null,null,null,null,null,false]
[null,null,null,null,null,null,null,null,null,false]
[null,null,null,null,null,null,null,null,null,false]
[null,null,null,null,null,null,null,null,null,false]
[null,null,null,null,null,null,null,null,null,false]
[null,null,null,null,null,null,null,null,null,false]
[null,null,null,null,null,null,null,null,null,false]
[null,null,null,null,null,null,null,null,null,false]
[null,null,null,null,null,null,null,null,null,false]
[null,null,null,null,null,null,null,null,null,false]
[null,null,null,null,null,null,null,null,null,false]
[null,null,null,null,null,null,null,null,null,false]
[null,null,null,null,null,null,null,null,null,false]
[null,null,null,null,null,null,null,null,null,false]
[null,null,null,null,null,null,null,null,null,false]
[null,null,null,null,null,null,null,null,null,false]
[null,null,null,null,null,null,null,null,null,false]
[null,null,null,null,null,null,null,null,null,false]
[null,null,null,null,null,null,null,null,null,false]
[null,null,null,null,null,null,null,null,null,false]
[null,null,null,null,null,null,null,null,null,false]
[null,null,null,null,null,null,null,null,null,false]
[null,null,null,null,null,null,null,null,null,false]
[null,null,null,null,null,null,null,null,null,false]
[null,null,null,null,null,null,null,null,null,false]
[null,null,null,null,null,null,null,null,null,false]
[null,null,null,null,null,null,null,null,null,false]
[null,null,null,null,null,null,null,null,null,false]
[null,null,null,null,null,null,null,null,null,false]
[null,null,null,null,null,null,null,null,null,false]
[null,null,null,null,null,null,null,null,null,false]
[null,null,null,null,null,null,null,null,null,false]
[null,null,null,null,null,null,null,null,null,false]
[null,null,null,null,null,null,null,null,null,false]
[null,null,null,null,null,null,null,null,null,false]
[null,null,null,null,null,null,null,null,null,false]
[null,null,null,null,null,null,null,null,null,false]
[null,null,null,null,null,null,null,null,null,false]
[null,null,null,null,null,null,null,null,null,false]
[null,null,null,null,null,null,null,null,null,false]
[null,null,null,null,null,null,null,null,null,false]
[null,null,null,null,null,null,null,null,null,false]
[null,null,null,null,null,null,null,null,null,false]
[null,null,null,null,null,null,null,null,null,false]
[null,null,null,null,null,null,null,null,null,false]
[null,null,null,null,null,null,null,null,null,false]
[null,null,null,null,null,null,null,null,null,false]
[null,null,null,null,null,null,null,null,null,false]
[null,null,null,null,null,null,null,null,null,false]
[null,null,null,null,null,null,null,null,null,false]
[null,null,null,null,null,null,null,null,null,false]
[null,null,null,null,null,null,null,null,null,false]
[null,null,null,null,null,null,null,null,null,false]
[null,null,null,null,null,null,null,null,null,false]
[null,null,null,null,null,null,null,null,null,false]
[null,null,null,null,null,null,null,null,null,false]
[null,null,null,null,null,null,null,null,null,false]
[null,null,null,null,null,null,null,null,null,false]
[null,null,null,null,null,null,null,null,null,false]
[null,null,null,null,null,null,null,null,null,false]
[null,null,null,null,null,null,null,null,null,false]
[null,null,null,null,null,null,null,null,null,false]
[null,null,null,null,null,null,null,null,null,false]
[null,null,null,null,null,null,null,null,null,false]
[null,null,null,null,null,null,null,null,null,false]
[null,null,null,null,null,null,null,null,null,false]
[null,null,null,null,null,null,null,null,null,false]
[null,null,null,null,null,null,null,null,null,false]
[null,null,null,null,null,null,null,null,null,false]
[null,null,null,null,null,null,null,null,null,false]
[null,null,null,null,null,null,null,null,null,false]
[null,null,null,null,null,null,null,null,null,false]
[null,null,null,null,null,null,null,null,null,false]
[null,null,null,null,null,null,null,null,null,false]
[null,null,null,null,null,null,null,null,null,false]
[null,null,null,null,null,null,null,null,null,false]
[null,null,null,null,null,null,null,null,null,false]
[null,null,null,null,null,null,null,null,null,false]
[null,null,null,null,null,null,null,null,null,false]
[null,null,null,null,null,null,null,null,null,false]
[null,null,null,null,null,null,null,null,null,false]
[null,null,null,null,null,null,null,null,null,false]
[null,null,null,null,null,null,null,null,null,false]
[null,null,null,null,null,null,null,null,null,false]
[null,null,null,null,null,null,null,null,null,false]
[null,null,null,null,null,null,null,null,null,false]
[null,null,null,null,null,null,null,null,null,false]
[null,null,null,null,null,null,null,null,null,false]
[null,null,null,null,null,null,null,null,null,false]
[null,null,null,null,null,null,null,null,null,false]
[null,null,null,null,null,null,null,null,null,false]
[null,null,null,null,null,null,null,null,null,false]
[null,null,null,null,null,null,null,null,null,false]
[null,null,null,null,null,null,null,null,null,false]
[null,null,null,null,null,null,null,null,null,false]
[null,null,null,null,null,null,null,null,null,false]
[null,null,null,null,null,null,null,null,null,false]
[null,null,null,null,null,null,null,null,null,false]
[null,null,null,null,null,null,null,null,null,false]
[null,null,null,null,null,null,null,null,null,false]
[null,null,null,null,null,null,null,null,null,false]
[null,null,null,null,null,null,null,null,null,false]
[null,null,null,null,null,null,null,null,null,false]
[null,null,null,null,null,null,null,null,null,false]
[null,null,null,null,null,null,null,null,null,false]
[null,null,null,null,null,null,null,null,null,false]
[null,null,null,null,null,null,null,null,null,false]
[null,null,null,null,null,null,null,null,null,false]
[null,null,null,null,null,null,null,null,null,false]
[null,null,null,null,null,null,null,null,null,false]
[null,null,null,null,null,null,null,null,null,false]
[null,null,null,null,null,null,null,null,null,false]
[null,null,null,null,null,null,null,null,null,false]
[null,null,null,null,null,null,null,null,null,false]
[null,null,null,null,null,null,null,null,null,false]
[null,null,null,null,null,null,null,null,null,false]
[null,null,null,null,null,null,null,null,null,false]
[null,null,null,null,null,null,null,null,null,false]
[null,null,null,null,null,null,null,null,null,false]
[null,null,null,null,null,null,null,null,null,false]
[null,null,null,null,null,null,null,null,null,false]
[null,null,null,null,null,null,null,null,null,false]
[null,null,null,null,null,null,null,null,null,false]
[null,null,null,null,null,null,null,null,null,false]
[null,null,null,null,null,null,null,null,null,false]
[null,null,null,null,null,null,null,null,null,false]
[null,null,null,null,null,null,null,null,null,false]
[null,null,null,null,null,null,null,null,null,false]
[null,null,null,null,null,null,null,null,null,false]
[null,null,null,null,null,null,null,null,null,false]
[null,null,null,null,null,null,null,null,null,false]
[null,null,null,null,null,null,null,null,null,false]
[null,null,null,null,null,null,null,null,null,false]
[null,null,null,null,null,null,null,null,null,false]
[null,null,null,null,null,null,null,null,null,false]
[null,null,null,null,null,null,null,null,null,false]
[null,null,null,null,null,null,null,null,null,false]
[null,null,null,null,null,null,null,null,null,false]
[null,null,null,null,null,null,null,null,null,false]
[null,null,null,null,null,null,null,null,null,false]
[null,null,null,null,null,null,null,null,null,false]
[null,null,null,null,null,null,null,null,null,false]
[null,null,null,null,null,null,null,null,null,false]
[null,null,null,null,null,null,null,null,null,false]
[null,null,null,null,null,null,null,null,null,false]
[null,null,null,null,null,null,null,null,null,false]
[null,null,null,null,null,null,null,null,null,false]
[null,null,null,null,null,null,null,null,null,false]
[null,null,null,null,null,null,null,null,null,false]
[null,null,null,null,null,null,null,null,null,false]
[null,null,null,null,null,null,null,null,null,false]
[null,null,null,null,null,null,null,null,null,false]
[null,null,null,null,null,null,null,null,null,false]
[null,null,null,null,null,null,null,null,null,false]
[null,null,null,null,null,null,null,null,null,false]
[null,null,null,null,null,null,null,null,null,false]
[null,null,null,null,null,null,null,null,null,false]
[null,null,null,null,null,null,null,null,null,false]
[null,null,null,null,null,null,null,null,null,false]
[null,null,null,null,null,null,null,null,null,false]
[null,null,null,null,null,null,null,null,null,false]
[null,null,null,null,null,null,null,null,null,false]
[null,null,null,null,null,null,null,null,null,false]
[null,null,null,null,null,null,null,null,null,false]
[null,null,null,null,null,null,null,null,null,false]
[null,null,null,null,null,null,null,null,null,false]
[null,null,null,null,null,null,null,null,null,false]
[null,null,null,null,null,null,null,null,null,false]
[null,null,null,null,null,null,null,null,null,false]
[null,null,null,null,null,null,null,null,null,false]
[null,null,null,null,null,null,null,null,null,false]
[null,null,null,null,null,null,null,null,null,false]
[null,null,null,null,null,null,null,null,null,false]
[null,null,null,null,null,null,null,null,null,false]
[null,null,null,null,null,null,null,null,null,false]
[null,null,null,null,null,null,null,null,null,false]
[null,null,null,null,null,null,null,null,null,false]
[null,null,null,null,null,null,null,null,null,false]
[null,null,null,null,null,null,null,null,null,false]
[null,null,null,null,null,null,null,null,null,false]
[null,null,null,null,null,null,null,null,null,false]
[null,null,null,null,null,null,null,null,null,false]
[null,null,null,null,null,null,null,null,null,false]
[null,null,null,null,null,null,null,null,null,false]
[null,null,null,null,null,null,null,null,null,false]
[null,null,null,null,null,null,null,null,null,false]
[null,null,null,null,null,null,null,null,null,false]
[null,null,null,null,null,null,null,null,null,false]
[null,null,null,null,null,null,null,null,null,false]
[null,null,null,null,null,null,null,null,null,false]
[null,null,null,null,null,null,null,null,null,false]
[null,null,null,null,null,null,null,null,null,false]
[null,null,null,null,null,null,null,null,null,false]
[null,null,null,null,null,null,null,null,null,false]
[null,null,null,null,null,null,null,null,null,false]
[null,null,null,null,null,null,null,null,null,false]
[null,null,null,null,null,null,null,null,null,false]
[null,null,null,null,null,null,null,null,null,false]
[null,null,null,null,null,null,null,null,null,false]
[null,null,null,null,null,null,null,null,null,false]
[null,null,null,null,null,null,null,null,null,false]
[null,null,null,null,null,null,null,null,null,false]
[null,null,null,null,null,null,null,null,null,false]
[null,null,null,null,null,null,null,null,null,false]
[null,null,null,null,null,null,null,null,null,false]
[null,null,null,null,null,null,null,null,null,false]
[null,null,null,null,null,null,null,null,null,false]
[null,null,null,null,null,null,null,null,null,false]
[null,null,null,null,null,null,null,null,null,false]
[null,null,null,null,null,null,null,null,null,false]
[null,null,null,null,null,null,null,null,null,false]
[null,null,null,null,null,null,null,null,null,false]
[null,null,null,null,null,null,null,null,null,false]
[null,null,null,null,null,null,null,null,null,false]
[null,null,null,null,null,null,null,null,null,false]
[null,null,null,null,null,null,null,null,null,false]
[null,null,null,null,null,null,null,null,null,false]
[null,null,null,null,null,null,null,null,null,false]
[null,null,null,null,null,null,null,null,null,false]
[null,null,null,null,null,null,null,null,null,false]
[null,null,null,null,null,null,null,null,null,false]
[null,null,null,null,null,null,null,null,null,false]
[null,null,null,null,null,null,null,null,null,false]
[null,null,null,null,null,null,null,null,null,false]
[null,null,null,null,null,null,null,null,null,false]
[null,null,null,null,null,null,null,null,null,false]
[null,null,null,null,null,null,null,null,null,false]
[null,null,null,null,null,null,null,null,null,false]
[null,null,null,null,null,null,null,null,null,false]
[null,null,null,null,null,null,null,null,null,false]
[null,null,null,null,null,null,null,null,null,false]
[null,null,null,null,null,null,null,null,null,false]
[null,null,null,null,null,null,null,null,null,false]
[null,null,null,null,null,null,null,null,null,false]
[null,null,null,null,null,null,null,null,null,false]
[null,null,null,null,null,null,null,null,null,false]
[null,null,null,null,null,null,null,null,null,false]
[null,null,null,null,null,null,null,null,null,false]
[null,null,null,null,null,null,null,null,null,false]
[null,null,null,null,null,null,null,null,null,false]
[null,null,null,null,null,null,null,null,null,false]
[null,null,null,null,null,null,null,null,null,false]
[null,null,null,null,null,null,null,null,null,false]
[null,null,null,null,null,null,null,null,null,false]
[null,null,null,null,null,null,null,null,null,false]
[null,null,null,null,null,null,null,null,null,false]
[null,null,null,null,null,null,null,null,null,false]
[null,null,null,null,null,null,null,null,null,false]
[null,null,null,null,null,null,null,null,null,false]
[null,null,null,null,null,null,null,null,null,false]
[null,null,null,null,null,null,null,null,null,false]
[null,null,null,null,null,null,null,null,null,false]
[null,null,null,null,null,null,null,null,null,false]
[null,null,null,null,null,null,null,null,null,false]
[null,null,null,null,null,null,null,null,null,false]
[null,null,null,null,null,null,null,null,null,false]
[null,null,null,null,null,null,null,null,null,false]
[null,null,null,null,null,null,null,null,null,false]
[null,null,null,null,null,null,null,null,null,false]
[null,null,null,null,null,null,null,null,null,false]
[null,null,null,null,null,null,null,null,null,false]
[null,null,null,null,null,null,null,null,null,false]
[null,null,null,null,null,null,null,null,null,false]
[null,null,null,null,null,null,null,null,null,false]
[null,null,null,null,null,null,null,null,null,false]
[null,null,null,null,null,null,null,null,null,false]
[null,null,null,null,null,null,null,null,null,false]
[null,null,null,null,null,null,null,null,null,false]
[null,null,null,null,null,null,null,null,null,false]
[null,null,null,null,null,null,null,null,null,false]
[null,null,null,null,null,null,null,null,null,false]
[null,null,null,null,null,null,null,null,null,false]
[null,null,null,null,null,null,null,null,null,false]
[null,null,null,null,null,null,null,null,null,false]
[null,null,null,null,null,null,null,null,null,false]
[null,null,null,null,null,null,null,null,null,false]
[null,null,null,null,null,null,null,null,null,false]
[null,null,null,null,null,null,null,null,null,false]
[null,null,null,null,null,null,null,null,null,false]
[null,null,null,null,null,null,null,null,null,false]
[null,null,null,null,null,null,null,null,null,false]
[null,null,null,null,null,null,null,null,null,false]
[null,null,null,null,null,null,null,null,null,false]
[null,null,null,null,null,null,null,null,null,false]
[null,null,null,null,null,null,null,null,null,false]
[null,null,null,null,null,null,null,null,null,false]
[null,null,null,null,null,null,null,null,null,false]
[null,null,null,null,null,null,null,null,null,false]
[null,null,null,null,null,null,null,null,null,false]
[null,null,null,null,null,null,null,null,null,false]
[null,null,null,null,null,null,null,null,null,false]
[null,null,null,null,null,null,null,null,null,false]
[null,null,null,null,null,null,null,null,null,false]
[null,null,null,null,null,null,null,null,null,false]
[null,null,null,null,null,null,null,null,null,false]
[null,null,null,null,null,null,null,null,null,false]
[null,null,null,null,null,null,null,null,null,false]
[null,null,null,null,null,null,null,null,null,false]
[null,null,null,null,null,null,null,null,null,false]
[null,null,null,null,null,null,null,null,null,false]
[null,null,null,null,null,null,null,null,null,false]
[null,null,null,null,null,null,null,null,null,false]
[null,null,null,null,null,null,null,null,null,false]
[null,null,null,null,null,null,null,null,null,false]
[null,null,null,null,null,null,null,null,null,false]
[null,null,null,null,null,null,null,null,null,false]
[null,null,null,null,null,null,null,null,null,false]
[null,null,null,null,null,null,null,null,null,false]
[null,null,null,null,null,null,null,null,null,false]
[null,null,null,null,null,null,null,null,null,false]
[null,null,null,null,null,null,null,null,null,false]
[null,null,null,null,null,null,null,null,null,false]
[null,null,null,null,null,null,null,null,null,false]
[null,null,null,null,null,null,null,null,null,false]
[null,null,null,null,null,null,null,null,null,false]
[null,null,null,null,null,null,null,null,null,false]
[null,null,null,null,null,null,null,null,null,false]
[null,null,null,null,null,null,null,null,null,false]
[null,null,null,null,null,null,null,null,null,false]
[null,null,null,null,null,null,null,null,null,false]
[null,null,null,null,null,null,null,null,null,false]
[null,null,null,null,null,null,null,null,null,false]
[null,null,null,null,null,null,null,null,null,false]
[null,null,null,null,null,null,null,null,null,false]
[null,null,null,null,null,null,null,null,null,false]
[null,null,null,null,null,null,null,null,null,false]
[null,null,null,null,null,null,null,null,null,false]
[null,null,null,null,null,null,null,null,null,false]
[null,null,null,null,null,null,null,null,null,false]
[null,null,null,null,null,null,null,null,null,false]
[null,null,null,null,null,null,null,null,null,false]
[null,null,null,null,null,null,null,null,null,false]
[null,null,null,null,null,null,null,null,null,false]
[null,null,null,null,null,null,null,null,null,false]
[null,null,null,null,null,null,null,null,null,false]
[null,null,null,null,null,null,null,null,null,false]
[null,null,null,null,null,null,null,null,null,false]
[null,null,null,null,null,null,null,null,null,false]
[null,null,null,null,null,null,null,null,null,false]
[null,null,null,null,null,null,null,null,null,false]
[null,null,null,null,null,null,null,null,null,false]
[null,null,null,null,null,null,null,null,null,false]
[null,null,null,null,null,null,null,null,null,false]
[null,null,null,null,null,null,null,null,null,false]
[null,null,null,null,null,null,null,null,null,false]
[null,null,null,null,null,null,null,null,null,false]
[null,null,null,null,null,null,null,null,null,false]
[null,null,null,null,null,null,null,null,null,false]
[null,null,null,null,null,null,null,null,null,false]
[null,null,null,null,null,null,null,null,null,false]
[null,null,null,null,null,null,null,null,null,false]
[null,null,null,null,null,null,null,null,null,false]
[null,null,null,null,null,null,null,null,null,false]
[null,null,null,null,null,null,null,null,null,false]
[null,null,null,null,null,null,null,null,null,false]
[null,null,null,null,null,null,null,null,null,false]
[null,null,null,null,null,null,null,null,null,false]
[null,null,null,null,null,null,null,null,null,false]
[null,null,null,null,null,null,null,null,null,false]
[null,null,null,null,null,null,null,null,null,false]
[null,null,null,null,null,null,null,null,null,false]
[null,null,null,null,null,null,null,null,null,false]
[null,null,null,null,null,null,null,null,null,false]
[null,null,null,null,null,null,null,null,null,false]
[null,null,null,null,null,null,null,null,null,false]
[null,null,null,null,null,null,null,null,null,false]
[null,null,null,null,null,null,null,null,null,false]
[null,null,null,null,null,null,null,null,null,false]
[null,null,null,null,null,null,null,null,null,false]
[null,null,null,null,null,null,null,null,null,false]
[null,null,null,null,null,null,null,null,null,false]
[null,null,null,null,null,null,null,null,null,false]
[null,null,null,null,null,null,null,null,null,false]
[null,null,null,null,null,null,null,null,null,false]
[null,null,null,null,null,null,null,null,null,false]
[null,null,null,null,null,null,null,null,null,false]
[null,null,null,null,null,null,null,null,null,false]
[null,null,null,null,null,null,null,null,null,false]
[null,null,null,null,null,null,null,null,null,false]
[null,null,null,null,null,null,null,null,null,false]
[null,null,null,null,null,null,null,null,null,false]
[null,null,null,null,null,null,null,null,null,false]
[null,null,null,null,null,null,null,null,null,false]
[null,null,null,null,null,null,null,null,null,false]
[null,null,null,null,null,null,null,null,null,false]
[null,null,null,null,null,null,null,null,null,false]
[null,null,null,null,null,null,null,null,null,false]
[null,null,null,null,null,null,null,null,null,false]
[null,null,null,null,null,null,null,null,null,false]
[null,null,null,null,null,null,null,null,null,false]
[null,null,null,null,null,null,null,null,null,false]
[null,null,null,null,null,null,null,null,null,false]
[null,null,null,null,null,null,null,null,null,false]
[null,null,null,null,null,null,null,null,null,false]
[null,null,null,null,null,null,null,null,null,false]
[null,null,null,null,null,null,null,null,null,false]
[null,null,null,null,null,null,null,null,null,false]
[null,null,null,null,null,null,null,null,null,false]
[null,null,null,null,null,null,null,null,null,false]
[null,null,null,null,null,null,null,null,null,false]
[null,null,null,null,null,null,null,null,null,false]
[null,null,null,null,null,null,null,null,null,false]
[null,null,null,null,null,null,null,null,null,false]
[null,null,null,null,null,null,null,null,null,false]
[null,null,null,null,null,null,null,null,null,false]
[null,null,null,null,null,null,null,null,null,false]
[null,null,null,null,null,null,null,null,null,false]
[null,null,null,null,null,null,null,null,null,false]
[null,null,null,null,null,null,null,null,null,false]
[null,null,null,null,null,null,null,null,null,false]
[null,null,null,null,null,null,null,null,null,false]
[null,null,null,null,null,null,null,null,null,false]
[null,null,null,null,null,null,null,null,null,false]
[null,null,null,null,null,null,null,null,null,false]
[null,null,null,null,null,null,null,null,null,false]
[null,null,null,null,null,null,null,null,null,false]
[null,null,null,null,null,null,null,null,null,false]
[null,null,null,null,null,null,null,null,null,false]
[null,null,null,null,null,null,null,null,null,false]
[null,null,null,null,null,null,null,null,null,false]
[null,null,null,null,null,null,null,null,null,false]
[null,null,null,null,null,null,null,null,null,false]
[null,null,null,null,null,null,null,null,null,false]
[null,null,null,null,null,null,null,null,null,false]
[null,null,null,null,null,null,null,null,null,false]
[null,null,null,null,null,null,null,null,null,false]
[null,null,null,null,null,null,null,null,null,false]
[null,null,null,null,null,null,null,null,null,false]
[null,null,null,null,null,null,null,null,null,false]
[null,null,null,null,null,null,null,null,null,false]
[null,null,null,null,null,null,null,null,null,false]
[null,null,null,null,null,null,null,null,null,false]
[null,null,null,null,null,null,null,null,null,false]
[null,null,null,null,null,null,null,null,null,false]
[null,null,null,null,null,null,null,null,null,false]
[null,null,null,null,null,null,null,null,null,false]
[null,null,null,null,null,null,null,null,null,false]
[null,null,null,null,null,null,null,null,null,false]
[null,null,null,null,null,null,null,null,null,false]
[null,null,null,null,null,null,null,null,null,false]
[null,null,null,null,null,null,null,null,null,false]
[null,null,null,null,null,null,null,null,null,false]
[null,null,null,null,null,null,null,null,null,false]
[null,null,null,null,null,null,null,null,null,false]
[null,null,null,null,null,null,null,null,null,false]
[null,null,null,null,null,null,null,null,null,false]
[null,null,null,null,null,null,null,null,null,false]
[null,null,null,null,null,null,null,null,null,false]
[null,null,null,null,null,null,null,null,null,false]
[null,null,null,null,null,null,null,null,null,false]
[null,null,null,null,null,null,null,null,null,false]
[null,null,null,null,null,null,null,null,null,false]
[null,null,null,null,null,null,null,null,null,false]
[null,null,null,null,null,null,null,null,null,false]
[null,null,null,null,null,null,null,null,null,false]
[null,null,null,null,null,null,null,null,null,false]
[null,null,null,null,null,null,null,null,null,false]
[null,null,null,null,null,null,null,null,null,false]
[null,null,null,null,null,null,null,null,null,false]
[null,null,null,null,null,null,null,null,null,false]
[null,null,null,null,null,null,null,null,null,false]
[null,null,null,null,null,null,null,null,null,false]
[null,null,null,null,null,null,null,null,null,false]
[null,null,null,null,null,null,null,null,null,false]
[null,null,null,null,null,null,null,null,null,false]
[null,null,null,null,null,null,null,null,null,false]
[null,null,null,null,null,null,null,null,null,false]
[null,null,null,null,null,null,null,null,null,false]
[null,null,null,null,null,null,null,null,null,false]
[null,null,null,null,null,null,null,null,null,false]
[null,null,null,null,null,null,null,null,null,false]
[null,null,null,null,null,null,null,null,null,false]
[null,null,null,null,null,null,null,null,null,false]
[null,null,null,null,null,null,null,null,null,false]
[null,null,null,null,null,null,null,null,null,false]
[null,null,null,null,null,null,null,null,null,false]
[null,null,null,null,null,null,null,null,null,false]
[null,null,null,null,null,null,null,null,null,false]
[null,null,null,null,null,null,null,null,null,false]
[null,null,null,null,null,null,null,null,null,false]
[null,null,null,null,null,null,null,null,null,false]
[null,null,null,null,null,null,null,null,null,false]
[null,null,null,null,null,null,null,null,null,false]
[null,null,null,null,null,null,null,null,null,false]
[null,null,null,null,null,null,null,null,null,false]
[null,null,null,null,null,null,null,null,null,false]
[null,null,null,null,null,null,null,null,null,false]
[null,null,null,null,null,null,null,null,null,false]
[null,null,null,null,null,null,null,null,null,false]
[null,null,null,null,null,null,null,null,null,false]
[null,null,null,null,null,null,null,null,null,false]
[null,null,null,null,null,null,null,null,null,false]
[null,null,null,null,null,null,null,null,null,false]
[null,null,null,null,null,null,null,null,null,false]
[null,null,null,null,null,null,null,null,null,false]
[null,null,null,null,null,null,null,null,null,false]
[null,null,null,null,null,null,null,null,null,false]
[null,null,null,null,null,null,null,null,null,false]
[null,null,null,null,null,null,null,null,null,false]
[null,null,null,null,null,null,null,null,null,false]
[null,null,null,null,null,null,null,null,null,false]
[null,null,null,null,null,null,null,null,null,false]
[null,null,null,null,null,null,null,null,null,false]
[null,null,null,null,null,null,null,null,null,false]
[null,null,null,null,null,null,null,null,null,false]
[null,null,null,null,null,null,null,null,null,false]
[null,null,null,null,null,null,null,null,null,false]
[null,null,null,null,null,null,null,null,null,false]
[null,null,null,null,null,null,null,null,null,false]
[null,null,null,null,null,null,null,null,null,false]
[null,null,null,null,null,null,null,null,null,false]
[null,null,null,null,null,null,null,null,null,false]
[null,null,null,null,null,null,null,null,null,false]
[null,null,null,null,null,null,null,null,null,false]
[null,null,null,null,null,null,null,null,null,false]
[null,null,null,null,null,null,null,null,null,false]
[null,null,null,null,null,null,null,null,null,false]
[null,null,null,null,null,null,null,null,null,false]
[null,null,null,null,null,null,null,null,null,false]
[null,null,null,null,null,null,null,null,null,false]
[null,null,null,null,null,null,null,null,null,false]
[null,null,null,null,null,null,null,null,null,false]
[null,null,null,null,null,null,null,null,null,false]
[null,null,null,null,null,null,null,null,null,false]
[null,null,null,null,null,null,null,null,null,false]
[null,null,null,null,null,null,null,null,null,false]
[null,null,null,null,null,null,null,null,null,false]
[null,null,null,null,null,null,null,null,null,false]
[null,null,null,null,null,null,null,null,null,false]
[null,null,null,null,null,null,null,null,null,false]
[null,null,null,null,null,null,null,null,null,false]
[null,null,null,null,null,null,null,null,null,false]
[null,null,null,null,null,null,null,null,null,false]
[null,null,null,null,null,null,null,null,null,false]
[null,null,null,null,null,null,null,null,null,false]
[null,null,null,null,null,null,null,null,null,false]
[null,null,null,null,null,null,null,null,null,false]
[null,null,null,null,null,null,null,null,null,false]
[null,null,null,null,null,null,null,null,null,false]
[null,null,null,null,null,null,null,null,null,false]
[null,null,null,null,null,null,null,null,null,false]
[null,null,null,null,null,null,null,null,null,false]
[null,null,null,null,null,null,null,null,null,false]
[null,null,null,null,null,null,null,null,null,false]
[null,null,null,null,null,null,null,null,null,false]
[null,null,null,null,null,null,null,null,null,false]
[null,null,null,null,null,null,null,null,null,false]
[null,null,null,null,null,null,null,null,null,false]
[null,null,null,null,null,null,null,null,null,false]
[null,null,null,null,null,null,null,null,null,false]
[null,null,null,null,null,null,null,null,null,false]
[null,null,null,null,null,null,null,null,null,false]
[null,null,null,null,null,null,null,null,null,false]
[null,null,null,null,null,null,null,null,null,false]
[null,null,null,null,null,null,null,null,null,false]
[null,null,null,null,null,null,null,null,null,false]
[null,null,null,null,null,null,null,null,null,false]
[null,null,null,null,null,null,null,null,null,false]
[null,null,null,null,null,null,null,null,null,false]
[null,null,null,null,null,null,null,null,null,false]
[null,null,null,null,null,null,null,null,null,false]
[null,null,null,null,null,null,null,null,null,false]
[null,null,null,null,null,null,null,null,null,false]
[null,null,null,null,null,null,null,null,null,false]
[null,null,null,null,null,null,null,null,null,false]
[null,null,null,null,null,null,null,null,null,false]
[null,null,null,null,null,null,null,null,null,false]
[null,null,null,null,null,null,null,null,null,false]
[null,null,null,null,null,null,null,null,null,false]
[null,null,null,null,null,null,null,null,null,false]
[null,null,null,null,null,null,null,null,null,false]
[null,null,null,null,null,null,null,null,null,false]
[null,null,null,null,null,null,null,null,null,false]
[null,null,null,null,null,null,null,null,null,false]
[null,null,null,null,null,null,null,null,null,false]
[null,null,null,null,null,null,null,null,null,false]
[null,null,null,null,null,null,null,null,null,false]
[null,null,null,null,null,null,null,null,null,false]
[null,null,null,null,null,null,null,null,null,false]
[null,null,null,null,null,null,null,null,null,false]
[null,null,null,null,null,null,null,null,null,false]
[null,null,null,null,null,null,null,null,null,false]
[null,null,null,null,null,null,null,null,null,false]
[null,null,null,null,null,null,null,null,null,false]
[null,null,null,null,null,null,null,null,null,false]
[null,null,null,null,null,null,null,null,null,false]
[null,null,null,null,null,null,null,null,null,false]
[null,null,null,null,null,null,null,null,null,false]
[null,null,null,null,null,null,null,null,null,false]
[null,null,null,null,null,null,null,null,null,false]
[null,null,null,null,null,null,null,null,null,false]
[null,null,null,null,null,null,null,null,null,false]
[null,null,null,null,null,null,null,null,null,false]
[null,null,null,null,null,null,null,null,null,false]
[null,null,null,null,null,null,null,null,null,false]
[null,null,null,null,null,null,null,null,null,false]
[null,null,null,null,null,null,null,null,null,false]
[null,null,null,null,null,null,null,null,null,false]
[null,null,null,null,null,null,null,null,null,false]
[null,null,null,null,null,null,null,null,null,false]
[null,null,null,null,null,null,null,null,null,false]
[null,null,null,null,null,null,null,null,null,false]
[null,null,null,null,null,null,null,null,null,false]
[null,null,null,null,null,null,null,null,null,false]
[null,null,null,null,null,null,null,null,null,false]
[null,null,null,null,null,null,null,null,null,false]
[null,null,null,null,null,null,null,null,null,false]
[null,null,null,null,null,null,null,null,null,false]
[null,null,null,null,null,null,null,null,null,false]
[null,null,null,null,null,null,null,null,null,false]
[null,null,null,null,null,null,null,null,null,false]
[null,null,null,null,null,null,null,null,null,false]
[null,null,null,null,null,null,null,null,null,false]
[null,null,null,null,null,null,null,null,null,false]
[null,null,null,null,null,null,null,null,null,false]
[null,null,null,null,null,null,null,null,null,false]
[null,null,null,null,null,null,null,null,null,false]
[null,null,null,null,null,null,null,null,null,false]
[null,null,null,null,null,null,null,null,null,false]
[null,null,null,null,null,null,null,null,null,false]
[null,null,null,null,null,null,null,null,null,false]
[null,null,null,null,null,null,null,null,null,false]
[null,null,null,null,null,null,null,null,null,false]
[null,null,null,null,null,null,null,null,null,false]
[null,null,null,null,null,null,null,null,null,false]
[null,null,null,null,null,null,null,null,null,false]
[null,null,null,null,null,null,null,null,null,false]
[null,null,null,null,null,null,null,null,null,false]
[null,null,null,null,null,null,null,null,null,false]
[null,null,null,null,null,null,null,null,null,false]
[null,null,null,null,null,null,null,null,null,false]
[null,null,null,null,null,null,null,null,null,false]
[null,null,null,null,null,null,null,null,null,false]
[null,null,null,null,null,null,null,null,null,false]
[null,null,null,null,null,null,null,null,null,false]
[null,null,null,null,null,null,null,null,null,false]
[null,null,null,null,null,null,null,null,null,false]
[null,null,null,null,null,null,null,null,null,false]
[null,null,null,null,null,null,null,null,null,false]
[null,null,null,null,null,null,null,null,null,false]
[null,null,null,null,null,null,null,null,null,false]
[null,null,null,null,null,null,null,null,null,false]
[null,null,null,null,null,null,null,null,null,false]
[null,null,null,null,null,null,null,null,null,false]
[null,null,null,null,null,null,null,null,null,false]
[null,null,null,null,null,null,null,null,null,false]
[null,null,null,null,null,null,null,null,null,false]
[null,null,null,null,null,null,null,null,null,false]
[null,null,null,null,null,null,null,null,null,false]
[null,null,null,null,null,null,null,null,null,false]
[null,null,null,null,null,null,null,null,null,false]
[null,null,null,null,null,null,null,null,null,false]
[null,null,null,null,null,null,null,null,null,false]
[null,null,null,null,null,null,null,null,null,false]
[null,null,null,null,null,null,null,null,null,false]
[null,null,null,null,null,null,null,null,null,false]
[null,null,null,null,null,null,null,null,null,false]
[null,null,null,null,null,null,null,null,null,false]
[null,null,null,null,null,null,null,null,null,false]
[null,null,null,null,null,null,null,null,null,false]
[null,null,null,null,null,null,null,null,null,false]
[null,null,null,null,null,null,null,null,null,false]
[null,null,null,null,null,null,null,null,null,false]
[null,null,null,null,null,null,null,null,null,false]
[null,null,null,null,null,null,null,null,null,false]
[null,null,null,null,null,null,null,null,null,false]
[null,null,null,null,null,null,null,null,null,false]
[null,null,null,null,null,null,null,null,null,false]
[null,null,null,null,null,null,null,null,null,false]
[null,null,null,null,null,null,null,null,null,false]
[null,null,null,null,null,null,null,null,null,false]
[null,null,null,null,null,null,null,null,null,false]
[null,null,null,null,null,null,null,null,null,false]
[null,null,null,null,null,null,null,null,null,false]
[null,null,null,null,null,null,null,null,null,false]
[null,null,null,null,null,null,null,null,null,false]
[null,null,null,null,null,null,null,null,null,false]
[null,null,null,null,null,null,null,null,null,false]
[null,null,null,null,null,null,null,null,null,false]
[null,null,null,null,null,null,null,null,null,false]
[null,null,null,null,null,null,null,null,null,false]
[null,null,null,null,null,null,null,null,null,false]
[null,null,null,null,null,null,null,null,null,false]
[null,null,null,null,null,null,null,null,null,false]
[null,null,null,null,null,null,null,null,null,false]
[null,null,null,null,null,null,null,null,null,false]
[null,null,null,null,null,null,null,null,null,false]
[null,null,null,null,null,null,null,null,null,false]
[null,null,null,null,null,null,null,null,null,false]
[null,null,null,null,null,null,null,null,null,false]
[null,null,null,null,null,null,null,null,null,false]
[null,null,null,null,null,null,null,null,null,false]
[null,null,null,null,null,null,null,null,null,false]
[null,null,null,null,null,null,null,null,null,false]
[null,null,null,null,null,null,null,null,null,false]
[null,null,null,null,null,null,null,null,null,false]
[null,null,null,null,null,null,null,null,null,false]
[null,null,null,null,null,null,null,null,null,false]
[null,null,null,null,null,null,null,null,null,false]
[null,null,null,null,null,null,null,null,null,false]
[null,null,null,null,null,null,null,null,null,false]
[null,null,null,null,null,null,null,null,null,false]
[null,null,null,null,null,null,null,null,null,false]
[null,null,null,null,null,null,null,null,null,false]
[null,null,null,null,null,null,null,null,null,false]
[null,null,null,null,null,null,null,null,null,false]
[null,null,null,null,null,null,null,null,null,false]
[null,null,null,null,null,null,null,null,null,false]
[null,null,null,null,null,null,null,null,null,false]
[null,null,null,null,null,null,null,null,null,false]
[null,null,null,null,null,null,null,null,null,false]
[null,null,null,null,null,null,null,null,null,false]
[null,null,null,null,null,null,null,null,null,false]
[null,null,null,null,null,null,null,null,null,false]
[null,null,null,null,null,null,null,null,null,false]
[null,null,null,null,null,null,null,null,null,false]
[null,null,null,null,null,null,null,null,null,false]
[null,null,null,null,null,null,null,null,null,false]
[null,null,null,null,null,null,null,null,null,false]
[null,null,null,null,null,null,null,null,null,false]
[null,null,null,null,null,null,null,null,null,false]
[null,null,null,null,null,null,null,null,null,false]
[null,null,null,null,null,null,null,null,null,false]
[null,null,null,null,null,null,null,null,null,false]
[null,null,null,null,null,null,null,null,null,false]
[null,null,null,null,null,null,null,null,null,false]
[null,null,null,null,null,null,null,null,null,false]
[null,null,null,null,null,null,null,null,null,false]
[null,null,null,null,null,null,null,null,null,false]
[null,null,null,null,null,null,null,null,null,false]
[null,null,null,null,null,null,null,null,null,false]
[null,null,null,null,null,null,null,null,null,false]
[null,null,null,null,null,null,null,null,null,false]
[null,null,null,null,null,null,null,null,null,false]
[null,null,null,null,null,null,null,null,null,false]
[null,null,null,null,null,null,null,null,null,false]
[null,null,null,null,null,null,null,null,null,false]
[null,null,null,null,null,null,null,null,null,false]
[null,null,null,null,null,null,null,null,null,false]
[null,null,null,null,null,null,null,null,null,false]
[null,null,null,null,null,null,null,null,null,false]
[null,null,null,null,null,null,null,null,null,false]
[null,null,null,null,null,null,null,null,null,false]
[null,null,null,null,null,null,null,null,null,false]
[null,null,null,null,null,null,null,null,null,false]
[null,null,null,null,null,null,null,null,null,false]
[null,null,null,null,null,null,null,null,null,false]
[null,null,null,null,null,null,null,null,null,false]
[null,null,null,null,null,null,null,null,null,false]
[null,null,null,null,null,null,null,null,null,false]
[null,null,null,null,null,null,null,null,null,false]
[null,null,null,null,null,null,null,null,null,false]
[null,null,null,null,null,null,null,null,null,false]
[null,null,null,null,null,null,null,null,null,false]
[null,null,null,null,null,null,null,null,null,false]
[null,null,null,null,null,null,null,null,null,false]
[null,null,null,null,null,null,null,null,null,false]
[null,null,null,null,null,null,null,null,null,false]
[null,null,null,null,null,null,null,null,null,false]
[null,null,null,null,null,null,null,null,null,false]
[null,null,null,null,null,null,null,null,null,false]
[null,null,null,null,null,null,null,null,null,false]
[null,null,null,null,null,null,null,null,null,false]
[null,null,null,null,null,null,null,null,null,false]
[null,null,null,null,null,null,null,null,null,false]
[null,null,null,null,null,null,null,null,null,false]
[null,null,null,null,null,null,null,null,null,false]
[null,null,null,null,null,null,null,null,null,false]
[null,null,null,null,null,null,null,null,null,false]
[null,null,null,null,null,null,null,null,null,false]
[null,null,null,null,null,null,null,null,null,false]
[null,null,null,null,null,null,null,null,null,false]
[null,null,null,null,null,null,null,null,null,false]
[null,null,null,null,null,null,null,null,null,false]
[null,null,null,null,null,null,null,null,null,false]
[null,null,null,null,null,null,null,null,null,false]
[null,null,null,null,null,null,null,null,null,false]
[null,null,null,null,null,null,null,null,null,false]
[null,null,null,null,null,null,null,null,null,false]
[null,null,null,null,null,null,null,null,null,false]
[null,null,null,null,null,null,null,null,null,false]
[null,null,null,null,null,null,null,null,null,false]
[null,null,null,null,null,null,null,null,null,false]
[null,null,null,null,null,null,null,null,null,false]
[null,null,null,null,null,null,null,null,null,false]
[null,null,null,null,null,null,null,null,null,false]
[null,null,null,null,null,null,null,null,null,false]
[null,null,null,null,null,null,null,null,null,false]
[null,null,null,null,null,null,null,null,null,false]
[null,null,null,null,null,null,null,null,null,false]
[null,null,null,null,null,null,null,null,null,false]
[null,null,null,null,null,null,null,null,null,false]
[null,null,null,null,null,null,null,null,null,false]
[null,null,null,null,null,null,null,null,null,false]
[null,null,null,null,null,null,null,null,null,false]
[null,null,null,null,null,null,null,null,null,false]
[null,null,null,null,null,null,null,null,null,false]
[null,null,null,null,null,null,null,null,null,false]
[null,null,null,null,null,null,null,null,null,false]
[null,null,null,null,null,null,null,null,null,false]
[null,null,null,null,null,null,null,null,null,false]
[null,null,null,null,null,null,null,null,null,false]
[null,null,null,null,null,null,null,null,null,false]
[null,null,null,null,null,null,null,null,null,false]
[null,null,null,null,null,null,null,null,null,false]
[null,null,null,null,null,null,null,null,null,false]
[null,null,null,null,null,null,null,null,null,false]
[null,null,null,null,null,null,null,null,null,false]
[null,null,null,null,null,null,null,null,null,false]
[null,null,null,null,null,null,null,null,null,false]
[null,null,null,null,null,null,null,null,null,false]
[null,null,null,null,null,null,null,null,null,false]
[null,null,null,null,null,null,null,null,null,false]
[null,null,null,null,null,null,null,null,null,false]
[null,null,null,null,null,null,null,null,null,false]
[null,null,null,null,null,null,null,null,null,false]
[null,null,null,null,null,null,null,null,null,false]
[null,null,null,null,null,null,null,null,null,false]
[null,null,null,null,null,null,null,null,null,false]
[null,null,null,null,null,null,null,null,null,false]
[null,null,null,null,null,null,null,null,null,false]
[null,null,null,null,null,null,null,null,null,false]
[null,null,null,null,null,null,null,null,null,false]
[null,null,null,null,null,null,null,null,null,false]
[null,null,null,null,null,null,null,null,null,false]
[null,null,null,null,null,null,null,null,null,false]
[null,null,null,null,null,null,null,null,null,false]
[null,null,null,null,null,null,null,null,null,false]
[null,null,null,null,null,null,null,null,null,false]
[null,null,null,null,null,null,null,null,null,false]
[null,null,null,null,null,null,null,null,null,false]
[null,null,null,null,null,null,null,null,null,false]
[null,null,null,null,null,null,null,null,null,false]
[null,null,null,null,null,null,null,null,null,false]
[null,null,null,null,null,null,null,null,null,false]
[null,null,null,null,null,null,null,null,null,false]
[null,null,null,null,null,null,null,null,null,false]
[null,null,null,null,null,null,null,null,null,false]
[null,null,null,null,null,null,null,null,null,false]
[null,null,null,null,null,null,null,null,null,false]
[null,null,null,null,null,null,null,null,null,false]
[null,null,null,null,null,null,null,null,null,false]
[null,null,null,null,null,null,null,null,null,false]
[null,null,null,null,null,null,null,null,null,false]
[null,null,null,null,null,null,null,null,null,false]
[null,null,null,null,null,null,null,null,null,false]
[null,null,null,null,null,null,null,null,null,false]
[null,null,null,null,null,null,null,null,null,false]
[null,null,null,null,null,null,null,null,null,false]
[null,null,null,null,null,null,null,null,null,false]
[null,null,null,null,null,null,null,null,null,false]
[null,null,null,null,null,null,null,null,null,false]
[null,null,null,null,null,null,null,null,null,false]
[null,null,null,null,null,null,null,null,null,false]
[null,null,null,null,null,null,null,null,null,false]
[null,null,null,null,null,null,null,null,null,false]
[null,null,null,null,null,null,null,null,null,false]
[null,null,null,null,null,null,null,null,null,false]
[null,null,null,null,null,null,null,null,null,false]
[null,null,null,null,null,null,null,null,null,false]
[null,null,null,null,null,null,null,null,null,false]
[null,null,null,null,null,null,null,null,null,false]
[null,null,null,null,null,null,null,null,null,false]
[null,null,null,null,null,null,null,null,null,false]
[null,null,null,null,null,null,null,null,null,false]
[null,null,null,null,null,null,null,null,null,false]
[null,null,null,null,null,null,null,null,null,false]
[null,null,null,null,null,null,null,null,null,false]
[null,null,null,null,null,null,null,null,null,false]
[null,null,null,null,null,null,null,null,null,false]
[null,null,null,null,null,null,null,null,null,false]
[null,null,null,null,null,null,null,null,null,false]
[null,null,null,null,null,null,null,null,null,false]
[null,null,null,null,null,null,null,null,null,false]
[null,null,null,null,null,null,null,null,null,false]
[null,null,null,null,null,null,null,null,null,false]
[null,null,null,null,null,null,null,null,null,false]
[null,null,null,null,null,null,null,null,null,false]
[null,null,null,null,null,null,null,null,null,false]
[null,null,null,null,null,null,null,null,null,false]
[null,null,null,null,null,null,null,null,null,false]
[null,null,null,null,null,null,null,null,null,false]
[null,null,null,null,null,null,null,null,null,false]
[null,null,null,null,null,null,null,null,null,false]
[null,null,null,null,null,null,null,null,null,false]
[null,null,null,null,null,null,null,null,null,false]
[null,null,null,null,null,null,null,null,null,false]
[null,null,null,null,null,null,null,null,null,false]
[null,null,null,null,null,null,null,null,null,false]
[null,null,null,null,null,null,null,null,null,false]
[null,null,null,null,null,null,null,null,null,false]
[null,null,null,null,null,null,null,null,null,false]
[null,null,null,null,null,null,null,null,null,false]
[null,null,null,null,null,null,null,null,null,false]
[null,null,null,null,null,null,null,null,null,false]
[null,null,null,null,null,null,null,null,null,false]
[null,null,null,null,null,null,null,null,null,false]
[null,null,null,null,null,null,null,null,null,false]
[null,null,null,null,null,null,null,null,null,false]
[null,null,null,null,null,null,null,null,null,false]
[null,null,null,null,null,null,null,null,null,false]
[null,null,null,null,null,null,null,null,null,false]
[null,null,null,null,null,null,null,null,null,false]
[null,null,null,null,null,null,null,null,null,false]
[null,null,null,null,null,null,null,null,null,false]
[null,null,null,null,null,null,null,null,null,false]
[null,null,null,null,null,null,null,null,null,false]
[null,null,null,null,null,null,null,null,null,false]
[null,null,null,null,null,null,null,null,null,false]
[null,null,null,null,null,null,null,null,null,false]
[null,null,null,null,null,null,null,null,null,false]
[null,null,null,null,null,null,null,null,null,false]
[null,null,null,null,null,null,null,null,null,false]
[null,null,null,null,null,null,null,null,null,false]
[null,null,null,null,null,null,null,null,null,false]
[null,null,null,null,null,null,null,null,null,false]
[null,null,null,null,null,null,null,null,null,false]
[null,null,null,null,null,null,null,null,null,false]
[null,null,null,null,null,null,null,null,null,false]
[null,null,null,null,null,null,null,null,null,false]
[null,null,null,null,null,null,null,null,null,false]
[null,null,null,null,null,null,null,null,null,false]
[null,null,null,null,null,null,null,null,null,false]
[null,null,null,null,null,null,null,null,null,false]
[null,null,null,null,null,null,null,null,null,false]
[null,null,null,null,null,null,null,null,null,false]
[null,null,null,null,null,null,null,null,null,false]
[null,null,null,null,null,null,null,null,null,false]
[null,null,null,null,null,null,null,null,null,false]
[null,null,null,null,null,null,null,null,null,false]
[null,null,null,null,null,null,null,null,null,false]
[null,null,null,null,null,null,null,null,null,false]
[null,null,null,null,null,null,null,null,null,false]
[null,null,null,null,null,null,null,null,null,false]
[null,null,null,null,null,null,null,null,null,false]
[null,null,null,null,null,null,null,null,null,false]
[null,null,null,null,null,null,null,null,null,false]
[null,null,null,null,null,null,null,null,null,false]
[null,null,null,null,null,null,null,null,null,false]
[null,null,null,null,null,null,null,null,null,false]
[null,null,null,null,null,null,null,null,null,false]
[null,null,null,null,null,null,null,null,null,false]
[null,null,null,null,null,null,null,null,null,false]
[null,null,null,null,null,null,null,null,null,false]
[null,null,null,null,null,null,null,null,null,false]
[null,null,null,null,null,null,null,null,null,false]
[null,null,null,null,null,null,null,null,null,false]
[null,null,null,null,null,null,null,null,null,false]
[null,null,null,null,null,null,null,null,null,false]
[null,null,null,null,null,null,null,null,null,false]
[null,null,null,null,null,null,null,null,null,false]
[null,null,null,null,null,null,null,null,null,false]
[null,null,null,null,null,null,null,null,null,false]
[null,null,null,null,null,null,null,null,null,false]
[null,null,null,null,null,null,null,null,null,false]
[null,null,null,null,null,null,null,null,null,false]
[null,null,null,null,null,null,null,null,null,false]
[null,null,null,null,null,null,null,null,null,false]
[null,null,null,null,null,null,null,null,null,false]
[null,null,null,null,null,null,null,null,null,false]
[null,null,null,null,null,null,null,null,null,false]
[null,null,null,null,null,null,null,null,null,false]
[null,null,null,null,null,null,null,null,null,false]
[null,null,null,null,null,null,null,null,null,false]
[null,null,null,null,null,null,null,null,null,false]
[null,null,null,null,null,null,null,null,null,false]
[null,null,null,null,null,null,null,null,null,false]
[null,null,null,null,null,null,null,null,null,false]
[null,null,null,null,null,null,null,null,null,false]
[null,null,null,null,null,null,null,null,null,false]
[null,null,null,null,null,null,null,null,null,false]
[null,null,null,null,null,null,null,null,null,false]
[null,null,null,null,null,null,null,null,null,false]
[null,null,null,null,null,null,null,null,null,false]
[null,null,null,null,null,null,null,null,null,false]
[null,null,null,null,null,null,null,null,null,false]
[null,null,null,null,null,null,null,null,null,false]
[null,null,null,null,null,null,null,null,null,false]
[null,null,null,null,null,null,null,null,null,false]
[null,null,null,null,null,null,null,null,null,false]
[null,null,null,null,null,null,null,null,null,false]
[null,null,null,null,null,null,null,null,null,false]
[null,null,null,null,null,null,null,null,null,false]
[null,null,null,null,null,null,null,null,null,false]
[null,null,null,null,null,null,null,null,null,false]
[null,null,null,null,null,null,null,null,null,false]
[null,null,null,null,null,null,null,null,null,false]
[null,null,null,null,null,null,null,null,null,false]
[null,null,null,null,null,null,null,null,null,false]
[null,null,null,null,null,null,null,null,null,false]
[null,null,null,null,null,null,null,null,null,false]
[null,null,null,null,null,null,null,null,null,false]
[null,null,null,null,null,null,null,null,null,false]
[null,null,null,null,null,null,null,null,null,false]
[null,null,null,null,null,null,null,null,null,false]
[null,null,null,null,null,null,null,null,null,false]
[null,null,null,null,null,null,null,null,null,false]
[null,null,null,null,null,null,null,null,null,false]
[null,null,null,null,null,null,null,null,null,false]
[null,null,null,null,null,null,null,null,null,false]
[null,null,null,null,null,null,null,null,null,false]
[null,null,null,null,null,null,null,null,null,false]
[null,null,null,null,null,null,null,null,null,false]
[null,null,null,null,null,null,null,null,null,false]
[null,null,null,null,null,null,null,null,null,false]
[null,null,null,null,null,null,null,null,null,false]
[null,null,null,null,null,null,null,null,null,false]
[null,null,null,null,null,null,null,null,null,false]
[null,null,null,null,null,null,null,null,null,false]
[null,null,null,null,null,null,null,null,null,false]
[null,null,null,null,null,null,null,null,null,false]
[null,null,null,null,null,null,null,null,null,false]
[null,null,null,null,null,null,null,null,null,false]
[null,null,null,null,null,null,null,null,null,false]
[null,null,null,null,null,null,null,null,null,false]
[null,null,null,null,null,null,null,null,null,false]
[null,null,null,null,null,null,null,null,null,false]
[null,null,null,null,null,null,null,null,null,false]
[null,null,null,null,null,null,null,null,null,false]
[null,null,null,null,null,null,null,null,null,false]
[null,null,null,null,null,null,null,null,null,false]
[null,null,null,null,null,null,null,null,null,false]
[null,null,null,null,null,null,null,null,null,false]
[null,null,null,null,null,null,null,null,null,false]
[null,null,null,null,null,null,null,null,null,false]
[null,null,null,null,null,null,null,null,null,false]
[null,null,null,null,null,null,null,null,null,false]
[null,null,null,null,null,null,null,null,null,false]
[null,null,null,null,null,null,null,null,null,false]
[null,null,null,null,null,null,null,null,null,false]
[null,null,null,null,null,null,null,null,null,false]
[null,null,null,null,null,null,null,null,null,false]
[null,null,null,null,null,null,null,null,null,false]
[null,null,null,null,null,null,null,null,null,false]
[null,null,null,null,null,null,null,null,null,false]
[null,null,null,null,null,null,null,null,null,false]
[null,null,null,null,null,null,null,null,null,false]
[null,null,null,null,null,null,null,null,null,false]
[null,null,null,null,null,null,null,null,null,false]
[null,null,null,null,null,null,null,null,null,false]
[null,null,null,null,null,null,null,null,null,false]
[null,null,null,null,null,null,null,null,null,false]
[null,null,null,null,null,null,null,null,null,false]
[null,null,null,null,null,null,null,null,null,false]
[null,null,null,null,null,null,null,null,null,false]
[null,null,null,null,null,null,null,null,null,false]
[null,null,null,null,null,null,null,null,null,false]
[null,null,null,null,null,null,null,null,null,false]
[null,null,null,null,null,null,null,null,null,false]
[null,null,null,null,null,null,null,null,null,false]
[null,null,null,null,null,null,null,null,null,false]
[null,null,null,null,null,null,null,null,null,false]
[null,null,null,null,null,null,null,null,null,false]
[null,null,null,null,null,null,null,null,null,false]
[null,null,null,null,null,null,null,null,null,false]
[null,null,null,null,null,null,null,null,null,false]
[null,null,null,null,null,null,null,null,null,false]
[null,null,null,null,null,null,null,null,null,false]
[null,null,null,null,null,null,null,null,null,false]
[null,null,null,null,null,null,null,null,null,false]
[null,null,null,null,null,null,null,null,null,false]
[null,null,null,null,null,null,null,null,null,false]
[null,null,null,null,null,null,null,null,null,false]
[null,null,null,null,null,null,null,null,null,false]
[null,null,null,null,null,null,null,null,null,false]
[null,null,null,null,null,null,null,null,null,false]
[null,null,null,null,null,null,null,null,null,false]
[null,null,null,null,null,null,null,null,null,false]
[null,null,null,null,null,null,null,null,null,false]
[null,null,null,null,null,null,null,null,null,false]
[null,null,null,null,null,null,null,null,null,false]
[null,null,null,null,null,null,null,null,null,false]
[null,null,null,null,null,null,null,null,null,false]
[null,null,null,null,null,null,null,null,null,false]
[null,null,null,null,null,null,null,null,null,false]
[null,null,null,null,null,null,null,null,null,false]
[null,null,null,null,null,null,null,null,null,false]
[null,null,null,null,null,null,null,null,null,false]
[null,null,null,null,null,null,null,null,null,false]
[null,null,null,null,null,null,null,null,null,false]
[null,null,null,null,null,null,null,null,null,false]
[null,null,null,null,null,null,null,null,null,false]
[null,null,null,null,null,null,null,null,null,false]
[null,null,null,null,null,null,null,null,null,false]
[null,null,null,null,null,null,null,null,null,false]
[null,null,null,null,null,null,null,null,null,false]
[null,null,null,null,null,null,null,null,null,false]
[null,null,null,null,null,null,null,null,null,false]
[null,null,null,null,null,null,null,null,null,false]
[null,null,null,null,null,null,null,null,null,false]
[null,null,null,null,null,null,null,null,null,false]
[null,null,null,null,null,null,null,null,null,false]
[null,null,null,null,null,null,null,null,null,false]
[null,null,null,null,null,null,null,null,null,false]
[null,null,null,null,null,null,null,null,null,false]
[null,null,null,null,null,null,null,null,null,false]
[null,null,null,null,null,null,null,null,null,false]
[null,null,null,null,null,null,null,null,null,false]
[null,null,null,null,null,null,null,null,null,false]
[null,null,null,null,null,null,null,null,null,false]
[null,null,null,null,null,null,null,null,null,false]
[null,null,null,null,null,null,null,null,null,false]
[null,null,null,null,null,null,null,null,null,false]
[null,null,null,null,null,null,null,null,null,false]
[null,null,null,null,null,null,null,null,null,false]
[null,null,null,null,null,null,null,null,null,false]
[null,null,null,null,null,null,null,null,null,false]
[null,null,null,null,null,null,null,null,null,false]
[null,null,null,null,null,null,null,null,null,false]
[null,null,null,null,null,null,null,null,null,false]
[null,null,null,null,null,null,null,null,null,false]
[null,null,null,null,null,null,null,null,null,false]
[null,null,null,null,null,null,null,null,null,false]
[null,null,null,null,null,null,null,null,null,false]
[null,null,null,null,null,null,null,null,null,false]
[null,null,null,null,null,null,null,null,null,false]
[null,null,null,null,null,null,null,null,null,false]
[null,null,null,null,null,null,null,null,null,false]
[null,null,null,null,null,null,null,null,null,false]
[null,null,null,null,null,null,null,null,null,false]
[null,null,null,null,null,null,null,null,null,false]
[null,null,null,null,null,null,null,null,null,false]
[null,null,null,null,null,null,null,null,null,false]
[null,null,null,null,null,null,null,null,null,false]
[null,null,null,null,null,null,null,null,null,false]
[null,null,null,null,null,null,null,null,null,false]
[null,null,null,null,null,null,null,null,null,false]
[null,null,null,null,null,null,null,null,null,false]
[null,null,null,null,null,null,null,null,null,false]
[null,null,null,null,null,null,null,null,null,false]
[null,null,null,null,null,null,null,null,null,false]
[null,null,null,null,null,null,null,null,null,false]
[null,null,null,null,null,null,null,null,null,false]
[null,null,null,null,null,null,null,null,null,false]
[null,null,null,null,null,null,null,null,null,false]
[null,null,null,null,null,null,null,null,null,false]
[null,null,null,null,null,null,null,null,null,false]
[null,null,null,null,null,null,null,null,null,false]
[null,null,null,null,null,null,null,null,null,false]
[null,null,null,null,null,null,null,null,null,false]
[null,null,null,null,null,null,null,null,null,false]
[null,null,null,null,null,null,null,null,null,false]
[null,null,null,null,null,null,null,null,null,false]
[null,null,null,null,null,null,null,null,null,false]
[null,null,null,null,null,null,null,null,null,false]
[null,null,null,null,null,null,null,null,null,false]
[null,null,null,null,null,null,null,null,null,false]
[null,null,null,null,null,null,null,null,null,false]
[null,null,null,null,null,null,null,null,null,false]
[null,null,null,null,null,null,null,null,null,false]
[null,null,null,null,null,null,null,null,null,false]
[null,null,null,null,null,null,null,null,null,false]
[null,null,null,null,null,null,null,null,null,false]
[null,null,null,null,null,null,null,null,null,false]
[null,null,null,null,null,null,null,null,null,false]
[null,null,null,null,null,null,null,null,null,false]
[null,null,null,null,null,null,null,null,null,false]
[null,null,null,null,null,null,null,null,null,false]
[null,null,null,null,null,null,null,null,null,false]
[null,null,null,null,null,null,null,null,null,false]
[null,null,null,null,null,null,null,null,null,false]
[null,null,null,null,null,null,null,null,null,false]
[null,null,null,null,null,null,null,null,null,false]
[null,null,null,null,null,null,null,null,null,false]
[null,null,null,null,null,null,null,null,null,false]
[null,null,null,null,null,null,null,null,null,false]
[null,null,null,null,null,null,null,null,null,false]
[null,null,null,null,null,null,null,null,null,false]
[null,null,null,null,null,null,null,null,null,false]
[null,null,null,null,null,null,null,null,null,false]
[null,null,null,null,null,null,null,null,null,false]
[null,null,null,null,null,null,null,null,null,false]
[null,null,null,null,null,null,null,null,null,false]
[null,null,null,null,null,null,null,null,null,false]
[null,null,null,null,null,null,null,null,null,false]
[null,null,null,null,null,null,null,null,null,false]
[null,null,null,null,null,null,null,null,null,false]
[null,null,null,null,null,null,null,null,null,false]
[null,null,null,null,null,null,null,null,null,false]
[null,null,null,null,null,null,null,null,null,false]
[null,null,null,null,null,null,null,null,null,false]
[null,null,null,null,null,null,null,null,null,false]
[null,null,null,null,null,null,null,null,null,false]
[null,null,null,null,null,null,null,null,null,false]
[null,null,null,null,null,null,null,null,null,false]
[null,null,null,null,null,null,null,null,null,false]
[null,null,null,null,null,null,null,null,null,false]
[null,null,null,null,null,null,null,null,null,false]
[null,null,null,null,null,null,null,null,null,false]
[null,null,null,null,null,null,null,null,null,false]
[null,null,null,null,null,null,null,null,null,false]
[null,null,null,null,null,null,null,null,null,false]
[null,null,null,null,null,null,null,null,null,false]
[null,null,null,null,null,null,null,null,null,false]
[null,null,null,null,null,null,null,null,null,false]
[null,null,null,null,null,null,null,null,null,false]
[null,null,null,null,null,null,null,null,null,false]
[null,null,null,null,null,null,null,null,null,false]
[null,null,null,null,null,null,null,null,null,false]
[null,null,null,null,null,null,null,null,null,false]
[null,null,null,null,null,null,null,null,null,false]
[null,null,null,null,null,null,null,null,null,false]
[null,null,null,null,null,null,null,null,null,false]
[null,null,null,null,null,null,null,null,null,false]
[null,null,null,null,null,null,null,null,null,false]
[null,null,null,null,null,null,null,null,null,false]
[null,null,null,null,null,null,null,null,null,false]
[null,null,null,null,null,null,null,null,null,false]
[null,null,null,null,null,null,null,null,null,false]
[null,null,null,null,null,null,null,null,null,false]
[null,null,null,null,null,null,null,null,null,false]
[null,null,null,null,null,null,null,null,null,false]
[null,null,null,null,null,null,null,null,null,false]
[null,null,null,null,null,null,null,null,null,false]
[null,null,null,null,null,null,null,null,null,false]
[null,null,null,null,null,null,null,null,null,false]
[null,null,null,null,null,null,null,null,null,false]
[null,null,null,null,null,null,null,null,null,false]
[null,null,null,null,null,null,null,null,null,false]
[null,null,null,null,null,null,null,null,null,false]
[null,null,null,null,null,null,null,null,null,false]
[null,null,null,null,null,null,null,null,null,false]
[null,null,null,null,null,null,null,null,null,false]
[null,null,null,null,null,null,null,null,null,false]
[null,null,null,null,null,null,null,null,null,false]
[null,null,null,null,null,null,null,null,null,false]
[null,null,null,null,null,null,null,null,null,false]
[null,null,null,null,null,null,null,null,null,false]
[null,null,null,null,null,null,null,null,null,false]
[null,null,null,null,null,null,null,null,null,false]
[null,null,null,null,null,null,null,null,null,false]
[null,null,null,null,null,null,null,null,null,false]
[null,null,null,null,null,null,null,null,null,false]
[null,null,null,null,null,null,null,null,null,false]
[null,null,null,null,null,null,null,null,null,false]
[null,null,null,null,null,null,null,null,null,false]
[null,null,null,null,null,null,null,null,null,false]
[null,null,null,null,null,null,null,null,null,false]
[null,null,null,null,null,null,null,null,null,false]
[null,null,null,null,null,null,null,null,null,false]
[null,null,null,null,null,null,null,null,null,false]
[null,null,null,null,null,null,null,null,null,false]
[null,null,null,null,null,null,null,null,null,false]
[null,null,null,null,null,null,null,null,null,false]
[null,null,null,null,null,null,null,null,null,false]
[null,null,null,null,null,null,null,null,null,false]
[null,null,null,null,null,null,null,null,null,false]
[null,null,null,null,null,null,null,null,null,false]
[null,null,null,null,null,null,null,null,null,false]
[null,null,null,null,null,null,null,null,null,false]
[null,null,null,null,null,null,null,null,null,false]
[null,null,null,null,null,null,null,null,null,false]
[null,null,null,null,null,null,null,null,null,false]
[null,null,null,null,null,null,null,null,null,false]
[null,null,null,null,null,null,null,null,null,false]
[null,null,null,null,null,null,null,null,null,false]
[null,null,null,null,null,null,null,null,null,false]
[null,null,null,null,null,null,null,null,null,false]
[null,null,null,null,null,null,null,null,null,false]
[null,null,null,null,null,null,null,null,null,false]
[null,null,null,null,null,null,null,null,null,false]
[null,null,null,null,null,null,null,null,null,false]
[null,null,null,null,null,null,null,null,null,false]
[null,null,null,null,null,null,null,null,null,false]
[null,null,null,null,null,null,null,null,null,false]
[null,null,null,null,null,null,null,null,null,false]
[null,null,null,null,null,null,null,null,null,false]
[null,null,null,null,null,null,null,null,null,false]
[null,null,null,null,null,null,null,null,null,false]
[null,null,null,null,null,null,null,null,null,false]
[null,null,null,null,null,null,null,null,null,false]
[null,null,null,null,null,null,null,null,null,false]
[null,null,null,null,null,null,null,null,null,false]
[null,null,null,null,null,null,null,null,null,false]
[null,null,null,null,null,null,null,null,null,false]
[null,null,null,null,null,null,null,null,null,false]
[null,null,null,null,null,null,null,null,null,false]
[null,null,null,null,null,null,null,null,null,false]
[null,null,null,null,null,null,null,null,null,false]
[null,null,null,null,null,null,null,null,null,false]
[null,null,null,null,null,null,null,null,null,false]
[null,null,null,null,null,null,null,null,null,false]
[null,null,null,null,null,null,null,null,null,false]
[null,null,null,null,null,null,null,null,null,false]
[null,null,null,null,null,null,null,null,null,false]
[null,null,null,null,null,null,null,null,null,false]
[null,null,null,null,null,null,null,null,null,false]
[null,null,null,null,null,null,null,null,null,false]
[null,null,null,null,null,null,null,null,null,false]
[null,null,null,null,null,null,null,null,null,false]
[null,null,null,null,null,null,null,null,null,false]
[null,null,null,null,null,null,null,null,null,false]
[null,null,null,null,null,null,null,null,null,false]
[null,null,null,null,null,null,null,null,null,false]
[null,null,null,null,null,null,null,null,null,false]
[null,null,null,null,null,null,null,null,null,false]
[null,null,null,null,null,null,null,null,null,false]
[null,null,null,null,null,null,null,null,null,false]
[null,null,null,null,null,null,null,null,null,false]
[null,null,null,null,null,null,null,null,null,false]
[null,null,null,null,null,null,null,null,null,false]
[null,null,null,null,null,null,null,null,null,false]
[null,null,null,null,null,null,null,null,null,false]
[null,null,null,null,null,null,null,null,null,false]
[null,null,null,null,null,null,null,null,null,false]
[null,null,null,null,null,null,null,null,null,false]
[null,null,null,null,null,null,null,null,null,false]
[null,null,null,null,null,null,null,null,null,false]
[null,null,null,null,null,null,null,null,null,false]
[null,null,null,null,null,null,null,null,null,false]
[null,null,null,null,null,null,null,null,null,false]
[null,null,null,null,null,null,null,null,null,false]
[null,null,null,null,null,null,null,null,null,false]
[null,null,null,null,null,null,null,null,null,false]
[null,null,null,null,null,null,null,null,null,false]
[null,null,null,null,null,null,null,null,null,false]
[null,null,null,null,null,null,null,null,null,false]
[null,null,null,null,null,null,null,null,null,false]
[null,null,null,null,null,null,null,null,null,false]
[null,null,null,null,null,null,null,null,null,false]
[null,null,null,null,null,null,null,null,null,false]
[null,null,null,null,null,null,null,null,null,false]
[null,null,null,null,null,null,null,null,null,false]
[null,null,null,null,null,null,null,null,null,false]
[null,null,null,null,null,null,null,null,null,false]
[null,null,null,null,null,null,null,null,null,false]
[null,null,null,null,null,null,null,null,null,false]
[null,null,null,null,null,null,null,null,null,false]
[null,null,null,null,null,null,null,null,null,false]
[null,null,null,null,null,null,null,null,null,false]
[null,null,null,null,null,null,null,null,null,false]
[null,null,null,null,null,null,null,null,null,false]
[null,null,null,null,null,null,null,null,null,false]
[null,null,null,null,null,null,null,null,null,false]
[null,null,null,null,null,null,null,null,null,false]
[null,null,null,null,null,null,null,null,null,false]
[null,null,null,null,null,null,null,null,null,false]
[null,null,null,null,null,null,null,null,null,false]
[null,null,null,null,null,null,null,null,null,false]
[null,null,null,null,null,null,null,null,null,false]
[null,null,null,null,null,null,null,null,null,false]
[null,null,null,null,null,null,null,null,null,false]
[null,null,null,null,null,null,null,null,null,false]
[null,null,null,null,null,null,null,null,null,false]
[null,null,null,null,null,null,null,null,null,false]
[null,null,null,null,null,null,null,null,null,false]
[null,null,null,null,null,null,null,null,null,false]
[null,null,null,null,null,null,null,null,null,false]
[null,null,null,null,null,null,null,null,null,false]
[null,null,null,null,null,null,null,null,null,false]
[null,null,null,null,null,null,null,null,null,false]
[null,null,null,null,null,null,null,null,null,false]
[null,null,null,null,null,null,null,null,null,false]
[null,null,null,null,null,null,null,null,null,false]
[null,null,null,null,null,null,null,null,null,false]
[null,null,null,null,null,null,null,null,null,false]
[null,null,null,null,null,null,null,null,null,false]
[null,null,null,null,null,null,null,null,null,false]
[null,null,null,null,null,null,null,null,null,false]
[null,null,null,null,null,null,null,null,null,false]
[null,null,null,null,null,null,null,null,null,false]
[null,null,null,null,null,null,null,null,null,false]
[null,null,null,null,null,null,null,null,null,false]
[null,null,null,null,null,null,null,null,null,false]
[null,null,null,null,null,null,null,null,null,false]
[null,null,null,null,null,null,null,null,null,false]
[null,null,null,null,null,null,null,null,null,false]
[null,null,null,null,null,null,null,null,null,false]
[null,null,null,null,null,null,null,null,null,false]
[null,null,null,null,null,null,null,null,null,false]
[null,null,null,null,null,null,null,null,null,false]
[null,null,null,null,null,null,null,null,null,false]
[null,null,null,null,null,null,null,null,null,false]
[null,null,null,null,null,null,null,null,null,false]
[null,null,null,null,null,null,null,null,null,false]
[null,null,null,null,null,null,null,null,null,false]
[null,null,null,null,null,null,null,null,null,false]
[null,null,null,null,null,null,null,null,null,false]
[null,null,null,null,null,null,null,null,null,false]
[null,null,null,null,null,null,null,null,null,false]
[null,null,null,null,null,null,null,null,null,false]
[null,null,null,null,null,null,null,null,null,false]
[null,null,null,null,null,null,null,null,null,false]
[null,null,null,null,null,null,null,null,null,false]
[null,null,null,null,null,null,null,null,null,false]
[null,null,null,null,null,null,null,null,null,false]
[null,null,null,null,null,null,null,null,null,false]
[null,null,null,null,null,null,null,null,null,false]
[null,null,null,null,null,null,null,null,null,false]
[null,null,null,null,null,null,null,null,null,false]
[null,null,null,null,null,null,null,null,null,false]
[null,null,null,null,null,null,null,null,null,false]
[null,null,null,null,null,null,null,null,null,false]
[null,null,null,null,null,null,null,null,null,false]
[null,null,null,null,null,null,null,null,null,false]
[null,null,null,null,null,null,null,null,null,false]
[null,null,null,null,null,null,null,null,null,false]
[null,null,null,null,null,null,null,null,null,false]
[null,null,null,null,null,null,null,null,null,false]
[null,null,null,null,null,null,null,null,null,false]
[null,null,null,null,null,null,null,null,null,false]
[null,null,null,null,null,null,null,null,null,false]
[null,null,null,null,null,null,null,null,null,false]
[null,null,null,null,null,null,null,null,null,false]
[null,null,null,null,null,null,null,null,null,false]
[null,null,null,null,null,null,null,null,null,false]
[null,null,null,null,null,null,null,null,null,false]
[null,null,null,null,null,null,null,null,null,false]
[null,null,null,null,null,null,null,null,null,false]
[null,null,null,null,null,null,null,null,null,false]
[null,null,null,null,null,null,null,null,null,false]
[null,null,null,null,null,null,null,null,null,false]
[null,null,null,null,null,null,null,null,null,false]
[null,null,null,null,null,null,null,null,null,false]
[null,null,null,null,null,null,null,null,null,false]
[null,null,null,null,null,null,null,null,null,false]
[null,null,null,null,null,null,null,null,null,false]
[null,null,null,null,null,null,null,null,null,false]
[null,null,null,null,null,null,null,null,null,false]
[null,null,null,null,null,null,null,null,null,false]
[null,null,null,null,null,null,null,null,null,false]
[null,null,null,null,null,null,null,null,null,false]
[null,null,null,null,null,null,null,null,null,false]
[null,null,null,null,null,null,null,null,null,false]
[null,null,null,null,null,null,null,null,null,false]
[null,null,null,null,null,null,null,null,null,false]
[null,null,null,null,null,null,null,null,null,false]
[null,null,null,null,null,null,null,null,null,false]
[null,null,null,null,null,null,null,null,null,false]
[null,null,null,null,null,null,null,null,null,false]
[null,null,null,null,null,null,null,null,null,false]
[null,null,null,null,null,null,null,null,null,false]
[null,null,null,null,null,null,null,null,null,false]
[null,null,null,null,null,null,null,null,null,false]
[null,null,null,null,null,null,null,null,null,false]
[null,null,null,null,null,null,null,null,null,false]
[null,null,null,null,null,null,null,null,null,false]
[null,null,null,null,null,null,null,null,null,false]
[null,null,null,null,null,null,null,null,null,false]
[null,null,null,null,null,null,null,null,null,false]
[null,null,null,null,null,null,null,null,null,false]
[null,null,null,null,null,null,null,null,null,false]
[null,null,null,null,null,null,null,null,null,false]
[null,null,null,null,null,null,null,null,null,false]
[null,null,null,null,null,null,null,null,null,false]
[null,null,null,null,null,null,null,null,null,false]
[null,null,null,null,null,null,null,null,null,false]
[null,null,null,null,null,null,null,null,null,false]
[null,null,null,null,null,null,null,null,null,false]
[null,null,null,null,null,null,null,null,null,false]
[null,null,null,null,null,null,null,null,null,false]
[null,null,null,null,null,null,null,null,null,false]
[null,null,null,null,null,null,null,null,null,false]
[null,null,null,null,null,null,null,null,null,false]
[null,null,null,null,null,null,null,null,null,false]
[null,null,null,null,null,null,null,null,null,false]
[null,null,null,null,null,null,null,null,null,false]
[null,null,null,null,null,null,null,null,null,false]
[null,null,null,null,null,null,null,null,null,false]
[null,null,null,null,null,null,null,null,null,false]
[null,null,null,null,null,null,null,null,null,false]
[null,null,null,null,null,null,null,null,null,false]
[null,null,null,null,null,null,null,null,null,false]
[null,null,null,null,null,null,null,null,null,false]
[null,null,null,null,null,null,null,null,null,false]
[null,null,null,null,null,null,null,null,null,false]
[null,null,null,null,null,null,null,null,null,false]
[null,null,null,null,null,null,null,null,null,false]
[null,null,null,null,null,null,null,null,null,false]
[null,null,null,null,null,null,null,null,null,false]
[null,null,null,null,null,null,null,null,null,false]
[null,null,null,null,null,null,null,null,null,false]
[null,null,null,null,null,null,null,null,null,false]
[null,null,null,null,null,null,null,null,null,false]
[null,null,null,null,null,null,null,null,null,false]
[null,null,null,null,null,null,null,null,null,false]
[null,null,null,null,null,null,null,null,null,false]
[null,null,null,null,null,null,null,null,null,false]
[null,null,null,null,null,null,null,null,null,false]
[null,null,null,null,null,null,null,null,null,false]
[null,null,null,null,null,null,null,null,null,false]
[null,null,null,null,null,null,null,null,null,false]
[null,null,null,null,null,null,null,null,null,false]
[null,null,null,null,null,null,null,null,null,false]
[null,null,null,null,null,null,null,null,null,false]
[null,null,null,null,null,null,null,null,null,false]
[null,null,null,null,null,null,null,null,null,false]
[null,null,null,null,null,null,null,null,null,false]
[null,null,null,null,null,null,null,null,null,false]
[null,null,null,null,null,null,null,null,null,false]
[null,null,null,null,null,null,null,null,null,false]
[null,null,null,null,null,null,null,null,null,false]
[null,null,null,null,null,null,null,null,null,false]
[null,null,null,null,null,null,null,null,null,false]
[null,null,null,null,null,null,null,null,null,false]
[null,null,null,null,null,null,null,null,null,false]
[null,null,null,null,null,null,null,null,null,false]
[null,null,null,null,null,null,null,null,null,false]
[null,null,null,null,null,null,null,null,null,false]
[null,null,null,null,null,null,null,null,null,false]
[null,null,null,null,null,null,null,null,null,false]
[null,null,null,null,null,null,null,null,null,false]
[null,null,null,null,null,null,null,null,null,false]
[null,null,null,null,null,null,null,null,null,false]
[null,null,null,null,null,null,null,null,null,false]
[null,null,null,null,null,null,null,null,null,false]
[null,null,null,null,null,null,null,null,null,false]
[null,null,null,null,null,null,null,null,null,false]
[null,null,null,null,null,null,null,null,null,false]
[null,null,null,null,null,null,null,null,null,false]
[null,null,null,null,null,null,null,null,null,false]
[null,null,null,null,null,null,null,null,null,false]
[null,null,null,null,null,null,null,null,null,false]
[null,null,null,null,null,null,null,null,null,false]
[null,null,null,null,null,null,null,null,null,false]
[null,null,null,null,null,null,null,null,null,false]
[null,null,null,null,null,null,null,null,null,false]
[null,null,null,null,null,null,null,null,null,false]
[null,null,null,null,null,null,null,null,null,false]
[null,null,null,null,null,null,null,null,null,false]
[null,null,null,null,null,null,null,null,null,false]
[null,null,null,null,null,null,null,null,null,false]
[null,null,null,null,null,null,null,null,null,false]
[null,null,null,null,null,null,null,null,null,false]
[null,null,null,null,null,null,null,null,null,false]
[null,null,null,null,null,null,null,null,null,false]
[null,null,null,null,null,null,null,null,null,false]
[null,null,null,null,null,null,null,null,null,false]
[null,null,null,null,null,null,null,null,null,false]
[null,null,null,null,null,null,null,null,null,false]
[null,null,null,null,null,null,null,null,null,false]
[null,null,null,null,null,null,null,null,null,false]
[null,null,null,null,null,null,null,null,null,false]
[null,null,null,null,null,null,null,null,null,false]
[null,null,null,null,null,null,null,null,null,false]
[null,null,null,null,null,null,null,null,null,false]
[null,null,null,null,null,null,null,null,null,false]
[null,null,null,null,null,null,null,null,null,false]
[null,null,null,null,null,null,null,null,null,false]
[null,null,null,null,null,null,null,null,null,false]
[null,null,null,null,null,null,null,null,null,false]
[null,null,null,null,null,null,null,null,null,false]
[null,null,null,null,null,null,null,null,null,false]
[null,null,null,null,null,null,null,null,null,false]
[null,null,null,null,null,null,null,null,null,false]
[null,null,null,null,null,null,null,null,null,false]
[null,null,null,null,null,null,null,null,null,false]
[null,null,null,null,null,null,null,null,null,false]
[null,null,null,null,null,null,null,null,null,false]
[null,null,null,null,null,null,null,null,null,false]
[null,null,null,null,null,null,null,null,null,false]
[null,null,null,null,null,null,null,null,null,false]
[null,null,null,null,null,null,null,null,null,false]
[null,null,null,null,null,null,null,null,null,false]
[null,null,null,null,null,null,null,null,null,false]
[null,null,null,null,null,null,null,null,null,false]
[null,null,null,null,null,null,null,null,null,false]
[null,null,null,null,null,null,null,null,null,false]
[null,null,null,null,null,null,null,null,null,false]
[null,null,null,null,null,null,null,null,null,false]
[null,null,null,null,null,null,null,null,null,false]
[null,null,null,null,null,null,null,null,null,false]
[null,null,null,null,null,null,null,null,null,false]
[null,null,null,null,null,null,null,null,null,false]
[null,null,null,null,null,null,null,null,null,false]
[null,null,null,null,null,null,null,null,null,false]
[null,null,null,null,null,null,null,null,null,false]
[null,null,null,null,null,null,null,null,null,false]
[null,null,null,null,null,null,null,null,null,false]
[null,null,null,null,null,null,null,null,null,false]
[null,null,null,null,null,null,null,null,null,false]
[null,null,null,null,null,null,null,null,null,false]
[null,null,null,null,null,null,null,null,null,false]
[null,null,null,null,null,null,null,null,null,false]
[null,null,null,null,null,null,null,null,null,false]
[null,null,null,null,null,null,null,null,null,false]
[null,null,null,null,null,null,null,null,null,false]
[null,null,null,null,null,null,null,null,null,false]
[null,null,null,null,null,null,null,null,null,false]
[null,null,null,null,null,null,null,null,null,false]
[null,null,null,null,null,null,null,null,null,false]
[null,null,null,null,null,null,null,null,null,false]
[null,null,null,null,null,null,null,null,null,false]
[null,null,null,null,null,null,null,null,null,false]
[null,null,null,null,null,null,null,null,null,false]
[null,null,null,null,null,null,null,null,null,false]
[null,null,null,null,null,null,null,null,null,false]
[null,null,null,null,null,null,null,null,null,false]
[null,null,null,null,null,null,null,null,null,false]
[null,null,null,null,null,null,null,null,null,false]
[null,null,null,null,null,null,null,null,null,false]
[null,null,null,null,null,null,null,null,null,false]
[null,null,null,null,null,null,null,null,null,false]
[null,null,null,null,null,null,null,null,null,false]
[null,null,null,null,null,null,null,null,null,false]
[null,null,null,null,null,null,null,null,null,false]
[null,null,null,null,null,null,null,null,null,false]
[null,null,null,null,null,null,null,null,null,false]
[null,null,null,null,null,null,null,null,null,false]
[null,null,null,null,null,null,null,null,null,false]
[null,null,null,null,null,null,null,null,null,false]
[null,null,null,null,null,null,null,null,null,false]
[null,null,null,null,null,null,null,null,null,false]
[null,null,null,null,null,null,null,null,null,false]
[null,null,null,null,null,null,null,null,null,false]
[null,null,null,null,null,null,null,null,null,false]
[null,null,null,null,null,null,null,null,null,false]
[null,null,null,null,null,null,null,null,null,false]
[null,null,null,null,null,null,null,null,null,false]
[null,null,null,null,null,null,null,null,null,false]
[null,null,null,null,null,null,null,null,null,false]
[null,null,null,null,null,null,null,null,null,false]
[null,null,null,null,null,null,null,null,null,false]
[null,null,null,null,null,null,null,null,null,false]
[null,null,null,null,null,null,null,null,null,false]
[null,null,null,null,null,null,null,null,null,false]
[null,null,null,null,null,null,null,null,null,false]
[null,null,null,null,null,null,null,null,null,false]
[null,null,null,null,null,null,null,null,null,false]
[null,null,null,null,null,null,null,null,null,false]
[null,null,null,null,null,null,null,null,null,false]
[null,null,null,null,null,null,null,null,null,false]
[null,null,null,null,null,null,null,null,null,false]
[null,null,null,null,null,null,null,null,null,false]
[null,null,null,null,null,null,null,null,null,false]
[null,null,null,null,null,null,null,null,null,false]
[null,null,null,null,null,null,null,null,null,false]
[null,null,null,null,null,null,null,null,null,false]
[null,null,null,null,null,null,null,null,null,false]
[null,null,null,null,null,null,null,null,null,false]
[null,null,null,null,null,null,null,null,null,false]
[null,null,null,null,null,null,null,null,null,false]
[null,null,null,null,null,null,null,null,null,false]
[null,null,null,null,null,null,null,null,null,false]
[null,null,null,null,null,null,null,null,null,false]
[null,null,null,null,null,null,null,null,null,false]
[null,null,null,null,null,null,null,null,null,false]
[null,null,null,null,null,null,null,null,null,false]
[null,null,null,null,null,null,null,null,null,false]
[null,null,null,null,null,null,null,null,null,false]
[null,null,null,null,null,null,null,null,null,false]
[null,null,null,null,null,null,null,null,null,false]
[null,null,null,null,null,null,null,null,null,false]
[null,null,null,null,null,null,null,null,null,false]
[null,null,null,null,null,null,null,null,null,false]
[null,null,null,null,null,null,null,null,null,false]
[null,null,null,null,null,null,null,null,null,false]
[null,null,null,null,null,null,null,null,null,false]
[null,null,null,null,null,null,null,null,null,false]
[null,null,null,null,null,null,null,null,null,false]
[null,null,null,null,null,null,null,null,null,false]
[null,null,null,null,null,null,null,null,null,false]
[null,null,null,null,null,null,null,null,null,false]
[null,null,null,null,null,null,null,null,null,false]
[null,null,null,null,null,null,null,null,null,false]
[null,null,null,null,null,null,null,null,null,false]
[null,null,null,null,null,null,null,null,null,false]
[null,null,null,null,null,null,null,null,null,false]
[null,null,null,null,null,null,null,null,null,false]
[null,null,null,null,null,null,null,null,null,false]
[null,null,null,null,null,null,null,null,null,false]
[null,null,null,null,null,null,null,null,null,false]
[null,null,null,null,null,null,null,null,null,false]
[null,null,null,null,null,null,null,null,null,false]
[null,null,null,null,null,null,null,null,null,false]
[null,null,null,null,null,null,null,null,null,false]
[null,null,null,null,null,null,null,null,null,false]
[null,null,null,null,null,null,null,null,null,false]
[null,null,null,null,null,null,null,null,null,false]
[null,null,null,null,null,null,null,null,null,false]
[null,null,null,null,null,null,null,null,null,false]
[null,null,null,null,null,null,null,null,null,false]
[null,null,null,null,null,null,null,null,null,false]
[null,null,null,null,null,null,null,null,null,false]
[null,null,null,null,null,null,null,null,null,false]
[null,null,null,null,null,null,null,null,null,false]
[null,null,null,null,null,null,null,null,null,false]
[null,null,null,null,null,null,null,null,null,false]
[null,null,null,null,null,null,null,null,null,false]
[null,null,null,null,null,null,null,null,null,false]
[null,null,null,null,null,null,null,null,null,false]
[null,null,null,null,null,null,null,null,null,false]
[null,null,null,null,null,null,null,null,null,false]
[null,null,null,null,null,null,null,null,null,false]
[null,null,null,null,null,null,null,null,null,false]
[null,null,null,null,null,null,null,null,null,false]
[null,null,null,null,null,null,null,null,null,false]
[null,null,null,null,null,null,null,null,null,false]
[null,null,null,null,null,null,null,null,null,false]
[null,null,null,null,null,null,null,null,null,false]
[null,null,null,null,null,null,null,null,null,false]
[null,null,null,null,null,null,null,null,null,false]
[null,null,null,null,null,null,null,null,null,false]
[null,null,null,null,null,null,null,null,null,false]
[null,null,null,null,null,null,null,null,null,false]
[null,null,null,null,null,null,null,null,null,false]
[null,null,null,null,null,null,null,null,null,false]
[null,null,null,null,null,null,null,null,null,false]
[null,null,null,null,null,null,null,null,null,false]
[null,null,null,null,null,null,null,null,null,false]
[null,null,null,null,null,null,null,null,null,false]
[null,null,null,null,null,null,null,null,null,false]
[null,null,null,null,null,null,null,null,null,false]
[null,null,null,null,null,null,null,null,null,false]
[null,null,null,null,null,null,null,null,null,false]
[null,null,null,null,null,null,null,null,null,false]
[null,null,null,null,null,null,null,null,null,false]
[null,null,null,null,null,null,null,null,null,false]
[null,null,null,null,null,null,null,null,null,false]
[null,null,null,null,null,null,null,null,null,false]
[null,null,null,null,null,null,null,null,null,false]
[null,null,null,null,null,null,null,null,null,false]
[null,null,null,null,null,null,null,null,null,false]
[null,null,null,null,null,null,null,null,null,false]
[null,null,null,null,null,null,null,null,null,false]
[null,null,null,null,null,null,null,null,null,false]
[null,null,null,null,null,null,null,null,null,false]
[null,null,null,null,null,null,null,null,null,false]
[null,null,null,null,null,null,null,null,null,false]
[null,null,null,null,null,null,null,null,null,false]
[null,null,null,null,null,null,null,null,null,false]
[null,null,null,null,null,null,null,null,null,false]
[null,null,null,null,null,null,null,null,null,false]
[null,null,null,null,null,null,null,null,null,false]
[null,null,null,null,null,null,null,null,null,false]
[null,null,null,null,null,null,null,null,null,false]
[null,null,null,null,null,null,null,null,null,false]
[null,null,null,null,null,null,null,null,null,false]
[null,null,null,null,null,null,null,null,null,false]
[null,null,null,null,null,null,null,null,null,false]
[null,null,null,null,null,null,null,null,null,false]
[null,null,null,null,null,null,null,null,null,false]
[null,null,null,null,null,null,null,null,null,false]
[null,null,null,null,null,null,null,null,null,false]
[null,null,null,null,null,null,null,null,null,false]
[null,null,null,null,null,null,null,null,null,false]
[null,null,null,null,null,null,null,null,null,false]
[null,null,null,null,null,null,null,null,null,false]
[null,null,null,null,null,null,null,null,null,false]
[null,null,null,null,null,null,null,null,null,false]
[null,null,null,null,null,null,null,null,null,false]
[null,null,null,null,null,null,null,null,null,false]
[null,null,null,null,null,null,null,null,null,false]
[null,null,null,null,null,null,null,null,null,false]
[null,null,null,null,null,null,null,null,null,false]
[null,null,null,null,null,null,null,null,null,false]
[null,null,null,null,null,null,null,null,null,false]
[null,null,null,null,null,null,null,null,null,false]
[null,null,null,null,null,null,null,null,null,false]
[null,null,null,null,null,null,null,null,null,false]
[null,null,null,null,null,null,null,null,null,false]
[null,null,null,null,null,null,null,null,null,false]
[null,null,null,null,null,null,null,null,null,false]
[null,null,null,null,null,null,null,null,null,false]
[null,null,null,null,null,null,null,null,null,false]
[null,null,null,null,null,null,null,null,null,false]
[null,null,null,null,null,null,null,null,null,false]
[null,null,null,null,null,null,null,null,null,false]
[null,null,null,null,null,null,null,null,null,false]
[null,null,null,null,null,null,null,null,null,false]
[null,null,null,null,null,null,null,null,null,false]
[null,null,null,null,null,null,null,null,null,false]
[null,null,null,null,null,null,null,null,null,false]
[null,null,null,null,null,null,null,null,null,false]
[null,null,null,null,null,null,null,null,null,false]
[null,null,null,null,null,null,null,null,null,false]
[null,null,null,null,null,null,null,null,null,false]
[null,null,null,null,null,null,null,null,null,false]
[null,null,null,null,null,null,null,null,null,false]
[null,null,null,null,null,null,null,null,null,false]
[null,null,null,null,null,null,null,null,null,false]
[null,null,null,null,null,null,null,null,null,false]
[null,null,null,null,null,null,null,null,null,false]
[null,null,null,null,null,null,null,null,null,false]
[null,null,null,null,null,null,null,null,null,false]
[null,null,null,null,null,null,null,null,null,false]
[null,null,null,null,null,null,null,null,null,false]
[null,null,null,null,null,null,null,null,null,false]
[null,null,null,null,null,null,null,null,null,false]
[null,null,null,null,null,null,null,null,null,false]
[null,null,null,null,null,null,null,null,null,false]
[null,null,null,null,null,null,null,null,null,false]
[null,null,null,null,null,null,null,null,null,false]
[null,null,null,null,null,null,null,null,null,false]
[null,null,null,null,null,null,null,null,null,false]
[null,null,null,null,null,null,null,null,null,false]
[null,null,null,null,null,null,null,null,null,false]
[null,null,null,null,null,null,null,null,null,false]
[null,null,null,null,null,null,null,null,null,false]
[null,null,null,null,null,null,null,null,null,false]
[null,null,null,null,null,null,null,null,null,false]
[null,null,null,null,null,null,null,null,null,false]
[null,null,null,null,null,null,null,null,null,false]
[null,null,null,null,null,null,null,null,null,false]
[null,null,null,null,null,null,null,null,null,false]
[null,null,null,null,null,null,null,null,null,false]
[null,null,null,null,null,null,null,null,null,false]
[null,null,null,null,null,null,null,null,null,false]
[null,null,null,null,null,null,null,null,null,false]
[null,null,null,null,null,null,null,null,null,false]
[null,null,null,null,null,null,null,null,null,false]
[null,null,null,null,null,null,null,null,null,false]
[null,null,null,null,null,null,null,null,null,false]
[null,null,null,null,null,null,null,null,null,false]
[null,null,null,null,null,null,null,null,null,false]
[null,null,null,null,null,null,null,null,null,false]
[null,null,null,null,null,null,null,null,null,false]
[null,null,null,null,null,null,null,null,null,false]
[null,null,null,null,null,null,null,null,null,false]
[null,null,null,null,null,null,null,null,null,false]
[null,null,null,null,null,null,null,null,null,false]
[null,null,null,null,null,null,null,null,null,false]
[null,null,null,null,null,null,null,null,null,false]
[null,null,null,null,null,null,null,null,null,false]
[null,null,null,null,null,null,null,null,null,false]
[null,null,null,null,null,null,null,null,null,false]
[null,null,null,null,null,null,null,null,null,false]
[null,null,null,null,null,null,null,null,null,false]
[null,null,null,null,null,null,null,null,null,false]
[null,null,null,null,null,null,null,null,null,false]
[null,null,null,null,null,null,null,null,null,false]
[null,null,null,null,null,null,null,null,null,false]
[null,null,null,null,null,null,null,null,null,false]
[null,null,null,null,null,null,null,null,null,false]
[null,null,null,null,null,null,null,null,null,false]
[null,null,null,null,null,null,null,null,null,false]
[null,null,null,null,null,null,null,null,null,false]
[null,null,null,null,null,null,null,null,null,false]
[null,null,null,null,null,null,null,null,null,false]
[null,null,null,null,null,null,null,null,null,false]
[null,null,null,null,null,null,null,null,null,false]
[null,null,null,null,null,null,null,null,null,false]
[null,null,null,null,null,null,null,null,null,false]
[null,null,null,null,null,null,null,null,null,false]
[null,null,null,null,null,null,null,null,null,false]
[null,null,null,null,null,null,null,null,null,false]
[null,null,null,null,null,null,null,null,null,false]
[null,null,null,null,null,null,null,null,null,false]
[null,null,null,null,null,null,null,null,null,false]
[null,null,null,null,null,null,null,null,null,false]
[null,null,null,null,null,null,null,null,null,false]
[null,null,null,null,null,null,null,null,null,false]
[null,null,null,null,null,null,null,null,null,false]
[null,null,null,null,null,null,null,null,null,false]
[null,null,null,null,null,null,null,null,null,false]
[null,null,null,null,null,null,null,null,null,false]
[null,null,null,null,null,null,null,null,null,false]
[null,null,null,null,null,null,null,null,null,false]
[null,null,null,null,null,null,null,null,null,false]
[null,null,null,null,null,null,null,null,null,false]
[null,null,null,null,null,null,null,null,null,false]
[null,null,null,null,null,null,null,null,null,false]
[null,null,null,null,null,null,null,null,null,false]
[null,null,null,null,null,null,null,null,null,false]
[null,null,null,null,null,null,null,null,null,false]
[null,null,null,null,null,null,null,null,null,false]
[null,null,null,null,null,null,null,null,null,false]
[null,null,null,null,null,null,null,null,null,false]
[null,null,null,null,null,null,null,null,null,false]
[null,null,null,null,null,null,null,null,null,false]
[null,null,null,null,null,null,null,null,null,false]
[null,null,null,null,null,null,null,null,null,false]
[null,null,null,null,null,null,null,null,null,false]
[null,null,null,null,null,null,null,null,null,false]
[null,null,null,null,null,null,null,null,null,false]
[null,null,null,null,null,null,null,null,null,false]
[null,null,null,null,null,null,null,null,null,false]
[null,null,null,null,null,null,null,null,null,false]
[null,null,null,null,null,null,null,null,null,false]
[null,null,null,null,null,null,null,null,null,false]
[null,null,null,null,null,null,null,null,null,false]
[null,null,null,null,null,null,null,null,null,false]
[null,null,null,null,null,null,null,null,null,false]
[null,null,null,null,null,null,null,null,null,false]
[null,null,null,null,null,null,null,null,null,false]
[null,null,null,null,null,null,null,null,null,false]
[null,null,null,null,null,null,null,null,null,false]
[null,null,null,null,null,null,null,null,null,false]
[null,null,null,null,null,null,null,null,null,false]
[null,null,null,null,null,null,null,null,null,false]
[null,null,null,null,null,null,null,null,null,false]
[null,null,null,null,null,null,null,null,null,false]
[null,null,null,null,null,null,null,null,null,false]
[null,null,null,null,null,null,null,null,null,false]
[null,null,null,null,null,null,null,null,null,false]
[null,null,null,null,null,null,null,null,null,false]
[null,null,null,null,null,null,null,null,null,false]
[null,null,null,null,null,null,null,null,null,false]
[null,null,null,null,null,null,null,null,null,false]
[null,null,null,null,null,null,null,null,null,false]
[null,null,null,null,null,null,null,null,null,false]
[null,null,null,null,null,null,null,null,null,false]
[null,null,null,null,null,null,null,null,null,false]
[null,null,null,null,null,null,null,null,null,false]
[null,null,null,null,null,null,null,null,null,false]
[null,null,null,null,null,null,null,null,null,false]
[null,null,null,null,null,null,null,null,null,false]
[null,null,null,null,null,null,null,null,null,false]
[null,null,null,null,null,null,null,null,null,false]
[null,null,null,null,null,null,null,null,null,false]
[null,null,null,null,null,null,null,null,null,false]
[null,null,null,null,null,null,null,null,null,false]
[null,null,null,null,null,null,null,null,null,false]
[null,null,null,null,null,null,null,null,null,false]
[null,null,null,null,null,null,null,null,null,false]
[null,null,null,null,null,null,null,null,null,false]
[null,null,null,null,null,null,null,null,null,false]
[null,null,null,null,null,null,null,null,null,false]
[null,null,null,null,null,null,null,null,null,false]
[null,null,null,null,null,null,null,null,null,false]
[null,null,null,null,null,null,null,null,null,false]
[null,null,null,null,null,null,null,null,null,false]
[null,null,null,null,null,null,null,null,null,false]
[null,null,null,null,null,null,null,null,null,false]
[null,null,null,null,null,null,null,null,null,false]
[null,null,null,null,null,null,null,null,null,false]
[null,null,null,null,null,null,null,null,null,false]
[null,null,null,null,null,null,null,null,null,false]
[null,null,null,null,null,null,null,null,null,false]
[null,null,null,null,null,null,null,null,null,false]
[null,null,null,null,null,null,null,null,null,false]
[null,null,null,null,null,null,null,null,null,false]
[null,null,null,null,null,null,null,null,null,false]
[null,null,null,null,null,null,null,null,null,false]
[null,null,null,null,null,null,null,null,null,false]
[null,null,null,null,null,null,null,null,null,false]
[null,null,null,null,null,null,null,null,null,false]
[null,null,null,null,null,null,null,null,null,false]
[null,null,null,null,null,null,null,null,null,false]
[null,null,null,null,null,null,null,null,null,false]
[null,null,null,null,null,null,null,null,null,false]
[null,null,null,null,null,null,null,null,null,false]
[null,null,null,null,null,null,null,null,null,false]
[null,null,null,null,null,null,null,null,null,false]
[null,null,null,null,null,null,null,null,null,false]
[null,null,null,null,null,null,null,null,null,false]
[null,null,null,null,null,null,null,null,null,false]
[null,null,null,null,null,null,null,null,null,false]
[null,null,null,null,null,null,null,null,null,false]
[null,null,null,null,null,null,null,null,null,false]
[null,null,null,null,null,null,null,null,null,false]
[null,null,null,null,null,null,null,null,null,false]
[null,null,null,null,null,null,null,null,null,false]
[null,null,null,null,null,null,null,null,null,false]
[null,null,null,null,null,null,null,null,null,false]
[null,null,null,null,null,null,null,null,null,false]
[null,null,null,null,null,null,null,null,null,false]
[null,null,null,null,null,null,null,null,null,false]
[null,null,null,null,null,null,null,null,null,false]
[null,null,null,null,null,null,null,null,null,false]
[null,null,null,null,null,null,null,null,null,false]
[null,null,null,null,null,null,null,null,null,false]
[null,null,null,null,null,null,null,null,null,false]
[null,null,null,null,null,null,null,null,null,false]
[null,null,null,null,null,null,null,null,null,false]
[null,null,null,null,null,null,null,null,null,false]
[null,null,null,null,null,null,null,null,null,false]
[null,null,null,null,null,null,null,null,null,false]
[null,null,null,null,null,null,null,null,null,false]
[null,null,null,null,null,null,null,null,null,false]
[null,null,null,null,null,null,null,null,null,false]
[null,null,null,null,null,null,null,null,null,false]
[null,null,null,null,null,null,null,null,null,false]
[null,null,null,null,null,null,null,null,null,false]
[null,null,null,null,null,null,null,null,null,false]
[null,null,null,null,null,null,null,null,null,false]
[null,null,null,null,null,null,null,null,null,false]
[null,null,null,null,null,null,null,null,null,false]
[null,null,null,null,null,null,null,null,null,false]
[null,null,null,null,null,null,null,null,null,false]
[null,null,null,null,null,null,null,null,null,false]
[null,null,null,null,null,null,null,null,null,false]
[null,null,null,null,null,null,null,null,null,false]
[null,null,null,null,null,null,null,null,null,false]
[null,null,null,null,null,null,null,null,null,false]
[null,null,null,null,null,null,null,null,null,false]
[null,null,null,null,null,null,null,null,null,false]
[null,null,null,null,null,null,null,null,null,false]
[null,null,null,null,null,null,null,null,null,false]
[null,null,null,null,null,null,null,null,null,false]
[null,null,null,null,null,null,null,null,null,false]
[null,null,null,null,null,null,null,null,null,false]
[null,null,null,null,null,null,null,null,null,false]
[null,null,null,null,null,null,null,null,null,false]
[null,null,null,null,null,null,null,null,null,false]
[null,null,null,null,null,null,null,null,null,false]
[null,null,null,null,null,null,null,null,null,false]
[null,null,null,null,null,null,null,null,null,false]
[null,null,null,null,null,null,null,null,null,false]
[null,null,null,null,null,null,null,null,null,false]
[null,null,null,null,null,null,null,null,null,false]
[null,null,null,null,null,null,null,null,null,false]
[null,null,null,null,null,null,null,null,null,false]
[null,null,null,null,null,null,null,null,null,false]
[null,null,null,null,null,null,null,null,null,false]
[null,null,null,null,null,null,null,null,null,false]
[null,null,null,null,null,null,null,null,null,false]
[null,null,null,null,null,null,null,null,null,false]
[null,null,null,null,null,null,null,null,null,false]
[null,null,null,null,null,null,null,null,null,false]
[null,null,null,null,null,null,null,null,null,false]
[null,null,null,null,null,null,null,null,null,false]
[null,null,null,null,null,null,null,null,null,false]
[null,null,null,null,null,null,null,null,null,false]
[null,null,null,null,null,null,null,null,null,false]
[null,null,null,null,null,null,null,null,null,false]
[null,null,null,null,null,null,null,null,null,false]
[null,null,null,null,null,null,null,null,null,false]
[null,null,null,null,null,null,null,null,null,false]
[null,null,null,null,null,null,null,null,null,false]
[null,null,null,null,null,null,null,null,null,false]
[null,null,null,null,null,null,null,null,null,false]
[null,null,null,null,null,null,null,null,null,false]
[null,null,null,null,null,null,null,null,null,false]
[null,null,null,null,null,null,null,null,null,false]
[null,null,null,null,null,null,null,null,null,false]
[null,null,null,null,null,null,null,null,null,false]
[null,null,null,null,null,null,null,null,null,false]
[null,null,null,null,null,null,null,null,null,false]
[null,null,null,null,null,null,null,null,null,false]
[null,null,null,null,null,null,null,null,null,false]
[null,null,null,null,null,null,null,null,null,false]
[null,null,null,null,null,null,null,null,null,false]
[null,null,null,null,null,null,null,null,null,false]
[null,null,null,null,null,null,null,null,null,false]
[null,null,null,null,null,null,null,null,null,false]
[null,null,null,null,null,null,null,null,null,false]
[null,null,null,null,null,null,null,null,null,false]
[null,null,null,null,null,null,null,null,null,false]
[null,null,null,null,null,null,null,null,null,false]
[null,null,null,null,null,null,null,null,null,false]
[null,null,null,null,null,null,null,null,null,false]
[null,null,null,null,null,null,null,null,null,false]
[null,null,null,null,null,null,null,null,null,false]
[null,null,null,null,null,null,null,null,null,false]
[null,null,null,null,null,null,null,null,null,false]
[null,null,null,null,null,null,null,null,null,false]
[null,null,null,null,null,null,null,null,null,false]
[null,null,null,null,null,null,null,null,null,false]
[null,null,null,null,null,null,null,null,null,false]
[null,null,null,null,null,null,null,null,null,false]
[null,null,null,null,null,null,null,null,null,false]
[null,null,null,null,null,null,null,null,null,false]
[null,null,null,null,null,null,null,null,null,false]
[null,null,null,null,null,null,null,null,null,false]
[null,null,null,null,null,null,null,null,null,false]
[null,null,null,null,null,null,null,null,null,false]
[null,null,null,null,null,null,null,null,null,false]
[null,null,null,null,null,null,null,null,null,false]
[null,null,null,null,null,null,null,null,null,false]
[null,null,null,null,null,null,null,null,null,false]
[null,null,null,null,null,null,null,null,null,false]
[null,null,null,null,null,null,null,null,null,false]
[null,null,null,null,null,null,null,null,null,false]
[null,null,null,null,null,null,null,null,null,false]
[null,null,null,null,null,null,null,null,null,false]
[null,null,null,null,null,null,null,null,null,false]
[null,null,null,null,null,null,null,null,null,false]
[null,null,null,null,null,null,null,null,null,false]
[null,null,null,null,null,null,null,null,null,false]
[null,null,null,null,null,null,null,null,null,false]
[null,null,null,null,null,null,null,null,null,false]
[null,null,null,null,null,null,null,null,null,false]
[null,null,null,null,null,null,null,null,null,false]
[null,null,null,null,null,null,null,null,null,false]
[null,null,null,null,null,null,null,null,null,false]
[null,null,null,null,null,null,null,null,null,false]
[null,null,null,null,null,null,null,null,null,false]
[null,null,null,null,null,null,null,null,null,false]
[null,null,null,null,null,null,null,null,null,false]
[null,null,null,null,null,null,null,null,null,false]
[null,null,null,null,null,null,null,null,null,false]
[null,null,null,null,null,null,null,null,null,false]
[null,null,null,null,null,null,null,null,null,false]
[null,null,null,null,null,null,null,null,null,false]
[null,null,null,null,null,null,null,null,null,false]
[null,null,null,null,null,null,null,null,null,false]
[null,null,null,null,null,null,null,null,null,false]
[null,null,null,null,null,null,null,null,null,false]
[null,null,null,null,null,null,null,null,null,false]
[null,null,null,null,null,null,null,null,null,false]
[null,null,null,null,null,null,null,null,null,false]
[null,null,null,null,null,null,null,null,null,false]
[null,null,null,null,null,null,null,null,null,false]
[null,null,null,null,null,null,null,null,null,false]
[null,null,null,null,null,null,null,null,null,false]
[null,null,null,null,null,null,null,null,null,false]
[null,null,null,null,null,null,null,null,null,false]
[null,null,null,null,null,null,null,null,null,false]
[null,null,null,null,null,null,null,null,null,false]
[null,null,null,null,null,null,null,null,null,false]
[null,null,null,null,null,null,null,null,null,false]
[null,null,null,null,null,null,null,null,null,false]
[null,null,null,null,null,null,null,null,null,false]
[null,null,null,null,null,null,null,null,null,false]
[null,null,null,null,null,null,null,null,null,false]
[null,null,null,null,null,null,null,null,null,false]
[null,null,null,null,null,null,null,null,null,false]
[null,null,null,null,null,null,null,null,null,false]
[null,null,null,null,null,null,null,null,null,false]
[null,null,null,null,null,null,null,null,null,false]
[null,null,null,null,null,null,null,null,null,false]
[null,null,null,null,null,null,null,null,null,false]
[null,null,null,null,null,null,null,null,null,false]
[null,null,null,null,null,null,null,null,null,false]
[null,null,null,null,null,null,null,null,null,false]
[null,null,null,null,null,null,null,null,null,false]
[null,null,null,null,null,null,null,null,null,false]
[null,null,null,null,null,null,null,null,null,false]
[null,null,null,null,null,null,null,null,null,false]
[null,null,null,null,null,null,null,null,null,false]
[null,null,null,null,null,null,null,null,null,false]
[null,null,null,null,null,null,null,null,null,false]
[null,null,null,null,null,null,null,null,null,false]
[null,null,null,null,null,null,null,null,null,false]
[null,null,null,null,null,null,null,null,null,false]
[null,null,null,null,null,null,null,null,null,false]
[null,null,null,null,null,null,null,null,null,false]
[null,null,null,null,null,null,null,null,null,false]
[null,null,null,null,null,null,null,null,null,false]
[null,null,null,null,null,null,null,null,null,false]
[null,null,null,null,null,null,null,null,null,false]
[null,null,null,null,null,null,null,null,null,false]
[null,null,null,null,null,null,null,null,null,false]
[null,null,null,null,null,null,null,null,null,false]
[null,null,null,null,null,null,null,null,null,false]
[null,null,null,null,null,null,null,null,null,false]
[null,null,null,null,null,null,null,null,null,false]
[null,null,null,null,null,null,null,null,null,false]
[null,null,null,null,null,null,null,null,null,false]
[null,null,null,null,null,null,null,null,null,false]
[null,null,null,null,null,null,null,null,null,false]
[null,null,null,null,null,null,null,null,null,false]
[null,null,null,null,null,null,null,null,null,false]
[null,null,null,null,null,null,null,null,null,false]
[null,null,null,null,null,null,null,null,null,false]
[null,null,null,null,null,null,null,null,null,false]
[null,null,null,null,null,null,null,null,null,false]
[null,null,null,null,null,null,null,null,null,false]
[null,null,null,null,null,null,null,null,null,false]
[null,null,null,null,null,null,null,null,null,false]
[null,null,null,null,null,null,null,null,null,false]
[null,null,null,null,null,null,null,null,null,false]
[null,null,null,null,null,null,null,null,null,false]
[null,null,null,null,null,null,null,null,null,false]
[null,null,null,null,null,null,null,null,null,false]
[null,null,null,null,null,null,null,null,null,false]
[null,null,null,null,null,null,null,null,null,false]
[null,null,null,null,null,null,null,null,null,false]
[null,null,null,null,null,null,null,null,null,false]
[null,null,null,null,null,null,null,null,null,false]
[null,null,null,null,null,null,null,null,null,false]
[null,null,null,null,null,null,null,null,null,false]
[null,null,null,null,null,null,null,null,null,false]
[null,null,null,null,null,null,null,null,null,false]
[null,null,null,null,null,null,null,null,null,false]
[null,null,null,null,null,null,null,null,null,false]
[null,null,null,null,null,null,null,null,null,false]
[null,null,null,null,null,null,null,null,null,false]
[null,null,null,null,null,null,null,null,null,false]
[null,null,null,null,null,null,null,null,null,false]
[null,null,null,null,null,null,null,null,null,false]
[null,null,null,null,null,null,null,null,null,false]
[null,null,null,null,null,null,null,null,null,false]
[null,null,null,null,null,null,null,null,null,false]
[null,null,null,null,null,null,null,null,null,false]
[null,null,null,null,null,null,null,null,null,false]
[null,null,null,null,null,null,null,null,null,false]
[null,null,null,null,null,null,null,null,null,false]
[null,null,null,null,null,null,null,null,null,false]
[null,null,null,null,null,null,null,null,null,false]
[null,null,null,null,null,null,null,null,null,false]
[null,null,null,null,null,null,null,null,null,false]
[null,null,null,null,null,null,null,null,null,false]
[null,null,null,null,null,null,null,null,null,false]
[null,null,null,null,null,null,null,null,null,false]
[null,null,null,null,null,null,null,null,null,false]
[null,null,null,null,null,null,null,null,null,false]
[null,null,null,null,null,null,null,null,null,false]
[null,null,null,null,null,null,null,null,null,false]
[null,null,null,null,null,null,null,null,null,false]
[null,null,null,null,null,null,null,null,null,false]
[null,null,null,null,null,null,null,null,null,false]
[null,null,null,null,null,null,null,null,null,false]
[null,null,null,null,null,null,null,null,null,false]
[null,null,null,null,null,null,null,null,null,false]
[null,null,null,null,null,null,null,null,null,false]
[null,null,null,null,null,null,null,null,null,false]
[null,null,null,null,null,null,null,null,null,false]
[null,null,null,null,null,null,null,null,null,false]
[null,null,null,null,null,null,null,null,null,false]
[null,null,null,null,null,null,null,null,null,false]
[null,null,null,null,null,null,null,null,null,false]
[null,null,null,null,null,null,null,null,null,false]
[null,null,null,null,null,null,null,null,null,false]
[null,null,null,null,null,null,null,null,null,false]
[null,null,null,null,null,null,null,null,null,false]
[null,null,null,null,null,null,null,null,null,false]
[null,null,null,null,null,null,null,null,null,false]
[null,null,null,null,null,null,null,null,null,false]
[null,null,null,null,null,null,null,null,null,false]
[null,null,null,null,null,null,null,null,null,false]
[null,null,null,null,null,null,null,null,null,false]
[null,null,null,null,null,null,null,null,null,false]
[null,null,null,null,null,null,null,null,null,false]
[null,null,null,null,null,null,null,null,null,false]
[null,null,null,null,null,null,null,null,null,false]
[null,null,null,null,null,null,null,null,null,false]
[null,null,null,null,null,null,null,null,null,false]
[null,null,null,null,null,null,null,null,null,false]
[null,null,null,null,null,null,null,null,null,false]
[null,null,null,null,null,null,null,null,null,false]
[null,null,null,null,null,null,null,null,null,false]
[null,null,null,null,null,null,null,null,null,false]
[null,null,null,null,null,null,null,null,null,false]
[null,null,null,null,null,null,null,null,null,false]
[null,null,null,null,null,null,null,null,null,false]
[null,null,null,null,null,null,null,null,null,false]
[null,null,null,null,null,null,null,null,null,false]
[null,null,null,null,null,null,null,null,null,false]
[null,null,null,null,null,null,null,null,null,false]
[null,null,null,null,null,null,null,null,null,false]
[null,null,null,null,null,null,null,null,null,false]
[null,null,null,null,null,null,null,null,null,false]
[null,null,null,null,null,null,null,null,null,false]
[null,null,null,null,null,null,null,null,null,false]
[null,null,null,null,null,null,null,null,null,false]
[null,null,null,null,null,null,null,null,null,false]
[null,null,null,null,null,null,null,null,null,false]
[null,null,null,null,null,null,null,null,null,false]
[null,null,null,null,null,null,null,null,null,false]
[null,null,null,null,null,null,null,null,null,false]
[null,null,null,null,null,null,null,null,null,false]
[null,null,null,null,null,null,null,null,null,false]
[null,null,null,null,null,null,null,null,null,false]
[null,null,null,null,null,null,null,null,null,false]
[null,null,null,null,null,null,null,null,null,false]
[null,null,null,null,null,null,null,null,null,false]
[null,null,null,null,null,null,null,null,null,false]
[null,null,null,null,null,null,null,null,null,false]
[null,null,null,null,null,null,null,null,null,false]
[null,null,null,null,null,null,null,null,null,false]
[null,null,null,null,null,null,null,null,null,false]
[null,null,null,null,null,null,null,null,null,false]
[null,null,null,null,null,null,null,null,null,false]
[null,null,null,null,null,null,null,null,null,false]
[null,null,null,null,null,null,null,null,null,false]
[null,null,null,null,null,null,null,null,null,false]
[null,null,null,null,null,null,null,null,null,false]
[null,null,null,null,null,null,null,null,null,false]
[null,null,null,null,null,null,null,null,null,false]
[null,null,null,null,null,null,null,null,null,false]
[null,null,null,null,null,null,null,null,null,false]
[null,null,null,null,null,null,null,null,null,false]
[null,null,null,null,null,null,null,null,null,false]
[null,null,null,null,null,null,null,null,null,false]
[null,null,null,null,null,null,null,null,null,false]
[null,null,null,null,null,null,null,null,null,false]
[null,null,null,null,null,null,null,null,null,false]
[null,null,null,null,null,null,null,null,null,false]
[null,null,null,null,null,null,null,null,null,false]
[null,null,null,null,null,null,null,null,null,false]
[null,null,null,null,null,null,null,null,null,false]
[null,null,null,null,null,null,null,null,null,false]
[null,null,null,null,null,null,null,null,null,false]
[null,null,null,null,null,null,null,null,null,false]
[null,null,null,null,null,null,null,null,null,false]
[null,null,null,null,null,null,null,null,null,false]
[null,null,null,null,null,null,null,null,null,false]
[null,null,null,null,null,null,null,null,null,false]
[null,null,null,null,null,null,null,null,null,false]
[null,null,null,null,null,null,null,null,null,false]
[null,null,null,null,null,null,null,null,null,false]
[null,null,null,null,null,null,null,null,null,false]
[null,null,null,null,null,null,null,null,null,false]
[null,null,null,null,null,null,null,null,null,false]
[null,null,null,null,null,null,null,null,null,false]
[null,null,null,null,null,null,null,null,null,false]
[null,null,null,null,null,null,null,null,null,false]
[null,null,null,null,null,null,null,null,null,false]
[null,null,null,null,null,null,null,null,null,false]
[null,null,null,null,null,null,null,null,null,false]
[null,null,null,null,null,null,null,null,null,false]
[null,null,null,null,null,null,null,null,null,false]
[null,null,null,null,null,null,null,null,null,false]
[null,null,null,null,null,null,null,null,null,false]
[null,null,null,null,null,null,null,null,null,false]
[null,null,null,null,null,null,null,null,null,false]
[null,null,null,null,null,null,null,null,null,false]
[null,null,null,null,null,null,null,null,null,false]
[null,null,null,null,null,null,null,null,null,false]
[null,null,null,null,null,null,null,null,null,false]
[null,null,null,null,null,null,null,null,null,false]
[null,null,null,null,null,null,null,null,null,false]
[null,null,null,null,null,null,null,null,null,false]
[null,null,null,null,null,null,null,null,null,false]
[null,null,null,null,null,null,null,null,null,false]
[null,null,null,null,null,null,null,null,null,false]
[null,null,null,null,null,null,null,null,null,false]
[null,null,null,null,null,null,null,null,null,false]
[null,null,null,null,null,null,null,null,null,false]
[null,null,null,null,null,null,null,null,null,false]
[null,null,null,null,null,null,null,null,null,false]
[null,null,null,null,null,null,null,null,null,false]
[null,null,null,null,null,null,null,null,null,false]
[null,null,null,null,null,null,null,null,null,false]
[null,null,null,null,null,null,null,null,null,false]
[null,null,null,null,null,null,null,null,null,false]
[null,null,null,null,null,null,null,null,null,false]
[null,null,null,null,null,null,null,null,null,false]
[null,null,null,null,null,null,null,null,null,false]
[null,null,null,null,null,null,null,null,null,false]
[null,null,null,null,null,null,null,null,null,false]
[null,null,null,null,null,null,null,null,null,false]
[null,null,null,null,null,null,null,null,null,false]
[null,null,null,null,null,null,null,null,null,false]
[null,null,null,null,null,null,null,null,null,false]
[null,null,null,null,null,null,null,null,null,false]
[null,null,null,null,null,null,null,null,null,false]
[null,null,null,null,null,null,null,null,null,false]
[null,null,null,null,null,null,null,null,null,false]
[null,null,null,null,null,null,null,null,null,false]
[null,null,null,null,null,null,null,null,null,false]
[null,null,null,null,null,null,null,null,null,false]
[null,null,null,null,null,null,null,null,null,false]
[null,null,null,null,null,null,null,null,null,false]
[null,null,null,null,null,null,null,null,null,false]
[null,null,null,null,null,null,null,null,null,false]
[null,null,null,null,null,null,null,null,null,false]
[null,null,null,null,null,null,null,null,null,false]
[null,null,null,null,null,null,null,null,null,false]
[null,null,null,null,null,null,null,null,null,false]
[null,null,null,null,null,null,null,null,null,false]
[null,null,null,null,null,null,null,null,null,false]
[null,null,null,null,null,null,null,null,null,false]
[null,null,null,null,null,null,null,null,null,false]
[null,null,null,null,null,null,null,null,null,false]
[null,null,null,null,null,null,null,null,null,false]
[null,null,null,null,null,null,null,null,null,false]
[null,null,null,null,null,null,null,null,null,false]
[null,null,null,null,null,null,null,null,null,false]
[null,null,null,null,null,null,null,null,null,false]
[null,null,null,null,null,null,null,null,null,false]
[null,null,null,null,null,null,null,null,null,false]
[null,null,null,null,null,null,null,null,null,false]
[null,null,null,null,null,null,null,null,null,false]
[null,null,null,null,null,null,null,null,null,false]
[null,null,null,null,null,null,null,null,null,false]
[null,null,null,null,null,null,null,null,null,false]
[null,null,null,null,null,null,null,null,null,false]
[null,null,null,null,null,null,null,null,null,false]
[null,null,null,null,null,null,null,null,null,false]
[null,null,null,null,null,null,null,null,null,false]
[null,null,null,null,null,null,null,null,null,false]
[null,null,null,null,null,null,null,null,null,false]
[null,null,null,null,null,null,null,null,null,false]
[null,null,null,null,null,null,null,null,null,false]
[null,null,null,null,null,null,null,null,null,false]
[null,null,null,null,null,null,null,null,null,false]
[null,null,null,null,null,null,null,null,null,false]
[null,null,null,null,null,null,null,null,null,false]
[null,null,null,null,null,null,null,null,null,false]
[null,null,null,null,null,null,null,null,null,false]
[null,null,null,null,null,null,null,null,null,false]
[null,null,null,null,null,null,null,null,null,false]
[null,null,null,null,null,null,null,null,null,false]
[null,null,null,null,null,null,null,null,null,false]
[null,null,null,null,null,null,null,null,null,false]
[null,null,null,null,null,null,null,null,null,false]
[null,null,null,null,null,null,null,null,null,false]
[null,null,null,null,null,null,null,null,null,false]
[null,null,null,null,null,null,null,null,null,false]
[null,null,null,null,null,null,null,null,null,false]
[null,null,null,null,null,null,null,null,null,false]
[null,null,null,null,null,null,null,null,null,false]
[null,null,null,null,null,null,null,null,null,false]
[null,null,null,null,null,null,null,null,null,false]
[null,null,null,null,null,null,null,null,null,false]
[null,null,null,null,null,null,null,null,null,false]
[null,null,null,null,null,null,null,null,null,false]
[null,null,null,null,null,null,null,null,null,false]
[null,null,null,null,null,null,null,null,null,false]
[null,null,null,null,null,null,null,null,null,false]
[null,null,null,null,null,null,null,null,null,false]
[null,null,null,null,null,null,null,null,null,false]
[null,null,null,null,null,null,null,null,null,false]
[null,null,null,null,null,null,null,null,null,false]
[null,null,null,null,null,null,null,null,null,false]
[null,null,null,null,null,null,null,null,null,false]
[null,null,null,null,null,null,null,null,null,false]
[null,null,null,null,null,null,null,null,null,false]
[null,null,null,null,null,null,null,null,null,false]
[null,null,null,null,null,null,null,null,null,false]
[null,null,null,null,null,null,null,null,null,false]
[null,null,null,null,null,null,null,null,null,false]
[null,null,null,null,null,null,null,null,null,false]
[null,null,null,null,null,null,null,null,null,false]
[null,null,null,null,null,null,null,null,null,false]
[null,null,null,null,null,null,null,null,null,false]
[null,null,null,null,null,null,null,null,null,false]
[null,null,null,null,null,null,null,null,null,false]
[null,null,null,null,null,null,null,null,null,false]
[null,null,null,null,null,null,null,null,null,false]
[null,null,null,null,null,null,null,null,null,false]
[null,null,null,null,null,null,null,null,null,false]
[null,null,null,null,null,null,null,null,null,false]
[null,null,null,null,null,null,null,null,null,false]
[null,null,null,null,null,null,null,null,null,false]
[null,null,null,null,null,null,null,null,null,false]
[null,null,null,null,null,null,null,null,null,false]
[null,null,null,null,null,null,null,null,null,false]
[null,null,null,null,null,null,null,null,null,false]
[null,null,null,null,null,null,null,null,null,false]
[null,null,null,null,null,null,null,null,null,false]
[null,null,null,null,null,null,null,null,null,false]
[null,null,null,null,null,null,null,null,null,false]
[null,null,null,null,null,null,null,null,null,false]
[null,null,null,null,null,null,null,null,null,false]
[null,null,null,null,null,null,null,null,null,false]
[null,null,null,null,null,null,null,null,null,false]
[null,null,null,null,null,null,null,null,null,false]
[null,null,null,null,null,null,null,null,null,false]
[null,null,null,null,null,null,null,null,null,false]
[null,null,null,null,null,null,null,null,null,false]
[null,null,null,null,null,null,null,null,null,false]
[null,null,null,null,null,null,null,null,null,false]
[null,null,null,null,null,null,null,null,null,false]
[null,null,null,null,null,null,null,null,null,false]
[null,null,null,null,null,null,null,null,null,false]
[null,null,null,null,null,null,null,null,null,false]
[null,null,null,null,null,null,null,null,null,false]
[null,null,null,null,null,null,null,null,null,false]
[null,null,null,null,null,null,null,null,null,false]
[null,null,null,null,null,null,null,null,null,false]
[null,null,null,null,null,null,null,null,null,false]
[null,null,null,null,null,null,null,null,null,false]
[null,null,null,null,null,null,null,null,null,false]
[null,null,null,null,null,null,null,null,null,false]
[null,null,null,null,null,null,null,null,null,false]
[null,null,null,null,null,null,null,null,null,false]
[null,null,null,null,null,null,null,null,null,false]
[null,null,null,null,null,null,null,null,null,false]
[null,null,null,null,null,null,null,null,null,false]
[null,null,null,null,null,null,null,null,null,false]
[null,null,null,null,null,null,null,null,null,false]
[null,null,null,null,null,null,null,null,null,false]
[null,null,null,null,null,null,null,null,null,false]
[null,null,null,null,null,null,null,null,null,false]
[null,null,null,null,null,null,null,null,null,false]
[null,null,null,null,null,null,null,null,null,false]
[null,null,null,null,null,null,null,null,null,false]
[null,null,null,null,null,null,null,null,null,false]
[null,null,null,null,null,null,null,null,null,false]
[null,null,null,null,null,null,null,null,null,false]
[null,null,null,null,null,null,null,null,null,false]
[null,null,null,null,null,null,null,null,null,false]
[null,null,null,null,null,null,null,null,null,false]
[null,null,null,null,null,null,null,null,null,false]
[null,null,null,null,null,null,null,null,null,false]
[null,null,null,null,null,null,null,null,null,false]
[null,null,null,null,null,null,null,null,null,false]
[null,null,null,null,null,null,null,null,null,false]
[null,null,null,null,null,null,null,null,null,false]
[null,null,null,null,null,null,null,null,null,false]
[null,null,null,null,null,null,null,null,null,false]
[null,null,null,null,null,null,null,null,null,false]
[null,null,null,null,null,null,null,null,null,false]
[null,null,null,null,null,null,null,null,null,false]
[null,null,null,null,null,null,null,null,null,false]
[null,null,null,null,null,null,null,null,null,false]
[null,null,null,null,null,null,null,null,null,false]
[null,null,null,null,null,null,null,null,null,false]
[null,null,null,null,null,null,null,null,null,false]
[null,null,null,null,null,null,null,null,null,false]
[null,null,null,null,null,null,null,null,null,false]
[null,null,null,null,null,null,null,null,null,false]
[null,null,null,null,null,null,null,null,null,false]
[null,null,null,null,null,null,null,null,null,false]
[null,null,null,null,null,null,null,null,null,false]
[null,null,null,null,null,null,null,null,null,false]
[null,null,null,null,null,null,null,null,null,false]
[null,null,null,null,null,null,null,null,null,false]
[null,null,null,null,null,null,null,null,null,false]
[null,null,null,null,null,null,null,null,null,false]
[null,null,null,null,null,null,null,null,null,false]
[null,null,null,null,null,null,null,null,null,false]
[null,null,null,null,null,null,null,null,null,false]
[null,null,null,null,null,null,null,null,null,false]
[null,null,null,null,null,null,null,null,null,false]
[null,null,null,null,null,null,null,null,null,false]
[null,null,null,null,null,null,null,null,null,false]
[null,null,null,null,null,null,null,null,null,false]
[null,null,null,null,null,null,null,null,null,false]
[null,null,null,null,null,null,null,null,null,false]
[null,null,null,null,null,null,null,null,null,false]
[null,null,null,null,null,null,null,null,null,false]
[null,null,null,null,null,null,null,null,null,false]
[null,null,null,null,null,null,null,null,null,false]
[null,null,null,null,null,null,null,null,null,false]
[null,null,null,null,null,null,null,null,null,false]
[null,null,null,null,null,null,null,null,null,false]
[null,null,null,null,null,null,null,null,null,false]
[null,null,null,null,null,null,null,null,null,false]
[null,null,null,null,null,null,null,null,null,false]
[null,null,null,null,null,null,null,null,null,false]
[null,null,null,null,null,null,null,null,null,false]
[null,null,null,null,null,null,null,null,null,false]
[null,null,null,null,null,null,null,null,null,false]
[null,null,null,null,null,null,null,null,null,false]
[null,null,null,null,null,null,null,null,null,false]
[null,null,null,null,null,null,null,null,null,false]
[null,null,null,null,null,null,null,null,null,false]
[null,null,null,null,null,null,null,null,null,false]
[null,null,null,null,null,null,null,null,null,false]
[null,null,null,null,null,null,null,null,null,false]
[null,null,null,null,null,null,null,null,null,false]
[null,null,null,null,null,null,null,null,null,false]
[null,null,null,null,null,null,null,null,null,false]
[null,null,null,null,null,null,null,null,null,false]
[null,null,null,null,null,null,null,null,null,false]
[null,null,null,null,null,null,null,null,null,false]
[null,null,null,null,null,null,null,null,null,false]
[null,null,null,null,null,null,null,null,null,false]
[null,null,null,null,null,null,null,null,null,false]
[null,null,null,null,null,null,null,null,null,false]
[null,null,null,null,null,null,null,null,null,false]
[null,null,null,null,null,null,null,null,null,false]
[null,null,null,null,null,null,null,null,null,false]
[null,null,null,null,null,null,null,null,null,false]
[null,null,null,null,null,null,null,null,null,false]
[null,null,null,null,null,null,null,null,null,false]
[null,null,null,null,null,null,null,null,null,false]
[null,null,null,null,null,null,null,null,null,false]
[null,null,null,null,null,null,null,null,null,false]
[null,null,null,null,null,null,null,null,null,false]
[null,null,null,null,null,null,null,null,null,false]
[null,null,null,null,null,null,null,null,null,false]
[null,null,null,null,null,null,null,null,null,false]
[null,null,null,null,null,null,null,null,null,false]
[null,null,null,null,null,null,null,null,null,false]
[null,null,null,null,null,null,null,null,null,false]
[null,null,null,null,null,null,null,null,null,false]
[null,null,null,null,null,null,null,null,null,false]
[null,null,null,null,null,null,null,null,null,false]
[null,null,null,null,null,null,null,null,null,false]
[null,null,null,null,null,null,null,null,null,false]
[null,null,null,null,null,null,null,null,null,false]
[null,null,null,null,null,null,null,null,null,false]
[null,null,null,null,null,null,null,null,null,false]
[null,null,null,null,null,null,null,null,null,false]
[null,null,null,null,null,null,null,null,null,false]
[null,null,null,null,null,null,null,null,null,false]
[null,null,null,null,null,null,null,null,null,false]
[null,null,null,null,null,null,null,null,null,false]
[null,null,null,null,null,null,null,null,null,false]
[null,null,null,null,null,null,null,null,null,false]
[null,null,null,null,null,null,null,null,null,false]
[null,null,null,null,null,null,null,null,null,false]
[null,null,null,null,null,null,null,null,null,false]
[null,null,null,null,null,null,null,null,null,false]
[null,null,null,null,null,null,null,null,null,false]
[null,null,null,null,null,null,null,null,null,false]
[null,null,null,null,null,null,null,null,null,false]
[null,null,null,null,null,null,null,null,null,false]
[null,null,null,null,null,null,null,null,null,false]
[null,null,null,null,null,null,null,null,null,false]
[null,null,null,null,null,null,null,null,null,false]
[null,null,null,null,null,null,null,null,null,false]
[null,null,null,null,null,null,null,null,null,false]
[null,null,null,null,null,null,null,null,null,false]
[null,null,null,null,null,null,null,null,null,false]
[null,null,null,null,null,null,null,null,null,false]
[null,null,null,null,null,null,null,null,null,false]
[null,null,null,null,null,null,null,null,null,false]
[null,null,null,null,null,null,null,null,null,false]
[null,null,null,null,null,null,null,null,null,false]
[null,null,null,null,null,null,null,null,null,false]
[null,null,null,null,null,null,null,null,null,false]
[null,null,null,null,null,null,null,null,null,false]
[null,null,null,null,null,null,null,null,null,false]
[null,null,null,null,null,null,null,null,null,false]
[null,null,null,null,null,null,null,null,null,false]
[null,null,null,null,null,null,null,null,null,false]
[null,null,null,null,null,null,null,null,null,false]
[null,null,null,null,null,null,null,null,null,false]
[null,null,null,null,null,null,null,null,null,false]
[null,null,null,null,null,null,null,null,null,false]
[null,null,null,null,null,null,null,null,null,false]
[null,null,null,null,null,null,null,null,null,false]
[null,null,null,null,null,null,null,null,null,false]
[null,null,null,null,null,null,null,null,null,false]
[null,null,null,null,null,null,null,null,null,false]
[null,null,null,null,null,null,null,null,null,false]
[null,null,null,null,null,null,null,null,null,false]
[null,null,null,null,null,null,null,null,null,false]
[null,null,null,null,null,null,null,null,null,false]
[null,null,null,null,null,null,null,null,null,false]
[null,null,null,null,null,null,null,null,null,false]
[null,null,null,null,null,null,null,null,null,false]
[null,null,null,null,null,null,null,null,null,false]
[null,null,null,null,null,null,null,null,null,false]
[null,null,null,null,null,null,null,null,null,false]
[null,null,null,null,null,null,null,null,null,false]
[null,null,null,null,null,null,null,null,null,false]
[null,null,null,null,null,null,null,null,null,false]
[null,null,null,null,null,null,null,null,null,false]
[null,null,null,null,null,null,null,null,null,false]
[null,null,null,null,null,null,null,null,null,false]
[null,null,null,null,null,null,null,null,null,false]
[null,null,null,null,null,null,null,null,null,false]
[null,null,null,null,null,null,null,null,null,false]
[null,null,null,null,null,null,null,null,null,false]
[null,null,null,null,null,null,null,null,null,false]
[null,null,null,null,null,null,null,null,null,false]
[null,null,null,null,null,null,null,null,null,false]
[null,null,null,null,null,null,null,null,null,false]
[null,null,null,null,null,null,null,null,null,false]
[null,null,null,null,null,null,null,null,null,false]
[null,null,null,null,null,null,null,null,null,false]
[null,null,null,null,null,null,null,null,null,false]
[null,null,null,null,null,null,null,null,null,false]
[null,null,null,null,null,null,null,null,null,false]
[null,null,null,null,null,null,null,null,null,false]
[null,null,null,null,null,null,null,null,null,false]
[null,null,null,null,null,null,null,null,null,false]
[null,null,null,null,null,null,null,null,null,false]
[null,null,null,null,null,null,null,null,null,false]
[null,null,null,null,null,null,null,null,null,false]
[null,null,null,null,null,null,null,null,null,false]
[null,null,null,null,null,null,null,null,null,false]
[null,null,null,null,null,null,null,null,null,false]
[null,null,null,null,null,null,null,null,null,false]
[null,null,null,null,null,null,null,null,null,false]
[null,null,null,null,null,null,null,null,null,false]
[null,null,null,null,null,null,null,null,null,false]
[null,null,null,null,null,null,null,null,null,false]
[null,null,null,null,null,null,null,null,null,false]
[null,null,null,null,null,null,null,null,null,false]
[null,null,null,null,null,null,null,null,null,false]
[null,null,null,null,null,null,null,null,null,false]
[null,null,null,null,null,null,null,null,null,false]
[null,null,null,null,null,null,null,null,null,false]
[null,null,null,null,null,null,null,null,null,false]
[null,null,null,null,null,null,null,null,null,false]
[null,null,null,null,null,null,null,null,null,false]
[null,null,null,null,null,null,null,null,null,false]
[null,null,null,null,null,null,null,null,null,false]
[null,null,null,null,null,null,null,null,null,false]
[null,null,null,null,null,null,null,null,null,false]
[null,null,null,null,null,null,null,null,null,false]
[null,null,null,null,null,null,null,null,null,false]
[null,null,null,null,null,null,null,null,null,false]
[null,null,null,null,null,null,null,null,null,false]
[null,null,null,null,null,null,null,null,null,false]
[null,null,null,null,null,null,null,null,null,false]
[null,null,null,null,null,null,null,null,null,false]
[null,null,null,null,null,null,null,null,null,false]
[null,null,null,null,null,null,null,null,null,false]
[null,null,null,null,null,null,null,null,null,false]
[null,null,null,null,null,null,null,null,null,false]
[null,null,null,null,null,null,null,null,null,false]
[null,null,null,null,null,null,null,null,null,false]
[null,null,null,null,null,null,null,null,null,false]
[null,null,null,null,null,null,null,null,null,false]
[null,null,null,null,null,null,null,null,null,false]
[null,null,null,null,null,null,null,null,null,false]
[null,null,null,null,null,null,null,null,null,false]
[null,null,null,null,null,null,null,null,null,false]
[null,null,null,null,null,null,null,null,null,false]
[null,null,null,null,null,null,null,null,null,false]
[null,null,null,null,null,null,null,null,null,false]
[null,null,null,null,null,null,null,null,null,false]
[null,null,null,null,null,null,null,null,null,false]
[null,null,null,null,null,null,null,null,null,false]
[null,null,null,null,null,null,null,null,null,false]
[null,null,null,null,null,null,null,null,null,false]
[null,null,null,null,null,null,null,null,null,false]
[null,null,null,null,null,null,null,null,null,false]
[null,null,null,null,null,null,null,null,null,false]
[null,null,null,null,null,null,null,null,null,false]
[null,null,null,null,null,null,null,null,null,false]
[null,null,null,null,null,null,null,null,null,false]
[null,null,null,null,null,null,null,null,null,false]
[null,null,null,null,null,null,null,null,null,false]
[null,null,null,null,null,null,null,null,null,false]
[null,null,null,null,null,null,null,null,null,false]
[null,null,null,null,null,null,null,null,null,false]
[null,null,null,null,null,null,null,null,null,false]
[null,null,null,null,null,null,null,null,null,false]
[null,null,null,null,null,null,null,null,null,false]
[null,null,null,null,null,null,null,null,null,false]
[null,null,null,null,null,null,null,null,null,false]
[null,null,null,null,null,null,null,null,null,false]
[null,null,null,null,null,null,null,null,null,false]
[null,null,null,null,null,null,null,null,null,false]
[null,null,null,null,null,null,null,null,null,false]
[null,null,null,null,null,null,null,null,null,false]
[null,null,null,null,null,null,null,null,null,false]
[null,null,null,null,null,null,null,null,null,false]
[null,null,null,null,null,null,null,null,null,false]
[null,null,null,null,null,null,null,null,null,false]
[null,null,null,null,null,null,null,null,null,false]
[null,null,null,null,null,null,null,null,null,false]
[null,null,null,null,null,null,null,null,null,false]
[null,null,null,null,null,null,null,null,null,false]
[null,null,null,null,null,null,null,null,null,false]
[null,null,null,null,null,null,null,null,null,false]
[null,null,null,null,null,null,null,null,null,false]
[null,null,null,null,null,null,null,null,null,false]
[null,null,null,null,null,null,null,null,null,false]
[null,null,null,null,null,null,null,null,null,false]
[null,null,null,null,null,null,null,null,null,false]
[null,null,null,null,null,null,null,null,null,false]
[null,null,null,null,null,null,null,null,null,false]
[null,null,null,null,null,null,null,null,null,false]
[null,null,null,null,null,null,null,null,null,false]
[null,null,null,null,null,null,null,null,null,false]
[null,null,null,null,null,null,null,null,null,false]
[null,null,null,null,null,null,null,null,null,false]
[null,null,null,null,null,null,null,null,null,false]
[null,null,null,null,null,null,null,null,null,false]
[null,null,null,null,null,null,null,null,null,false]
[null,null,null,null,null,null,null,null,null,false]
[null,null,null,null,null,null,null,null,null,false]
[null,null,null,null,null,null,null,null,null,false]
[null,null,null,null,null,null,null,null,null,false]
[null,null,null,null,null,null,null,null,null,false]
[null,null,null,null,null,null,null,null,null,false]
[null,null,null,null,null,null,null,null,null,false]
[null,null,null,null,null,null,null,null,null,false]
[null,null,null,null,null,null,null,null,null,false]
[null,null,null,null,null,null,null,null,null,false]
[null,null,null,null,null,null,null,null,null,false]
[null,null,null,null,null,null,null,null,null,false]
[null,null,null,null,null,null,null,null,null,false]
[null,null,null,null,null,null,null,null,null,false]
[null,null,null,null,null,null,null,null,null,false]
[null,null,null,null,null,null,null,null,null,false]
[null,null,null,null,null,null,null,null,null,false]
[null,null,null,null,null,null,null,null,null,false]
[null,null,null,null,null,null,null,null,null,false]
[null,null,null,null,null,null,null,null,null,false]
[null,null,null,null,null,null,null,null,null,false]
[null,null,null,null,null,null,null,null,null,false]
[null,null,null,null,null,null,null,null,null,false]
[null,null,null,null,null,null,null,null,null,false]
[null,null,null,null,null,null,null,null,null,false]
[null,null,null,null,null,null,null,null,null,false]
[null,null,null,null,null,null,null,null,null,false]

{"sheet":"客戶","index":5,"n_rows":664,"n_cols":3,"rows_kept":664,"cut":false,"hidden":false,"merged":[]}
["電話","電話2","地址"]
["TEL1"]
["TEL2"]
["TEL3"]
["現貨"]
[46141219]
[46413030]
[51047798]
[51057998]
[51063162]
[51113633]
[51150318]
[51187205]
[51285801]
[51323208]
[51324988]
[51334135]
[51347107]
[51669456]
[51682677]
[51690612]
[51724523]
[51738733]
[51789489]
[51822020]
[51851814]
[51860883]
[51986836]
[52015535]
[52129228]
[52251759]
[52269292]
[52393368]
[52903558]
[52998328]
[53005373]
[53270332]
[53310661]
[53358282]
[53369181]
[53401612]
[53403193]
[53446701]
[53475707]
[53742112]
[53772226]
[53776154]
[53780440]
[53928884]
[54002951]
[54020302]
[54050034]
[54050245]
[54052683]
[54071368]
[54079796]
[54090344]
[54187782]
[54232099]
[54236849]
[54297418]
[54388843]
[54458550]
[54481922]
[54496868]
[54733337]
[54858089]
[54882117]
[54887511]
[55001637]
[55028231]
[55057370]
[55086123]
[55110419]
[55209230]
[55233253]
[55238767]
[55441818]
[55459945]
[55484845]
[55652255]
[55665358]
[55933211]
[55978123]
[55980807]
[55988703]
[55988750]
[56003806]
[56111052]
[56117884]
[56149517]
[56164422]
[56223334]
[56636171]
[56858717]
[57030120]
[57085220]
[57128436]
[57129228]
[57211231]
[57449553]
[57953971]
[59220225]
[59341198]
[59383095]
[59504609]
[59893060]
[59897013]
[59926088]
[60107332]
[60126345]
[60128403]
[60139221]
[60139607]
[60148235]
[60153256]
[60191092]
[60212108]
[60220680]
[60257838]
[60282055]
[60293351]
[60308340]
[60310062]
[60313019]
[60317902]
[60338174]
[60338721]
[60377123]
[60407078]
[60411943]
[60481028]
[60489156]
[60503205]
[60512140]
[60534562]
[60545685]
[60555471]
[60590323]
[60734186]
[60765631]
[60770035]
[60770157]
[60806830]
[60812803]
[60827702]
[60836558]
[60837380]
[60851913]
[60852968]
[60857755]
[60859441]
[60862790]
[60876727]
[60893287]
[60895155]
[60920829]
[60928527]
[60931124]
[60940671]
[60946174]
[60952373]
[60956161]
[60979907]
[60982407]
[60983316]
[61007892]
[61060504]
[61079988]
[61091231]
[61102622]
[61105361]
[61109672]
[61110872]
[61112533]
[61132118]
[61145706]
[61207223]
[61210377]
[61220054]
[61243305]
[61249253]
[61274142]
[61319677]
[61322842]
[61331563]
[61381096]
[61390376]
[61394611]
[61429126]
[61477786]
[61500548]
[61558834]
[61567271]
[61569377]
[61689991]
[61710801]
[61711920]
[61773192]
[61787808]
[61820569]
[61821576]
[61869513]
[61879564]
[61906175]
[61945875]
[61954408]
[61993581]
[61997281]
[62004948]
[62005521]
[62020975]
[62034464]
[62049997]
[62148710]
[62194368]
[62197008]
[62204136]
[62209114]
[62210286]
[62235095]
[62241435]
[62255544]
[62265640]
[62272194]
[62277840]
[62282996]
[62287345]
[62301959]
[62302623]
[62324652]
[62333969]
[62336613]
[62363815]
[62369535]
[62370523]
[62375444]
[62386965]
[62393445]
[62396083]
[62441454]
[62454615]
[62554581]
[62557967]
[62570075]
[62703263]
[62731609]
[62734487]
[62746399]
[62748251]
[62750318]
[62796120]
[62820259]
[62820570]
[62822438]
[62834583]
[62852061]
[62867196]
[62882783]
[62900886]
[62972356]
[62991441]
[62995454]
[63060103]
[63076808]
[63090863]
[63161303]
[63195972]
[63236944]
[63246190]
[63314804]
[63324564]
[63331014]
[63340651]
[63348451]
[63367328]
[63378753]
[63461316]
[63467671]
[63469599]
[63487296]
[63503136]
[63509120]
[63559955]
[63568251]
[63568313]
[63568318]
[63582730]
[63723318]
[63734193]
[63752687]
[63775251]
[64017593]
[64067410]
[64096879]
[64111534]
[64113889]
[64149615]
[64159787]
[64179433]
[64216738]
[64226472]
[64267782]
[64307416]
[64311471]
[64333006]
[64344565]
[64352691]
[64355828]
[64365209]
[64371734]
[64371840]
[64387503]
[64432196]
[64438003]
[64474589]
[64481957]
[64483356]
[64703570]
[64711674]
[64765587]
[64776663]
[64805523]
[64820995]
[64839713]
[64862540]
[64878529]
[64962317]
[65006656]
[65094708]
[65323363]
[65327866]
[65360098]
[65388263]
[65411139]
[65450550]
[65469771]
[65729526]
[65731498]
[65744043]
[65748143]
[65772901]
[65775107]
[65781880]
[65783507]
[65801479]
[65833262]
[65855443]
[65906009]
[65915368]
[65933828]
[66000629]
[66031551]
[66066492]
[66202808]
[66209481]
[66259925]
[66272332]
[66297983]
[66321310]
[66414772]
[66426145]
[66436391]
[66455684]
[66712139]
[66778200]
[66791971]
[66809302]
[66826841]
[66831503]
[66844664]
[66902636]
[66935635]
[67012456]
[67037100]
[67041565]
[67053667]
[67063660]
[67075216]
[67086999]
[67087835]
[67300146]
[67304747]
[67311512]
[67361890]
[67398830]
[67430518]
[67438170]
[67449381]
[67451154]
[67495769]
[67501318]
[67605724]
[67623732]
[67626993]
[67673346]
[67681197]
[67681450]
[67706963]
[67726062]
[67732163]
[67936277]
[68016262]
[68016640]
[68033227]
[68297168]
[68381683]
[68417594]
[68438099]
[68498461]
[68563603]
[68793634]
[68794253]
[68822283]
[68944961]
[68979230]
[68988359]
[69053111]
[69055131]
[69079485]
[69098679]
[69298081]
[69330401]
[69331107]
[69704325]
[69757906]
[69759022]
[69861977]
[69920520]
[69924628]
[69930596]
[70712193]
[84813433]
[90117253]
[90166250]
[90234611]
[90252563]
[90304082]
[90412037]
[90463340]
[90474586]
[90891028]
[90933017]
[90984901]
[91062522]
[91068448]
[91083891]
[91227936]
[91267970]
[91283225]
[91283990]
[91317165]
[91331930]
[91372602]
[91389622]
[91410172]
[91431773]
[91464628]
[91478376]
[91488559]
[91600431]
[91669630]
[91718805]
[91760930]
[91795300]
[91851957]
[91861595]
[91865815]
[91885822]
[91939906]
[91996803]
[92019862]
[92071527]
[92116493]
[92161707]
[92230356]
[92247990]
[92315728]
[92379639]
[92398211]
[92508535]
[92526058]
[92561689]
[92639065]
[92667411]
[92669401]
[92748648]
[92766664]
[92776041]
[92860268]
[92888790]
[92891016]
[93012559]
[93040437]
[93084927]
[93100737]
[93126429]
[93146061]
[93172296]
[93179097]
[93206535]
[93235598]
[93259949]
[93263567]
[93285732]
[93310098]
[93311423]
[93319775]
[93323496]
[93355309]
[93407336]
[93451014]
[93490235]
[93498337]
[93580819]
[93621633]
[93790279]
[93826979]
[93842418]
[93847210]
[93878402]
[93887712]
[94089794]
[94228559]
[94330424]
[94361893]
[94402858]
[94445366]
[94473108]
[94482512]
[94511204]
[94525765]
[94805028]
[95020312]
[95069532]
[95154301]
[95166632]
[95227828]
[95283174]
[95318543]
[95502600]
[95511519]
[95511860]
[95551812]
[95551879]
[95554199]
[95659964]
[95769505]
[95783707]
[95784466]
[95806942]
[95832157]
[95857446]
[95876899]
[95880977]
[95889506]
[95891838]
[96023050]
[96035224]
[96042194]
[96059466]
[96074088]
[96078485]
[96081486]
[96100901]
[96101095]
[96105577]
[96109964]
[96155952]
[96224202]
[96256235]
[96264398]
[96290905]
[96293476]
[96327298]
[96329083]
[96345747]
[96499558]
[96518096]
[96531080]
[96542973]
[96603747]
[96615383]
[96633085]
[96646520]
[96733080]
[96768965]
[96806132]
[96806862]
[96821275]
[96839857]
[96854884]
[96855563]
[96872470]
[96877422]
[96895499]
[96929349]
[97013395]
[97040118]
[97120052]
[97152276]
[97166744]
[97167098]
[97169055]
[97232270]
[97365339]
[97387196]
[97436094]
[97447337]
[97457161]
[97504903]
[97511200]
[97524404]
[97537196]
[97567800]
[97574054]
[97596035]
[97657800]
[97664275]
[97675720]
[97734662]
[97793845]
[97811152]
[97883827]
[98034806]
[98098922]
[98114503]
[98125457]
[98128703]
[98130160]
[98147955]
[98209150]
[98271337]
[98284040]
[98287157]
[98296339]
[98314743]
[98369540]
[98376193]
[98378445]
[98462178]
[98500845]
[98513506]
[98518299]
[98648764]
[98654310]
[98676979]
[98677587]
[98725367]
[98735053]
[98750841]
["CHLOE"]
["MAISY"]
["YUEN KIU"]
[96449760]
["ritatatatahui"]
[63161303]
[69984177]
[98483373]
["LAUONNA"]
["YONSI HEUNG"]
[97139005]
[60122974]
["MEI CHAN"]

{"sheet":"SEND","index":6,"n_rows":13,"n_cols":3,"rows_kept":13,"cut":false,"hidden":false,"merged":[]}
[]
["訂單日期","2024-10-13"]
["客戶電話",98314743]
[]
["ITEM","訂購數量","總金額"]
["已寄"]
["配件7-小獅王-蘊蜜寬口防漏滑蓋把手吸管組(杏茶)-",1,55]
["GAP 連身米-80-",1,0]
["GAP 連身棒球-80-",1,0]
["konny碗-燕-",1,0]
["聖誕鹿-80-",1,0]
[]
["總計",5,55]

{"sheet":"工作表4","index":7,"n_rows":1058,"n_cols":2,"rows_kept":1058,"cut":false,"hidden":false,"merged":[]}
["客人","加總 - 數量"]
[51047798]
["預訂－未到貨"]
["毛衛衣-MELODY80-",1]
[]
[51187205]
["已寄"]
["把手奶樽-小獅王-蘊蜜鉑金PPSU寬口吸管把手防脹氣奶瓶360ml(杏茶)-十字M-",1]
["把手奶樽-小獅王-蘊蜜鉑金PPSU寬口吸管把手防脹氣奶瓶360ml(晨藍)-十字M-",1]
[]
[51822020]
["預訂－未到貨"]
["NF 被-黑-",1]
["豬仔-包70-",1]
[]
[54050245]
["已寄"]
["日本代購",1]
[]
[54236849]
["預訂－未到貨"]
["NF 熊仔外套-白100-",1]
[]
[54481922]
["已寄"]
["奶樽嘴-小獅王-超柔防脹氣寬口十字奶嘴M-4入(3個月以上)-",1]
["知母時--",1]
["配件5-小獅王-蘊蜜寬口奶瓶蝶型吸管組 -",1]
[]
[55459945]
["已寄"]
["三合一-粉90-",1]
["學習水杯-小獅王-蘊蜜鉑金PPSU防漏滑蓋學習水杯270ml(紫芙)-",1]
[]
[55933211]
["已寄"]
["台LINE拼色袖-100-粉",1]
["台SANRIO三色衛衣-100-紫",1]
[]
[56003806]
["已到貨"]
["台SANRIO三色衛衣-90-紫",1]
[]
["預訂－未到貨"]
["NF 熊仔外套-白90-",1]
[]
[60212108]
["預訂－未到貨"]
["POLO純色連身裙-藍100-",1]
["POLO條紋裙-100-",1]
[]
[60293351]
["預訂－未到貨"]
["NF 熊仔外套-白90-",1]
[]
[60338174]
["已寄"]
["香火平安符袋--粉",1]
["唐老鴨連身-80",1]
["唐老鴨連身-90-",1]
[]
["預訂－未到貨"]
["豬仔-衛90-",1]
[]
[60377123]
["已寄"]
["MELODY紅白衛衣-80-",1]
["MELODY紅白衛衣-90-",1]
["MIFFY A-粉80-",1]
["MIFFY A-藍80-",1]
["日本代購",1]
[]
["預訂－未到貨"]
["MIFFYB-白90-",1]
["MIFFYB-粉90-",1]
["MIFFY滿印-白90-",1]
["MIFFY滿印-粉90-",1]
["NF 被-黑-",2]
["NF 熊仔外套-粉90-",1]
["NF 熊仔外套-啡90-",1]
["POLO條紋裙-90-",2]
["毛衛衣-MELODY80-",1]
["毛衛衣-MELODY90-",1]
["福袋D-90-",2]
["頸巾-兔-",1]
["頸巾-熊-",1]
["CUTEMILY秋冬波波冷衫-90-白",1]
["CUTEMILY秋冬波波冷衫-90-紅",1]
["CUTEMILY秋冬短裙-80-紅",1]
["CUTEMILY秋冬短褲-80-黑",1]
[]
["(空白)"]
["配件6-小獅王-蘊蜜寬口奶瓶防漏學習吸管組-",4]
[]
[60512140]
["預訂－未到貨"]
["面包超人袋--",1]
[]
[60534562]
["已寄"]
["三合一-藍80-",1]
["香火平安符袋--杏",1]
["唐老鴨背包--",1]
[]
[60545685]
["預訂－未到貨"]
["Linabell 粉外套-120-",1]
[]
[60857755]
["已寄"]
["nf legging褲-黑100-",1]
[]
[60895155]
["已寄"]
["現-牛仔花花裙-90-",1]
["間條連身-MELODY90-",1]
["間條連身-青90-",1]
[]
[60920829]
["已寄"]
["印章--",1]
[]
[60931124]
["已寄"]
["konny碗-藍-",1]
["小魔怪-100-",1]
["印章--",1]
["姓名貼--",2]
["聖誕鹿-120-",1]
[]
["預訂－未到貨"]
["NF 被-黑-",1]
["吊帶褲-水100-",1]
["SANRIO 滿印-水100-",1]
[]
[60956161]
["已寄"]
["聖誕樹-90-",1]
[]
[61060504]
["已寄"]
["水怪滿印set-90-",1]
["唐老鴨背包--",1]
[]
[61079988]
["預訂－未到貨"]
["NF雙面棉外套-米杏100-",1]
["NF雙面棉外套-米杏L-",1]
[]
[61220054]
["已到貨"]
["日本代購(腳尺)",1]
["安撫奶嘴-小獅王-蘊蜜超柔拇指安撫奶嘴(晨藍)-耐咬較大型-",1]
["安撫奶嘴-小獅王-蘊蜜超柔拇指安撫奶嘴(綠沐)-耐咬較大型-",1]
[]
["已寄"]
["DTD車帶--",1]
["三合一-藍100-",1]
["間條連身-青90-",1]
["日本代購",1]
["安撫奶嘴-小獅王-蘊蜜超柔拇指安撫奶嘴(晨藍)-耐咬較大型-",1]
["安撫奶嘴-小獅王-蘊蜜超柔拇指安撫奶嘴(杏茶)-耐咬較大型-",1]
["安撫奶嘴-小獅王-蘊蜜超柔拇指安撫奶嘴(綠沐)-耐咬較大型-",1]
[]
["預訂－未到貨"]
["NF雙面棉外套-粉M-",1]
["NF雙面棉外套-綠90-",1]
["面包超人袋--",1]
[]
["(空白)"]
["安撫奶嘴-小獅王-蘊蜜超柔拇指安撫奶嘴(杏茶)-耐咬較大型-",1]
[]
[61249253]
["已到貨"]
["現-george-滿印littlemonkey-白-95-",1]
[]
[61319677]
["已到貨"]
["日本代購(被)",1]
[]
["已寄"]
["和服-粉90-",1]
["配件7-小獅王-蘊蜜寬口防漏滑蓋把手吸管組(紫)-",1]
["日本代購",1]
[]
["預訂－未到貨"]
["SANRIO 滿印-HT90-",1]
["吊帶褲-HT90-",1]
[]
[61381096]
["已寄"]
["唐老鴨背包--",1]
["配件7-小獅王-蘊蜜寬口防漏滑蓋把手吸管組(晨藍)-",1]
["配件7-小獅王-蘊蜜寬口防漏滑蓋把手吸管組(黑)-",1]
[]
[61500548]
["已到貨"]
["MIFFY杯套-藍--",1]
[]
[61869513]
["已寄"]
["唐老鴨連身-90-",1]
["豬仔連身-90-",1]
[]
[61997281]
["已寄"]
["台防滑襪-SET B-M",1]
["唐老鴨連身-100-",1]
[]
["預訂－未到貨"]
["Linabell 粉外套-110-",1]
[]
[62004948]
["已到貨"]
["獅子外套-100-",1]
[]
["預訂－未到貨"]
["NF雙面棉外套-米杏L-",1]
["NF雙面棉外套-粉M-",1]
["NF雙面棉外套-綠100-",1]
[]
[62235095]
["已到貨"]
["現-綠龍長袖-90--",1]
[]
[62255544]
["已到貨"]
["台小飛象外套-90-粉",1]
[]
[62370523]
["已到貨"]
["印章--",1]
["滿印熊-PAT-啡80-",1]
[]
["預訂－未到貨"]
["POLO純色連身裙-卡其90-",1]
["POLO純色連身裙-藍110-",1]
[]
[62441454]
["已寄"]
["GAP 連身米-100-",1]
["H2-18-24-",1]
["LEE吊帶褲-灰100-",1]
[]
[62748251]
["預訂－未到貨"]
["POLO條紋裙-90-",1]
[]
[62750318]
["預訂－未到貨"]
["單眼仔-包80-",1]
["單眼仔-衛100-",2]
["單眼仔-衛130-",1]
[]
[62834583]
["預訂－未到貨"]
["SANRIO 滿印-HT80-",1]
[]
[62991441]
["已寄"]
["豬仔連身-80-",1]
[]
[62995454]
["已到貨"]
["nf legging褲-黑100-",1]
["nf legging褲-黑130-",1]
[]
["預訂－未到貨"]
["NF 熊仔外套-粉100-",1]
["NF 熊仔外套-啡110-",1]
["NF 熊仔外套-啡130-",1]
["TOMANDJERRY帶帽睡覺款衛衣-130-黑",1]
["TOMANDJERRY帶帽睡覺款衛衣-110-白",1]
[]
["缺貨"]
["lee 衛衣-灰白130-",1]
[]
[63060103]
["已到貨"]
["台連身扣鏤小仙子-90-紫",1]
["台連身扣鏤小飛象-90-黃",1]
[]
["預訂－未到貨"]
["POLO純色連身裙-卡其100-",1]
["POLO純色連身裙-藍110-",1]
["安撫巾-KU-",1]
["安撫巾-玉-",1]
["聖誕老人裙-100-",1]
[]
[63195972]
["預訂－未到貨"]
["POLO條紋裙-100-",1]
[]
[63236944]
["已寄"]
["唐老鴨連身-80-",1]
["把手奶樽-小獅王-蘊蜜鉑金PPSU寬口吸管把手防脹氣奶瓶360ml(杏茶)-十字M",1]
["把手奶樽-小獅王-蘊蜜鉑金PPSU寬口吸管把手防脹氣奶瓶360ml(栗粉)-十字M",1]
[]
["預訂－未到貨"]
["TOMANDJERRY手袖公仔衛衣-100-白",1]
[]
[63324564]
["已寄"]
["台小飛象外套-90-白",1]
["台防滑襪-SET B-S",1]
["台怪獸大學綠色包PAT-90-",1]
[]
[63467671]
["已寄"]
["konny碗-藍-",1]
["唐老鴨連身-90-",1]
[]
["預訂－未到貨"]
["安撫巾-水-",1]
[]
[63568318]
["已到貨"]
["食物剪刀-小獅王-嬰兒食物金剛剪(杏茶)-",1]
[]
["預訂－未到貨"]
["POLO純色連身裙-卡其90-",1]
["POLO條紋衫-90-",1]
["POLO條紋裙-90-",1]
[]
["(空白)"]
["好吃防水圍兜-奶油字母-杏",1]
["好吃防水圍兜-蜜桃菠菠-粉",1]
[]
[63734193]
["已到貨"]
["現-淺藍史迪仔aloha-3-6-",1]
[]
[63775251]
["已到貨"]
["台LINE奶茶衛衣-80-白",1]
["台三件套小飛象-80-",1]
["台防滑襪-SET B-S",1]
["台魚魚上衣-80-藍白",1]
["日本代購",1]
["日本代購(LEG SUPPORT)",1]
[]
["已寄"]
["konny口水肩-4-",1]
[]
["預訂－未到貨"]
["BBB經典餐具-藍-",1]
[]
[64096879]
["缺貨"]
["lee 衛衣-灰白130-",1]
["lee 衛衣-灰藍90-",1]
[]
[64371840]
["已寄"]
["CARE BEAR C1-藍100-",1]
["GAP 連身紅-100-",1]
["台LINE奶茶衛衣-100-白",1]
["滿印熊-PAT-白100-",1]
[]
[64765587]
["已寄"]
["nf legging褲-白80-",1]
[]
["預訂－未到貨"]
["NF 被-黑-",1]
[]
[64776663]
["預訂－未到貨"]
["SANRIO 滿印-水90-",1]
["吊帶褲-水90-",1]
[]
[65360098]
["已寄"]
["nf legging褲-白80-",1]
[]
["缺貨"]
["lee 衛衣-灰藍90-",1]
[]
[66272332]
["已寄"]
["三合一-粉90-",1]
[]
["預訂－未到貨"]
["面包超人袋--",1]
["綠仙子SET-90-",1]
[]
[66297983]
["已寄"]
["點點筆--",1]
["蠟筆--",1]
["日本代購",1]
[]
[66778200]
["預訂－未到貨"]
["NF雙面棉外套-米杏L-",1]
["NF雙面棉外套-粉100-",1]
[]
[66826841]
["已寄"]
["GAP 連身米-90-",1]
["POLO背心-白90-",1]
["印章--",1]
["獅子外套-90-",1]
["獅子褲-90-",1]
["奶樽刷-小獅王-超柔無垢白金矽膠奶瓶刷(小櫻)-紅-",1]
[]
[67063660]
["預訂－未到貨"]
["睡衣SET B-90-",1]
[]
[67086999]
["已寄"]
["bb 防曬lotion--",1]
["小兵-18-24-",1]
["聖誕樹-100-",1]
[]
[67300146]
["已到貨"]
["秋褲2條裝-A-90-",1]
["日本代購",1]
[]
["預訂－未到貨"]
["NF雙面棉外套-粉100-",1]
[]
[67398830]
["已寄"]
["H8-0-6-",1]
["miffy 拖鞋-白37-",1]
["唐老鴨連身-73-",1]
[]
["預訂－未到貨"]
["NF 被-黑-",1]
[]
[67438170]
["預訂－未到貨"]
["NF雙面棉外套-杏M-",1]
["NF雙面棉外套-綠90-",1]
["NF雙面棉外套-綠L-",1]
[]
[67623732]
["已寄"]
["唐老鴨背包--",1]
[]
[67681197]
["已寄"]
["餐具組--粉",1]
["日本代購",1]
["配件7-小獅王-蘊蜜寬口防漏滑蓋把手吸管組(栗粉)-",1]
[]
[68438099]
["已寄"]
["唐老鴨長袖上衣-50-粉",1]
["唐老鴨連身-80",2]
["日本代購",1]
[]
["預訂－未到貨"]
["BBB經典餐具-粉-",1]
[]
[68822283]
["已寄"]
["印章--",1]
["日本代購",1]
[]
[69053111]
["預訂－未到貨"]
["MLB-5外套-黑-",1]
[]
[69330401]
["已寄"]
["POOH 背包--",2]
[]
[69331107]
["已寄"]
["台小飛象外套-100-粉",1]
["台小飛象外套-90-白",1]
[]
["預訂－未到貨"]
["安撫巾-水-",1]
[]
[90166250]
["已寄"]
["GAP 連身灰-100-",1]
["三合一-橙100-",1]
["唐老鴨背包--",1]
["日本代購",1]
[]
["(空白)"]
["好吃防水圍兜-小島星球-淺藍",1]
[]
[90234611]
["已寄"]
[" 安撫奶嘴- 蘿蔓拇指型安撫奶嘴(香草)6m-",1]
[" 安撫奶嘴-小獅王-蘊蜜超柔拇指安撫奶嘴(杏茶)-耐咬較大型-",1]
[" 安撫奶嘴-小獅王-蘊蜜超柔拇指安撫奶嘴(綠沐)-耐咬較大型-",1]
[" 安撫奶嘴-獅子頭奶嘴-6M",1]
["GAP 連身紅-90-",1]
["三合一-橙90-",1]
["奶嘴鍊-小獅王-辛巴防塵奶嘴鍊-杏-",1]
["防漏滑蓋學習水杯-小獅王-蘊蜜鉑金PPSU防漏滑蓋學習水杯270ml(杏茶)-",1]
["配件7-小獅王-蘊蜜寬口防漏滑蓋把手吸管組(杏茶)-",1]
[]
[90474586]
["已到貨"]
["聖誕樹-90-",1]
[]
[91283990]
["已到貨"]
["配件7-小獅王-蘊蜜寬口防漏滑蓋吸管組-",1]
[]
["已寄"]
["日本代購",1]
[]
["預訂－未到貨"]
["NF 被-啡-",1]
["CUTEMILY秋冬短褲-90-黑",1]
["CUTEMILY秋冬波波冷衫-90-白",1]
[]
[91464628]
["預訂－未到貨"]
["BEAR BEAR 直間-110-",1]
[]
[91478376]
["已寄"]
["好樂飲-小獅王-好樂飲PPSU防漏滑蓋學習水杯250ml(可可杏)-",1]
[]
[91760930]
["已到貨"]
["聖誕鹿-100-",1]
["日本代購",1]
[]
["已寄"]
["三合一-粉100-",1]
["三合一-粉160-",1]
["三合一-藍160-",1]
["印章--",1]
[]
["預訂－未到貨"]
["NF 熊仔外套-白90-",1]
["NF 熊仔爬服-粉100-",1]
["聖誕老人連身-70-",1]
["聖誕老人裙-100-",1]
["CUTEMILY秋冬波波冷衫-100-白",1]
["CAREBEAR白色滿印衛衣-100-",1]
[]
[91865815]
["已寄"]
["miffy 書包--",1]
["花邊冷衫-粉100-",1]
["碎花衫-100-",1]
["褲-啡100-",1]
["日本代購",1]
[]
[92116493]
["已寄"]
["獅子外套-100-",1]
["獅子褲-100-",1]
[]
["(空白)"]
["好吃防水圍兜-奶油字母-杏",1]
["好吃防水圍兜-恐龍樂團-深藍",1]
[]
[92247990]
["已到貨"]
["三合一-橙110-",1]
[]
["預訂－未到貨"]
["LABUBU衛衣-100-米白",1]
[]
[92639065]
["已寄"]
["cool kids 舒緩膏--",1]
["H4-2-3-",1]
["印章--",2]
["食物剪刀-小獅王-嬰兒食物金剛剪(栗粉)-",1]
["食物剪刀-小獅王-嬰兒食物金剛剪(晨藍)-",1]
["日本代購",1]
[]
["預訂－未到貨"]
["BBB車車餐具-紫-",1]
["BBB經典餐具-粉-",1]
[]
[92748648]
["已到貨"]
["日本代購",1]
[]
["預訂－未到貨"]
["BEAR BEAR 冷衫-100-",1]
["BEAR BEAR 風嬲-110-",1]
[]
[93084927]
["已到貨"]
["GAP 連身棒球-90-",1]
[]
[93146061]
["已到貨"]
["好樂飲-小獅王-好樂飲PPSU防漏滑蓋學習水杯250ml(可可杏)-",1]
["PPSU 普通奶樽-小獅王-蘊蜜鉑金PPSU寬口防脹氣奶瓶270ml(杏茶)-十字M",1]
["PPSU 普通奶樽-小獅王-蘊蜜鉑金PPSU寬口防脹氣奶瓶270ml(晨藍)-十字M",1]
["PPSU 普通奶樽-小獅王-蘊蜜鉑金PPSU寬口防脹氣奶瓶270ml(綠沐)-十字M",1]
[]
["已寄"]
["三合一-藍90-",1]
["印章--",1]
["唐老鴨背包--",1]
[]
["預訂－未到貨"]
["NF 熊仔外套-啡90-",1]
["UBMOM矽膠零食杯-米-",1]
[]
["(空白)"]
["食物剪刀-小獅王-嬰兒食物金剛剪(杏茶)-",1]
["配件6-小獅王-蘊蜜寬口奶瓶防漏學習吸管組-",3]
["好吃防水圍兜-奶油字母-杏",2]
[]
[93235598]
["已寄"]
["konny 咩帶-灰米-",1]
[]
[93451014]
["已寄"]
["台LINE熊大啡色衛衣-80-",1]
["台防滑襪-SET B-M",1]
["星月亮水手-衛衣-藍90-",1]
["日本代購",1]
[]
[94445366]
["預訂－未到貨"]
["BEAR BEAR 風嬲-120-",1]
[]
[94511204]
["已寄"]
["h7-6-12-",1]
["印章--",1]
[]
[94525765]
["已寄"]
["星月亮水手-PAT-藍100-",1]
["聖誕樹-100-",1]
["滿印熊-衛-白100-",1]
[]
[95020312]
["已寄"]
["聖誕鹿-100-",1]
[]
[95069532]
["已到貨"]
["唐老鴨連身-100-",1]
[]
[95832157]
["已寄"]
["香火平安符袋--杏",1]
[]
[96101095]
["已到貨"]
["日本代購",1]
[]
["預訂－未到貨"]
["吊帶褲-水110-",1]
[]
[96155952]
["已到貨"]
["印章--",1]
[]
[96256235]
["預訂－未到貨"]
["NF雙面棉外套-綠110-",1]
[]
[96293476]
["預訂－未到貨"]
["MIFFY 外套-白100-",1]
[]
[96327298]
["已寄"]
["POOH 背包--",1]
[]
[96531080]
["已到貨"]
["聖誕樹-100-",1]
[]
["已寄"]
["唐老鴨背包--",1]
["配件7-小獅王-蘊蜜寬口防漏滑蓋把手吸管組(綠沐)-",1]
["配件7-小獅王-蘊蜜寬口防漏滑蓋把手吸管組(紫芙)-",1]
["配件7-小獅王-蘊蜜寬口防漏滑蓋把手吸管組(苜白)-",1]
[]
[96638494]
["已寄"]
["小木馬",2]
["唐老鴨連身-70",2]
["唐老鴨連身-80",1]
[]
[96855563]
["已到貨"]
["姓名貼--",1]
[]
[97166744]
["已寄"]
["小魔怪-100-",1]
[]
[97457161]
["已寄"]
["三合一-橙90-",1]
["日本代購",1]
[]
[97793845]
["預訂－未到貨"]
["NF雙面棉外套-綠100-",1]
[]
[98034806]
["已寄"]
["pooh pat-18-24-",1]
["唐老鴨連身-90-",1]
[]
[98314743]
["已寄"]
["GAP 連身米-80-",1]
["GAP 連身棒球-80-",1]
["konny碗-燕-",1]
["配件7-小獅王-蘊蜜寬口防漏滑蓋把手吸管組(杏茶)-",1]
["聖誕鹿-80-",1]
["日本代購",1]
[]
[98369540]
["已寄"]
["三合一-粉80-",1]
[]
[98378445]
["已到貨"]
["miffy 書包--",1]
[]
[98654310]
["已寄"]
["H4-18-24-",1]
["H5-100-",1]
[]
[98725367]
["已寄"]
["唐老鴨連身-80-",1]
[]
["CHLOE"]
["已到貨"]
["CART衛衣有帽-110-",1]
["CART衛衣有帽-藍L-",1]
["CART衛衣有帽-藍S-",1]
["POLO背心-白110-",1]
["POLO背心-深藍110-",1]
[]
["預訂－未到貨"]
["BEAR BEAR 冷衫-110-",1]
["BEAR BEAR 風嬲-110-",1]
["NF 熊仔外套-白110-",1]
[]
["MAISY"]
["已寄"]
["小魔怪-120-",1]
["聖誕樹-80-",1]
[]
["TEL1"]
["已寄"]
["唐老鴨長袖上衣-60-藍",2]
[]
["YUEN KIU"]
["已寄"]
["配件7-小獅王-蘊蜜寬口防漏滑蓋把手吸管組(黑)-",1]
[]
["林阿杰"]
["已寄"]
["圓領長版上衣",2]
[]
["(空白)"]
["已寄"]
["寬版條紋T恤",2]
[]
["(空白)"]
["(空白)"]
[]
[64067410]
["已寄"]
["唐老鴨連身-66-",1]
[]
[46141219]
["已寄"]
["日本代購",1]
[]
[51063162]
["已寄"]
["日本代購",1]
[]
[51334135]
["已寄"]
["日本代購",1]
[]
[51724523]
["已寄"]
["日本代購",1]
[]
[53310661]
["已寄"]
["日本代購",1]
[]
[53358282]
["已寄"]
["日本代購",1]
[]
[55110419]
["已寄"]
["日本代購",1]
[]
["(空白)"]
["好吃防水圍兜-奶油字母-杏",1]
[]
[55238767]
["已寄"]
["日本代購",1]
[]
[60122974]
["已到貨"]
["日本代購(咬咬巾)--",1]
[]
["已寄"]
["日本代購",1]
[]
["(空白)"]
["好吃防水圍兜-奶油字母-杏",1]
[]
[60407078]
["已寄"]
["日本代購",1]
[]
[60862790]
["已寄"]
["日本代購",1]
[]
[60922980]
["已寄"]
["日本代購",1]
[]
[61038231]
["已寄"]
["日本代購",1]
[]
[61274142]
["已寄"]
["日本代購",1]
["日本代購(襪+綠白)",1]
["學習水杯-小獅王-蘊蜜鉑金PPSU防漏滑蓋學習水杯270ml(晨藍)-",1]
[]
["預訂－未到貨"]
["BBB車車餐具-黃-",1]
[]
["(空白)"]
["好吃防水圍兜-小島星球-淺藍",1]
["好吃防水圍兜-恐龍樂團-深藍",1]
[]
[61322842]
["已到貨"]
["日本代購",1]
[]
["預訂－未到貨"]
["BBB車車餐具-黃-",1]
["BBB經典餐具-藍-",1]
[]
[61331563]
["已寄"]
["日本代購",1]
[]
[61567271]
["已到貨"]
["日本代購",1]
[]
[62277840]
["已寄"]
["日本代購",1]
[]
[63568251]
["已寄"]
["日本代購",1]
[]
[64111534]
["已寄"]
["日本代購",1]
[]
[64267782]
["已寄"]
["日本代購",1]
[]
[65775107]
["已寄"]
["日本代購",1]
[]
[65933828]
["已寄"]
["日本代購",1]
[]
[67311512]
["已到貨"]
["日本代購",1]
[]
[68988359]
["已寄"]
["日本代購",1]
[]
[69930596]
["已寄"]
["日本代購",1]
[]
[69984177]
["已寄"]
["日本代購",1]
[]
["(空白)"]
["好吃防水圍兜-小島星球-淺藍",1]
[]
[90230421]
["已寄"]
["日本代購",1]
[]
[90821275]
["已到貨"]
["日本代購",1]
[]
[91267970]
["已寄"]
["日本代購",1]
[]
[91488559]
["已寄"]
["日本代購",1]
[]
["預訂－未到貨"]
["台連身扣鏤小飛象-70-黃",1]
["台三件套小飛象-90-",1]
["台小飛象外套-100-白",1]
[]
[92667411]
["已到貨"]
["日本代購",1]
[]
[96105577]
["已寄"]
["日本代購",1]
[]
[96427340]
["已寄"]
["日本代購",1]
[]
[96877422]
["已寄"]
["日本代購",1]
[]
[97040118]
["已寄"]
["日本代購",1]
[]
["預訂－未到貨"]
["TOMANDJERRY手袖公仔衛衣-90-黃",1]
["CUTEMILY秋冬波波冷衫-80-白",1]
[]
[97675720]
["已寄"]
["日本代購",1]
[]
[97811152]
["已寄"]
["日本代購",1]
[]
[98287157]
["已寄"]
["日本代購",1]
[]
[98296339]
["已寄"]
["日本代購",1]
[]
[98855791]
["已寄"]
["日本代購",1]
[]
[974571611]
["已到貨"]
["日本代購(花SET)",1]
[]
[96449760]
["已寄"]
["學習水杯-小獅王-蘊蜜鉑金PPSU防漏滑蓋學習水杯270ml(綠沐)-",1]
[]
[93826979]
["預訂－未到貨"]
["BBB經典餐具-黃-",1]
["CAREBEAR白色滿印衛衣-110-",1]
[]
["ritatatatahui"]
["已寄"]
["把手奶樽-小獅王-蘊蜜鉑金PPSU寬口吸管把手防脹氣奶瓶270ml(栗粉)-十字M",1]
["把手奶樽-小獅王-蘊蜜鉑金PPSU寬口吸管把手防脹氣奶瓶270ml(杏茶)-十字M",1]
["奶樽嘴-小獅王-超柔防脹氣寬口十字奶嘴L-4入(6個月以上)-",1]
[]
[63723318]
["預訂－未到貨"]
["TOMANDJERRY手袖公仔衛衣-90-黃",1]
["LABUBU衛衣-90-淺灰",1]
[]
[53403193]
["預訂－未到貨"]
["CAREBEAR白色滿印衛衣-80-",1]
[]
[95659964]
["預訂－未到貨"]
["CUTEMILY秋冬短褲-90-黑",1]
[]
[63161303]
["預訂－未到貨"]
["TOMANDJERRY手袖公仔衛衣-100-灰",1]
[]
[96109964]
["預訂－未到貨"]
["CAREBEAR白色滿印衛衣-100-",1]
[]
[98483373]
["已到貨"]
["奶樽嘴-小獅王-超柔防脹氣寬口十字奶嘴M-4入(3個月以上)-",1]
["配件7-小獅王-蘊蜜寬口防漏滑蓋把手吸管組(綠沐)-",1]
[]
["(空白)"]
["配件6-小獅王-蘊蜜寬口奶瓶防漏學習吸管組-",1]
["好吃防水圍兜-奶油字母-杏",1]
[]
["LAUONNA"]
["已寄"]
["奶樽嘴-小獅王-超柔防脹氣寬口十字奶嘴L-4入(6個月以上)-",1]
["把手奶樽-小獅王-蘊蜜鉑金PPSU寬口吸管把手防脹氣奶瓶200ml(晨藍)-十字S",1]
["把手奶樽-小獅王-蘊蜜鉑金PPSU寬口吸管把手防脹氣奶瓶200ml(綠沐)-十字S",1]
["吸管刷-小獅王-蘊蜜清潔刷6入-",1]
[]
["YONSI HEUNG"]
["已到貨"]
["奶樽刷-小獅王-超柔無垢白金矽膠旋轉奶瓶刷(小石)-灰-",1]
["奶嘴刷-小獅王-超柔無垢白金矽膠奶嘴刷(小石)-灰-",1]
[]
[61569377]
["已寄"]
["紗巾-西瓜-",1]
["紗巾-熊-",1]
[]
[97504903]
["(空白)"]
["好吃防水圍兜-奶油字母-杏",1]
[]
[97139005]
["(空白)"]
["好吃防水圍兜-蜜桃菠菠-粉",1]
[]
["MEI CHAN"]
["已到貨"]
["配件7-小獅王-蘊蜜寬口防漏滑蓋吸管組-",1]
[]
["總計",448]

{"sheet":"訂貨","index":8,"n_rows":13,"n_cols":3,"rows_kept":13,"cut":false,"hidden":false,"merged":[]}
["訂單日期","(全部)"]
["狀態","(空白)"]
[]
["ITEM","加總 - 數量","總收入"]
["好吃防水圍兜-小島星球-淺藍",3,267]
["好吃防水圍兜-奶油字母-杏",8,712]
["好吃防水圍兜-恐龍樂團-深藍",2,178]
["好吃防水圍兜-蜜桃菠菠-粉",2,178]
["安撫奶嘴-小獅王-蘊蜜超柔拇指安撫奶嘴(杏茶)-耐咬較大型-",1,45]
["食物剪刀-小獅王-嬰兒食物金剛剪(杏茶)-",1,69]
["配件6-小獅王-蘊蜜寬口奶瓶防漏學習吸管組-",8,304]
["(空白)"]
["總計",25,1753]

{"sheet":"庫存計算","index":9,"n_rows":526,"n_cols":8,"rows_kept":526,"cut":false,"hidden":false,"merged":[[0,7,1,7],[0,2,1,2],[0,1,1,1],[0,0,1,0],[0,3,1,3],[0,4,1,4],[0,6,1,6],[0,5,1,5]]}
["貨源","編號","產品","單價","入貨價","HKD","已售數量(全部)","總賺(全部)"]
[]
[{"$f":"表格2[[#This Row],[貨源]]","v":0},{"$f":"表格2[[#This Row],[編號]]","v":0},{"$f":"表格2[[#This Row],[產品]]","v":"Apple"},{"$f":"表格2[[#This Row],[單價]]","v":1},{"$f":"表格2[[#This Row],[入貨價]]","v":0},{"$f":"E3","v":0},{"$f":"SUMIF(資料庫!D:D,庫存計算!C3,資料庫!E:E)","v":0},{"$f":"(D3-F3)*G3","v":0}]
[{"$f":"表格2[[#This Row],[貨源]]","v":0},{"$f":"表格2[[#This Row],[編號]]","v":0},{"$f":"表格2[[#This Row],[產品]]","v":"Orange"},{"$f":"表格2[[#This Row],[單價]]","v":2},{"$f":"表格2[[#This Row],[入貨價]]","v":0},{"$f":"E4","v":0},{"$f":"SUMIF(資料庫!D:D,庫存計算!C4,資料庫!E:E)","v":0},{"$f":"(D4-F4)*G4","v":0}]
[{"$f":"表格2[[#This Row],[貨源]]","v":0},{"$f":"表格2[[#This Row],[編號]]","v":0},{"$f":"表格2[[#This Row],[產品]]","v":"Banana"},{"$f":"表格2[[#This Row],[單價]]","v":3},{"$f":"表格2[[#This Row],[入貨價]]","v":0},0,{"$f":"SUMIF(資料庫!D:D,庫存計算!C5,資料庫!E:E)","v":0},0]
[{"$f":"表格2[[#This Row],[貨源]]","v":0},{"$f":"表格2[[#This Row],[編號]]","v":0},{"$f":"表格2[[#This Row],[產品]]","v":"Grape"},{"$f":"表格2[[#This Row],[單價]]","v":4},{"$f":"表格2[[#This Row],[入貨價]]","v":0},0,{"$f":"SUMIF(資料庫!D:D,庫存計算!C6,資料庫!E:E)","v":0},0]
[{"$f":"表格2[[#This Row],[貨源]]","v":0},{"$f":"表格2[[#This Row],[編號]]","v":0},{"$f":"表格2[[#This Row],[產品]]","v":"Watermelon"},{"$f":"表格2[[#This Row],[單價]]","v":5},{"$f":"表格2[[#This Row],[入貨價]]","v":0},0,{"$f":"SUMIF(資料庫!D:D,庫存計算!C7,資料庫!E:E)","v":0},0]
[{"$f":"表格2[[#This Row],[貨源]]","v":0},{"$f":"表格2[[#This Row],[編號]]","v":0},{"$f":"表格2[[#This Row],[產品]]","v":0},{"$f":"表格2[[#This Row],[單價]]","v":0},{"$f":"表格2[[#This Row],[入貨價]]","v":0},0,{"$f":"SUMIF(資料庫!D:D,庫存計算!C8,資料庫!E:E)","v":0},0]
[{"$f":"表格2[[#This Row],[貨源]]","v":{"$error":"#VALUE!"}},{"$f":"表格2[[#This Row],[編號]]","v":{"$error":"#VALUE!"}},{"$f":"表格2[[#This Row],[產品]]","v":{"$error":"#VALUE!"}},{"$f":"表格2[[#This Row],[單價]]","v":{"$error":"#VALUE!"}},{"$f":"表格2[[#This Row],[入貨價]]","v":{"$error":"#VALUE!"}},{"$error":"#VALUE!"},{"$f":"SUMIF(資料庫!D:D,庫存計算!C9,資料庫!E:E)","v":0},{"$error":"#VALUE!"}]
[{"$f":"表格2[[#This Row],[貨源]]","v":{"$error":"#VALUE!"}},{"$f":"表格2[[#This Row],[編號]]","v":{"$error":"#VALUE!"}},{"$f":"表格2[[#This Row],[產品]]","v":{"$error":"#VALUE!"}},{"$f":"表格2[[#This Row],[單價]]","v":{"$error":"#VALUE!"}},{"$f":"表格2[[#This Row],[入貨價]]","v":{"$error":"#VALUE!"}},{"$error":"#VALUE!"},{"$f":"SUMIF(資料庫!D:D,庫存計算!C10,資料庫!E:E)","v":0},{"$error":"#VALUE!"}]
[{"$f":"表格2[[#This Row],[貨源]]","v":{"$error":"#VALUE!"}},{"$f":"表格2[[#This Row],[編號]]","v":{"$error":"#VALUE!"}},{"$f":"表格2[[#This Row],[產品]]","v":{"$error":"#VALUE!"}},{"$f":"表格2[[#This Row],[單價]]","v":{"$error":"#VALUE!"}},{"$f":"表格2[[#This Row],[入貨價]]","v":{"$error":"#VALUE!"}},{"$error":"#VALUE!"},{"$f":"SUMIF(資料庫!D:D,庫存計算!C11,資料庫!E:E)","v":0},{"$error":"#VALUE!"}]
[{"$f":"表格2[[#This Row],[貨源]]","v":{"$error":"#VALUE!"}},{"$f":"表格2[[#This Row],[編號]]","v":{"$error":"#VALUE!"}},{"$f":"表格2[[#This Row],[產品]]","v":{"$error":"#VALUE!"}},{"$f":"表格2[[#This Row],[單價]]","v":{"$error":"#VALUE!"}},{"$f":"表格2[[#This Row],[入貨價]]","v":{"$error":"#VALUE!"}},{"$error":"#VALUE!"},{"$f":"SUMIF(資料庫!D:D,庫存計算!C12,資料庫!E:E)","v":0},{"$error":"#VALUE!"}]
[{"$f":"表格2[[#This Row],[貨源]]","v":{"$error":"#VALUE!"}},{"$f":"表格2[[#This Row],[編號]]","v":{"$error":"#VALUE!"}},{"$f":"表格2[[#This Row],[產品]]","v":{"$error":"#VALUE!"}},{"$f":"表格2[[#This Row],[單價]]","v":{"$error":"#VALUE!"}},{"$f":"表格2[[#This Row],[入貨價]]","v":{"$error":"#VALUE!"}},{"$error":"#VALUE!"},{"$f":"SUMIF(資料庫!D:D,庫存計算!C13,資料庫!E:E)","v":0},{"$error":"#VALUE!"}]
[{"$f":"表格2[[#This Row],[貨源]]","v":{"$error":"#VALUE!"}},{"$f":"表格2[[#This Row],[編號]]","v":{"$error":"#VALUE!"}},{"$f":"表格2[[#This Row],[產品]]","v":{"$error":"#VALUE!"}},{"$f":"表格2[[#This Row],[單價]]","v":{"$error":"#VALUE!"}},{"$f":"表格2[[#This Row],[入貨價]]","v":{"$error":"#VALUE!"}},{"$error":"#VALUE!"},{"$f":"SUMIF(資料庫!D:D,庫存計算!C14,資料庫!E:E)","v":0},{"$error":"#VALUE!"}]
[{"$f":"表格2[[#This Row],[貨源]]","v":{"$error":"#VALUE!"}},{"$f":"表格2[[#This Row],[編號]]","v":{"$error":"#VALUE!"}},{"$f":"表格2[[#This Row],[產品]]","v":{"$error":"#VALUE!"}},{"$f":"表格2[[#This Row],[單價]]","v":{"$error":"#VALUE!"}},{"$f":"表格2[[#This Row],[入貨價]]","v":{"$error":"#VALUE!"}},{"$error":"#VALUE!"},{"$f":"SUMIF(資料庫!D:D,庫存計算!C15,資料庫!E:E)","v":0},{"$error":"#VALUE!"}]
[{"$f":"表格2[[#This Row],[貨源]]","v":{"$error":"#VALUE!"}},{"$f":"表格2[[#This Row],[編號]]","v":{"$error":"#VALUE!"}},{"$f":"表格2[[#This Row],[產品]]","v":{"$error":"#VALUE!"}},{"$f":"表格2[[#This Row],[單價]]","v":{"$error":"#VALUE!"}},{"$f":"表格2[[#This Row],[入貨價]]","v":{"$error":"#VALUE!"}},{"$error":"#VALUE!"},{"$f":"SUMIF(資料庫!D:D,庫存計算!C16,資料庫!E:E)","v":0},{"$error":"#VALUE!"}]
[{"$f":"表格2[[#This Row],[貨源]]","v":{"$error":"#VALUE!"}},{"$f":"表格2[[#This Row],[編號]]","v":{"$error":"#VALUE!"}},{"$f":"表格2[[#This Row],[產品]]","v":{"$error":"#VALUE!"}},{"$f":"表格2[[#This Row],[單價]]","v":{"$error":"#VALUE!"}},{"$f":"表格2[[#This Row],[入貨價]]","v":{"$error":"#VALUE!"}},{"$error":"#VALUE!"},{"$f":"SUMIF(資料庫!D:D,庫存計算!C17,資料庫!E:E)","v":0},{"$error":"#VALUE!"}]
[{"$f":"表格2[[#This Row],[貨源]]","v":{"$error":"#VALUE!"}},{"$f":"表格2[[#This Row],[編號]]","v":{"$error":"#VALUE!"}},{"$f":"表格2[[#This Row],[產品]]","v":{"$error":"#VALUE!"}},{"$f":"表格2[[#This Row],[單價]]","v":{"$error":"#VALUE!"}},{"$f":"表格2[[#This Row],[入貨價]]","v":{"$error":"#VALUE!"}},{"$error":"#VALUE!"},{"$f":"SUMIF(資料庫!D:D,庫存計算!C18,資料庫!E:E)","v":0},{"$error":"#VALUE!"}]
[{"$f":"表格2[[#This Row],[貨源]]","v":{"$error":"#VALUE!"}},{"$f":"表格2[[#This Row],[編號]]","v":{"$error":"#VALUE!"}},{"$f":"表格2[[#This Row],[產品]]","v":{"$error":"#VALUE!"}},{"$f":"表格2[[#This Row],[單價]]","v":{"$error":"#VALUE!"}},{"$f":"表格2[[#This Row],[入貨價]]","v":{"$error":"#VALUE!"}},{"$error":"#VALUE!"},{"$f":"SUMIF(資料庫!D:D,庫存計算!C19,資料庫!E:E)","v":0},{"$error":"#VALUE!"}]
[{"$f":"表格2[[#This Row],[貨源]]","v":{"$error":"#VALUE!"}},{"$f":"表格2[[#This Row],[編號]]","v":{"$error":"#VALUE!"}},{"$f":"表格2[[#This Row],[產品]]","v":{"$error":"#VALUE!"}},{"$f":"表格2[[#This Row],[單價]]","v":{"$error":"#VALUE!"}},{"$f":"表格2[[#This Row],[入貨價]]","v":{"$error":"#VALUE!"}},{"$error":"#VALUE!"},{"$f":"SUMIF(資料庫!D:D,庫存計算!C20,資料庫!E:E)","v":0},{"$error":"#VALUE!"}]
[{"$f":"表格2[[#This Row],[貨源]]","v":{"$error":"#VALUE!"}},{"$f":"表格2[[#This Row],[編號]]","v":{"$error":"#VALUE!"}},{"$f":"表格2[[#This Row],[產品]]","v":{"$error":"#VALUE!"}},{"$f":"表格2[[#This Row],[單價]]","v":{"$error":"#VALUE!"}},{"$f":"表格2[[#This Row],[入貨價]]","v":{"$error":"#VALUE!"}},{"$error":"#VALUE!"},{"$f":"SUMIF(資料庫!D:D,庫存計算!C21,資料庫!E:E)","v":0},{"$error":"#VALUE!"}]
[{"$f":"表格2[[#This Row],[貨源]]","v":{"$error":"#VALUE!"}},{"$f":"表格2[[#This Row],[編號]]","v":{"$error":"#VALUE!"}},{"$f":"表格2[[#This Row],[產品]]","v":{"$error":"#VALUE!"}},{"$f":"表格2[[#This Row],[單價]]","v":{"$error":"#VALUE!"}},{"$f":"表格2[[#This Row],[入貨價]]","v":{"$error":"#VALUE!"}},{"$error":"#VALUE!"},{"$f":"SUMIF(資料庫!D:D,庫存計算!C22,資料庫!E:E)","v":0},{"$error":"#VALUE!"}]
[{"$f":"表格2[[#This Row],[貨源]]","v":{"$error":"#VALUE!"}},{"$f":"表格2[[#This Row],[編號]]","v":{"$error":"#VALUE!"}},{"$f":"表格2[[#This Row],[產品]]","v":{"$error":"#VALUE!"}},{"$f":"表格2[[#This Row],[單價]]","v":{"$error":"#VALUE!"}},{"$f":"表格2[[#This Row],[入貨價]]","v":{"$error":"#VALUE!"}},{"$error":"#VALUE!"},{"$f":"SUMIF(資料庫!D:D,庫存計算!C23,資料庫!E:E)","v":0},{"$error":"#VALUE!"}]
[{"$f":"表格2[[#This Row],[貨源]]","v":{"$error":"#VALUE!"}},{"$f":"表格2[[#This Row],[編號]]","v":{"$error":"#VALUE!"}},{"$f":"表格2[[#This Row],[產品]]","v":{"$error":"#VALUE!"}},{"$f":"表格2[[#This Row],[單價]]","v":{"$error":"#VALUE!"}},{"$f":"表格2[[#This Row],[入貨價]]","v":{"$error":"#VALUE!"}},{"$error":"#VALUE!"},{"$f":"SUMIF(資料庫!D:D,庫存計算!C24,資料庫!E:E)","v":0},{"$error":"#VALUE!"}]
[{"$f":"表格2[[#This Row],[貨源]]","v":{"$error":"#VALUE!"}},{"$f":"表格2[[#This Row],[編號]]","v":{"$error":"#VALUE!"}},{"$f":"表格2[[#This Row],[產品]]","v":{"$error":"#VALUE!"}},{"$f":"表格2[[#This Row],[單價]]","v":{"$error":"#VALUE!"}},{"$f":"表格2[[#This Row],[入貨價]]","v":{"$error":"#VALUE!"}},{"$error":"#VALUE!"},{"$f":"SUMIF(資料庫!D:D,庫存計算!C25,資料庫!E:E)","v":0},{"$error":"#VALUE!"}]
[{"$f":"表格2[[#This Row],[貨源]]","v":{"$error":"#VALUE!"}},{"$f":"表格2[[#This Row],[編號]]","v":{"$error":"#VALUE!"}},{"$f":"表格2[[#This Row],[產品]]","v":{"$error":"#VALUE!"}},{"$f":"表格2[[#This Row],[單價]]","v":{"$error":"#VALUE!"}},{"$f":"表格2[[#This Row],[入貨價]]","v":{"$error":"#VALUE!"}},{"$error":"#VALUE!"},{"$f":"SUMIF(資料庫!D:D,庫存計算!C26,資料庫!E:E)","v":0},{"$error":"#VALUE!"}]
[{"$f":"表格2[[#This Row],[貨源]]","v":{"$error":"#VALUE!"}},{"$f":"表格2[[#This Row],[編號]]","v":{"$error":"#VALUE!"}},{"$f":"表格2[[#This Row],[產品]]","v":{"$error":"#VALUE!"}},{"$f":"表格2[[#This Row],[單價]]","v":{"$error":"#VALUE!"}},{"$f":"表格2[[#This Row],[入貨價]]","v":{"$error":"#VALUE!"}},{"$error":"#VALUE!"},{"$f":"SUMIF(資料庫!D:D,庫存計算!C27,資料庫!E:E)","v":0},{"$error":"#VALUE!"}]
[{"$f":"表格2[[#This Row],[貨源]]","v":{"$error":"#VALUE!"}},{"$f":"表格2[[#This Row],[編號]]","v":{"$error":"#VALUE!"}},{"$f":"表格2[[#This Row],[產品]]","v":{"$error":"#VALUE!"}},{"$f":"表格2[[#This Row],[單價]]","v":{"$error":"#VALUE!"}},{"$f":"表格2[[#This Row],[入貨價]]","v":{"$error":"#VALUE!"}},{"$error":"#VALUE!"},{"$f":"SUMIF(資料庫!D:D,庫存計算!C28,資料庫!E:E)","v":0},{"$error":"#VALUE!"}]
[{"$f":"表格2[[#This Row],[貨源]]","v":{"$error":"#VALUE!"}},{"$f":"表格2[[#This Row],[編號]]","v":{"$error":"#VALUE!"}},{"$f":"表格2[[#This Row],[產品]]","v":{"$error":"#VALUE!"}},{"$f":"表格2[[#This Row],[單價]]","v":{"$error":"#VALUE!"}},{"$f":"表格2[[#This Row],[入貨價]]","v":{"$error":"#VALUE!"}},{"$error":"#VALUE!"},{"$f":"SUMIF(資料庫!D:D,庫存計算!C29,資料庫!E:E)","v":0},{"$error":"#VALUE!"}]
[{"$f":"表格2[[#This Row],[貨源]]","v":{"$error":"#VALUE!"}},{"$f":"表格2[[#This Row],[編號]]","v":{"$error":"#VALUE!"}},{"$f":"表格2[[#This Row],[產品]]","v":{"$error":"#VALUE!"}},{"$f":"表格2[[#This Row],[單價]]","v":{"$error":"#VALUE!"}},{"$f":"表格2[[#This Row],[入貨價]]","v":{"$error":"#VALUE!"}},{"$error":"#VALUE!"},{"$f":"SUMIF(資料庫!D:D,庫存計算!C30,資料庫!E:E)","v":0},{"$error":"#VALUE!"}]
[{"$f":"表格2[[#This Row],[貨源]]","v":{"$error":"#VALUE!"}},{"$f":"表格2[[#This Row],[編號]]","v":{"$error":"#VALUE!"}},{"$f":"表格2[[#This Row],[產品]]","v":{"$error":"#VALUE!"}},{"$f":"表格2[[#This Row],[單價]]","v":{"$error":"#VALUE!"}},{"$f":"表格2[[#This Row],[入貨價]]","v":{"$error":"#VALUE!"}},{"$error":"#VALUE!"},{"$f":"SUMIF(資料庫!D:D,庫存計算!C31,資料庫!E:E)","v":0},{"$error":"#VALUE!"}]
[{"$f":"表格2[[#This Row],[貨源]]","v":{"$error":"#VALUE!"}},{"$f":"表格2[[#This Row],[編號]]","v":{"$error":"#VALUE!"}},{"$f":"表格2[[#This Row],[產品]]","v":{"$error":"#VALUE!"}},{"$f":"表格2[[#This Row],[單價]]","v":{"$error":"#VALUE!"}},{"$f":"表格2[[#This Row],[入貨價]]","v":{"$error":"#VALUE!"}},{"$error":"#VALUE!"},{"$f":"SUMIF(資料庫!D:D,庫存計算!C32,資料庫!E:E)","v":0},{"$error":"#VALUE!"}]
[{"$f":"表格2[[#This Row],[貨源]]","v":{"$error":"#VALUE!"}},{"$f":"表格2[[#This Row],[編號]]","v":{"$error":"#VALUE!"}},{"$f":"表格2[[#This Row],[產品]]","v":{"$error":"#VALUE!"}},{"$f":"表格2[[#This Row],[單價]]","v":{"$error":"#VALUE!"}},{"$f":"表格2[[#This Row],[入貨價]]","v":{"$error":"#VALUE!"}},{"$error":"#VALUE!"},{"$f":"SUMIF(資料庫!D:D,庫存計算!C33,資料庫!E:E)","v":0},{"$error":"#VALUE!"}]
[{"$f":"表格2[[#This Row],[貨源]]","v":{"$error":"#VALUE!"}},{"$f":"表格2[[#This Row],[編號]]","v":{"$error":"#VALUE!"}},{"$f":"表格2[[#This Row],[產品]]","v":{"$error":"#VALUE!"}},{"$f":"表格2[[#This Row],[單價]]","v":{"$error":"#VALUE!"}},{"$f":"表格2[[#This Row],[入貨價]]","v":{"$error":"#VALUE!"}},{"$error":"#VALUE!"},{"$f":"SUMIF(資料庫!D:D,庫存計算!C34,資料庫!E:E)","v":0},{"$error":"#VALUE!"}]
[{"$f":"表格2[[#This Row],[貨源]]","v":{"$error":"#VALUE!"}},{"$f":"表格2[[#This Row],[編號]]","v":{"$error":"#VALUE!"}},{"$f":"表格2[[#This Row],[產品]]","v":{"$error":"#VALUE!"}},{"$f":"表格2[[#This Row],[單價]]","v":{"$error":"#VALUE!"}},{"$f":"表格2[[#This Row],[入貨價]]","v":{"$error":"#VALUE!"}},{"$error":"#VALUE!"},{"$f":"SUMIF(資料庫!D:D,庫存計算!C35,資料庫!E:E)","v":0},{"$error":"#VALUE!"}]
[{"$f":"表格2[[#This Row],[貨源]]","v":{"$error":"#VALUE!"}},{"$f":"表格2[[#This Row],[編號]]","v":{"$error":"#VALUE!"}},{"$f":"表格2[[#This Row],[產品]]","v":{"$error":"#VALUE!"}},{"$f":"表格2[[#This Row],[單價]]","v":{"$error":"#VALUE!"}},{"$f":"表格2[[#This Row],[入貨價]]","v":{"$error":"#VALUE!"}},{"$error":"#VALUE!"},{"$f":"SUMIF(資料庫!D:D,庫存計算!C36,資料庫!E:E)","v":0},{"$error":"#VALUE!"}]
[{"$f":"表格2[[#This Row],[貨源]]","v":{"$error":"#VALUE!"}},{"$f":"表格2[[#This Row],[編號]]","v":{"$error":"#VALUE!"}},{"$f":"表格2[[#This Row],[產品]]","v":{"$error":"#VALUE!"}},{"$f":"表格2[[#This Row],[單價]]","v":{"$error":"#VALUE!"}},{"$f":"表格2[[#This Row],[入貨價]]","v":{"$error":"#VALUE!"}},{"$error":"#VALUE!"},{"$f":"SUMIF(資料庫!D:D,庫存計算!C37,資料庫!E:E)","v":0},{"$error":"#VALUE!"}]
[{"$f":"表格2[[#This Row],[貨源]]","v":{"$error":"#VALUE!"}},{"$f":"表格2[[#This Row],[編號]]","v":{"$error":"#VALUE!"}},{"$f":"表格2[[#This Row],[產品]]","v":{"$error":"#VALUE!"}},{"$f":"表格2[[#This Row],[單價]]","v":{"$error":"#VALUE!"}},{"$f":"表格2[[#This Row],[入貨價]]","v":{"$error":"#VALUE!"}},{"$error":"#VALUE!"},{"$f":"SUMIF(資料庫!D:D,庫存計算!C38,資料庫!E:E)","v":0},{"$error":"#VALUE!"}]
[{"$f":"表格2[[#This Row],[貨源]]","v":{"$error":"#VALUE!"}},{"$f":"表格2[[#This Row],[編號]]","v":{"$error":"#VALUE!"}},{"$f":"表格2[[#This Row],[產品]]","v":{"$error":"#VALUE!"}},{"$f":"表格2[[#This Row],[單價]]","v":{"$error":"#VALUE!"}},{"$f":"表格2[[#This Row],[入貨價]]","v":{"$error":"#VALUE!"}},{"$error":"#VALUE!"},{"$f":"SUMIF(資料庫!D:D,庫存計算!C39,資料庫!E:E)","v":0},{"$error":"#VALUE!"}]
[{"$f":"表格2[[#This Row],[貨源]]","v":{"$error":"#VALUE!"}},{"$f":"表格2[[#This Row],[編號]]","v":{"$error":"#VALUE!"}},{"$f":"表格2[[#This Row],[產品]]","v":{"$error":"#VALUE!"}},{"$f":"表格2[[#This Row],[單價]]","v":{"$error":"#VALUE!"}},{"$f":"表格2[[#This Row],[入貨價]]","v":{"$error":"#VALUE!"}},{"$error":"#VALUE!"},{"$f":"SUMIF(資料庫!D:D,庫存計算!C40,資料庫!E:E)","v":0},{"$error":"#VALUE!"}]
[{"$f":"表格2[[#This Row],[貨源]]","v":{"$error":"#VALUE!"}},{"$f":"表格2[[#This Row],[編號]]","v":{"$error":"#VALUE!"}},{"$f":"表格2[[#This Row],[產品]]","v":{"$error":"#VALUE!"}},{"$f":"表格2[[#This Row],[單價]]","v":{"$error":"#VALUE!"}},{"$f":"表格2[[#This Row],[入貨價]]","v":{"$error":"#VALUE!"}},{"$error":"#VALUE!"},{"$f":"SUMIF(資料庫!D:D,庫存計算!C41,資料庫!E:E)","v":0},{"$error":"#VALUE!"}]
[{"$f":"表格2[[#This Row],[貨源]]","v":{"$error":"#VALUE!"}},{"$f":"表格2[[#This Row],[編號]]","v":{"$error":"#VALUE!"}},{"$f":"表格2[[#This Row],[產品]]","v":{"$error":"#VALUE!"}},{"$f":"表格2[[#This Row],[單價]]","v":{"$error":"#VALUE!"}},{"$f":"表格2[[#This Row],[入貨價]]","v":{"$error":"#VALUE!"}},{"$error":"#VALUE!"},{"$f":"SUMIF(資料庫!D:D,庫存計算!C42,資料庫!E:E)","v":0},{"$error":"#VALUE!"}]
[{"$f":"表格2[[#This Row],[貨源]]","v":{"$error":"#VALUE!"}},{"$f":"表格2[[#This Row],[編號]]","v":{"$error":"#VALUE!"}},{"$f":"表格2[[#This Row],[產品]]","v":{"$error":"#VALUE!"}},{"$f":"表格2[[#This Row],[單價]]","v":{"$error":"#VALUE!"}},{"$f":"表格2[[#This Row],[入貨價]]","v":{"$error":"#VALUE!"}},{"$error":"#VALUE!"},{"$f":"SUMIF(資料庫!D:D,庫存計算!C43,資料庫!E:E)","v":0},{"$error":"#VALUE!"}]
[{"$f":"表格2[[#This Row],[貨源]]","v":{"$error":"#VALUE!"}},{"$f":"表格2[[#This Row],[編號]]","v":{"$error":"#VALUE!"}},{"$f":"表格2[[#This Row],[產品]]","v":{"$error":"#VALUE!"}},{"$f":"表格2[[#This Row],[單價]]","v":{"$error":"#VALUE!"}},{"$f":"表格2[[#This Row],[入貨價]]","v":{"$error":"#VALUE!"}},{"$error":"#VALUE!"},{"$f":"SUMIF(資料庫!D:D,庫存計算!C44,資料庫!E:E)","v":0},{"$error":"#VALUE!"}]
[{"$f":"表格2[[#This Row],[貨源]]","v":{"$error":"#VALUE!"}},{"$f":"表格2[[#This Row],[編號]]","v":{"$error":"#VALUE!"}},{"$f":"表格2[[#This Row],[產品]]","v":{"$error":"#VALUE!"}},{"$f":"表格2[[#This Row],[單價]]","v":{"$error":"#VALUE!"}},{"$f":"表格2[[#This Row],[入貨價]]","v":{"$error":"#VALUE!"}},{"$error":"#VALUE!"},{"$f":"SUMIF(資料庫!D:D,庫存計算!C45,資料庫!E:E)","v":0},{"$error":"#VALUE!"}]
[{"$f":"表格2[[#This Row],[貨源]]","v":{"$error":"#VALUE!"}},{"$f":"表格2[[#This Row],[編號]]","v":{"$error":"#VALUE!"}},{"$f":"表格2[[#This Row],[產品]]","v":{"$error":"#VALUE!"}},{"$f":"表格2[[#This Row],[單價]]","v":{"$error":"#VALUE!"}},{"$f":"表格2[[#This Row],[入貨價]]","v":{"$error":"#VALUE!"}},{"$error":"#VALUE!"},{"$f":"SUMIF(資料庫!D:D,庫存計算!C46,資料庫!E:E)","v":0},{"$error":"#VALUE!"}]
[{"$f":"表格2[[#This Row],[貨源]]","v":{"$error":"#VALUE!"}},{"$f":"表格2[[#This Row],[編號]]","v":{"$error":"#VALUE!"}},{"$f":"表格2[[#This Row],[產品]]","v":{"$error":"#VALUE!"}},{"$f":"表格2[[#This Row],[單價]]","v":{"$error":"#VALUE!"}},{"$f":"表格2[[#This Row],[入貨價]]","v":{"$error":"#VALUE!"}},{"$error":"#VALUE!"},{"$f":"SUMIF(資料庫!D:D,庫存計算!C47,資料庫!E:E)","v":0},{"$error":"#VALUE!"}]
[{"$f":"表格2[[#This Row],[貨源]]","v":{"$error":"#VALUE!"}},{"$f":"表格2[[#This Row],[編號]]","v":{"$error":"#VALUE!"}},{"$f":"表格2[[#This Row],[產品]]","v":{"$error":"#VALUE!"}},{"$f":"表格2[[#This Row],[單價]]","v":{"$error":"#VALUE!"}},{"$f":"表格2[[#This Row],[入貨價]]","v":{"$error":"#VALUE!"}},{"$error":"#VALUE!"},{"$f":"SUMIF(資料庫!D:D,庫存計算!C48,資料庫!E:E)","v":0},{"$error":"#VALUE!"}]
[{"$f":"表格2[[#This Row],[貨源]]","v":{"$error":"#VALUE!"}},{"$f":"表格2[[#This Row],[編號]]","v":{"$error":"#VALUE!"}},{"$f":"表格2[[#This Row],[產品]]","v":{"$error":"#VALUE!"}},{"$f":"表格2[[#This Row],[單價]]","v":{"$error":"#VALUE!"}},{"$f":"表格2[[#This Row],[入貨價]]","v":{"$error":"#VALUE!"}},{"$error":"#VALUE!"},{"$f":"SUMIF(資料庫!D:D,庫存計算!C49,資料庫!E:E)","v":0},{"$error":"#VALUE!"}]
[{"$f":"表格2[[#This Row],[貨源]]","v":{"$error":"#VALUE!"}},{"$f":"表格2[[#This Row],[編號]]","v":{"$error":"#VALUE!"}},{"$f":"表格2[[#This Row],[產品]]","v":{"$error":"#VALUE!"}},{"$f":"表格2[[#This Row],[單價]]","v":{"$error":"#VALUE!"}},{"$f":"表格2[[#This Row],[入貨價]]","v":{"$error":"#VALUE!"}},{"$error":"#VALUE!"},{"$f":"SUMIF(資料庫!D:D,庫存計算!C50,資料庫!E:E)","v":0},{"$error":"#VALUE!"}]
[{"$f":"表格2[[#This Row],[貨源]]","v":{"$error":"#VALUE!"}},{"$f":"表格2[[#This Row],[編號]]","v":{"$error":"#VALUE!"}},{"$f":"表格2[[#This Row],[產品]]","v":{"$error":"#VALUE!"}},{"$f":"表格2[[#This Row],[單價]]","v":{"$error":"#VALUE!"}},{"$f":"表格2[[#This Row],[入貨價]]","v":{"$error":"#VALUE!"}},{"$error":"#VALUE!"},{"$f":"SUMIF(資料庫!D:D,庫存計算!C51,資料庫!E:E)","v":0},{"$error":"#VALUE!"}]
[{"$f":"表格2[[#This Row],[貨源]]","v":{"$error":"#VALUE!"}},{"$f":"表格2[[#This Row],[編號]]","v":{"$error":"#VALUE!"}},{"$f":"表格2[[#This Row],[產品]]","v":{"$error":"#VALUE!"}},{"$f":"表格2[[#This Row],[單價]]","v":{"$error":"#VALUE!"}},{"$f":"表格2[[#This Row],[入貨價]]","v":{"$error":"#VALUE!"}},{"$error":"#VALUE!"},{"$f":"SUMIF(資料庫!D:D,庫存計算!C52,資料庫!E:E)","v":0},{"$error":"#VALUE!"}]
[{"$f":"表格2[[#This Row],[貨源]]","v":{"$error":"#VALUE!"}},{"$f":"表格2[[#This Row],[編號]]","v":{"$error":"#VALUE!"}},{"$f":"表格2[[#This Row],[產品]]","v":{"$error":"#VALUE!"}},{"$f":"表格2[[#This Row],[單價]]","v":{"$error":"#VALUE!"}},{"$f":"表格2[[#This Row],[入貨價]]","v":{"$error":"#VALUE!"}},{"$error":"#VALUE!"},{"$f":"SUMIF(資料庫!D:D,庫存計算!C53,資料庫!E:E)","v":0},{"$error":"#VALUE!"}]
[{"$f":"表格2[[#This Row],[貨源]]","v":{"$error":"#VALUE!"}},{"$f":"表格2[[#This Row],[編號]]","v":{"$error":"#VALUE!"}},{"$f":"表格2[[#This Row],[產品]]","v":{"$error":"#VALUE!"}},{"$f":"表格2[[#This Row],[單價]]","v":{"$error":"#VALUE!"}},{"$f":"表格2[[#This Row],[入貨價]]","v":{"$error":"#VALUE!"}},{"$error":"#VALUE!"},{"$f":"SUMIF(資料庫!D:D,庫存計算!C54,資料庫!E:E)","v":0},{"$error":"#VALUE!"}]
[{"$f":"表格2[[#This Row],[貨源]]","v":{"$error":"#VALUE!"}},{"$f":"表格2[[#This Row],[編號]]","v":{"$error":"#VALUE!"}},{"$f":"表格2[[#This Row],[產品]]","v":{"$error":"#VALUE!"}},{"$f":"表格2[[#This Row],[單價]]","v":{"$error":"#VALUE!"}},{"$f":"表格2[[#This Row],[入貨價]]","v":{"$error":"#VALUE!"}},{"$error":"#VALUE!"},{"$f":"SUMIF(資料庫!D:D,庫存計算!C55,資料庫!E:E)","v":0},{"$error":"#VALUE!"}]
[{"$f":"表格2[[#This Row],[貨源]]","v":{"$error":"#VALUE!"}},{"$f":"表格2[[#This Row],[編號]]","v":{"$error":"#VALUE!"}},{"$f":"表格2[[#This Row],[產品]]","v":{"$error":"#VALUE!"}},{"$f":"表格2[[#This Row],[單價]]","v":{"$error":"#VALUE!"}},{"$f":"表格2[[#This Row],[入貨價]]","v":{"$error":"#VALUE!"}},{"$error":"#VALUE!"},{"$f":"SUMIF(資料庫!D:D,庫存計算!C56,資料庫!E:E)","v":0},{"$error":"#VALUE!"}]
[{"$f":"表格2[[#This Row],[貨源]]","v":{"$error":"#VALUE!"}},{"$f":"表格2[[#This Row],[編號]]","v":{"$error":"#VALUE!"}},{"$f":"表格2[[#This Row],[產品]]","v":{"$error":"#VALUE!"}},{"$f":"表格2[[#This Row],[單價]]","v":{"$error":"#VALUE!"}},{"$f":"表格2[[#This Row],[入貨價]]","v":{"$error":"#VALUE!"}},{"$error":"#VALUE!"},{"$f":"SUMIF(資料庫!D:D,庫存計算!C57,資料庫!E:E)","v":0},{"$error":"#VALUE!"}]
[{"$f":"表格2[[#This Row],[貨源]]","v":{"$error":"#VALUE!"}},{"$f":"表格2[[#This Row],[編號]]","v":{"$error":"#VALUE!"}},{"$f":"表格2[[#This Row],[產品]]","v":{"$error":"#VALUE!"}},{"$f":"表格2[[#This Row],[單價]]","v":{"$error":"#VALUE!"}},{"$f":"表格2[[#This Row],[入貨價]]","v":{"$error":"#VALUE!"}},{"$error":"#VALUE!"},{"$f":"SUMIF(資料庫!D:D,庫存計算!C58,資料庫!E:E)","v":0},{"$error":"#VALUE!"}]
[{"$f":"表格2[[#This Row],[貨源]]","v":{"$error":"#VALUE!"}},{"$f":"表格2[[#This Row],[編號]]","v":{"$error":"#VALUE!"}},{"$f":"表格2[[#This Row],[產品]]","v":{"$error":"#VALUE!"}},{"$f":"表格2[[#This Row],[單價]]","v":{"$error":"#VALUE!"}},{"$f":"表格2[[#This Row],[入貨價]]","v":{"$error":"#VALUE!"}},{"$error":"#VALUE!"},{"$f":"SUMIF(資料庫!D:D,庫存計算!C59,資料庫!E:E)","v":0},{"$error":"#VALUE!"}]
[{"$f":"表格2[[#This Row],[貨源]]","v":{"$error":"#VALUE!"}},{"$f":"表格2[[#This Row],[編號]]","v":{"$error":"#VALUE!"}},{"$f":"表格2[[#This Row],[產品]]","v":{"$error":"#VALUE!"}},{"$f":"表格2[[#This Row],[單價]]","v":{"$error":"#VALUE!"}},{"$f":"表格2[[#This Row],[入貨價]]","v":{"$error":"#VALUE!"}},{"$error":"#VALUE!"},{"$f":"SUMIF(資料庫!D:D,庫存計算!C60,資料庫!E:E)","v":0},{"$error":"#VALUE!"}]
[{"$f":"表格2[[#This Row],[貨源]]","v":{"$error":"#VALUE!"}},{"$f":"表格2[[#This Row],[編號]]","v":{"$error":"#VALUE!"}},{"$f":"表格2[[#This Row],[產品]]","v":{"$error":"#VALUE!"}},{"$f":"表格2[[#This Row],[單價]]","v":{"$error":"#VALUE!"}},{"$f":"表格2[[#This Row],[入貨價]]","v":{"$error":"#VALUE!"}},{"$error":"#VALUE!"},{"$f":"SUMIF(資料庫!D:D,庫存計算!C61,資料庫!E:E)","v":0},{"$error":"#VALUE!"}]
[{"$f":"表格2[[#This Row],[貨源]]","v":{"$error":"#VALUE!"}},{"$f":"表格2[[#This Row],[編號]]","v":{"$error":"#VALUE!"}},{"$f":"表格2[[#This Row],[產品]]","v":{"$error":"#VALUE!"}},{"$f":"表格2[[#This Row],[單價]]","v":{"$error":"#VALUE!"}},{"$f":"表格2[[#This Row],[入貨價]]","v":{"$error":"#VALUE!"}},{"$error":"#VALUE!"},{"$f":"SUMIF(資料庫!D:D,庫存計算!C62,資料庫!E:E)","v":0},{"$error":"#VALUE!"}]
[{"$f":"表格2[[#This Row],[貨源]]","v":{"$error":"#VALUE!"}},{"$f":"表格2[[#This Row],[編號]]","v":{"$error":"#VALUE!"}},{"$f":"表格2[[#This Row],[產品]]","v":{"$error":"#VALUE!"}},{"$f":"表格2[[#This Row],[單價]]","v":{"$error":"#VALUE!"}},{"$f":"表格2[[#This Row],[入貨價]]","v":{"$error":"#VALUE!"}},{"$error":"#VALUE!"},{"$f":"SUMIF(資料庫!D:D,庫存計算!C63,資料庫!E:E)","v":0},{"$error":"#VALUE!"}]
[{"$f":"表格2[[#This Row],[貨源]]","v":{"$error":"#VALUE!"}},{"$f":"表格2[[#This Row],[編號]]","v":{"$error":"#VALUE!"}},{"$f":"表格2[[#This Row],[產品]]","v":{"$error":"#VALUE!"}},{"$f":"表格2[[#This Row],[單價]]","v":{"$error":"#VALUE!"}},{"$f":"表格2[[#This Row],[入貨價]]","v":{"$error":"#VALUE!"}},{"$error":"#VALUE!"},{"$f":"SUMIF(資料庫!D:D,庫存計算!C64,資料庫!E:E)","v":0},{"$error":"#VALUE!"}]
[{"$f":"表格2[[#This Row],[貨源]]","v":{"$error":"#VALUE!"}},{"$f":"表格2[[#This Row],[編號]]","v":{"$error":"#VALUE!"}},{"$f":"表格2[[#This Row],[產品]]","v":{"$error":"#VALUE!"}},{"$f":"表格2[[#This Row],[單價]]","v":{"$error":"#VALUE!"}},{"$f":"表格2[[#This Row],[入貨價]]","v":{"$error":"#VALUE!"}},{"$error":"#VALUE!"},{"$f":"SUMIF(資料庫!D:D,庫存計算!C65,資料庫!E:E)","v":0},{"$error":"#VALUE!"}]
[{"$f":"表格2[[#This Row],[貨源]]","v":{"$error":"#VALUE!"}},{"$f":"表格2[[#This Row],[編號]]","v":{"$error":"#VALUE!"}},{"$f":"表格2[[#This Row],[產品]]","v":{"$error":"#VALUE!"}},{"$f":"表格2[[#This Row],[單價]]","v":{"$error":"#VALUE!"}},{"$f":"表格2[[#This Row],[入貨價]]","v":{"$error":"#VALUE!"}},{"$error":"#VALUE!"},{"$f":"SUMIF(資料庫!D:D,庫存計算!C66,資料庫!E:E)","v":0},{"$error":"#VALUE!"}]
[{"$f":"表格2[[#This Row],[貨源]]","v":{"$error":"#VALUE!"}},{"$f":"表格2[[#This Row],[編號]]","v":{"$error":"#VALUE!"}},{"$f":"表格2[[#This Row],[產品]]","v":{"$error":"#VALUE!"}},{"$f":"表格2[[#This Row],[單價]]","v":{"$error":"#VALUE!"}},{"$f":"表格2[[#This Row],[入貨價]]","v":{"$error":"#VALUE!"}},{"$error":"#VALUE!"},{"$f":"SUMIF(資料庫!D:D,庫存計算!C67,資料庫!E:E)","v":0},{"$error":"#VALUE!"}]
[{"$f":"表格2[[#This Row],[貨源]]","v":{"$error":"#VALUE!"}},{"$f":"表格2[[#This Row],[編號]]","v":{"$error":"#VALUE!"}},{"$f":"表格2[[#This Row],[產品]]","v":{"$error":"#VALUE!"}},{"$f":"表格2[[#This Row],[單價]]","v":{"$error":"#VALUE!"}},{"$f":"表格2[[#This Row],[入貨價]]","v":{"$error":"#VALUE!"}},{"$f":"E68","v":{"$error":"#VALUE!"}},{"$f":"SUMIF(資料庫!D:D,庫存計算!C68,資料庫!E:E)","v":0},{"$f":"(D68-F68)*G68","v":{"$error":"#VALUE!"}}]
[{"$f":"表格2[[#This Row],[貨源]]","v":{"$error":"#VALUE!"}},{"$f":"表格2[[#This Row],[編號]]","v":{"$error":"#VALUE!"}},{"$f":"表格2[[#This Row],[產品]]","v":{"$error":"#VALUE!"}},{"$f":"表格2[[#This Row],[單價]]","v":{"$error":"#VALUE!"}},{"$f":"表格2[[#This Row],[入貨價]]","v":{"$error":"#VALUE!"}},{"$error":"#VALUE!"},{"$f":"SUMIF(資料庫!D:D,庫存計算!C69,資料庫!E:E)","v":0},{"$error":"#VALUE!"}]
[{"$f":"表格2[[#This Row],[貨源]]","v":{"$error":"#VALUE!"}},{"$f":"表格2[[#This Row],[編號]]","v":{"$error":"#VALUE!"}},{"$f":"表格2[[#This Row],[產品]]","v":{"$error":"#VALUE!"}},{"$f":"表格2[[#This Row],[單價]]","v":{"$error":"#VALUE!"}},{"$f":"表格2[[#This Row],[入貨價]]","v":{"$error":"#VALUE!"}},{"$error":"#VALUE!"},{"$f":"SUMIF(資料庫!D:D,庫存計算!C70,資料庫!E:E)","v":0},{"$error":"#VALUE!"}]
[{"$f":"表格2[[#This Row],[貨源]]","v":{"$error":"#VALUE!"}},{"$f":"表格2[[#This Row],[編號]]","v":{"$error":"#VALUE!"}},{"$f":"表格2[[#This Row],[產品]]","v":{"$error":"#VALUE!"}},{"$f":"表格2[[#This Row],[單價]]","v":{"$error":"#VALUE!"}},{"$f":"表格2[[#This Row],[入貨價]]","v":{"$error":"#VALUE!"}},{"$error":"#VALUE!"},{"$f":"SUMIF(資料庫!D:D,庫存計算!C71,資料庫!E:E)","v":0},{"$error":"#VALUE!"}]
[{"$f":"表格2[[#This Row],[貨源]]","v":{"$error":"#VALUE!"}},{"$f":"表格2[[#This Row],[編號]]","v":{"$error":"#VALUE!"}},{"$f":"表格2[[#This Row],[產品]]","v":{"$error":"#VALUE!"}},{"$f":"表格2[[#This Row],[單價]]","v":{"$error":"#VALUE!"}},{"$f":"表格2[[#This Row],[入貨價]]","v":{"$error":"#VALUE!"}},{"$error":"#VALUE!"},{"$f":"SUMIF(資料庫!D:D,庫存計算!C72,資料庫!E:E)","v":0},{"$error":"#VALUE!"}]
[{"$f":"表格2[[#This Row],[貨源]]","v":{"$error":"#VALUE!"}},{"$f":"表格2[[#This Row],[編號]]","v":{"$error":"#VALUE!"}},{"$f":"表格2[[#This Row],[產品]]","v":{"$error":"#VALUE!"}},{"$f":"表格2[[#This Row],[單價]]","v":{"$error":"#VALUE!"}},{"$f":"表格2[[#This Row],[入貨價]]","v":{"$error":"#VALUE!"}},{"$error":"#VALUE!"},{"$f":"SUMIF(資料庫!D:D,庫存計算!C73,資料庫!E:E)","v":0},{"$error":"#VALUE!"}]
[{"$f":"表格2[[#This Row],[貨源]]","v":{"$error":"#VALUE!"}},{"$f":"表格2[[#This Row],[編號]]","v":{"$error":"#VALUE!"}},{"$f":"表格2[[#This Row],[產品]]","v":{"$error":"#VALUE!"}},{"$f":"表格2[[#This Row],[單價]]","v":{"$error":"#VALUE!"}},{"$f":"表格2[[#This Row],[入貨價]]","v":{"$error":"#VALUE!"}},{"$error":"#VALUE!"},{"$f":"SUMIF(資料庫!D:D,庫存計算!C74,資料庫!E:E)","v":0},{"$error":"#VALUE!"}]
[{"$f":"表格2[[#This Row],[貨源]]","v":{"$error":"#VALUE!"}},{"$f":"表格2[[#This Row],[編號]]","v":{"$error":"#VALUE!"}},{"$f":"表格2[[#This Row],[產品]]","v":{"$error":"#VALUE!"}},{"$f":"表格2[[#This Row],[單價]]","v":{"$error":"#VALUE!"}},{"$f":"表格2[[#This Row],[入貨價]]","v":{"$error":"#VALUE!"}},{"$error":"#VALUE!"},{"$f":"SUMIF(資料庫!D:D,庫存計算!C75,資料庫!E:E)","v":0},{"$error":"#VALUE!"}]
[{"$f":"表格2[[#This Row],[貨源]]","v":{"$error":"#VALUE!"}},{"$f":"表格2[[#This Row],[編號]]","v":{"$error":"#VALUE!"}},{"$f":"表格2[[#This Row],[產品]]","v":{"$error":"#VALUE!"}},{"$f":"表格2[[#This Row],[單價]]","v":{"$error":"#VALUE!"}},{"$f":"表格2[[#This Row],[入貨價]]","v":{"$error":"#VALUE!"}},{"$error":"#VALUE!"},{"$f":"SUMIF(資料庫!D:D,庫存計算!C76,資料庫!E:E)","v":0},{"$error":"#VALUE!"}]
[{"$f":"表格2[[#This Row],[貨源]]","v":{"$error":"#VALUE!"}},{"$f":"表格2[[#This Row],[編號]]","v":{"$error":"#VALUE!"}},{"$f":"表格2[[#This Row],[產品]]","v":{"$error":"#VALUE!"}},{"$f":"表格2[[#This Row],[單價]]","v":{"$error":"#VALUE!"}},{"$f":"表格2[[#This Row],[入貨價]]","v":{"$error":"#VALUE!"}},{"$error":"#VALUE!"},{"$f":"SUMIF(資料庫!D:D,庫存計算!C77,資料庫!E:E)","v":0},{"$error":"#VALUE!"}]
[{"$f":"表格2[[#This Row],[貨源]]","v":{"$error":"#VALUE!"}},{"$f":"表格2[[#This Row],[編號]]","v":{"$error":"#VALUE!"}},{"$f":"表格2[[#This Row],[產品]]","v":{"$error":"#VALUE!"}},{"$f":"表格2[[#This Row],[單價]]","v":{"$error":"#VALUE!"}},{"$f":"表格2[[#This Row],[入貨價]]","v":{"$error":"#VALUE!"}},{"$error":"#VALUE!"},{"$f":"SUMIF(資料庫!D:D,庫存計算!C78,資料庫!E:E)","v":0},{"$error":"#VALUE!"}]
[{"$f":"表格2[[#This Row],[貨源]]","v":{"$error":"#VALUE!"}},{"$f":"表格2[[#This Row],[編號]]","v":{"$error":"#VALUE!"}},{"$f":"表格2[[#This Row],[產品]]","v":{"$error":"#VALUE!"}},{"$f":"表格2[[#This Row],[單價]]","v":{"$error":"#VALUE!"}},{"$f":"表格2[[#This Row],[入貨價]]","v":{"$error":"#VALUE!"}},{"$error":"#VALUE!"},{"$f":"SUMIF(資料庫!D:D,庫存計算!C79,資料庫!E:E)","v":0},{"$error":"#VALUE!"}]
[{"$f":"表格2[[#This Row],[貨源]]","v":{"$error":"#VALUE!"}},{"$f":"表格2[[#This Row],[編號]]","v":{"$error":"#VALUE!"}},{"$f":"表格2[[#This Row],[產品]]","v":{"$error":"#VALUE!"}},{"$f":"表格2[[#This Row],[單價]]","v":{"$error":"#VALUE!"}},{"$f":"表格2[[#This Row],[入貨價]]","v":{"$error":"#VALUE!"}},{"$error":"#VALUE!"},{"$f":"SUMIF(資料庫!D:D,庫存計算!C80,資料庫!E:E)","v":0},{"$error":"#VALUE!"}]
[{"$f":"表格2[[#This Row],[貨源]]","v":{"$error":"#VALUE!"}},{"$f":"表格2[[#This Row],[編號]]","v":{"$error":"#VALUE!"}},{"$f":"表格2[[#This Row],[產品]]","v":{"$error":"#VALUE!"}},{"$f":"表格2[[#This Row],[單價]]","v":{"$error":"#VALUE!"}},{"$f":"表格2[[#This Row],[入貨價]]","v":{"$error":"#VALUE!"}},{"$error":"#VALUE!"},{"$f":"SUMIF(資料庫!D:D,庫存計算!C81,資料庫!E:E)","v":0},{"$error":"#VALUE!"}]
[{"$f":"表格2[[#This Row],[貨源]]","v":{"$error":"#VALUE!"}},{"$f":"表格2[[#This Row],[編號]]","v":{"$error":"#VALUE!"}},{"$f":"表格2[[#This Row],[產品]]","v":{"$error":"#VALUE!"}},{"$f":"表格2[[#This Row],[單價]]","v":{"$error":"#VALUE!"}},{"$f":"表格2[[#This Row],[入貨價]]","v":{"$error":"#VALUE!"}},{"$error":"#VALUE!"},{"$f":"SUMIF(資料庫!D:D,庫存計算!C82,資料庫!E:E)","v":0},{"$error":"#VALUE!"}]
[{"$f":"表格2[[#This Row],[貨源]]","v":{"$error":"#VALUE!"}},{"$f":"表格2[[#This Row],[編號]]","v":{"$error":"#VALUE!"}},{"$f":"表格2[[#This Row],[產品]]","v":{"$error":"#VALUE!"}},{"$f":"表格2[[#This Row],[單價]]","v":{"$error":"#VALUE!"}},{"$f":"表格2[[#This Row],[入貨價]]","v":{"$error":"#VALUE!"}},{"$error":"#VALUE!"},{"$f":"SUMIF(資料庫!D:D,庫存計算!C83,資料庫!E:E)","v":0},{"$error":"#VALUE!"}]
[{"$f":"表格2[[#This Row],[貨源]]","v":{"$error":"#VALUE!"}},{"$f":"表格2[[#This Row],[編號]]","v":{"$error":"#VALUE!"}},{"$f":"表格2[[#This Row],[產品]]","v":{"$error":"#VALUE!"}},{"$f":"表格2[[#This Row],[單價]]","v":{"$error":"#VALUE!"}},{"$f":"表格2[[#This Row],[入貨價]]","v":{"$error":"#VALUE!"}},{"$error":"#VALUE!"},{"$f":"SUMIF(資料庫!D:D,庫存計算!C84,資料庫!E:E)","v":0},{"$error":"#VALUE!"}]
[{"$f":"表格2[[#This Row],[貨源]]","v":{"$error":"#VALUE!"}},{"$f":"表格2[[#This Row],[編號]]","v":{"$error":"#VALUE!"}},{"$f":"表格2[[#This Row],[產品]]","v":{"$error":"#VALUE!"}},{"$f":"表格2[[#This Row],[單價]]","v":{"$error":"#VALUE!"}},{"$f":"表格2[[#This Row],[入貨價]]","v":{"$error":"#VALUE!"}},{"$error":"#VALUE!"},{"$f":"SUMIF(資料庫!D:D,庫存計算!C85,資料庫!E:E)","v":0},{"$error":"#VALUE!"}]
[{"$f":"表格2[[#This Row],[貨源]]","v":{"$error":"#VALUE!"}},{"$f":"表格2[[#This Row],[編號]]","v":{"$error":"#VALUE!"}},{"$f":"表格2[[#This Row],[產品]]","v":{"$error":"#VALUE!"}},{"$f":"表格2[[#This Row],[單價]]","v":{"$error":"#VALUE!"}},{"$f":"表格2[[#This Row],[入貨價]]","v":{"$error":"#VALUE!"}},{"$error":"#VALUE!"},{"$f":"SUMIF(資料庫!D:D,庫存計算!C86,資料庫!E:E)","v":0},{"$error":"#VALUE!"}]
[{"$f":"表格2[[#This Row],[貨源]]","v":{"$error":"#VALUE!"}},{"$f":"表格2[[#This Row],[編號]]","v":{"$error":"#VALUE!"}},{"$f":"表格2[[#This Row],[產品]]","v":{"$error":"#VALUE!"}},{"$f":"表格2[[#This Row],[單價]]","v":{"$error":"#VALUE!"}},{"$f":"表格2[[#This Row],[入貨價]]","v":{"$error":"#VALUE!"}},{"$error":"#VALUE!"},{"$f":"SUMIF(資料庫!D:D,庫存計算!C87,資料庫!E:E)","v":0},{"$error":"#VALUE!"}]
[{"$f":"表格2[[#This Row],[貨源]]","v":{"$error":"#VALUE!"}},{"$f":"表格2[[#This Row],[編號]]","v":{"$error":"#VALUE!"}},{"$f":"表格2[[#This Row],[產品]]","v":{"$error":"#VALUE!"}},{"$f":"表格2[[#This Row],[單價]]","v":{"$error":"#VALUE!"}},{"$f":"表格2[[#This Row],[入貨價]]","v":{"$error":"#VALUE!"}},{"$error":"#VALUE!"},{"$f":"SUMIF(資料庫!D:D,庫存計算!C88,資料庫!E:E)","v":0},{"$error":"#VALUE!"}]
[{"$f":"表格2[[#This Row],[貨源]]","v":{"$error":"#VALUE!"}},{"$f":"表格2[[#This Row],[編號]]","v":{"$error":"#VALUE!"}},{"$f":"表格2[[#This Row],[產品]]","v":{"$error":"#VALUE!"}},{"$f":"表格2[[#This Row],[單價]]","v":{"$error":"#VALUE!"}},{"$f":"表格2[[#This Row],[入貨價]]","v":{"$error":"#VALUE!"}},{"$error":"#VALUE!"},{"$f":"SUMIF(資料庫!D:D,庫存計算!C89,資料庫!E:E)","v":0},{"$error":"#VALUE!"}]
[{"$f":"表格2[[#This Row],[貨源]]","v":{"$error":"#VALUE!"}},{"$f":"表格2[[#This Row],[編號]]","v":{"$error":"#VALUE!"}},{"$f":"表格2[[#This Row],[產品]]","v":{"$error":"#VALUE!"}},{"$f":"表格2[[#This Row],[單價]]","v":{"$error":"#VALUE!"}},{"$f":"表格2[[#This Row],[入貨價]]","v":{"$error":"#VALUE!"}},{"$error":"#VALUE!"},{"$f":"SUMIF(資料庫!D:D,庫存計算!C90,資料庫!E:E)","v":0},{"$error":"#VALUE!"}]
[{"$f":"表格2[[#This Row],[貨源]]","v":{"$error":"#VALUE!"}},{"$f":"表格2[[#This Row],[編號]]","v":{"$error":"#VALUE!"}},{"$f":"表格2[[#This Row],[產品]]","v":{"$error":"#VALUE!"}},{"$f":"表格2[[#This Row],[單價]]","v":{"$error":"#VALUE!"}},{"$f":"表格2[[#This Row],[入貨價]]","v":{"$error":"#VALUE!"}},{"$error":"#VALUE!"},{"$f":"SUMIF(資料庫!D:D,庫存計算!C91,資料庫!E:E)","v":0},{"$error":"#VALUE!"}]
[{"$f":"表格2[[#This Row],[貨源]]","v":{"$error":"#VALUE!"}},{"$f":"表格2[[#This Row],[編號]]","v":{"$error":"#VALUE!"}},{"$f":"表格2[[#This Row],[產品]]","v":{"$error":"#VALUE!"}},{"$f":"表格2[[#This Row],[單價]]","v":{"$error":"#VALUE!"}},{"$f":"表格2[[#This Row],[入貨價]]","v":{"$error":"#VALUE!"}},{"$error":"#VALUE!"},{"$f":"SUMIF(資料庫!D:D,庫存計算!C92,資料庫!E:E)","v":0},{"$error":"#VALUE!"}]
[{"$f":"表格2[[#This Row],[貨源]]","v":{"$error":"#VALUE!"}},{"$f":"表格2[[#This Row],[編號]]","v":{"$error":"#VALUE!"}},{"$f":"表格2[[#This Row],[產品]]","v":{"$error":"#VALUE!"}},{"$f":"表格2[[#This Row],[單價]]","v":{"$error":"#VALUE!"}},{"$f":"表格2[[#This Row],[入貨價]]","v":{"$error":"#VALUE!"}},{"$error":"#VALUE!"},{"$f":"SUMIF(資料庫!D:D,庫存計算!C93,資料庫!E:E)","v":0},{"$error":"#VALUE!"}]
[{"$f":"表格2[[#This Row],[貨源]]","v":{"$error":"#VALUE!"}},{"$f":"表格2[[#This Row],[編號]]","v":{"$error":"#VALUE!"}},{"$f":"表格2[[#This Row],[產品]]","v":{"$error":"#VALUE!"}},{"$f":"表格2[[#This Row],[單價]]","v":{"$error":"#VALUE!"}},{"$f":"表格2[[#This Row],[入貨價]]","v":{"$error":"#VALUE!"}},{"$error":"#VALUE!"},{"$f":"SUMIF(資料庫!D:D,庫存計算!C94,資料庫!E:E)","v":0},{"$error":"#VALUE!"}]
[{"$f":"表格2[[#This Row],[貨源]]","v":{"$error":"#VALUE!"}},{"$f":"表格2[[#This Row],[編號]]","v":{"$error":"#VALUE!"}},{"$f":"表格2[[#This Row],[產品]]","v":{"$error":"#VALUE!"}},{"$f":"表格2[[#This Row],[單價]]","v":{"$error":"#VALUE!"}},{"$f":"表格2[[#This Row],[入貨價]]","v":{"$error":"#VALUE!"}},{"$error":"#VALUE!"},{"$f":"SUMIF(資料庫!D:D,庫存計算!C95,資料庫!E:E)","v":0},{"$error":"#VALUE!"}]
[{"$f":"表格2[[#This Row],[貨源]]","v":{"$error":"#VALUE!"}},{"$f":"表格2[[#This Row],[編號]]","v":{"$error":"#VALUE!"}},{"$f":"表格2[[#This Row],[產品]]","v":{"$error":"#VALUE!"}},{"$f":"表格2[[#This Row],[單價]]","v":{"$error":"#VALUE!"}},{"$f":"表格2[[#This Row],[入貨價]]","v":{"$error":"#VALUE!"}},{"$error":"#VALUE!"},{"$f":"SUMIF(資料庫!D:D,庫存計算!C96,資料庫!E:E)","v":0},{"$error":"#VALUE!"}]
[{"$f":"表格2[[#This Row],[貨源]]","v":{"$error":"#VALUE!"}},{"$f":"表格2[[#This Row],[編號]]","v":{"$error":"#VALUE!"}},{"$f":"表格2[[#This Row],[產品]]","v":{"$error":"#VALUE!"}},{"$f":"表格2[[#This Row],[單價]]","v":{"$error":"#VALUE!"}},{"$f":"表格2[[#This Row],[入貨價]]","v":{"$error":"#VALUE!"}},{"$error":"#VALUE!"},{"$f":"SUMIF(資料庫!D:D,庫存計算!C97,資料庫!E:E)","v":0},{"$error":"#VALUE!"}]
[{"$f":"表格2[[#This Row],[貨源]]","v":{"$error":"#VALUE!"}},{"$f":"表格2[[#This Row],[編號]]","v":{"$error":"#VALUE!"}},{"$f":"表格2[[#This Row],[產品]]","v":{"$error":"#VALUE!"}},{"$f":"表格2[[#This Row],[單價]]","v":{"$error":"#VALUE!"}},{"$f":"表格2[[#This Row],[入貨價]]","v":{"$error":"#VALUE!"}},{"$error":"#VALUE!"},{"$f":"SUMIF(資料庫!D:D,庫存計算!C98,資料庫!E:E)","v":0},{"$error":"#VALUE!"}]
[{"$f":"表格2[[#This Row],[貨源]]","v":{"$error":"#VALUE!"}},{"$f":"表格2[[#This Row],[編號]]","v":{"$error":"#VALUE!"}},{"$f":"表格2[[#This Row],[產品]]","v":{"$error":"#VALUE!"}},{"$f":"表格2[[#This Row],[單價]]","v":{"$error":"#VALUE!"}},{"$f":"表格2[[#This Row],[入貨價]]","v":{"$error":"#VALUE!"}},{"$error":"#VALUE!"},{"$f":"SUMIF(資料庫!D:D,庫存計算!C99,資料庫!E:E)","v":0},{"$error":"#VALUE!"}]
[{"$f":"表格2[[#This Row],[貨源]]","v":{"$error":"#VALUE!"}},{"$f":"表格2[[#This Row],[編號]]","v":{"$error":"#VALUE!"}},{"$f":"表格2[[#This Row],[產品]]","v":{"$error":"#VALUE!"}},{"$f":"表格2[[#This Row],[單價]]","v":{"$error":"#VALUE!"}},{"$f":"表格2[[#This Row],[入貨價]]","v":{"$error":"#VALUE!"}},{"$error":"#VALUE!"},{"$f":"SUMIF(資料庫!D:D,庫存計算!C100,資料庫!E:E)","v":0},{"$error":"#VALUE!"}]
[{"$f":"表格2[[#This Row],[貨源]]","v":{"$error":"#VALUE!"}},{"$f":"表格2[[#This Row],[編號]]","v":{"$error":"#VALUE!"}},{"$f":"表格2[[#This Row],[產品]]","v":{"$error":"#VALUE!"}},{"$f":"表格2[[#This Row],[單價]]","v":{"$error":"#VALUE!"}},{"$f":"表格2[[#This Row],[入貨價]]","v":{"$error":"#VALUE!"}},{"$error":"#VALUE!"},{"$f":"SUMIF(資料庫!D:D,庫存計算!C101,資料庫!E:E)","v":0},{"$error":"#VALUE!"}]
[{"$f":"表格2[[#This Row],[貨源]]","v":{"$error":"#VALUE!"}},{"$f":"表格2[[#This Row],[編號]]","v":{"$error":"#VALUE!"}},{"$f":"表格2[[#This Row],[產品]]","v":{"$error":"#VALUE!"}},{"$f":"表格2[[#This Row],[單價]]","v":{"$error":"#VALUE!"}},{"$f":"表格2[[#This Row],[入貨價]]","v":{"$error":"#VALUE!"}},{"$error":"#VALUE!"},{"$f":"SUMIF(資料庫!D:D,庫存計算!C102,資料庫!E:E)","v":0},{"$error":"#VALUE!"}]
[{"$f":"表格2[[#This Row],[貨源]]","v":{"$error":"#VALUE!"}},{"$f":"表格2[[#This Row],[編號]]","v":{"$error":"#VALUE!"}},{"$f":"表格2[[#This Row],[產品]]","v":{"$error":"#VALUE!"}},{"$f":"表格2[[#This Row],[單價]]","v":{"$error":"#VALUE!"}},{"$f":"表格2[[#This Row],[入貨價]]","v":{"$error":"#VALUE!"}},{"$error":"#VALUE!"},{"$f":"SUMIF(資料庫!D:D,庫存計算!C103,資料庫!E:E)","v":0},{"$error":"#VALUE!"}]
[{"$f":"表格2[[#This Row],[貨源]]","v":{"$error":"#VALUE!"}},{"$f":"表格2[[#This Row],[編號]]","v":{"$error":"#VALUE!"}},{"$f":"表格2[[#This Row],[產品]]","v":{"$error":"#VALUE!"}},{"$f":"表格2[[#This Row],[單價]]","v":{"$error":"#VALUE!"}},{"$f":"表格2[[#This Row],[入貨價]]","v":{"$error":"#VALUE!"}},{"$error":"#VALUE!"},{"$f":"SUMIF(資料庫!D:D,庫存計算!C104,資料庫!E:E)","v":0},{"$error":"#VALUE!"}]
[{"$f":"表格2[[#This Row],[貨源]]","v":{"$error":"#VALUE!"}},{"$f":"表格2[[#This Row],[編號]]","v":{"$error":"#VALUE!"}},{"$f":"表格2[[#This Row],[產品]]","v":{"$error":"#VALUE!"}},{"$f":"表格2[[#This Row],[單價]]","v":{"$error":"#VALUE!"}},{"$f":"表格2[[#This Row],[入貨價]]","v":{"$error":"#VALUE!"}},{"$error":"#VALUE!"},{"$f":"SUMIF(資料庫!D:D,庫存計算!C105,資料庫!E:E)","v":0},{"$error":"#VALUE!"}]
[{"$f":"表格2[[#This Row],[貨源]]","v":{"$error":"#VALUE!"}},{"$f":"表格2[[#This Row],[編號]]","v":{"$error":"#VALUE!"}},{"$f":"表格2[[#This Row],[產品]]","v":{"$error":"#VALUE!"}},{"$f":"表格2[[#This Row],[單價]]","v":{"$error":"#VALUE!"}},{"$f":"表格2[[#This Row],[入貨價]]","v":{"$error":"#VALUE!"}},{"$error":"#VALUE!"},{"$f":"SUMIF(資料庫!D:D,庫存計算!C106,資料庫!E:E)","v":0},{"$error":"#VALUE!"}]
[{"$f":"表格2[[#This Row],[貨源]]","v":{"$error":"#VALUE!"}},{"$f":"表格2[[#This Row],[編號]]","v":{"$error":"#VALUE!"}},{"$f":"表格2[[#This Row],[產品]]","v":{"$error":"#VALUE!"}},{"$f":"表格2[[#This Row],[單價]]","v":{"$error":"#VALUE!"}},{"$f":"表格2[[#This Row],[入貨價]]","v":{"$error":"#VALUE!"}},{"$error":"#VALUE!"},{"$f":"SUMIF(資料庫!D:D,庫存計算!C107,資料庫!E:E)","v":0},{"$error":"#VALUE!"}]
[{"$f":"表格2[[#This Row],[貨源]]","v":{"$error":"#VALUE!"}},{"$f":"表格2[[#This Row],[編號]]","v":{"$error":"#VALUE!"}},{"$f":"表格2[[#This Row],[產品]]","v":{"$error":"#VALUE!"}},{"$f":"表格2[[#This Row],[單價]]","v":{"$error":"#VALUE!"}},{"$f":"表格2[[#This Row],[入貨價]]","v":{"$error":"#VALUE!"}},{"$error":"#VALUE!"},{"$f":"SUMIF(資料庫!D:D,庫存計算!C108,資料庫!E:E)","v":0},{"$error":"#VALUE!"}]
[{"$f":"表格2[[#This Row],[貨源]]","v":{"$error":"#VALUE!"}},{"$f":"表格2[[#This Row],[編號]]","v":{"$error":"#VALUE!"}},{"$f":"表格2[[#This Row],[產品]]","v":{"$error":"#VALUE!"}},{"$f":"表格2[[#This Row],[單價]]","v":{"$error":"#VALUE!"}},{"$f":"表格2[[#This Row],[入貨價]]","v":{"$error":"#VALUE!"}},{"$error":"#VALUE!"},{"$f":"SUMIF(資料庫!D:D,庫存計算!C109,資料庫!E:E)","v":0},{"$error":"#VALUE!"}]
[{"$f":"表格2[[#This Row],[貨源]]","v":{"$error":"#VALUE!"}},{"$f":"表格2[[#This Row],[編號]]","v":{"$error":"#VALUE!"}},{"$f":"表格2[[#This Row],[產品]]","v":{"$error":"#VALUE!"}},{"$f":"表格2[[#This Row],[單價]]","v":{"$error":"#VALUE!"}},{"$f":"表格2[[#This Row],[入貨價]]","v":{"$error":"#VALUE!"}},{"$error":"#VALUE!"},{"$f":"SUMIF(資料庫!D:D,庫存計算!C110,資料庫!E:E)","v":0},{"$error":"#VALUE!"}]
[{"$f":"表格2[[#This Row],[貨源]]","v":{"$error":"#VALUE!"}},{"$f":"表格2[[#This Row],[編號]]","v":{"$error":"#VALUE!"}},{"$f":"表格2[[#This Row],[產品]]","v":{"$error":"#VALUE!"}},{"$f":"表格2[[#This Row],[單價]]","v":{"$error":"#VALUE!"}},{"$f":"表格2[[#This Row],[入貨價]]","v":{"$error":"#VALUE!"}},{"$error":"#VALUE!"},{"$f":"SUMIF(資料庫!D:D,庫存計算!C111,資料庫!E:E)","v":0},{"$error":"#VALUE!"}]
[{"$f":"表格2[[#This Row],[貨源]]","v":{"$error":"#VALUE!"}},{"$f":"表格2[[#This Row],[編號]]","v":{"$error":"#VALUE!"}},{"$f":"表格2[[#This Row],[產品]]","v":{"$error":"#VALUE!"}},{"$f":"表格2[[#This Row],[單價]]","v":{"$error":"#VALUE!"}},{"$f":"表格2[[#This Row],[入貨價]]","v":{"$error":"#VALUE!"}},{"$error":"#VALUE!"},{"$f":"SUMIF(資料庫!D:D,庫存計算!C112,資料庫!E:E)","v":0},{"$error":"#VALUE!"}]
[{"$f":"表格2[[#This Row],[貨源]]","v":{"$error":"#VALUE!"}},{"$f":"表格2[[#This Row],[編號]]","v":{"$error":"#VALUE!"}},{"$f":"表格2[[#This Row],[產品]]","v":{"$error":"#VALUE!"}},{"$f":"表格2[[#This Row],[單價]]","v":{"$error":"#VALUE!"}},{"$f":"表格2[[#This Row],[入貨價]]","v":{"$error":"#VALUE!"}},{"$error":"#VALUE!"},{"$f":"SUMIF(資料庫!D:D,庫存計算!C113,資料庫!E:E)","v":0},{"$error":"#VALUE!"}]
[{"$f":"表格2[[#This Row],[貨源]]","v":{"$error":"#VALUE!"}},{"$f":"表格2[[#This Row],[編號]]","v":{"$error":"#VALUE!"}},{"$f":"表格2[[#This Row],[產品]]","v":{"$error":"#VALUE!"}},{"$f":"表格2[[#This Row],[單價]]","v":{"$error":"#VALUE!"}},{"$f":"表格2[[#This Row],[入貨價]]","v":{"$error":"#VALUE!"}},{"$error":"#VALUE!"},{"$f":"SUMIF(資料庫!D:D,庫存計算!C114,資料庫!E:E)","v":0},{"$error":"#VALUE!"}]
[{"$f":"表格2[[#This Row],[貨源]]","v":{"$error":"#VALUE!"}},{"$f":"表格2[[#This Row],[編號]]","v":{"$error":"#VALUE!"}},{"$f":"表格2[[#This Row],[產品]]","v":{"$error":"#VALUE!"}},{"$f":"表格2[[#This Row],[單價]]","v":{"$error":"#VALUE!"}},{"$f":"表格2[[#This Row],[入貨價]]","v":{"$error":"#VALUE!"}},{"$error":"#VALUE!"},{"$f":"SUMIF(資料庫!D:D,庫存計算!C115,資料庫!E:E)","v":0},{"$error":"#VALUE!"}]
[{"$f":"表格2[[#This Row],[貨源]]","v":{"$error":"#VALUE!"}},{"$f":"表格2[[#This Row],[編號]]","v":{"$error":"#VALUE!"}},{"$f":"表格2[[#This Row],[產品]]","v":{"$error":"#VALUE!"}},{"$f":"表格2[[#This Row],[單價]]","v":{"$error":"#VALUE!"}},{"$f":"表格2[[#This Row],[入貨價]]","v":{"$error":"#VALUE!"}},{"$error":"#VALUE!"},{"$f":"SUMIF(資料庫!D:D,庫存計算!C116,資料庫!E:E)","v":0},{"$error":"#VALUE!"}]
[{"$f":"表格2[[#This Row],[貨源]]","v":{"$error":"#VALUE!"}},{"$f":"表格2[[#This Row],[編號]]","v":{"$error":"#VALUE!"}},{"$f":"表格2[[#This Row],[產品]]","v":{"$error":"#VALUE!"}},{"$f":"表格2[[#This Row],[單價]]","v":{"$error":"#VALUE!"}},{"$f":"表格2[[#This Row],[入貨價]]","v":{"$error":"#VALUE!"}},{"$error":"#VALUE!"},{"$f":"SUMIF(資料庫!D:D,庫存計算!C117,資料庫!E:E)","v":0},{"$error":"#VALUE!"}]
[{"$f":"表格2[[#This Row],[貨源]]","v":{"$error":"#VALUE!"}},{"$f":"表格2[[#This Row],[編號]]","v":{"$error":"#VALUE!"}},{"$f":"表格2[[#This Row],[產品]]","v":{"$error":"#VALUE!"}},{"$f":"表格2[[#This Row],[單價]]","v":{"$error":"#VALUE!"}},{"$f":"表格2[[#This Row],[入貨價]]","v":{"$error":"#VALUE!"}},{"$error":"#VALUE!"},{"$f":"SUMIF(資料庫!D:D,庫存計算!C118,資料庫!E:E)","v":0},{"$error":"#VALUE!"}]
[{"$f":"表格2[[#This Row],[貨源]]","v":{"$error":"#VALUE!"}},{"$f":"表格2[[#This Row],[編號]]","v":{"$error":"#VALUE!"}},{"$f":"表格2[[#This Row],[產品]]","v":{"$error":"#VALUE!"}},{"$f":"表格2[[#This Row],[單價]]","v":{"$error":"#VALUE!"}},{"$f":"表格2[[#This Row],[入貨價]]","v":{"$error":"#VALUE!"}},{"$error":"#VALUE!"},{"$f":"SUMIF(資料庫!D:D,庫存計算!C119,資料庫!E:E)","v":0},{"$error":"#VALUE!"}]
[{"$f":"表格2[[#This Row],[貨源]]","v":{"$error":"#VALUE!"}},{"$f":"表格2[[#This Row],[編號]]","v":{"$error":"#VALUE!"}},{"$f":"表格2[[#This Row],[產品]]","v":{"$error":"#VALUE!"}},{"$f":"表格2[[#This Row],[單價]]","v":{"$error":"#VALUE!"}},{"$f":"表格2[[#This Row],[入貨價]]","v":{"$error":"#VALUE!"}},{"$error":"#VALUE!"},{"$f":"SUMIF(資料庫!D:D,庫存計算!C120,資料庫!E:E)","v":0},{"$error":"#VALUE!"}]
[{"$f":"表格2[[#This Row],[貨源]]","v":{"$error":"#VALUE!"}},{"$f":"表格2[[#This Row],[編號]]","v":{"$error":"#VALUE!"}},{"$f":"表格2[[#This Row],[產品]]","v":{"$error":"#VALUE!"}},{"$f":"表格2[[#This Row],[單價]]","v":{"$error":"#VALUE!"}},{"$f":"表格2[[#This Row],[入貨價]]","v":{"$error":"#VALUE!"}},{"$error":"#VALUE!"},{"$f":"SUMIF(資料庫!D:D,庫存計算!C121,資料庫!E:E)","v":0},{"$error":"#VALUE!"}]
[{"$f":"表格2[[#This Row],[貨源]]","v":{"$error":"#VALUE!"}},{"$f":"表格2[[#This Row],[編號]]","v":{"$error":"#VALUE!"}},{"$f":"表格2[[#This Row],[產品]]","v":{"$error":"#VALUE!"}},{"$f":"表格2[[#This Row],[單價]]","v":{"$error":"#VALUE!"}},{"$f":"表格2[[#This Row],[入貨價]]","v":{"$error":"#VALUE!"}},{"$error":"#VALUE!"},{"$f":"SUMIF(資料庫!D:D,庫存計算!C122,資料庫!E:E)","v":0},{"$error":"#VALUE!"}]
[{"$f":"表格2[[#This Row],[貨源]]","v":{"$error":"#VALUE!"}},{"$f":"表格2[[#This Row],[編號]]","v":{"$error":"#VALUE!"}},{"$f":"表格2[[#This Row],[產品]]","v":{"$error":"#VALUE!"}},{"$f":"表格2[[#This Row],[單價]]","v":{"$error":"#VALUE!"}},{"$f":"表格2[[#This Row],[入貨價]]","v":{"$error":"#VALUE!"}},{"$error":"#VALUE!"},{"$f":"SUMIF(資料庫!D:D,庫存計算!C123,資料庫!E:E)","v":0},{"$error":"#VALUE!"}]
[{"$f":"表格2[[#This Row],[貨源]]","v":{"$error":"#VALUE!"}},{"$f":"表格2[[#This Row],[編號]]","v":{"$error":"#VALUE!"}},{"$f":"表格2[[#This Row],[產品]]","v":{"$error":"#VALUE!"}},{"$f":"表格2[[#This Row],[單價]]","v":{"$error":"#VALUE!"}},{"$f":"表格2[[#This Row],[入貨價]]","v":{"$error":"#VALUE!"}},{"$error":"#VALUE!"},{"$f":"SUMIF(資料庫!D:D,庫存計算!C124,資料庫!E:E)","v":0},{"$error":"#VALUE!"}]
[{"$f":"表格2[[#This Row],[貨源]]","v":{"$error":"#VALUE!"}},{"$f":"表格2[[#This Row],[編號]]","v":{"$error":"#VALUE!"}},{"$f":"表格2[[#This Row],[產品]]","v":{"$error":"#VALUE!"}},{"$f":"表格2[[#This Row],[單價]]","v":{"$error":"#VALUE!"}},{"$f":"表格2[[#This Row],[入貨價]]","v":{"$error":"#VALUE!"}},{"$error":"#VALUE!"},{"$f":"SUMIF(資料庫!D:D,庫存計算!C125,資料庫!E:E)","v":0},{"$error":"#VALUE!"}]
[{"$f":"表格2[[#This Row],[貨源]]","v":{"$error":"#VALUE!"}},{"$f":"表格2[[#This Row],[編號]]","v":{"$error":"#VALUE!"}},{"$f":"表格2[[#This Row],[產品]]","v":{"$error":"#VALUE!"}},{"$f":"表格2[[#This Row],[單價]]","v":{"$error":"#VALUE!"}},{"$f":"表格2[[#This Row],[入貨價]]","v":{"$error":"#VALUE!"}},{"$error":"#VALUE!"},{"$f":"SUMIF(資料庫!D:D,庫存計算!C126,資料庫!E:E)","v":0},{"$error":"#VALUE!"}]
[{"$f":"表格2[[#This Row],[貨源]]","v":{"$error":"#VALUE!"}},{"$f":"表格2[[#This Row],[編號]]","v":{"$error":"#VALUE!"}},{"$f":"表格2[[#This Row],[產品]]","v":{"$error":"#VALUE!"}},{"$f":"表格2[[#This Row],[單價]]","v":{"$error":"#VALUE!"}},{"$f":"表格2[[#This Row],[入貨價]]","v":{"$error":"#VALUE!"}},{"$error":"#VALUE!"},{"$f":"SUMIF(資料庫!D:D,庫存計算!C127,資料庫!E:E)","v":0},{"$error":"#VALUE!"}]
[{"$f":"表格2[[#This Row],[貨源]]","v":{"$error":"#VALUE!"}},{"$f":"表格2[[#This Row],[編號]]","v":{"$error":"#VALUE!"}},{"$f":"表格2[[#This Row],[產品]]","v":{"$error":"#VALUE!"}},{"$f":"表格2[[#This Row],[單價]]","v":{"$error":"#VALUE!"}},{"$f":"表格2[[#This Row],[入貨價]]","v":{"$error":"#VALUE!"}},{"$error":"#VALUE!"},{"$f":"SUMIF(資料庫!D:D,庫存計算!C128,資料庫!E:E)","v":0},{"$error":"#VALUE!"}]
[{"$f":"表格2[[#This Row],[貨源]]","v":{"$error":"#VALUE!"}},{"$f":"表格2[[#This Row],[編號]]","v":{"$error":"#VALUE!"}},{"$f":"表格2[[#This Row],[產品]]","v":{"$error":"#VALUE!"}},{"$f":"表格2[[#This Row],[單價]]","v":{"$error":"#VALUE!"}},{"$f":"表格2[[#This Row],[入貨價]]","v":{"$error":"#VALUE!"}},{"$error":"#VALUE!"},{"$f":"SUMIF(資料庫!D:D,庫存計算!C129,資料庫!E:E)","v":0},{"$error":"#VALUE!"}]
[{"$f":"表格2[[#This Row],[貨源]]","v":{"$error":"#VALUE!"}},{"$f":"表格2[[#This Row],[編號]]","v":{"$error":"#VALUE!"}},{"$f":"表格2[[#This Row],[產品]]","v":{"$error":"#VALUE!"}},{"$f":"表格2[[#This Row],[單價]]","v":{"$error":"#VALUE!"}},{"$f":"表格2[[#This Row],[入貨價]]","v":{"$error":"#VALUE!"}},{"$error":"#VALUE!"},{"$f":"SUMIF(資料庫!D:D,庫存計算!C130,資料庫!E:E)","v":0},{"$error":"#VALUE!"}]
[{"$f":"表格2[[#This Row],[貨源]]","v":{"$error":"#VALUE!"}},{"$f":"表格2[[#This Row],[編號]]","v":{"$error":"#VALUE!"}},{"$f":"表格2[[#This Row],[產品]]","v":{"$error":"#VALUE!"}},{"$f":"表格2[[#This Row],[單價]]","v":{"$error":"#VALUE!"}},{"$f":"表格2[[#This Row],[入貨價]]","v":{"$error":"#VALUE!"}},{"$error":"#VALUE!"},{"$f":"SUMIF(資料庫!D:D,庫存計算!C131,資料庫!E:E)","v":0},{"$error":"#VALUE!"}]
[{"$f":"表格2[[#This Row],[貨源]]","v":{"$error":"#VALUE!"}},{"$f":"表格2[[#This Row],[編號]]","v":{"$error":"#VALUE!"}},{"$f":"表格2[[#This Row],[產品]]","v":{"$error":"#VALUE!"}},{"$f":"表格2[[#This Row],[單價]]","v":{"$error":"#VALUE!"}},{"$f":"表格2[[#This Row],[入貨價]]","v":{"$error":"#VALUE!"}},{"$f":"E132","v":{"$error":"#VALUE!"}},{"$f":"SUMIF(資料庫!D:D,庫存計算!C132,資料庫!E:E)","v":0},{"$f":"(D132-F132)*G132","v":{"$error":"#VALUE!"}}]
[{"$f":"表格2[[#This Row],[貨源]]","v":{"$error":"#VALUE!"}},{"$f":"表格2[[#This Row],[編號]]","v":{"$error":"#VALUE!"}},{"$f":"表格2[[#This Row],[產品]]","v":{"$error":"#VALUE!"}},{"$f":"表格2[[#This Row],[單價]]","v":{"$error":"#VALUE!"}},{"$f":"表格2[[#This Row],[入貨價]]","v":{"$error":"#VALUE!"}},{"$error":"#VALUE!"},{"$f":"SUMIF(資料庫!D:D,庫存計算!C133,資料庫!E:E)","v":0},{"$error":"#VALUE!"}]
[{"$f":"表格2[[#This Row],[貨源]]","v":{"$error":"#VALUE!"}},{"$f":"表格2[[#This Row],[編號]]","v":{"$error":"#VALUE!"}},{"$f":"表格2[[#This Row],[產品]]","v":{"$error":"#VALUE!"}},{"$f":"表格2[[#This Row],[單價]]","v":{"$error":"#VALUE!"}},{"$f":"表格2[[#This Row],[入貨價]]","v":{"$error":"#VALUE!"}},{"$error":"#VALUE!"},{"$f":"SUMIF(資料庫!D:D,庫存計算!C134,資料庫!E:E)","v":0},{"$error":"#VALUE!"}]
[{"$f":"表格2[[#This Row],[貨源]]","v":{"$error":"#VALUE!"}},{"$f":"表格2[[#This Row],[編號]]","v":{"$error":"#VALUE!"}},{"$f":"表格2[[#This Row],[產品]]","v":{"$error":"#VALUE!"}},{"$f":"表格2[[#This Row],[單價]]","v":{"$error":"#VALUE!"}},{"$f":"表格2[[#This Row],[入貨價]]","v":{"$error":"#VALUE!"}},{"$error":"#VALUE!"},{"$f":"SUMIF(資料庫!D:D,庫存計算!C135,資料庫!E:E)","v":0},{"$error":"#VALUE!"}]
[{"$f":"表格2[[#This Row],[貨源]]","v":{"$error":"#VALUE!"}},{"$f":"表格2[[#This Row],[編號]]","v":{"$error":"#VALUE!"}},{"$f":"表格2[[#This Row],[產品]]","v":{"$error":"#VALUE!"}},{"$f":"表格2[[#This Row],[單價]]","v":{"$error":"#VALUE!"}},{"$f":"表格2[[#This Row],[入貨價]]","v":{"$error":"#VALUE!"}},{"$error":"#VALUE!"},{"$f":"SUMIF(資料庫!D:D,庫存計算!C136,資料庫!E:E)","v":0},{"$error":"#VALUE!"}]
[{"$f":"表格2[[#This Row],[貨源]]","v":{"$error":"#VALUE!"}},{"$f":"表格2[[#This Row],[編號]]","v":{"$error":"#VALUE!"}},{"$f":"表格2[[#This Row],[產品]]","v":{"$error":"#VALUE!"}},{"$f":"表格2[[#This Row],[單價]]","v":{"$error":"#VALUE!"}},{"$f":"表格2[[#This Row],[入貨價]]","v":{"$error":"#VALUE!"}},{"$error":"#VALUE!"},{"$f":"SUMIF(資料庫!D:D,庫存計算!C137,資料庫!E:E)","v":0},{"$error":"#VALUE!"}]
[{"$f":"表格2[[#This Row],[貨源]]","v":{"$error":"#VALUE!"}},{"$f":"表格2[[#This Row],[編號]]","v":{"$error":"#VALUE!"}},{"$f":"表格2[[#This Row],[產品]]","v":{"$error":"#VALUE!"}},{"$f":"表格2[[#This Row],[單價]]","v":{"$error":"#VALUE!"}},{"$f":"表格2[[#This Row],[入貨價]]","v":{"$error":"#VALUE!"}},{"$error":"#VALUE!"},{"$f":"SUMIF(資料庫!D:D,庫存計算!C138,資料庫!E:E)","v":0},{"$error":"#VALUE!"}]
[{"$f":"表格2[[#This Row],[貨源]]","v":{"$error":"#VALUE!"}},{"$f":"表格2[[#This Row],[編號]]","v":{"$error":"#VALUE!"}},{"$f":"表格2[[#This Row],[產品]]","v":{"$error":"#VALUE!"}},{"$f":"表格2[[#This Row],[單價]]","v":{"$error":"#VALUE!"}},{"$f":"表格2[[#This Row],[入貨價]]","v":{"$error":"#VALUE!"}},{"$error":"#VALUE!"},{"$f":"SUMIF(資料庫!D:D,庫存計算!C139,資料庫!E:E)","v":0},{"$error":"#VALUE!"}]
[{"$f":"表格2[[#This Row],[貨源]]","v":{"$error":"#VALUE!"}},{"$f":"表格2[[#This Row],[編號]]","v":{"$error":"#VALUE!"}},{"$f":"表格2[[#This Row],[產品]]","v":{"$error":"#VALUE!"}},{"$f":"表格2[[#This Row],[單價]]","v":{"$error":"#VALUE!"}},{"$f":"表格2[[#This Row],[入貨價]]","v":{"$error":"#VALUE!"}},{"$error":"#VALUE!"},{"$f":"SUMIF(資料庫!D:D,庫存計算!C140,資料庫!E:E)","v":0},{"$error":"#VALUE!"}]
[{"$f":"表格2[[#This Row],[貨源]]","v":{"$error":"#VALUE!"}},{"$f":"表格2[[#This Row],[編號]]","v":{"$error":"#VALUE!"}},{"$f":"表格2[[#This Row],[產品]]","v":{"$error":"#VALUE!"}},{"$f":"表格2[[#This Row],[單價]]","v":{"$error":"#VALUE!"}},{"$f":"表格2[[#This Row],[入貨價]]","v":{"$error":"#VALUE!"}},{"$error":"#VALUE!"},{"$f":"SUMIF(資料庫!D:D,庫存計算!C141,資料庫!E:E)","v":0},{"$error":"#VALUE!"}]
[{"$f":"表格2[[#This Row],[貨源]]","v":{"$error":"#VALUE!"}},{"$f":"表格2[[#This Row],[編號]]","v":{"$error":"#VALUE!"}},{"$f":"表格2[[#This Row],[產品]]","v":{"$error":"#VALUE!"}},{"$f":"表格2[[#This Row],[單價]]","v":{"$error":"#VALUE!"}},{"$f":"表格2[[#This Row],[入貨價]]","v":{"$error":"#VALUE!"}},{"$error":"#VALUE!"},{"$f":"SUMIF(資料庫!D:D,庫存計算!C142,資料庫!E:E)","v":0},{"$error":"#VALUE!"}]
[{"$f":"表格2[[#This Row],[貨源]]","v":{"$error":"#VALUE!"}},{"$f":"表格2[[#This Row],[編號]]","v":{"$error":"#VALUE!"}},{"$f":"表格2[[#This Row],[產品]]","v":{"$error":"#VALUE!"}},{"$f":"表格2[[#This Row],[單價]]","v":{"$error":"#VALUE!"}},{"$f":"表格2[[#This Row],[入貨價]]","v":{"$error":"#VALUE!"}},{"$error":"#VALUE!"},{"$f":"SUMIF(資料庫!D:D,庫存計算!C143,資料庫!E:E)","v":0},{"$error":"#VALUE!"}]
[{"$f":"表格2[[#This Row],[貨源]]","v":{"$error":"#VALUE!"}},{"$f":"表格2[[#This Row],[編號]]","v":{"$error":"#VALUE!"}},{"$f":"表格2[[#This Row],[產品]]","v":{"$error":"#VALUE!"}},{"$f":"表格2[[#This Row],[單價]]","v":{"$error":"#VALUE!"}},{"$f":"表格2[[#This Row],[入貨價]]","v":{"$error":"#VALUE!"}},{"$error":"#VALUE!"},{"$f":"SUMIF(資料庫!D:D,庫存計算!C144,資料庫!E:E)","v":0},{"$error":"#VALUE!"}]
[{"$f":"表格2[[#This Row],[貨源]]","v":{"$error":"#VALUE!"}},{"$f":"表格2[[#This Row],[編號]]","v":{"$error":"#VALUE!"}},{"$f":"表格2[[#This Row],[產品]]","v":{"$error":"#VALUE!"}},{"$f":"表格2[[#This Row],[單價]]","v":{"$error":"#VALUE!"}},{"$f":"表格2[[#This Row],[入貨價]]","v":{"$error":"#VALUE!"}},{"$error":"#VALUE!"},{"$f":"SUMIF(資料庫!D:D,庫存計算!C145,資料庫!E:E)","v":0},{"$error":"#VALUE!"}]
[{"$f":"表格2[[#This Row],[貨源]]","v":{"$error":"#VALUE!"}},{"$f":"表格2[[#This Row],[編號]]","v":{"$error":"#VALUE!"}},{"$f":"表格2[[#This Row],[產品]]","v":{"$error":"#VALUE!"}},{"$f":"表格2[[#This Row],[單價]]","v":{"$error":"#VALUE!"}},{"$f":"表格2[[#This Row],[入貨價]]","v":{"$error":"#VALUE!"}},{"$error":"#VALUE!"},{"$f":"SUMIF(資料庫!D:D,庫存計算!C146,資料庫!E:E)","v":0},{"$error":"#VALUE!"}]
[{"$f":"表格2[[#This Row],[貨源]]","v":{"$error":"#VALUE!"}},{"$f":"表格2[[#This Row],[編號]]","v":{"$error":"#VALUE!"}},{"$f":"表格2[[#This Row],[產品]]","v":{"$error":"#VALUE!"}},{"$f":"表格2[[#This Row],[單價]]","v":{"$error":"#VALUE!"}},{"$f":"表格2[[#This Row],[入貨價]]","v":{"$error":"#VALUE!"}},{"$error":"#VALUE!"},{"$f":"SUMIF(資料庫!D:D,庫存計算!C147,資料庫!E:E)","v":0},{"$error":"#VALUE!"}]
[{"$f":"表格2[[#This Row],[貨源]]","v":{"$error":"#VALUE!"}},{"$f":"表格2[[#This Row],[編號]]","v":{"$error":"#VALUE!"}},{"$f":"表格2[[#This Row],[產品]]","v":{"$error":"#VALUE!"}},{"$f":"表格2[[#This Row],[單價]]","v":{"$error":"#VALUE!"}},{"$f":"表格2[[#This Row],[入貨價]]","v":{"$error":"#VALUE!"}},{"$error":"#VALUE!"},{"$f":"SUMIF(資料庫!D:D,庫存計算!C148,資料庫!E:E)","v":0},{"$error":"#VALUE!"}]
[{"$f":"表格2[[#This Row],[貨源]]","v":{"$error":"#VALUE!"}},{"$f":"表格2[[#This Row],[編號]]","v":{"$error":"#VALUE!"}},{"$f":"表格2[[#This Row],[產品]]","v":{"$error":"#VALUE!"}},{"$f":"表格2[[#This Row],[單價]]","v":{"$error":"#VALUE!"}},{"$f":"表格2[[#This Row],[入貨價]]","v":{"$error":"#VALUE!"}},{"$error":"#VALUE!"},{"$f":"SUMIF(資料庫!D:D,庫存計算!C149,資料庫!E:E)","v":0},{"$error":"#VALUE!"}]
[{"$f":"表格2[[#This Row],[貨源]]","v":{"$error":"#VALUE!"}},{"$f":"表格2[[#This Row],[編號]]","v":{"$error":"#VALUE!"}},{"$f":"表格2[[#This Row],[產品]]","v":{"$error":"#VALUE!"}},{"$f":"表格2[[#This Row],[單價]]","v":{"$error":"#VALUE!"}},{"$f":"表格2[[#This Row],[入貨價]]","v":{"$error":"#VALUE!"}},{"$error":"#VALUE!"},{"$f":"SUMIF(資料庫!D:D,庫存計算!C150,資料庫!E:E)","v":0},{"$error":"#VALUE!"}]
[{"$f":"表格2[[#This Row],[貨源]]","v":{"$error":"#VALUE!"}},{"$f":"表格2[[#This Row],[編號]]","v":{"$error":"#VALUE!"}},{"$f":"表格2[[#This Row],[產品]]","v":{"$error":"#VALUE!"}},{"$f":"表格2[[#This Row],[單價]]","v":{"$error":"#VALUE!"}},{"$f":"表格2[[#This Row],[入貨價]]","v":{"$error":"#VALUE!"}},{"$error":"#VALUE!"},{"$f":"SUMIF(資料庫!D:D,庫存計算!C151,資料庫!E:E)","v":0},{"$error":"#VALUE!"}]
[{"$f":"表格2[[#This Row],[貨源]]","v":{"$error":"#VALUE!"}},{"$f":"表格2[[#This Row],[編號]]","v":{"$error":"#VALUE!"}},{"$f":"表格2[[#This Row],[產品]]","v":{"$error":"#VALUE!"}},{"$f":"表格2[[#This Row],[單價]]","v":{"$error":"#VALUE!"}},{"$f":"表格2[[#This Row],[入貨價]]","v":{"$error":"#VALUE!"}},{"$error":"#VALUE!"},{"$f":"SUMIF(資料庫!D:D,庫存計算!C152,資料庫!E:E)","v":0},{"$error":"#VALUE!"}]
[{"$f":"表格2[[#This Row],[貨源]]","v":{"$error":"#VALUE!"}},{"$f":"表格2[[#This Row],[編號]]","v":{"$error":"#VALUE!"}},{"$f":"表格2[[#This Row],[產品]]","v":{"$error":"#VALUE!"}},{"$f":"表格2[[#This Row],[單價]]","v":{"$error":"#VALUE!"}},{"$f":"表格2[[#This Row],[入貨價]]","v":{"$error":"#VALUE!"}},{"$error":"#VALUE!"},{"$f":"SUMIF(資料庫!D:D,庫存計算!C153,資料庫!E:E)","v":0},{"$error":"#VALUE!"}]
[{"$f":"表格2[[#This Row],[貨源]]","v":{"$error":"#VALUE!"}},{"$f":"表格2[[#This Row],[編號]]","v":{"$error":"#VALUE!"}},{"$f":"表格2[[#This Row],[產品]]","v":{"$error":"#VALUE!"}},{"$f":"表格2[[#This Row],[單價]]","v":{"$error":"#VALUE!"}},{"$f":"表格2[[#This Row],[入貨價]]","v":{"$error":"#VALUE!"}},{"$error":"#VALUE!"},{"$f":"SUMIF(資料庫!D:D,庫存計算!C154,資料庫!E:E)","v":0},{"$error":"#VALUE!"}]
[{"$f":"表格2[[#This Row],[貨源]]","v":{"$error":"#VALUE!"}},{"$f":"表格2[[#This Row],[編號]]","v":{"$error":"#VALUE!"}},{"$f":"表格2[[#This Row],[產品]]","v":{"$error":"#VALUE!"}},{"$f":"表格2[[#This Row],[單價]]","v":{"$error":"#VALUE!"}},{"$f":"表格2[[#This Row],[入貨價]]","v":{"$error":"#VALUE!"}},{"$error":"#VALUE!"},{"$f":"SUMIF(資料庫!D:D,庫存計算!C155,資料庫!E:E)","v":0},{"$error":"#VALUE!"}]
[{"$f":"表格2[[#This Row],[貨源]]","v":{"$error":"#VALUE!"}},{"$f":"表格2[[#This Row],[編號]]","v":{"$error":"#VALUE!"}},{"$f":"表格2[[#This Row],[產品]]","v":{"$error":"#VALUE!"}},{"$f":"表格2[[#This Row],[單價]]","v":{"$error":"#VALUE!"}},{"$f":"表格2[[#This Row],[入貨價]]","v":{"$error":"#VALUE!"}},{"$error":"#VALUE!"},{"$f":"SUMIF(資料庫!D:D,庫存計算!C156,資料庫!E:E)","v":0},{"$error":"#VALUE!"}]
[{"$f":"表格2[[#This Row],[貨源]]","v":{"$error":"#VALUE!"}},{"$f":"表格2[[#This Row],[編號]]","v":{"$error":"#VALUE!"}},{"$f":"表格2[[#This Row],[產品]]","v":{"$error":"#VALUE!"}},{"$f":"表格2[[#This Row],[單價]]","v":{"$error":"#VALUE!"}},{"$f":"表格2[[#This Row],[入貨價]]","v":{"$error":"#VALUE!"}},{"$error":"#VALUE!"},{"$f":"SUMIF(資料庫!D:D,庫存計算!C157,資料庫!E:E)","v":0},{"$error":"#VALUE!"}]
[{"$f":"表格2[[#This Row],[貨源]]","v":{"$error":"#VALUE!"}},{"$f":"表格2[[#This Row],[編號]]","v":{"$error":"#VALUE!"}},{"$f":"表格2[[#This Row],[產品]]","v":{"$error":"#VALUE!"}},{"$f":"表格2[[#This Row],[單價]]","v":{"$error":"#VALUE!"}},{"$f":"表格2[[#This Row],[入貨價]]","v":{"$error":"#VALUE!"}},{"$error":"#VALUE!"},{"$f":"SUMIF(資料庫!D:D,庫存計算!C158,資料庫!E:E)","v":0},{"$error":"#VALUE!"}]
[{"$f":"表格2[[#This Row],[貨源]]","v":{"$error":"#VALUE!"}},{"$f":"表格2[[#This Row],[編號]]","v":{"$error":"#VALUE!"}},{"$f":"表格2[[#This Row],[產品]]","v":{"$error":"#VALUE!"}},{"$f":"表格2[[#This Row],[單價]]","v":{"$error":"#VALUE!"}},{"$f":"表格2[[#This Row],[入貨價]]","v":{"$error":"#VALUE!"}},{"$error":"#VALUE!"},{"$f":"SUMIF(資料庫!D:D,庫存計算!C159,資料庫!E:E)","v":0},{"$error":"#VALUE!"}]
[{"$f":"表格2[[#This Row],[貨源]]","v":{"$error":"#VALUE!"}},{"$f":"表格2[[#This Row],[編號]]","v":{"$error":"#VALUE!"}},{"$f":"表格2[[#This Row],[產品]]","v":{"$error":"#VALUE!"}},{"$f":"表格2[[#This Row],[單價]]","v":{"$error":"#VALUE!"}},{"$f":"表格2[[#This Row],[入貨價]]","v":{"$error":"#VALUE!"}},{"$error":"#VALUE!"},{"$f":"SUMIF(資料庫!D:D,庫存計算!C160,資料庫!E:E)","v":0},{"$error":"#VALUE!"}]
[{"$f":"表格2[[#This Row],[貨源]]","v":{"$error":"#VALUE!"}},{"$f":"表格2[[#This Row],[編號]]","v":{"$error":"#VALUE!"}},{"$f":"表格2[[#This Row],[產品]]","v":{"$error":"#VALUE!"}},{"$f":"表格2[[#This Row],[單價]]","v":{"$error":"#VALUE!"}},{"$f":"表格2[[#This Row],[入貨價]]","v":{"$error":"#VALUE!"}},{"$error":"#VALUE!"},{"$f":"SUMIF(資料庫!D:D,庫存計算!C161,資料庫!E:E)","v":0},{"$error":"#VALUE!"}]
[{"$f":"表格2[[#This Row],[貨源]]","v":{"$error":"#VALUE!"}},{"$f":"表格2[[#This Row],[編號]]","v":{"$error":"#VALUE!"}},{"$f":"表格2[[#This Row],[產品]]","v":{"$error":"#VALUE!"}},{"$f":"表格2[[#This Row],[單價]]","v":{"$error":"#VALUE!"}},{"$f":"表格2[[#This Row],[入貨價]]","v":{"$error":"#VALUE!"}},{"$error":"#VALUE!"},{"$f":"SUMIF(資料庫!D:D,庫存計算!C162,資料庫!E:E)","v":0},{"$error":"#VALUE!"}]
[{"$f":"表格2[[#This Row],[貨源]]","v":{"$error":"#VALUE!"}},{"$f":"表格2[[#This Row],[編號]]","v":{"$error":"#VALUE!"}},{"$f":"表格2[[#This Row],[產品]]","v":{"$error":"#VALUE!"}},{"$f":"表格2[[#This Row],[單價]]","v":{"$error":"#VALUE!"}},{"$f":"表格2[[#This Row],[入貨價]]","v":{"$error":"#VALUE!"}},{"$error":"#VALUE!"},{"$f":"SUMIF(資料庫!D:D,庫存計算!C163,資料庫!E:E)","v":0},{"$error":"#VALUE!"}]
[{"$f":"表格2[[#This Row],[貨源]]","v":{"$error":"#VALUE!"}},{"$f":"表格2[[#This Row],[編號]]","v":{"$error":"#VALUE!"}},{"$f":"表格2[[#This Row],[產品]]","v":{"$error":"#VALUE!"}},{"$f":"表格2[[#This Row],[單價]]","v":{"$error":"#VALUE!"}},{"$f":"表格2[[#This Row],[入貨價]]","v":{"$error":"#VALUE!"}},{"$error":"#VALUE!"},{"$f":"SUMIF(資料庫!D:D,庫存計算!C164,資料庫!E:E)","v":0},{"$error":"#VALUE!"}]
[{"$f":"表格2[[#This Row],[貨源]]","v":{"$error":"#VALUE!"}},{"$f":"表格2[[#This Row],[編號]]","v":{"$error":"#VALUE!"}},{"$f":"表格2[[#This Row],[產品]]","v":{"$error":"#VALUE!"}},{"$f":"表格2[[#This Row],[單價]]","v":{"$error":"#VALUE!"}},{"$f":"表格2[[#This Row],[入貨價]]","v":{"$error":"#VALUE!"}},{"$error":"#VALUE!"},{"$f":"SUMIF(資料庫!D:D,庫存計算!C165,資料庫!E:E)","v":0},{"$error":"#VALUE!"}]
[{"$f":"表格2[[#This Row],[貨源]]","v":{"$error":"#VALUE!"}},{"$f":"表格2[[#This Row],[編號]]","v":{"$error":"#VALUE!"}},{"$f":"表格2[[#This Row],[產品]]","v":{"$error":"#VALUE!"}},{"$f":"表格2[[#This Row],[單價]]","v":{"$error":"#VALUE!"}},{"$f":"表格2[[#This Row],[入貨價]]","v":{"$error":"#VALUE!"}},{"$error":"#VALUE!"},{"$f":"SUMIF(資料庫!D:D,庫存計算!C166,資料庫!E:E)","v":0},{"$error":"#VALUE!"}]
[{"$f":"表格2[[#This Row],[貨源]]","v":{"$error":"#VALUE!"}},{"$f":"表格2[[#This Row],[編號]]","v":{"$error":"#VALUE!"}},{"$f":"表格2[[#This Row],[產品]]","v":{"$error":"#VALUE!"}},{"$f":"表格2[[#This Row],[單價]]","v":{"$error":"#VALUE!"}},{"$f":"表格2[[#This Row],[入貨價]]","v":{"$error":"#VALUE!"}},{"$error":"#VALUE!"},{"$f":"SUMIF(資料庫!D:D,庫存計算!C167,資料庫!E:E)","v":0},{"$error":"#VALUE!"}]
[{"$f":"表格2[[#This Row],[貨源]]","v":{"$error":"#VALUE!"}},{"$f":"表格2[[#This Row],[編號]]","v":{"$error":"#VALUE!"}},{"$f":"表格2[[#This Row],[產品]]","v":{"$error":"#VALUE!"}},{"$f":"表格2[[#This Row],[單價]]","v":{"$error":"#VALUE!"}},{"$f":"表格2[[#This Row],[入貨價]]","v":{"$error":"#VALUE!"}},{"$error":"#VALUE!"},{"$f":"SUMIF(資料庫!D:D,庫存計算!C168,資料庫!E:E)","v":0},{"$error":"#VALUE!"}]
[{"$f":"表格2[[#This Row],[貨源]]","v":{"$error":"#VALUE!"}},{"$f":"表格2[[#This Row],[編號]]","v":{"$error":"#VALUE!"}},{"$f":"表格2[[#This Row],[產品]]","v":{"$error":"#VALUE!"}},{"$f":"表格2[[#This Row],[單價]]","v":{"$error":"#VALUE!"}},{"$f":"表格2[[#This Row],[入貨價]]","v":{"$error":"#VALUE!"}},{"$error":"#VALUE!"},{"$f":"SUMIF(資料庫!D:D,庫存計算!C169,資料庫!E:E)","v":0},{"$error":"#VALUE!"}]
[{"$f":"表格2[[#This Row],[貨源]]","v":{"$error":"#VALUE!"}},{"$f":"表格2[[#This Row],[編號]]","v":{"$error":"#VALUE!"}},{"$f":"表格2[[#This Row],[產品]]","v":{"$error":"#VALUE!"}},{"$f":"表格2[[#This Row],[單價]]","v":{"$error":"#VALUE!"}},{"$f":"表格2[[#This Row],[入貨價]]","v":{"$error":"#VALUE!"}},{"$error":"#VALUE!"},{"$f":"SUMIF(資料庫!D:D,庫存計算!C170,資料庫!E:E)","v":0},{"$error":"#VALUE!"}]
[{"$f":"表格2[[#This Row],[貨源]]","v":{"$error":"#VALUE!"}},{"$f":"表格2[[#This Row],[編號]]","v":{"$error":"#VALUE!"}},{"$f":"表格2[[#This Row],[產品]]","v":{"$error":"#VALUE!"}},{"$f":"表格2[[#This Row],[單價]]","v":{"$error":"#VALUE!"}},{"$f":"表格2[[#This Row],[入貨價]]","v":{"$error":"#VALUE!"}},{"$error":"#VALUE!"},{"$f":"SUMIF(資料庫!D:D,庫存計算!C171,資料庫!E:E)","v":0},{"$error":"#VALUE!"}]
[{"$f":"表格2[[#This Row],[貨源]]","v":{"$error":"#VALUE!"}},{"$f":"表格2[[#This Row],[編號]]","v":{"$error":"#VALUE!"}},{"$f":"表格2[[#This Row],[產品]]","v":{"$error":"#VALUE!"}},{"$f":"表格2[[#This Row],[單價]]","v":{"$error":"#VALUE!"}},{"$f":"表格2[[#This Row],[入貨價]]","v":{"$error":"#VALUE!"}},{"$error":"#VALUE!"},{"$f":"SUMIF(資料庫!D:D,庫存計算!C172,資料庫!E:E)","v":0},{"$error":"#VALUE!"}]
[{"$f":"表格2[[#This Row],[貨源]]","v":{"$error":"#VALUE!"}},{"$f":"表格2[[#This Row],[編號]]","v":{"$error":"#VALUE!"}},{"$f":"表格2[[#This Row],[產品]]","v":{"$error":"#VALUE!"}},{"$f":"表格2[[#This Row],[單價]]","v":{"$error":"#VALUE!"}},{"$f":"表格2[[#This Row],[入貨價]]","v":{"$error":"#VALUE!"}},{"$error":"#VALUE!"},{"$f":"SUMIF(資料庫!D:D,庫存計算!C173,資料庫!E:E)","v":0},{"$error":"#VALUE!"}]
[{"$f":"表格2[[#This Row],[貨源]]","v":{"$error":"#VALUE!"}},{"$f":"表格2[[#This Row],[編號]]","v":{"$error":"#VALUE!"}},{"$f":"表格2[[#This Row],[產品]]","v":{"$error":"#VALUE!"}},{"$f":"表格2[[#This Row],[單價]]","v":{"$error":"#VALUE!"}},{"$f":"表格2[[#This Row],[入貨價]]","v":{"$error":"#VALUE!"}},{"$error":"#VALUE!"},{"$f":"SUMIF(資料庫!D:D,庫存計算!C174,資料庫!E:E)","v":0},{"$error":"#VALUE!"}]
[{"$f":"表格2[[#This Row],[貨源]]","v":{"$error":"#VALUE!"}},{"$f":"表格2[[#This Row],[編號]]","v":{"$error":"#VALUE!"}},{"$f":"表格2[[#This Row],[產品]]","v":{"$error":"#VALUE!"}},{"$f":"表格2[[#This Row],[單價]]","v":{"$error":"#VALUE!"}},{"$f":"表格2[[#This Row],[入貨價]]","v":{"$error":"#VALUE!"}},{"$error":"#VALUE!"},{"$f":"SUMIF(資料庫!D:D,庫存計算!C175,資料庫!E:E)","v":0},{"$error":"#VALUE!"}]
[{"$f":"表格2[[#This Row],[貨源]]","v":{"$error":"#VALUE!"}},{"$f":"表格2[[#This Row],[編號]]","v":{"$error":"#VALUE!"}},{"$f":"表格2[[#This Row],[產品]]","v":{"$error":"#VALUE!"}},{"$f":"表格2[[#This Row],[單價]]","v":{"$error":"#VALUE!"}},{"$f":"表格2[[#This Row],[入貨價]]","v":{"$error":"#VALUE!"}},{"$error":"#VALUE!"},{"$f":"SUMIF(資料庫!D:D,庫存計算!C176,資料庫!E:E)","v":0},{"$error":"#VALUE!"}]
[{"$f":"表格2[[#This Row],[貨源]]","v":{"$error":"#VALUE!"}},{"$f":"表格2[[#This Row],[編號]]","v":{"$error":"#VALUE!"}},{"$f":"表格2[[#This Row],[產品]]","v":{"$error":"#VALUE!"}},{"$f":"表格2[[#This Row],[單價]]","v":{"$error":"#VALUE!"}},{"$f":"表格2[[#This Row],[入貨價]]","v":{"$error":"#VALUE!"}},{"$error":"#VALUE!"},{"$f":"SUMIF(資料庫!D:D,庫存計算!C177,資料庫!E:E)","v":0},{"$error":"#VALUE!"}]
[{"$f":"表格2[[#This Row],[貨源]]","v":{"$error":"#VALUE!"}},{"$f":"表格2[[#This Row],[編號]]","v":{"$error":"#VALUE!"}},{"$f":"表格2[[#This Row],[產品]]","v":{"$error":"#VALUE!"}},{"$f":"表格2[[#This Row],[單價]]","v":{"$error":"#VALUE!"}},{"$f":"表格2[[#This Row],[入貨價]]","v":{"$error":"#VALUE!"}},{"$error":"#VALUE!"},{"$f":"SUMIF(資料庫!D:D,庫存計算!C178,資料庫!E:E)","v":0},{"$error":"#VALUE!"}]
[{"$f":"表格2[[#This Row],[貨源]]","v":{"$error":"#VALUE!"}},{"$f":"表格2[[#This Row],[編號]]","v":{"$error":"#VALUE!"}},{"$f":"表格2[[#This Row],[產品]]","v":{"$error":"#VALUE!"}},{"$f":"表格2[[#This Row],[單價]]","v":{"$error":"#VALUE!"}},{"$f":"表格2[[#This Row],[入貨價]]","v":{"$error":"#VALUE!"}},{"$error":"#VALUE!"},{"$f":"SUMIF(資料庫!D:D,庫存計算!C179,資料庫!E:E)","v":0},{"$error":"#VALUE!"}]
[{"$f":"表格2[[#This Row],[貨源]]","v":{"$error":"#VALUE!"}},{"$f":"表格2[[#This Row],[編號]]","v":{"$error":"#VALUE!"}},{"$f":"表格2[[#This Row],[產品]]","v":{"$error":"#VALUE!"}},{"$f":"表格2[[#This Row],[單價]]","v":{"$error":"#VALUE!"}},{"$f":"表格2[[#This Row],[入貨價]]","v":{"$error":"#VALUE!"}},{"$error":"#VALUE!"},{"$f":"SUMIF(資料庫!D:D,庫存計算!C180,資料庫!E:E)","v":0},{"$error":"#VALUE!"}]
[{"$f":"表格2[[#This Row],[貨源]]","v":{"$error":"#VALUE!"}},{"$f":"表格2[[#This Row],[編號]]","v":{"$error":"#VALUE!"}},{"$f":"表格2[[#This Row],[產品]]","v":{"$error":"#VALUE!"}},{"$f":"表格2[[#This Row],[單價]]","v":{"$error":"#VALUE!"}},{"$f":"表格2[[#This Row],[入貨價]]","v":{"$error":"#VALUE!"}},{"$error":"#VALUE!"},{"$f":"SUMIF(資料庫!D:D,庫存計算!C181,資料庫!E:E)","v":0},{"$error":"#VALUE!"}]
[{"$f":"表格2[[#This Row],[貨源]]","v":{"$error":"#VALUE!"}},{"$f":"表格2[[#This Row],[編號]]","v":{"$error":"#VALUE!"}},{"$f":"表格2[[#This Row],[產品]]","v":{"$error":"#VALUE!"}},{"$f":"表格2[[#This Row],[單價]]","v":{"$error":"#VALUE!"}},{"$f":"表格2[[#This Row],[入貨價]]","v":{"$error":"#VALUE!"}},{"$error":"#VALUE!"},{"$f":"SUMIF(資料庫!D:D,庫存計算!C182,資料庫!E:E)","v":0},{"$error":"#VALUE!"}]
[{"$f":"表格2[[#This Row],[貨源]]","v":{"$error":"#VALUE!"}},{"$f":"表格2[[#This Row],[編號]]","v":{"$error":"#VALUE!"}},{"$f":"表格2[[#This Row],[產品]]","v":{"$error":"#VALUE!"}},{"$f":"表格2[[#This Row],[單價]]","v":{"$error":"#VALUE!"}},{"$f":"表格2[[#This Row],[入貨價]]","v":{"$error":"#VALUE!"}},{"$error":"#VALUE!"},{"$f":"SUMIF(資料庫!D:D,庫存計算!C183,資料庫!E:E)","v":0},{"$error":"#VALUE!"}]
[{"$f":"表格2[[#This Row],[貨源]]","v":{"$error":"#VALUE!"}},{"$f":"表格2[[#This Row],[編號]]","v":{"$error":"#VALUE!"}},{"$f":"表格2[[#This Row],[產品]]","v":{"$error":"#VALUE!"}},{"$f":"表格2[[#This Row],[單價]]","v":{"$error":"#VALUE!"}},{"$f":"表格2[[#This Row],[入貨價]]","v":{"$error":"#VALUE!"}},{"$error":"#VALUE!"},{"$f":"SUMIF(資料庫!D:D,庫存計算!C184,資料庫!E:E)","v":0},{"$error":"#VALUE!"}]
[{"$f":"表格2[[#This Row],[貨源]]","v":{"$error":"#VALUE!"}},{"$f":"表格2[[#This Row],[編號]]","v":{"$error":"#VALUE!"}},{"$f":"表格2[[#This Row],[產品]]","v":{"$error":"#VALUE!"}},{"$f":"表格2[[#This Row],[單價]]","v":{"$error":"#VALUE!"}},{"$f":"表格2[[#This Row],[入貨價]]","v":{"$error":"#VALUE!"}},{"$error":"#VALUE!"},{"$f":"SUMIF(資料庫!D:D,庫存計算!C185,資料庫!E:E)","v":0},{"$error":"#VALUE!"}]
[{"$f":"表格2[[#This Row],[貨源]]","v":{"$error":"#VALUE!"}},{"$f":"表格2[[#This Row],[編號]]","v":{"$error":"#VALUE!"}},{"$f":"表格2[[#This Row],[產品]]","v":{"$error":"#VALUE!"}},{"$f":"表格2[[#This Row],[單價]]","v":{"$error":"#VALUE!"}},{"$f":"表格2[[#This Row],[入貨價]]","v":{"$error":"#VALUE!"}},{"$f":"E186/4","v":{"$error":"#VALUE!"}},{"$f":"SUMIF(資料庫!D:D,庫存計算!C186,資料庫!E:E)","v":0},{"$error":"#VALUE!"}]
[{"$f":"表格2[[#This Row],[貨源]]","v":{"$error":"#VALUE!"}},{"$f":"表格2[[#This Row],[編號]]","v":{"$error":"#VALUE!"}},{"$f":"表格2[[#This Row],[產品]]","v":{"$error":"#VALUE!"}},{"$f":"表格2[[#This Row],[單價]]","v":{"$error":"#VALUE!"}},{"$f":"表格2[[#This Row],[入貨價]]","v":{"$error":"#VALUE!"}},{"$f":"E187/4","v":{"$error":"#VALUE!"}},{"$f":"SUMIF(資料庫!D:D,庫存計算!C187,資料庫!E:E)","v":0},{"$error":"#VALUE!"}]
[{"$f":"表格2[[#This Row],[貨源]]","v":{"$error":"#VALUE!"}},{"$f":"表格2[[#This Row],[編號]]","v":{"$error":"#VALUE!"}},{"$f":"表格2[[#This Row],[產品]]","v":{"$error":"#VALUE!"}},{"$f":"表格2[[#This Row],[單價]]","v":{"$error":"#VALUE!"}},{"$f":"表格2[[#This Row],[入貨價]]","v":{"$error":"#VALUE!"}},{"$error":"#VALUE!"},{"$f":"SUMIF(資料庫!D:D,庫存計算!C188,資料庫!E:E)","v":0},{"$error":"#VALUE!"}]
[{"$f":"表格2[[#This Row],[貨源]]","v":{"$error":"#VALUE!"}},{"$f":"表格2[[#This Row],[編號]]","v":{"$error":"#VALUE!"}},{"$f":"表格2[[#This Row],[產品]]","v":{"$error":"#VALUE!"}},{"$f":"表格2[[#This Row],[單價]]","v":{"$error":"#VALUE!"}},{"$f":"表格2[[#This Row],[入貨價]]","v":{"$error":"#VALUE!"}},{"$error":"#VALUE!"},{"$f":"SUMIF(資料庫!D:D,庫存計算!C189,資料庫!E:E)","v":0},{"$error":"#VALUE!"}]
[{"$f":"表格2[[#This Row],[貨源]]","v":{"$error":"#VALUE!"}},{"$f":"表格2[[#This Row],[編號]]","v":{"$error":"#VALUE!"}},{"$f":"表格2[[#This Row],[產品]]","v":{"$error":"#VALUE!"}},{"$f":"表格2[[#This Row],[單價]]","v":{"$error":"#VALUE!"}},{"$f":"表格2[[#This Row],[入貨價]]","v":{"$error":"#VALUE!"}},{"$error":"#VALUE!"},{"$f":"SUMIF(資料庫!D:D,庫存計算!C190,資料庫!E:E)","v":0},{"$error":"#VALUE!"}]
[{"$f":"表格2[[#This Row],[貨源]]","v":{"$error":"#VALUE!"}},{"$f":"表格2[[#This Row],[編號]]","v":{"$error":"#VALUE!"}},{"$f":"表格2[[#This Row],[產品]]","v":{"$error":"#VALUE!"}},{"$f":"表格2[[#This Row],[單價]]","v":{"$error":"#VALUE!"}},{"$f":"表格2[[#This Row],[入貨價]]","v":{"$error":"#VALUE!"}},{"$error":"#VALUE!"},{"$f":"SUMIF(資料庫!D:D,庫存計算!C191,資料庫!E:E)","v":0},{"$error":"#VALUE!"}]
[{"$f":"表格2[[#This Row],[貨源]]","v":{"$error":"#VALUE!"}},{"$f":"表格2[[#This Row],[編號]]","v":{"$error":"#VALUE!"}},{"$f":"表格2[[#This Row],[產品]]","v":{"$error":"#VALUE!"}},{"$f":"表格2[[#This Row],[單價]]","v":{"$error":"#VALUE!"}},{"$f":"表格2[[#This Row],[入貨價]]","v":{"$error":"#VALUE!"}},{"$error":"#VALUE!"},{"$f":"SUMIF(資料庫!D:D,庫存計算!C192,資料庫!E:E)","v":0},{"$error":"#VALUE!"}]
[{"$f":"表格2[[#This Row],[貨源]]","v":{"$error":"#VALUE!"}},{"$f":"表格2[[#This Row],[編號]]","v":{"$error":"#VALUE!"}},{"$f":"表格2[[#This Row],[產品]]","v":{"$error":"#VALUE!"}},{"$f":"表格2[[#This Row],[單價]]","v":{"$error":"#VALUE!"}},{"$f":"表格2[[#This Row],[入貨價]]","v":{"$error":"#VALUE!"}},{"$error":"#VALUE!"},{"$f":"SUMIF(資料庫!D:D,庫存計算!C193,資料庫!E:E)","v":0},{"$error":"#VALUE!"}]
[{"$f":"表格2[[#This Row],[貨源]]","v":{"$error":"#VALUE!"}},{"$f":"表格2[[#This Row],[編號]]","v":{"$error":"#VALUE!"}},{"$f":"表格2[[#This Row],[產品]]","v":{"$error":"#VALUE!"}},{"$f":"表格2[[#This Row],[單價]]","v":{"$error":"#VALUE!"}},{"$f":"表格2[[#This Row],[入貨價]]","v":{"$error":"#VALUE!"}},{"$error":"#VALUE!"},{"$f":"SUMIF(資料庫!D:D,庫存計算!C194,資料庫!E:E)","v":0},{"$error":"#VALUE!"}]
[{"$f":"表格2[[#This Row],[貨源]]","v":{"$error":"#VALUE!"}},{"$f":"表格2[[#This Row],[編號]]","v":{"$error":"#VALUE!"}},{"$f":"表格2[[#This Row],[產品]]","v":{"$error":"#VALUE!"}},{"$f":"表格2[[#This Row],[單價]]","v":{"$error":"#VALUE!"}},{"$f":"表格2[[#This Row],[入貨價]]","v":{"$error":"#VALUE!"}},{"$error":"#VALUE!"},{"$f":"SUMIF(資料庫!D:D,庫存計算!C195,資料庫!E:E)","v":0},{"$error":"#VALUE!"}]
[{"$f":"表格2[[#This Row],[貨源]]","v":{"$error":"#VALUE!"}},{"$f":"表格2[[#This Row],[編號]]","v":{"$error":"#VALUE!"}},{"$f":"表格2[[#This Row],[產品]]","v":{"$error":"#VALUE!"}},{"$f":"表格2[[#This Row],[單價]]","v":{"$error":"#VALUE!"}},{"$f":"表格2[[#This Row],[入貨價]]","v":{"$error":"#VALUE!"}},{"$error":"#VALUE!"},{"$f":"SUMIF(資料庫!D:D,庫存計算!C196,資料庫!E:E)","v":0},{"$f":"(D196-F196)*G196","v":{"$error":"#VALUE!"}}]
[{"$f":"表格2[[#This Row],[貨源]]","v":{"$error":"#VALUE!"}},{"$f":"表格2[[#This Row],[編號]]","v":{"$error":"#VALUE!"}},{"$f":"表格2[[#This Row],[產品]]","v":{"$error":"#VALUE!"}},{"$f":"表格2[[#This Row],[單價]]","v":{"$error":"#VALUE!"}},{"$f":"表格2[[#This Row],[入貨價]]","v":{"$error":"#VALUE!"}},{"$error":"#VALUE!"},{"$f":"SUMIF(資料庫!D:D,庫存計算!C197,資料庫!E:E)","v":0},{"$error":"#VALUE!"}]
[{"$f":"表格2[[#This Row],[貨源]]","v":{"$error":"#VALUE!"}},{"$f":"表格2[[#This Row],[編號]]","v":{"$error":"#VALUE!"}},{"$f":"表格2[[#This Row],[產品]]","v":{"$error":"#VALUE!"}},{"$f":"表格2[[#This Row],[單價]]","v":{"$error":"#VALUE!"}},{"$f":"表格2[[#This Row],[入貨價]]","v":{"$error":"#VALUE!"}},{"$error":"#VALUE!"},{"$f":"SUMIF(資料庫!D:D,庫存計算!C198,資料庫!E:E)","v":0},{"$error":"#VALUE!"}]
[{"$f":"表格2[[#This Row],[貨源]]","v":{"$error":"#VALUE!"}},{"$f":"表格2[[#This Row],[編號]]","v":{"$error":"#VALUE!"}},{"$f":"表格2[[#This Row],[產品]]","v":{"$error":"#VALUE!"}},{"$f":"表格2[[#This Row],[單價]]","v":{"$error":"#VALUE!"}},{"$f":"表格2[[#This Row],[入貨價]]","v":{"$error":"#VALUE!"}},{"$error":"#VALUE!"},{"$f":"SUMIF(資料庫!D:D,庫存計算!C199,資料庫!E:E)","v":0},{"$error":"#VALUE!"}]
[{"$f":"表格2[[#This Row],[貨源]]","v":{"$error":"#VALUE!"}},{"$f":"表格2[[#This Row],[編號]]","v":{"$error":"#VALUE!"}},{"$f":"表格2[[#This Row],[產品]]","v":{"$error":"#VALUE!"}},{"$f":"表格2[[#This Row],[單價]]","v":{"$error":"#VALUE!"}},{"$f":"表格2[[#This Row],[入貨價]]","v":{"$error":"#VALUE!"}},{"$error":"#VALUE!"},{"$f":"SUMIF(資料庫!D:D,庫存計算!C200,資料庫!E:E)","v":0},{"$error":"#VALUE!"}]
[{"$f":"表格2[[#This Row],[貨源]]","v":{"$error":"#VALUE!"}},{"$f":"表格2[[#This Row],[編號]]","v":{"$error":"#VALUE!"}},{"$f":"表格2[[#This Row],[產品]]","v":{"$error":"#VALUE!"}},{"$f":"表格2[[#This Row],[單價]]","v":{"$error":"#VALUE!"}},{"$f":"表格2[[#This Row],[入貨價]]","v":{"$error":"#VALUE!"}},{"$error":"#VALUE!"},{"$f":"SUMIF(資料庫!D:D,庫存計算!C201,資料庫!E:E)","v":0},{"$error":"#VALUE!"}]
[{"$f":"表格2[[#This Row],[貨源]]","v":{"$error":"#VALUE!"}},{"$f":"表格2[[#This Row],[編號]]","v":{"$error":"#VALUE!"}},{"$f":"表格2[[#This Row],[產品]]","v":{"$error":"#VALUE!"}},{"$f":"表格2[[#This Row],[單價]]","v":{"$error":"#VALUE!"}},{"$f":"表格2[[#This Row],[入貨價]]","v":{"$error":"#VALUE!"}},{"$error":"#VALUE!"},{"$f":"SUMIF(資料庫!D:D,庫存計算!C202,資料庫!E:E)","v":0},{"$error":"#VALUE!"}]
[{"$f":"表格2[[#This Row],[貨源]]","v":{"$error":"#VALUE!"}},{"$f":"表格2[[#This Row],[編號]]","v":{"$error":"#VALUE!"}},{"$f":"表格2[[#This Row],[產品]]","v":{"$error":"#VALUE!"}},{"$f":"表格2[[#This Row],[單價]]","v":{"$error":"#VALUE!"}},{"$f":"表格2[[#This Row],[入貨價]]","v":{"$error":"#VALUE!"}},{"$error":"#VALUE!"},{"$f":"SUMIF(資料庫!D:D,庫存計算!C203,資料庫!E:E)","v":0},{"$error":"#VALUE!"}]
[{"$f":"表格2[[#This Row],[貨源]]","v":{"$error":"#VALUE!"}},{"$f":"表格2[[#This Row],[編號]]","v":{"$error":"#VALUE!"}},{"$f":"表格2[[#This Row],[產品]]","v":{"$error":"#VALUE!"}},{"$f":"表格2[[#This Row],[單價]]","v":{"$error":"#VALUE!"}},{"$f":"表格2[[#This Row],[入貨價]]","v":{"$error":"#VALUE!"}},{"$error":"#VALUE!"},{"$f":"SUMIF(資料庫!D:D,庫存計算!C204,資料庫!E:E)","v":0},{"$error":"#VALUE!"}]
[{"$f":"表格2[[#This Row],[貨源]]","v":{"$error":"#VALUE!"}},{"$f":"表格2[[#This Row],[編號]]","v":{"$error":"#VALUE!"}},{"$f":"表格2[[#This Row],[產品]]","v":{"$error":"#VALUE!"}},{"$f":"表格2[[#This Row],[單價]]","v":{"$error":"#VALUE!"}},{"$f":"表格2[[#This Row],[入貨價]]","v":{"$error":"#VALUE!"}},{"$error":"#VALUE!"},{"$f":"SUMIF(資料庫!D:D,庫存計算!C205,資料庫!E:E)","v":0},{"$error":"#VALUE!"}]
[{"$f":"表格2[[#This Row],[貨源]]","v":{"$error":"#VALUE!"}},{"$f":"表格2[[#This Row],[編號]]","v":{"$error":"#VALUE!"}},{"$f":"表格2[[#This Row],[產品]]","v":{"$error":"#VALUE!"}},{"$f":"表格2[[#This Row],[單價]]","v":{"$error":"#VALUE!"}},{"$f":"表格2[[#This Row],[入貨價]]","v":{"$error":"#VALUE!"}},{"$error":"#VALUE!"},{"$f":"SUMIF(資料庫!D:D,庫存計算!C206,資料庫!E:E)","v":0},{"$error":"#VALUE!"}]
[{"$f":"表格2[[#This Row],[貨源]]","v":{"$error":"#VALUE!"}},{"$f":"表格2[[#This Row],[編號]]","v":{"$error":"#VALUE!"}},{"$f":"表格2[[#This Row],[產品]]","v":{"$error":"#VALUE!"}},{"$f":"表格2[[#This Row],[單價]]","v":{"$error":"#VALUE!"}},{"$f":"表格2[[#This Row],[入貨價]]","v":{"$error":"#VALUE!"}},{"$error":"#VALUE!"},{"$f":"SUMIF(資料庫!D:D,庫存計算!C207,資料庫!E:E)","v":0},{"$error":"#VALUE!"}]
[{"$f":"表格2[[#This Row],[貨源]]","v":{"$error":"#VALUE!"}},{"$f":"表格2[[#This Row],[編號]]","v":{"$error":"#VALUE!"}},{"$f":"表格2[[#This Row],[產品]]","v":{"$error":"#VALUE!"}},{"$f":"表格2[[#This Row],[單價]]","v":{"$error":"#VALUE!"}},{"$f":"表格2[[#This Row],[入貨價]]","v":{"$error":"#VALUE!"}},{"$error":"#VALUE!"},{"$f":"SUMIF(資料庫!D:D,庫存計算!C208,資料庫!E:E)","v":0},{"$error":"#VALUE!"}]
[{"$f":"表格2[[#This Row],[貨源]]","v":{"$error":"#VALUE!"}},{"$f":"表格2[[#This Row],[編號]]","v":{"$error":"#VALUE!"}},{"$f":"表格2[[#This Row],[產品]]","v":{"$error":"#VALUE!"}},{"$f":"表格2[[#This Row],[單價]]","v":{"$error":"#VALUE!"}},{"$f":"表格2[[#This Row],[入貨價]]","v":{"$error":"#VALUE!"}},{"$error":"#VALUE!"},{"$f":"SUMIF(資料庫!D:D,庫存計算!C209,資料庫!E:E)","v":0},{"$error":"#VALUE!"}]
[{"$f":"表格2[[#This Row],[貨源]]","v":{"$error":"#VALUE!"}},{"$f":"表格2[[#This Row],[編號]]","v":{"$error":"#VALUE!"}},{"$f":"表格2[[#This Row],[產品]]","v":{"$error":"#VALUE!"}},{"$f":"表格2[[#This Row],[單價]]","v":{"$error":"#VALUE!"}},{"$f":"表格2[[#This Row],[入貨價]]","v":{"$error":"#VALUE!"}},{"$error":"#VALUE!"},{"$f":"SUMIF(資料庫!D:D,庫存計算!C210,資料庫!E:E)","v":0},{"$error":"#VALUE!"}]
[{"$f":"表格2[[#This Row],[貨源]]","v":{"$error":"#VALUE!"}},{"$f":"表格2[[#This Row],[編號]]","v":{"$error":"#VALUE!"}},{"$f":"表格2[[#This Row],[產品]]","v":{"$error":"#VALUE!"}},{"$f":"表格2[[#This Row],[單價]]","v":{"$error":"#VALUE!"}},{"$f":"表格2[[#This Row],[入貨價]]","v":{"$error":"#VALUE!"}},{"$error":"#VALUE!"},{"$f":"SUMIF(資料庫!D:D,庫存計算!C211,資料庫!E:E)","v":0},{"$error":"#VALUE!"}]
[{"$f":"表格2[[#This Row],[貨源]]","v":{"$error":"#VALUE!"}},{"$f":"表格2[[#This Row],[編號]]","v":{"$error":"#VALUE!"}},{"$f":"表格2[[#This Row],[產品]]","v":{"$error":"#VALUE!"}},{"$f":"表格2[[#This Row],[單價]]","v":{"$error":"#VALUE!"}},{"$f":"表格2[[#This Row],[入貨價]]","v":{"$error":"#VALUE!"}},{"$error":"#VALUE!"},{"$f":"SUMIF(資料庫!D:D,庫存計算!C212,資料庫!E:E)","v":0},{"$error":"#VALUE!"}]
[{"$f":"表格2[[#This Row],[貨源]]","v":{"$error":"#VALUE!"}},{"$f":"表格2[[#This Row],[編號]]","v":{"$error":"#VALUE!"}},{"$f":"表格2[[#This Row],[產品]]","v":{"$error":"#VALUE!"}},{"$f":"表格2[[#This Row],[單價]]","v":{"$error":"#VALUE!"}},{"$f":"表格2[[#This Row],[入貨價]]","v":{"$error":"#VALUE!"}},{"$error":"#VALUE!"},{"$f":"SUMIF(資料庫!D:D,庫存計算!C213,資料庫!E:E)","v":0},{"$error":"#VALUE!"}]
[{"$f":"表格2[[#This Row],[貨源]]","v":{"$error":"#VALUE!"}},{"$f":"表格2[[#This Row],[編號]]","v":{"$error":"#VALUE!"}},{"$f":"表格2[[#This Row],[產品]]","v":{"$error":"#VALUE!"}},{"$f":"表格2[[#This Row],[單價]]","v":{"$error":"#VALUE!"}},{"$f":"表格2[[#This Row],[入貨價]]","v":{"$error":"#VALUE!"}},{"$error":"#VALUE!"},{"$f":"SUMIF(資料庫!D:D,庫存計算!C214,資料庫!E:E)","v":0},{"$error":"#VALUE!"}]
[{"$f":"表格2[[#This Row],[貨源]]","v":{"$error":"#VALUE!"}},{"$f":"表格2[[#This Row],[編號]]","v":{"$error":"#VALUE!"}},{"$f":"表格2[[#This Row],[產品]]","v":{"$error":"#VALUE!"}},{"$f":"表格2[[#This Row],[單價]]","v":{"$error":"#VALUE!"}},{"$f":"表格2[[#This Row],[入貨價]]","v":{"$error":"#VALUE!"}},{"$error":"#VALUE!"},{"$f":"SUMIF(資料庫!D:D,庫存計算!C215,資料庫!E:E)","v":0},{"$error":"#VALUE!"}]
[{"$f":"表格2[[#This Row],[貨源]]","v":{"$error":"#VALUE!"}},{"$f":"表格2[[#This Row],[編號]]","v":{"$error":"#VALUE!"}},{"$f":"表格2[[#This Row],[產品]]","v":{"$error":"#VALUE!"}},{"$f":"表格2[[#This Row],[單價]]","v":{"$error":"#VALUE!"}},{"$f":"表格2[[#This Row],[入貨價]]","v":{"$error":"#VALUE!"}},{"$error":"#VALUE!"},{"$f":"SUMIF(資料庫!D:D,庫存計算!C216,資料庫!E:E)","v":0},{"$error":"#VALUE!"}]
[{"$f":"表格2[[#This Row],[貨源]]","v":{"$error":"#VALUE!"}},{"$f":"表格2[[#This Row],[編號]]","v":{"$error":"#VALUE!"}},{"$f":"表格2[[#This Row],[產品]]","v":{"$error":"#VALUE!"}},{"$f":"表格2[[#This Row],[單價]]","v":{"$error":"#VALUE!"}},{"$f":"表格2[[#This Row],[入貨價]]","v":{"$error":"#VALUE!"}},{"$error":"#VALUE!"},{"$f":"SUMIF(資料庫!D:D,庫存計算!C217,資料庫!E:E)","v":0},{"$error":"#VALUE!"}]
[{"$f":"表格2[[#This Row],[貨源]]","v":{"$error":"#VALUE!"}},{"$f":"表格2[[#This Row],[編號]]","v":{"$error":"#VALUE!"}},{"$f":"表格2[[#This Row],[產品]]","v":{"$error":"#VALUE!"}},{"$f":"表格2[[#This Row],[單價]]","v":{"$error":"#VALUE!"}},{"$f":"表格2[[#This Row],[入貨價]]","v":{"$error":"#VALUE!"}},{"$error":"#VALUE!"},{"$f":"SUMIF(資料庫!D:D,庫存計算!C218,資料庫!E:E)","v":0},{"$error":"#VALUE!"}]
[{"$f":"表格2[[#This Row],[貨源]]","v":{"$error":"#VALUE!"}},{"$f":"表格2[[#This Row],[編號]]","v":{"$error":"#VALUE!"}},{"$f":"表格2[[#This Row],[產品]]","v":{"$error":"#VALUE!"}},{"$f":"表格2[[#This Row],[單價]]","v":{"$error":"#VALUE!"}},{"$f":"表格2[[#This Row],[入貨價]]","v":{"$error":"#VALUE!"}},{"$error":"#VALUE!"},{"$f":"SUMIF(資料庫!D:D,庫存計算!C219,資料庫!E:E)","v":0},{"$error":"#VALUE!"}]
[{"$f":"表格2[[#This Row],[貨源]]","v":{"$error":"#VALUE!"}},{"$f":"表格2[[#This Row],[編號]]","v":{"$error":"#VALUE!"}},{"$f":"表格2[[#This Row],[產品]]","v":{"$error":"#VALUE!"}},{"$f":"表格2[[#This Row],[單價]]","v":{"$error":"#VALUE!"}},{"$f":"表格2[[#This Row],[入貨價]]","v":{"$error":"#VALUE!"}},{"$error":"#VALUE!"},{"$f":"SUMIF(資料庫!D:D,庫存計算!C220,資料庫!E:E)","v":0},{"$error":"#VALUE!"}]
[{"$f":"表格2[[#This Row],[貨源]]","v":{"$error":"#VALUE!"}},{"$f":"表格2[[#This Row],[編號]]","v":{"$error":"#VALUE!"}},{"$f":"表格2[[#This Row],[產品]]","v":{"$error":"#VALUE!"}},{"$f":"表格2[[#This Row],[單價]]","v":{"$error":"#VALUE!"}},{"$f":"表格2[[#This Row],[入貨價]]","v":{"$error":"#VALUE!"}},{"$error":"#VALUE!"},{"$f":"SUMIF(資料庫!D:D,庫存計算!C221,資料庫!E:E)","v":0},{"$error":"#VALUE!"}]
[{"$f":"表格2[[#This Row],[貨源]]","v":{"$error":"#VALUE!"}},{"$f":"表格2[[#This Row],[編號]]","v":{"$error":"#VALUE!"}},{"$f":"表格2[[#This Row],[產品]]","v":{"$error":"#VALUE!"}},{"$f":"表格2[[#This Row],[單價]]","v":{"$error":"#VALUE!"}},{"$f":"表格2[[#This Row],[入貨價]]","v":{"$error":"#VALUE!"}},{"$error":"#VALUE!"},{"$f":"SUMIF(資料庫!D:D,庫存計算!C222,資料庫!E:E)","v":0},{"$error":"#VALUE!"}]
[{"$f":"表格2[[#This Row],[貨源]]","v":{"$error":"#VALUE!"}},{"$f":"表格2[[#This Row],[編號]]","v":{"$error":"#VALUE!"}},{"$f":"表格2[[#This Row],[產品]]","v":{"$error":"#VALUE!"}},{"$f":"表格2[[#This Row],[單價]]","v":{"$error":"#VALUE!"}},{"$f":"表格2[[#This Row],[入貨價]]","v":{"$error":"#VALUE!"}},{"$error":"#VALUE!"},{"$f":"SUMIF(資料庫!D:D,庫存計算!C223,資料庫!E:E)","v":0},{"$error":"#VALUE!"}]
[{"$f":"表格2[[#This Row],[貨源]]","v":{"$error":"#VALUE!"}},{"$f":"表格2[[#This Row],[編號]]","v":{"$error":"#VALUE!"}},{"$f":"表格2[[#This Row],[產品]]","v":{"$error":"#VALUE!"}},{"$f":"表格2[[#This Row],[單價]]","v":{"$error":"#VALUE!"}},{"$f":"表格2[[#This Row],[入貨價]]","v":{"$error":"#VALUE!"}},{"$error":"#VALUE!"},{"$f":"SUMIF(資料庫!D:D,庫存計算!C224,資料庫!E:E)","v":0},{"$error":"#VALUE!"}]
[{"$f":"表格2[[#This Row],[貨源]]","v":{"$error":"#VALUE!"}},{"$f":"表格2[[#This Row],[編號]]","v":{"$error":"#VALUE!"}},{"$f":"表格2[[#This Row],[產品]]","v":{"$error":"#VALUE!"}},{"$f":"表格2[[#This Row],[單價]]","v":{"$error":"#VALUE!"}},{"$f":"表格2[[#This Row],[入貨價]]","v":{"$error":"#VALUE!"}},{"$error":"#VALUE!"},{"$f":"SUMIF(資料庫!D:D,庫存計算!C225,資料庫!E:E)","v":0},{"$error":"#VALUE!"}]
[{"$f":"表格2[[#This Row],[貨源]]","v":{"$error":"#VALUE!"}},{"$f":"表格2[[#This Row],[編號]]","v":{"$error":"#VALUE!"}},{"$f":"表格2[[#This Row],[產品]]","v":{"$error":"#VALUE!"}},{"$f":"表格2[[#This Row],[單價]]","v":{"$error":"#VALUE!"}},{"$f":"表格2[[#This Row],[入貨價]]","v":{"$error":"#VALUE!"}},{"$error":"#VALUE!"},{"$f":"SUMIF(資料庫!D:D,庫存計算!C226,資料庫!E:E)","v":0},{"$error":"#VALUE!"}]
[{"$f":"表格2[[#This Row],[貨源]]","v":{"$error":"#VALUE!"}},{"$f":"表格2[[#This Row],[編號]]","v":{"$error":"#VALUE!"}},{"$f":"表格2[[#This Row],[產品]]","v":{"$error":"#VALUE!"}},{"$f":"表格2[[#This Row],[單價]]","v":{"$error":"#VALUE!"}},{"$f":"表格2[[#This Row],[入貨價]]","v":{"$error":"#VALUE!"}},{"$error":"#VALUE!"},{"$f":"SUMIF(資料庫!D:D,庫存計算!C227,資料庫!E:E)","v":0},{"$error":"#VALUE!"}]
[{"$f":"表格2[[#This Row],[貨源]]","v":{"$error":"#VALUE!"}},{"$f":"表格2[[#This Row],[編號]]","v":{"$error":"#VALUE!"}},{"$f":"表格2[[#This Row],[產品]]","v":{"$error":"#VALUE!"}},{"$f":"表格2[[#This Row],[單價]]","v":{"$error":"#VALUE!"}},{"$f":"表格2[[#This Row],[入貨價]]","v":{"$error":"#VALUE!"}},{"$error":"#VALUE!"},{"$f":"SUMIF(資料庫!D:D,庫存計算!C228,資料庫!E:E)","v":0},{"$error":"#VALUE!"}]
[{"$f":"表格2[[#This Row],[貨源]]","v":{"$error":"#VALUE!"}},{"$f":"表格2[[#This Row],[編號]]","v":{"$error":"#VALUE!"}},{"$f":"表格2[[#This Row],[產品]]","v":{"$error":"#VALUE!"}},{"$f":"表格2[[#This Row],[單價]]","v":{"$error":"#VALUE!"}},{"$f":"表格2[[#This Row],[入貨價]]","v":{"$error":"#VALUE!"}},{"$error":"#VALUE!"},{"$f":"SUMIF(資料庫!D:D,庫存計算!C229,資料庫!E:E)","v":0},{"$error":"#VALUE!"}]
[{"$f":"表格2[[#This Row],[貨源]]","v":{"$error":"#VALUE!"}},{"$f":"表格2[[#This Row],[編號]]","v":{"$error":"#VALUE!"}},{"$f":"表格2[[#This Row],[產品]]","v":{"$error":"#VALUE!"}},{"$f":"表格2[[#This Row],[單價]]","v":{"$error":"#VALUE!"}},{"$f":"表格2[[#This Row],[入貨價]]","v":{"$error":"#VALUE!"}},{"$error":"#VALUE!"},{"$f":"SUMIF(資料庫!D:D,庫存計算!C230,資料庫!E:E)","v":0},{"$error":"#VALUE!"}]
[{"$f":"表格2[[#This Row],[貨源]]","v":{"$error":"#VALUE!"}},{"$f":"表格2[[#This Row],[編號]]","v":{"$error":"#VALUE!"}},{"$f":"表格2[[#This Row],[產品]]","v":{"$error":"#VALUE!"}},{"$f":"表格2[[#This Row],[單價]]","v":{"$error":"#VALUE!"}},{"$f":"表格2[[#This Row],[入貨價]]","v":{"$error":"#VALUE!"}},{"$error":"#VALUE!"},{"$f":"SUMIF(資料庫!D:D,庫存計算!C231,資料庫!E:E)","v":0},{"$error":"#VALUE!"}]
[{"$f":"表格2[[#This Row],[貨源]]","v":{"$error":"#VALUE!"}},{"$f":"表格2[[#This Row],[編號]]","v":{"$error":"#VALUE!"}},{"$f":"表格2[[#This Row],[產品]]","v":{"$error":"#VALUE!"}},{"$f":"表格2[[#This Row],[單價]]","v":{"$error":"#VALUE!"}},{"$f":"表格2[[#This Row],[入貨價]]","v":{"$error":"#VALUE!"}},{"$error":"#VALUE!"},{"$f":"SUMIF(資料庫!D:D,庫存計算!C232,資料庫!E:E)","v":0},{"$error":"#VALUE!"}]
[{"$f":"表格2[[#This Row],[貨源]]","v":{"$error":"#VALUE!"}},{"$f":"表格2[[#This Row],[編號]]","v":{"$error":"#VALUE!"}},{"$f":"表格2[[#This Row],[產品]]","v":{"$error":"#VALUE!"}},{"$f":"表格2[[#This Row],[單價]]","v":{"$error":"#VALUE!"}},{"$f":"表格2[[#This Row],[入貨價]]","v":{"$error":"#VALUE!"}},{"$error":"#VALUE!"},{"$f":"SUMIF(資料庫!D:D,庫存計算!C233,資料庫!E:E)","v":0},{"$error":"#VALUE!"}]
[{"$f":"表格2[[#This Row],[貨源]]","v":{"$error":"#VALUE!"}},{"$f":"表格2[[#This Row],[編號]]","v":{"$error":"#VALUE!"}},{"$f":"表格2[[#This Row],[產品]]","v":{"$error":"#VALUE!"}},{"$f":"表格2[[#This Row],[單價]]","v":{"$error":"#VALUE!"}},{"$f":"表格2[[#This Row],[入貨價]]","v":{"$error":"#VALUE!"}},{"$error":"#VALUE!"},{"$f":"SUMIF(資料庫!D:D,庫存計算!C234,資料庫!E:E)","v":0},{"$error":"#VALUE!"}]
[{"$f":"表格2[[#This Row],[貨源]]","v":{"$error":"#VALUE!"}},{"$f":"表格2[[#This Row],[編號]]","v":{"$error":"#VALUE!"}},{"$f":"表格2[[#This Row],[產品]]","v":{"$error":"#VALUE!"}},{"$f":"表格2[[#This Row],[單價]]","v":{"$error":"#VALUE!"}},{"$f":"表格2[[#This Row],[入貨價]]","v":{"$error":"#VALUE!"}},{"$error":"#VALUE!"},{"$f":"SUMIF(資料庫!D:D,庫存計算!C235,資料庫!E:E)","v":0},{"$error":"#VALUE!"}]
[{"$f":"表格2[[#This Row],[貨源]]","v":{"$error":"#VALUE!"}},{"$f":"表格2[[#This Row],[編號]]","v":{"$error":"#VALUE!"}},{"$f":"表格2[[#This Row],[產品]]","v":{"$error":"#VALUE!"}},{"$f":"表格2[[#This Row],[單價]]","v":{"$error":"#VALUE!"}},{"$f":"表格2[[#This Row],[入貨價]]","v":{"$error":"#VALUE!"}},{"$error":"#VALUE!"},{"$f":"SUMIF(資料庫!D:D,庫存計算!C236,資料庫!E:E)","v":0},{"$error":"#VALUE!"}]
[{"$f":"表格2[[#This Row],[貨源]]","v":{"$error":"#VALUE!"}},{"$f":"表格2[[#This Row],[編號]]","v":{"$error":"#VALUE!"}},{"$f":"表格2[[#This Row],[產品]]","v":{"$error":"#VALUE!"}},{"$f":"表格2[[#This Row],[單價]]","v":{"$error":"#VALUE!"}},{"$f":"表格2[[#This Row],[入貨價]]","v":{"$error":"#VALUE!"}},{"$error":"#VALUE!"},{"$f":"SUMIF(資料庫!D:D,庫存計算!C237,資料庫!E:E)","v":0},{"$error":"#VALUE!"}]
[{"$f":"表格2[[#This Row],[貨源]]","v":{"$error":"#VALUE!"}},{"$f":"表格2[[#This Row],[編號]]","v":{"$error":"#VALUE!"}},{"$f":"表格2[[#This Row],[產品]]","v":{"$error":"#VALUE!"}},{"$f":"表格2[[#This Row],[單價]]","v":{"$error":"#VALUE!"}},{"$f":"表格2[[#This Row],[入貨價]]","v":{"$error":"#VALUE!"}},{"$error":"#VALUE!"},{"$f":"SUMIF(資料庫!D:D,庫存計算!C238,資料庫!E:E)","v":0},{"$error":"#VALUE!"}]
[{"$f":"表格2[[#This Row],[貨源]]","v":{"$error":"#VALUE!"}},{"$f":"表格2[[#This Row],[編號]]","v":{"$error":"#VALUE!"}},{"$f":"表格2[[#This Row],[產品]]","v":{"$error":"#VALUE!"}},{"$f":"表格2[[#This Row],[單價]]","v":{"$error":"#VALUE!"}},{"$f":"表格2[[#This Row],[入貨價]]","v":{"$error":"#VALUE!"}},{"$error":"#VALUE!"},{"$f":"SUMIF(資料庫!D:D,庫存計算!C239,資料庫!E:E)","v":0},{"$error":"#VALUE!"}]
[{"$f":"表格2[[#This Row],[貨源]]","v":{"$error":"#VALUE!"}},{"$f":"表格2[[#This Row],[編號]]","v":{"$error":"#VALUE!"}},{"$f":"表格2[[#This Row],[產品]]","v":{"$error":"#VALUE!"}},{"$f":"表格2[[#This Row],[單價]]","v":{"$error":"#VALUE!"}},{"$f":"表格2[[#This Row],[入貨價]]","v":{"$error":"#VALUE!"}},{"$error":"#VALUE!"},{"$f":"SUMIF(資料庫!D:D,庫存計算!C240,資料庫!E:E)","v":0},{"$error":"#VALUE!"}]
[{"$f":"表格2[[#This Row],[貨源]]","v":{"$error":"#VALUE!"}},{"$f":"表格2[[#This Row],[編號]]","v":{"$error":"#VALUE!"}},{"$f":"表格2[[#This Row],[產品]]","v":{"$error":"#VALUE!"}},{"$f":"表格2[[#This Row],[單價]]","v":{"$error":"#VALUE!"}},{"$f":"表格2[[#This Row],[入貨價]]","v":{"$error":"#VALUE!"}},{"$error":"#VALUE!"},{"$f":"SUMIF(資料庫!D:D,庫存計算!C241,資料庫!E:E)","v":0},{"$error":"#VALUE!"}]
[{"$f":"表格2[[#This Row],[貨源]]","v":{"$error":"#VALUE!"}},{"$f":"表格2[[#This Row],[編號]]","v":{"$error":"#VALUE!"}},{"$f":"表格2[[#This Row],[產品]]","v":{"$error":"#VALUE!"}},{"$f":"表格2[[#This Row],[單價]]","v":{"$error":"#VALUE!"}},{"$f":"表格2[[#This Row],[入貨價]]","v":{"$error":"#VALUE!"}},{"$error":"#VALUE!"},{"$f":"SUMIF(資料庫!D:D,庫存計算!C242,資料庫!E:E)","v":0},{"$error":"#VALUE!"}]
[{"$f":"表格2[[#This Row],[貨源]]","v":{"$error":"#VALUE!"}},{"$f":"表格2[[#This Row],[編號]]","v":{"$error":"#VALUE!"}},{"$f":"表格2[[#This Row],[產品]]","v":{"$error":"#VALUE!"}},{"$f":"表格2[[#This Row],[單價]]","v":{"$error":"#VALUE!"}},{"$f":"表格2[[#This Row],[入貨價]]","v":{"$error":"#VALUE!"}},{"$error":"#VALUE!"},{"$f":"SUMIF(資料庫!D:D,庫存計算!C243,資料庫!E:E)","v":0},{"$error":"#VALUE!"}]
[{"$f":"表格2[[#This Row],[貨源]]","v":{"$error":"#VALUE!"}},{"$f":"表格2[[#This Row],[編號]]","v":{"$error":"#VALUE!"}},{"$f":"表格2[[#This Row],[產品]]","v":{"$error":"#VALUE!"}},{"$f":"表格2[[#This Row],[單價]]","v":{"$error":"#VALUE!"}},{"$f":"表格2[[#This Row],[入貨價]]","v":{"$error":"#VALUE!"}},{"$error":"#VALUE!"},{"$f":"SUMIF(資料庫!D:D,庫存計算!C244,資料庫!E:E)","v":0},{"$error":"#VALUE!"}]
[{"$f":"表格2[[#This Row],[貨源]]","v":{"$error":"#VALUE!"}},{"$f":"表格2[[#This Row],[編號]]","v":{"$error":"#VALUE!"}},{"$f":"表格2[[#This Row],[產品]]","v":{"$error":"#VALUE!"}},{"$f":"表格2[[#This Row],[單價]]","v":{"$error":"#VALUE!"}},{"$f":"表格2[[#This Row],[入貨價]]","v":{"$error":"#VALUE!"}},{"$error":"#VALUE!"},{"$f":"SUMIF(資料庫!D:D,庫存計算!C245,資料庫!E:E)","v":0},{"$error":"#VALUE!"}]
[{"$f":"表格2[[#This Row],[貨源]]","v":{"$error":"#VALUE!"}},{"$f":"表格2[[#This Row],[編號]]","v":{"$error":"#VALUE!"}},{"$f":"表格2[[#This Row],[產品]]","v":{"$error":"#VALUE!"}},{"$f":"表格2[[#This Row],[單價]]","v":{"$error":"#VALUE!"}},{"$f":"表格2[[#This Row],[入貨價]]","v":{"$error":"#VALUE!"}},{"$error":"#VALUE!"},{"$f":"SUMIF(資料庫!D:D,庫存計算!C246,資料庫!E:E)","v":0},{"$error":"#VALUE!"}]
[{"$f":"表格2[[#This Row],[貨源]]","v":{"$error":"#VALUE!"}},{"$f":"表格2[[#This Row],[編號]]","v":{"$error":"#VALUE!"}},{"$f":"表格2[[#This Row],[產品]]","v":{"$error":"#VALUE!"}},{"$f":"表格2[[#This Row],[單價]]","v":{"$error":"#VALUE!"}},{"$f":"表格2[[#This Row],[入貨價]]","v":{"$error":"#VALUE!"}},{"$error":"#VALUE!"},{"$f":"SUMIF(資料庫!D:D,庫存計算!C247,資料庫!E:E)","v":0},{"$error":"#VALUE!"}]
[{"$f":"表格2[[#This Row],[貨源]]","v":{"$error":"#VALUE!"}},{"$f":"表格2[[#This Row],[編號]]","v":{"$error":"#VALUE!"}},{"$f":"表格2[[#This Row],[產品]]","v":{"$error":"#VALUE!"}},{"$f":"表格2[[#This Row],[單價]]","v":{"$error":"#VALUE!"}},{"$f":"表格2[[#This Row],[入貨價]]","v":{"$error":"#VALUE!"}},{"$error":"#VALUE!"},{"$f":"SUMIF(資料庫!D:D,庫存計算!C248,資料庫!E:E)","v":0},{"$error":"#VALUE!"}]
[{"$f":"表格2[[#This Row],[貨源]]","v":{"$error":"#VALUE!"}},{"$f":"表格2[[#This Row],[編號]]","v":{"$error":"#VALUE!"}},{"$f":"表格2[[#This Row],[產品]]","v":{"$error":"#VALUE!"}},{"$f":"表格2[[#This Row],[單價]]","v":{"$error":"#VALUE!"}},{"$f":"表格2[[#This Row],[入貨價]]","v":{"$error":"#VALUE!"}},{"$error":"#VALUE!"},{"$f":"SUMIF(資料庫!D:D,庫存計算!C249,資料庫!E:E)","v":0},{"$error":"#VALUE!"}]
[{"$f":"表格2[[#This Row],[貨源]]","v":{"$error":"#VALUE!"}},{"$f":"表格2[[#This Row],[編號]]","v":{"$error":"#VALUE!"}},{"$f":"表格2[[#This Row],[產品]]","v":{"$error":"#VALUE!"}},{"$f":"表格2[[#This Row],[單價]]","v":{"$error":"#VALUE!"}},{"$f":"表格2[[#This Row],[入貨價]]","v":{"$error":"#VALUE!"}},{"$error":"#VALUE!"},{"$f":"SUMIF(資料庫!D:D,庫存計算!C250,資料庫!E:E)","v":0},{"$error":"#VALUE!"}]
[{"$f":"表格2[[#This Row],[貨源]]","v":{"$error":"#VALUE!"}},{"$f":"表格2[[#This Row],[編號]]","v":{"$error":"#VALUE!"}},{"$f":"表格2[[#This Row],[產品]]","v":{"$error":"#VALUE!"}},{"$f":"表格2[[#This Row],[單價]]","v":{"$error":"#VALUE!"}},{"$f":"表格2[[#This Row],[入貨價]]","v":{"$error":"#VALUE!"}},{"$f":"E251/4","v":{"$error":"#VALUE!"}},{"$f":"SUMIF(資料庫!D:D,庫存計算!C251,資料庫!E:E)","v":0},{"$error":"#VALUE!"}]
[{"$f":"表格2[[#This Row],[貨源]]","v":{"$error":"#VALUE!"}},{"$f":"表格2[[#This Row],[編號]]","v":{"$error":"#VALUE!"}},{"$f":"表格2[[#This Row],[產品]]","v":{"$error":"#VALUE!"}},{"$f":"表格2[[#This Row],[單價]]","v":{"$error":"#VALUE!"}},{"$f":"表格2[[#This Row],[入貨價]]","v":{"$error":"#VALUE!"}},{"$error":"#VALUE!"},{"$f":"SUMIF(資料庫!D:D,庫存計算!C252,資料庫!E:E)","v":0},{"$error":"#VALUE!"}]
[{"$f":"表格2[[#This Row],[貨源]]","v":{"$error":"#VALUE!"}},{"$f":"表格2[[#This Row],[編號]]","v":{"$error":"#VALUE!"}},{"$f":"表格2[[#This Row],[產品]]","v":{"$error":"#VALUE!"}},{"$f":"表格2[[#This Row],[單價]]","v":{"$error":"#VALUE!"}},{"$f":"表格2[[#This Row],[入貨價]]","v":{"$error":"#VALUE!"}},{"$error":"#VALUE!"},{"$f":"SUMIF(資料庫!D:D,庫存計算!C253,資料庫!E:E)","v":0},{"$error":"#VALUE!"}]
[{"$f":"表格2[[#This Row],[貨源]]","v":{"$error":"#VALUE!"}},{"$f":"表格2[[#This Row],[編號]]","v":{"$error":"#VALUE!"}},{"$f":"表格2[[#This Row],[產品]]","v":{"$error":"#VALUE!"}},{"$f":"表格2[[#This Row],[單價]]","v":{"$error":"#VALUE!"}},{"$f":"表格2[[#This Row],[入貨價]]","v":{"$error":"#VALUE!"}},{"$error":"#VALUE!"},{"$f":"SUMIF(資料庫!D:D,庫存計算!C254,資料庫!E:E)","v":0},{"$error":"#VALUE!"}]
[{"$f":"表格2[[#This Row],[貨源]]","v":{"$error":"#VALUE!"}},{"$f":"表格2[[#This Row],[編號]]","v":{"$error":"#VALUE!"}},{"$f":"表格2[[#This Row],[產品]]","v":{"$error":"#VALUE!"}},{"$f":"表格2[[#This Row],[單價]]","v":{"$error":"#VALUE!"}},{"$f":"表格2[[#This Row],[入貨價]]","v":{"$error":"#VALUE!"}},{"$error":"#VALUE!"},{"$f":"SUMIF(資料庫!D:D,庫存計算!C255,資料庫!E:E)","v":0},{"$error":"#VALUE!"}]
[{"$f":"表格2[[#This Row],[貨源]]","v":{"$error":"#VALUE!"}},{"$f":"表格2[[#This Row],[編號]]","v":{"$error":"#VALUE!"}},{"$f":"表格2[[#This Row],[產品]]","v":{"$error":"#VALUE!"}},{"$f":"表格2[[#This Row],[單價]]","v":{"$error":"#VALUE!"}},{"$f":"表格2[[#This Row],[入貨價]]","v":{"$error":"#VALUE!"}},{"$error":"#VALUE!"},{"$f":"SUMIF(資料庫!D:D,庫存計算!C256,資料庫!E:E)","v":0},{"$error":"#VALUE!"}]
[{"$f":"表格2[[#This Row],[貨源]]","v":{"$error":"#VALUE!"}},{"$f":"表格2[[#This Row],[編號]]","v":{"$error":"#VALUE!"}},{"$f":"表格2[[#This Row],[產品]]","v":{"$error":"#VALUE!"}},{"$f":"表格2[[#This Row],[單價]]","v":{"$error":"#VALUE!"}},{"$f":"表格2[[#This Row],[入貨價]]","v":{"$error":"#VALUE!"}},{"$error":"#VALUE!"},{"$f":"SUMIF(資料庫!D:D,庫存計算!C257,資料庫!E:E)","v":0},{"$error":"#VALUE!"}]
[{"$f":"表格2[[#This Row],[貨源]]","v":{"$error":"#VALUE!"}},{"$f":"表格2[[#This Row],[編號]]","v":{"$error":"#VALUE!"}},{"$f":"表格2[[#This Row],[產品]]","v":{"$error":"#VALUE!"}},{"$f":"表格2[[#This Row],[單價]]","v":{"$error":"#VALUE!"}},{"$f":"表格2[[#This Row],[入貨價]]","v":{"$error":"#VALUE!"}},{"$error":"#VALUE!"},{"$f":"SUMIF(資料庫!D:D,庫存計算!C258,資料庫!E:E)","v":0},{"$error":"#VALUE!"}]
[{"$f":"表格2[[#This Row],[貨源]]","v":{"$error":"#VALUE!"}},{"$f":"表格2[[#This Row],[編號]]","v":{"$error":"#VALUE!"}},{"$f":"表格2[[#This Row],[產品]]","v":{"$error":"#VALUE!"}},{"$f":"表格2[[#This Row],[單價]]","v":{"$error":"#VALUE!"}},{"$f":"表格2[[#This Row],[入貨價]]","v":{"$error":"#VALUE!"}},{"$error":"#VALUE!"},{"$f":"SUMIF(資料庫!D:D,庫存計算!C259,資料庫!E:E)","v":0},{"$error":"#VALUE!"}]
[{"$f":"表格2[[#This Row],[貨源]]","v":{"$error":"#VALUE!"}},{"$f":"表格2[[#This Row],[編號]]","v":{"$error":"#VALUE!"}},{"$f":"表格2[[#This Row],[產品]]","v":{"$error":"#VALUE!"}},{"$f":"表格2[[#This Row],[單價]]","v":{"$error":"#VALUE!"}},{"$f":"表格2[[#This Row],[入貨價]]","v":{"$error":"#VALUE!"}},{"$error":"#VALUE!"},{"$f":"SUMIF(資料庫!D:D,庫存計算!C260,資料庫!E:E)","v":0},{"$f":"(D260-F260)*G260","v":{"$error":"#VALUE!"}}]
[{"$f":"表格2[[#This Row],[貨源]]","v":{"$error":"#VALUE!"}},{"$f":"表格2[[#This Row],[編號]]","v":{"$error":"#VALUE!"}},{"$f":"表格2[[#This Row],[產品]]","v":{"$error":"#VALUE!"}},{"$f":"表格2[[#This Row],[單價]]","v":{"$error":"#VALUE!"}},{"$f":"表格2[[#This Row],[入貨價]]","v":{"$error":"#VALUE!"}},{"$error":"#VALUE!"},{"$f":"SUMIF(資料庫!D:D,庫存計算!C261,資料庫!E:E)","v":0},{"$error":"#VALUE!"}]
[{"$f":"表格2[[#This Row],[貨源]]","v":{"$error":"#VALUE!"}},{"$f":"表格2[[#This Row],[編號]]","v":{"$error":"#VALUE!"}},{"$f":"表格2[[#This Row],[產品]]","v":{"$error":"#VALUE!"}},{"$f":"表格2[[#This Row],[單價]]","v":{"$error":"#VALUE!"}},{"$f":"表格2[[#This Row],[入貨價]]","v":{"$error":"#VALUE!"}},{"$error":"#VALUE!"},{"$f":"SUMIF(資料庫!D:D,庫存計算!C262,資料庫!E:E)","v":0},{"$error":"#VALUE!"}]
[{"$f":"表格2[[#This Row],[貨源]]","v":{"$error":"#VALUE!"}},{"$f":"表格2[[#This Row],[編號]]","v":{"$error":"#VALUE!"}},{"$f":"表格2[[#This Row],[產品]]","v":{"$error":"#VALUE!"}},{"$f":"表格2[[#This Row],[單價]]","v":{"$error":"#VALUE!"}},{"$f":"表格2[[#This Row],[入貨價]]","v":{"$error":"#VALUE!"}},{"$error":"#VALUE!"},{"$f":"SUMIF(資料庫!D:D,庫存計算!C263,資料庫!E:E)","v":0},{"$error":"#VALUE!"}]
[{"$f":"表格2[[#This Row],[貨源]]","v":{"$error":"#VALUE!"}},{"$f":"表格2[[#This Row],[編號]]","v":{"$error":"#VALUE!"}},{"$f":"表格2[[#This Row],[產品]]","v":{"$error":"#VALUE!"}},{"$f":"表格2[[#This Row],[單價]]","v":{"$error":"#VALUE!"}},{"$f":"表格2[[#This Row],[入貨價]]","v":{"$error":"#VALUE!"}},{"$error":"#VALUE!"},{"$f":"SUMIF(資料庫!D:D,庫存計算!C264,資料庫!E:E)","v":0},{"$error":"#VALUE!"}]
[{"$f":"表格2[[#This Row],[貨源]]","v":{"$error":"#VALUE!"}},{"$f":"表格2[[#This Row],[編號]]","v":{"$error":"#VALUE!"}},{"$f":"表格2[[#This Row],[產品]]","v":{"$error":"#VALUE!"}},{"$f":"表格2[[#This Row],[單價]]","v":{"$error":"#VALUE!"}},{"$f":"表格2[[#This Row],[入貨價]]","v":{"$error":"#VALUE!"}},{"$error":"#VALUE!"},{"$f":"SUMIF(資料庫!D:D,庫存計算!C265,資料庫!E:E)","v":0},{"$error":"#VALUE!"}]
[{"$f":"表格2[[#This Row],[貨源]]","v":{"$error":"#VALUE!"}},{"$f":"表格2[[#This Row],[編號]]","v":{"$error":"#VALUE!"}},{"$f":"表格2[[#This Row],[產品]]","v":{"$error":"#VALUE!"}},{"$f":"表格2[[#This Row],[單價]]","v":{"$error":"#VALUE!"}},{"$f":"表格2[[#This Row],[入貨價]]","v":{"$error":"#VALUE!"}},{"$error":"#VALUE!"},{"$f":"SUMIF(資料庫!D:D,庫存計算!C266,資料庫!E:E)","v":0},{"$error":"#VALUE!"}]
[{"$f":"表格2[[#This Row],[貨源]]","v":{"$error":"#VALUE!"}},{"$f":"表格2[[#This Row],[編號]]","v":{"$error":"#VALUE!"}},{"$f":"表格2[[#This Row],[產品]]","v":{"$error":"#VALUE!"}},{"$f":"表格2[[#This Row],[單價]]","v":{"$error":"#VALUE!"}},{"$f":"表格2[[#This Row],[入貨價]]","v":{"$error":"#VALUE!"}},{"$error":"#VALUE!"},{"$f":"SUMIF(資料庫!D:D,庫存計算!C267,資料庫!E:E)","v":0},{"$error":"#VALUE!"}]
[{"$f":"表格2[[#This Row],[貨源]]","v":{"$error":"#VALUE!"}},{"$f":"表格2[[#This Row],[編號]]","v":{"$error":"#VALUE!"}},{"$f":"表格2[[#This Row],[產品]]","v":{"$error":"#VALUE!"}},{"$f":"表格2[[#This Row],[單價]]","v":{"$error":"#VALUE!"}},{"$f":"表格2[[#This Row],[入貨價]]","v":{"$error":"#VALUE!"}},{"$error":"#VALUE!"},{"$f":"SUMIF(資料庫!D:D,庫存計算!C268,資料庫!E:E)","v":0},{"$error":"#VALUE!"}]
[{"$f":"表格2[[#This Row],[貨源]]","v":{"$error":"#VALUE!"}},{"$f":"表格2[[#This Row],[編號]]","v":{"$error":"#VALUE!"}},{"$f":"表格2[[#This Row],[產品]]","v":{"$error":"#VALUE!"}},{"$f":"表格2[[#This Row],[單價]]","v":{"$error":"#VALUE!"}},{"$f":"表格2[[#This Row],[入貨價]]","v":{"$error":"#VALUE!"}},{"$error":"#VALUE!"},{"$f":"SUMIF(資料庫!D:D,庫存計算!C269,資料庫!E:E)","v":0},{"$error":"#VALUE!"}]
[{"$f":"表格2[[#This Row],[貨源]]","v":{"$error":"#VALUE!"}},{"$f":"表格2[[#This Row],[編號]]","v":{"$error":"#VALUE!"}},{"$f":"表格2[[#This Row],[產品]]","v":{"$error":"#VALUE!"}},{"$f":"表格2[[#This Row],[單價]]","v":{"$error":"#VALUE!"}},{"$f":"表格2[[#This Row],[入貨價]]","v":{"$error":"#VALUE!"}},{"$error":"#VALUE!"},{"$f":"SUMIF(資料庫!D:D,庫存計算!C270,資料庫!E:E)","v":0},{"$error":"#VALUE!"}]
[{"$f":"表格2[[#This Row],[貨源]]","v":{"$error":"#VALUE!"}},{"$f":"表格2[[#This Row],[編號]]","v":{"$error":"#VALUE!"}},{"$f":"表格2[[#This Row],[產品]]","v":{"$error":"#VALUE!"}},{"$f":"表格2[[#This Row],[單價]]","v":{"$error":"#VALUE!"}},{"$f":"表格2[[#This Row],[入貨價]]","v":{"$error":"#VALUE!"}},{"$error":"#VALUE!"},{"$f":"SUMIF(資料庫!D:D,庫存計算!C271,資料庫!E:E)","v":0},{"$error":"#VALUE!"}]
[{"$f":"表格2[[#This Row],[貨源]]","v":{"$error":"#VALUE!"}},{"$f":"表格2[[#This Row],[編號]]","v":{"$error":"#VALUE!"}},{"$f":"表格2[[#This Row],[產品]]","v":{"$error":"#VALUE!"}},{"$f":"表格2[[#This Row],[單價]]","v":{"$error":"#VALUE!"}},{"$f":"表格2[[#This Row],[入貨價]]","v":{"$error":"#VALUE!"}},{"$error":"#VALUE!"},{"$f":"SUMIF(資料庫!D:D,庫存計算!C272,資料庫!E:E)","v":0},{"$error":"#VALUE!"}]
[{"$f":"表格2[[#This Row],[貨源]]","v":{"$error":"#VALUE!"}},{"$f":"表格2[[#This Row],[編號]]","v":{"$error":"#VALUE!"}},{"$f":"表格2[[#This Row],[產品]]","v":{"$error":"#VALUE!"}},{"$f":"表格2[[#This Row],[單價]]","v":{"$error":"#VALUE!"}},{"$f":"表格2[[#This Row],[入貨價]]","v":{"$error":"#VALUE!"}},{"$error":"#VALUE!"},{"$f":"SUMIF(資料庫!D:D,庫存計算!C273,資料庫!E:E)","v":0},{"$error":"#VALUE!"}]
[{"$f":"表格2[[#This Row],[貨源]]","v":{"$error":"#VALUE!"}},{"$f":"表格2[[#This Row],[編號]]","v":{"$error":"#VALUE!"}},{"$f":"表格2[[#This Row],[產品]]","v":{"$error":"#VALUE!"}},{"$f":"表格2[[#This Row],[單價]]","v":{"$error":"#VALUE!"}},{"$f":"表格2[[#This Row],[入貨價]]","v":{"$error":"#VALUE!"}},{"$error":"#VALUE!"},{"$f":"SUMIF(資料庫!D:D,庫存計算!C274,資料庫!E:E)","v":0},{"$error":"#VALUE!"}]
[{"$f":"表格2[[#This Row],[貨源]]","v":{"$error":"#VALUE!"}},{"$f":"表格2[[#This Row],[編號]]","v":{"$error":"#VALUE!"}},{"$f":"表格2[[#This Row],[產品]]","v":{"$error":"#VALUE!"}},{"$f":"表格2[[#This Row],[單價]]","v":{"$error":"#VALUE!"}},{"$f":"表格2[[#This Row],[入貨價]]","v":{"$error":"#VALUE!"}},{"$error":"#VALUE!"},{"$f":"SUMIF(資料庫!D:D,庫存計算!C275,資料庫!E:E)","v":0},{"$error":"#VALUE!"}]
[{"$f":"表格2[[#This Row],[貨源]]","v":{"$error":"#VALUE!"}},{"$f":"表格2[[#This Row],[編號]]","v":{"$error":"#VALUE!"}},{"$f":"表格2[[#This Row],[產品]]","v":{"$error":"#VALUE!"}},{"$f":"表格2[[#This Row],[單價]]","v":{"$error":"#VALUE!"}},{"$f":"表格2[[#This Row],[入貨價]]","v":{"$error":"#VALUE!"}},{"$error":"#VALUE!"},{"$f":"SUMIF(資料庫!D:D,庫存計算!C276,資料庫!E:E)","v":0},{"$error":"#VALUE!"}]
[{"$f":"表格2[[#This Row],[貨源]]","v":{"$error":"#VALUE!"}},{"$f":"表格2[[#This Row],[編號]]","v":{"$error":"#VALUE!"}},{"$f":"表格2[[#This Row],[產品]]","v":{"$error":"#VALUE!"}},{"$f":"表格2[[#This Row],[單價]]","v":{"$error":"#VALUE!"}},{"$f":"表格2[[#This Row],[入貨價]]","v":{"$error":"#VALUE!"}},{"$error":"#VALUE!"},{"$f":"SUMIF(資料庫!D:D,庫存計算!C277,資料庫!E:E)","v":0},{"$error":"#VALUE!"}]
[{"$f":"表格2[[#This Row],[貨源]]","v":{"$error":"#VALUE!"}},{"$f":"表格2[[#This Row],[編號]]","v":{"$error":"#VALUE!"}},{"$f":"表格2[[#This Row],[產品]]","v":{"$error":"#VALUE!"}},{"$f":"表格2[[#This Row],[單價]]","v":{"$error":"#VALUE!"}},{"$f":"表格2[[#This Row],[入貨價]]","v":{"$error":"#VALUE!"}},{"$error":"#VALUE!"},{"$f":"SUMIF(資料庫!D:D,庫存計算!C278,資料庫!E:E)","v":0},{"$error":"#VALUE!"}]
[{"$f":"表格2[[#This Row],[貨源]]","v":{"$error":"#VALUE!"}},{"$f":"表格2[[#This Row],[編號]]","v":{"$error":"#VALUE!"}},{"$f":"表格2[[#This Row],[產品]]","v":{"$error":"#VALUE!"}},{"$f":"表格2[[#This Row],[單價]]","v":{"$error":"#VALUE!"}},{"$f":"表格2[[#This Row],[入貨價]]","v":{"$error":"#VALUE!"}},{"$error":"#VALUE!"},{"$f":"SUMIF(資料庫!D:D,庫存計算!C279,資料庫!E:E)","v":0},{"$error":"#VALUE!"}]
[{"$f":"表格2[[#This Row],[貨源]]","v":{"$error":"#VALUE!"}},{"$f":"表格2[[#This Row],[編號]]","v":{"$error":"#VALUE!"}},{"$f":"表格2[[#This Row],[產品]]","v":{"$error":"#VALUE!"}},{"$f":"表格2[[#This Row],[單價]]","v":{"$error":"#VALUE!"}},{"$f":"表格2[[#This Row],[入貨價]]","v":{"$error":"#VALUE!"}},{"$error":"#VALUE!"},{"$f":"SUMIF(資料庫!D:D,庫存計算!C280,資料庫!E:E)","v":0},{"$error":"#VALUE!"}]
[{"$f":"表格2[[#This Row],[貨源]]","v":{"$error":"#VALUE!"}},{"$f":"表格2[[#This Row],[編號]]","v":{"$error":"#VALUE!"}},{"$f":"表格2[[#This Row],[產品]]","v":{"$error":"#VALUE!"}},{"$f":"表格2[[#This Row],[單價]]","v":{"$error":"#VALUE!"}},{"$f":"表格2[[#This Row],[入貨價]]","v":{"$error":"#VALUE!"}},{"$error":"#VALUE!"},{"$f":"SUMIF(資料庫!D:D,庫存計算!C281,資料庫!E:E)","v":0},{"$error":"#VALUE!"}]
[{"$f":"表格2[[#This Row],[貨源]]","v":{"$error":"#VALUE!"}},{"$f":"表格2[[#This Row],[編號]]","v":{"$error":"#VALUE!"}},{"$f":"表格2[[#This Row],[產品]]","v":{"$error":"#VALUE!"}},{"$f":"表格2[[#This Row],[單價]]","v":{"$error":"#VALUE!"}},{"$f":"表格2[[#This Row],[入貨價]]","v":{"$error":"#VALUE!"}},{"$error":"#VALUE!"},{"$f":"SUMIF(資料庫!D:D,庫存計算!C282,資料庫!E:E)","v":0},{"$error":"#VALUE!"}]
[{"$f":"表格2[[#This Row],[貨源]]","v":{"$error":"#VALUE!"}},{"$f":"表格2[[#This Row],[編號]]","v":{"$error":"#VALUE!"}},{"$f":"表格2[[#This Row],[產品]]","v":{"$error":"#VALUE!"}},{"$f":"表格2[[#This Row],[單價]]","v":{"$error":"#VALUE!"}},{"$f":"表格2[[#This Row],[入貨價]]","v":{"$error":"#VALUE!"}},{"$error":"#VALUE!"},{"$f":"SUMIF(資料庫!D:D,庫存計算!C283,資料庫!E:E)","v":0},{"$error":"#VALUE!"}]
[{"$f":"表格2[[#This Row],[貨源]]","v":{"$error":"#VALUE!"}},{"$f":"表格2[[#This Row],[編號]]","v":{"$error":"#VALUE!"}},{"$f":"表格2[[#This Row],[產品]]","v":{"$error":"#VALUE!"}},{"$f":"表格2[[#This Row],[單價]]","v":{"$error":"#VALUE!"}},{"$f":"表格2[[#This Row],[入貨價]]","v":{"$error":"#VALUE!"}},{"$error":"#VALUE!"},{"$f":"SUMIF(資料庫!D:D,庫存計算!C284,資料庫!E:E)","v":0},{"$error":"#VALUE!"}]
[{"$f":"表格2[[#This Row],[貨源]]","v":{"$error":"#VALUE!"}},{"$f":"表格2[[#This Row],[編號]]","v":{"$error":"#VALUE!"}},{"$f":"表格2[[#This Row],[產品]]","v":{"$error":"#VALUE!"}},{"$f":"表格2[[#This Row],[單價]]","v":{"$error":"#VALUE!"}},{"$f":"表格2[[#This Row],[入貨價]]","v":{"$error":"#VALUE!"}},{"$error":"#VALUE!"},{"$f":"SUMIF(資料庫!D:D,庫存計算!C285,資料庫!E:E)","v":0},{"$error":"#VALUE!"}]
[{"$f":"表格2[[#This Row],[貨源]]","v":{"$error":"#VALUE!"}},{"$f":"表格2[[#This Row],[編號]]","v":{"$error":"#VALUE!"}},{"$f":"表格2[[#This Row],[產品]]","v":{"$error":"#VALUE!"}},{"$f":"表格2[[#This Row],[單價]]","v":{"$error":"#VALUE!"}},{"$f":"表格2[[#This Row],[入貨價]]","v":{"$error":"#VALUE!"}},{"$error":"#VALUE!"},{"$f":"SUMIF(資料庫!D:D,庫存計算!C286,資料庫!E:E)","v":0},{"$error":"#VALUE!"}]
[{"$f":"表格2[[#This Row],[貨源]]","v":{"$error":"#VALUE!"}},{"$f":"表格2[[#This Row],[編號]]","v":{"$error":"#VALUE!"}},{"$f":"表格2[[#This Row],[產品]]","v":{"$error":"#VALUE!"}},{"$f":"表格2[[#This Row],[單價]]","v":{"$error":"#VALUE!"}},{"$f":"表格2[[#This Row],[入貨價]]","v":{"$error":"#VALUE!"}},{"$error":"#VALUE!"},{"$f":"SUMIF(資料庫!D:D,庫存計算!C287,資料庫!E:E)","v":0},{"$error":"#VALUE!"}]
[{"$f":"表格2[[#This Row],[貨源]]","v":{"$error":"#VALUE!"}},{"$f":"表格2[[#This Row],[編號]]","v":{"$error":"#VALUE!"}},{"$f":"表格2[[#This Row],[產品]]","v":{"$error":"#VALUE!"}},{"$f":"表格2[[#This Row],[單價]]","v":{"$error":"#VALUE!"}},{"$f":"表格2[[#This Row],[入貨價]]","v":{"$error":"#VALUE!"}},{"$error":"#VALUE!"},{"$f":"SUMIF(資料庫!D:D,庫存計算!C288,資料庫!E:E)","v":0},{"$error":"#VALUE!"}]
[{"$f":"表格2[[#This Row],[貨源]]","v":{"$error":"#VALUE!"}},{"$f":"表格2[[#This Row],[編號]]","v":{"$error":"#VALUE!"}},{"$f":"表格2[[#This Row],[產品]]","v":{"$error":"#VALUE!"}},{"$f":"表格2[[#This Row],[單價]]","v":{"$error":"#VALUE!"}},{"$f":"表格2[[#This Row],[入貨價]]","v":{"$error":"#VALUE!"}},{"$error":"#VALUE!"},{"$f":"SUMIF(資料庫!D:D,庫存計算!C289,資料庫!E:E)","v":0},{"$error":"#VALUE!"}]
[{"$f":"表格2[[#This Row],[貨源]]","v":{"$error":"#VALUE!"}},{"$f":"表格2[[#This Row],[編號]]","v":{"$error":"#VALUE!"}},{"$f":"表格2[[#This Row],[產品]]","v":{"$error":"#VALUE!"}},{"$f":"表格2[[#This Row],[單價]]","v":{"$error":"#VALUE!"}},{"$f":"表格2[[#This Row],[入貨價]]","v":{"$error":"#VALUE!"}},{"$error":"#VALUE!"},{"$f":"SUMIF(資料庫!D:D,庫存計算!C290,資料庫!E:E)","v":0},{"$error":"#VALUE!"}]
[{"$f":"表格2[[#This Row],[貨源]]","v":{"$error":"#VALUE!"}},{"$f":"表格2[[#This Row],[編號]]","v":{"$error":"#VALUE!"}},{"$f":"表格2[[#This Row],[產品]]","v":{"$error":"#VALUE!"}},{"$f":"表格2[[#This Row],[單價]]","v":{"$error":"#VALUE!"}},{"$f":"表格2[[#This Row],[入貨價]]","v":{"$error":"#VALUE!"}},{"$error":"#VALUE!"},{"$f":"SUMIF(資料庫!D:D,庫存計算!C291,資料庫!E:E)","v":0},{"$error":"#VALUE!"}]
[{"$f":"表格2[[#This Row],[貨源]]","v":{"$error":"#VALUE!"}},{"$f":"表格2[[#This Row],[編號]]","v":{"$error":"#VALUE!"}},{"$f":"表格2[[#This Row],[產品]]","v":{"$error":"#VALUE!"}},{"$f":"表格2[[#This Row],[單價]]","v":{"$error":"#VALUE!"}},{"$f":"表格2[[#This Row],[入貨價]]","v":{"$error":"#VALUE!"}},{"$error":"#VALUE!"},{"$f":"SUMIF(資料庫!D:D,庫存計算!C292,資料庫!E:E)","v":0},{"$error":"#VALUE!"}]
[{"$f":"表格2[[#This Row],[貨源]]","v":{"$error":"#VALUE!"}},{"$f":"表格2[[#This Row],[編號]]","v":{"$error":"#VALUE!"}},{"$f":"表格2[[#This Row],[產品]]","v":{"$error":"#VALUE!"}},{"$f":"表格2[[#This Row],[單價]]","v":{"$error":"#VALUE!"}},{"$f":"表格2[[#This Row],[入貨價]]","v":{"$error":"#VALUE!"}},{"$error":"#VALUE!"},{"$f":"SUMIF(資料庫!D:D,庫存計算!C293,資料庫!E:E)","v":0},{"$error":"#VALUE!"}]
[{"$f":"表格2[[#This Row],[貨源]]","v":{"$error":"#VALUE!"}},{"$f":"表格2[[#This Row],[編號]]","v":{"$error":"#VALUE!"}},{"$f":"表格2[[#This Row],[產品]]","v":{"$error":"#VALUE!"}},{"$f":"表格2[[#This Row],[單價]]","v":{"$error":"#VALUE!"}},{"$f":"表格2[[#This Row],[入貨價]]","v":{"$error":"#VALUE!"}},{"$error":"#VALUE!"},{"$f":"SUMIF(資料庫!D:D,庫存計算!C294,資料庫!E:E)","v":0},{"$error":"#VALUE!"}]
[{"$f":"表格2[[#This Row],[貨源]]","v":{"$error":"#VALUE!"}},{"$f":"表格2[[#This Row],[編號]]","v":{"$error":"#VALUE!"}},{"$f":"表格2[[#This Row],[產品]]","v":{"$error":"#VALUE!"}},{"$f":"表格2[[#This Row],[單價]]","v":{"$error":"#VALUE!"}},{"$f":"表格2[[#This Row],[入貨價]]","v":{"$error":"#VALUE!"}},{"$error":"#VALUE!"},{"$f":"SUMIF(資料庫!D:D,庫存計算!C295,資料庫!E:E)","v":0},{"$error":"#VALUE!"}]
[{"$f":"表格2[[#This Row],[貨源]]","v":{"$error":"#VALUE!"}},{"$f":"表格2[[#This Row],[編號]]","v":{"$error":"#VALUE!"}},{"$f":"表格2[[#This Row],[產品]]","v":{"$error":"#VALUE!"}},{"$f":"表格2[[#This Row],[單價]]","v":{"$error":"#VALUE!"}},{"$f":"表格2[[#This Row],[入貨價]]","v":{"$error":"#VALUE!"}},{"$error":"#VALUE!"},{"$f":"SUMIF(資料庫!D:D,庫存計算!C296,資料庫!E:E)","v":0},{"$error":"#VALUE!"}]
[{"$f":"表格2[[#This Row],[貨源]]","v":{"$error":"#VALUE!"}},{"$f":"表格2[[#This Row],[編號]]","v":{"$error":"#VALUE!"}},{"$f":"表格2[[#This Row],[產品]]","v":{"$error":"#VALUE!"}},{"$f":"表格2[[#This Row],[單價]]","v":{"$error":"#VALUE!"}},{"$f":"表格2[[#This Row],[入貨價]]","v":{"$error":"#VALUE!"}},{"$error":"#VALUE!"},{"$f":"SUMIF(資料庫!D:D,庫存計算!C297,資料庫!E:E)","v":0},{"$error":"#VALUE!"}]
[{"$f":"表格2[[#This Row],[貨源]]","v":{"$error":"#VALUE!"}},{"$f":"表格2[[#This Row],[編號]]","v":{"$error":"#VALUE!"}},{"$f":"表格2[[#This Row],[產品]]","v":{"$error":"#VALUE!"}},{"$f":"表格2[[#This Row],[單價]]","v":{"$error":"#VALUE!"}},{"$f":"表格2[[#This Row],[入貨價]]","v":{"$error":"#VALUE!"}},{"$error":"#VALUE!"},{"$f":"SUMIF(資料庫!D:D,庫存計算!C298,資料庫!E:E)","v":0},{"$error":"#VALUE!"}]
[{"$f":"表格2[[#This Row],[貨源]]","v":{"$error":"#VALUE!"}},{"$f":"表格2[[#This Row],[編號]]","v":{"$error":"#VALUE!"}},{"$f":"表格2[[#This Row],[產品]]","v":{"$error":"#VALUE!"}},{"$f":"表格2[[#This Row],[單價]]","v":{"$error":"#VALUE!"}},{"$f":"表格2[[#This Row],[入貨價]]","v":{"$error":"#VALUE!"}},{"$error":"#VALUE!"},{"$f":"SUMIF(資料庫!D:D,庫存計算!C299,資料庫!E:E)","v":0},{"$error":"#VALUE!"}]
[{"$f":"表格2[[#This Row],[貨源]]","v":{"$error":"#VALUE!"}},{"$f":"表格2[[#This Row],[編號]]","v":{"$error":"#VALUE!"}},{"$f":"表格2[[#This Row],[產品]]","v":{"$error":"#VALUE!"}},{"$f":"表格2[[#This Row],[單價]]","v":{"$error":"#VALUE!"}},{"$f":"表格2[[#This Row],[入貨價]]","v":{"$error":"#VALUE!"}},{"$error":"#VALUE!"},{"$f":"SUMIF(資料庫!D:D,庫存計算!C300,資料庫!E:E)","v":0},{"$error":"#VALUE!"}]
[{"$f":"表格2[[#This Row],[貨源]]","v":{"$error":"#VALUE!"}},{"$f":"表格2[[#This Row],[編號]]","v":{"$error":"#VALUE!"}},{"$f":"表格2[[#This Row],[產品]]","v":{"$error":"#VALUE!"}},{"$f":"表格2[[#This Row],[單價]]","v":{"$error":"#VALUE!"}},{"$f":"表格2[[#This Row],[入貨價]]","v":{"$error":"#VALUE!"}},{"$error":"#VALUE!"},{"$f":"SUMIF(資料庫!D:D,庫存計算!C301,資料庫!E:E)","v":0},{"$error":"#VALUE!"}]
[{"$f":"表格2[[#This Row],[貨源]]","v":{"$error":"#VALUE!"}},{"$f":"表格2[[#This Row],[編號]]","v":{"$error":"#VALUE!"}},{"$f":"表格2[[#This Row],[產品]]","v":{"$error":"#VALUE!"}},{"$f":"表格2[[#This Row],[單價]]","v":{"$error":"#VALUE!"}},{"$f":"表格2[[#This Row],[入貨價]]","v":{"$error":"#VALUE!"}},{"$error":"#VALUE!"},{"$f":"SUMIF(資料庫!D:D,庫存計算!C302,資料庫!E:E)","v":0},{"$error":"#VALUE!"}]
[{"$f":"表格2[[#This Row],[貨源]]","v":{"$error":"#VALUE!"}},{"$f":"表格2[[#This Row],[編號]]","v":{"$error":"#VALUE!"}},{"$f":"表格2[[#This Row],[產品]]","v":{"$error":"#VALUE!"}},{"$f":"表格2[[#This Row],[單價]]","v":{"$error":"#VALUE!"}},{"$f":"表格2[[#This Row],[入貨價]]","v":{"$error":"#VALUE!"}},{"$error":"#VALUE!"},{"$f":"SUMIF(資料庫!D:D,庫存計算!C303,資料庫!E:E)","v":0},{"$error":"#VALUE!"}]
[{"$f":"表格2[[#This Row],[貨源]]","v":{"$error":"#VALUE!"}},{"$f":"表格2[[#This Row],[編號]]","v":{"$error":"#VALUE!"}},{"$f":"表格2[[#This Row],[產品]]","v":{"$error":"#VALUE!"}},{"$f":"表格2[[#This Row],[單價]]","v":{"$error":"#VALUE!"}},{"$f":"表格2[[#This Row],[入貨價]]","v":{"$error":"#VALUE!"}},{"$error":"#VALUE!"},{"$f":"SUMIF(資料庫!D:D,庫存計算!C304,資料庫!E:E)","v":0},{"$error":"#VALUE!"}]
[{"$f":"表格2[[#This Row],[貨源]]","v":{"$error":"#VALUE!"}},{"$f":"表格2[[#This Row],[編號]]","v":{"$error":"#VALUE!"}},{"$f":"表格2[[#This Row],[產品]]","v":{"$error":"#VALUE!"}},{"$f":"表格2[[#This Row],[單價]]","v":{"$error":"#VALUE!"}},{"$f":"表格2[[#This Row],[入貨價]]","v":{"$error":"#VALUE!"}},{"$error":"#VALUE!"},{"$f":"SUMIF(資料庫!D:D,庫存計算!C305,資料庫!E:E)","v":0},{"$error":"#VALUE!"}]
[{"$f":"表格2[[#This Row],[貨源]]","v":{"$error":"#VALUE!"}},{"$f":"表格2[[#This Row],[編號]]","v":{"$error":"#VALUE!"}},{"$f":"表格2[[#This Row],[產品]]","v":{"$error":"#VALUE!"}},{"$f":"表格2[[#This Row],[單價]]","v":{"$error":"#VALUE!"}},{"$f":"表格2[[#This Row],[入貨價]]","v":{"$error":"#VALUE!"}},{"$error":"#VALUE!"},{"$f":"SUMIF(資料庫!D:D,庫存計算!C306,資料庫!E:E)","v":0},{"$error":"#VALUE!"}]
[{"$f":"表格2[[#This Row],[貨源]]","v":{"$error":"#VALUE!"}},{"$f":"表格2[[#This Row],[編號]]","v":{"$error":"#VALUE!"}},{"$f":"表格2[[#This Row],[產品]]","v":{"$error":"#VALUE!"}},{"$f":"表格2[[#This Row],[單價]]","v":{"$error":"#VALUE!"}},{"$f":"表格2[[#This Row],[入貨價]]","v":{"$error":"#VALUE!"}},{"$error":"#VALUE!"},{"$f":"SUMIF(資料庫!D:D,庫存計算!C307,資料庫!E:E)","v":0},{"$error":"#VALUE!"}]
[{"$f":"表格2[[#This Row],[貨源]]","v":{"$error":"#VALUE!"}},{"$f":"表格2[[#This Row],[編號]]","v":{"$error":"#VALUE!"}},{"$f":"表格2[[#This Row],[產品]]","v":{"$error":"#VALUE!"}},{"$f":"表格2[[#This Row],[單價]]","v":{"$error":"#VALUE!"}},{"$f":"表格2[[#This Row],[入貨價]]","v":{"$error":"#VALUE!"}},{"$error":"#VALUE!"},{"$f":"SUMIF(資料庫!D:D,庫存計算!C308,資料庫!E:E)","v":0},{"$error":"#VALUE!"}]
[{"$f":"表格2[[#This Row],[貨源]]","v":{"$error":"#VALUE!"}},{"$f":"表格2[[#This Row],[編號]]","v":{"$error":"#VALUE!"}},{"$f":"表格2[[#This Row],[產品]]","v":{"$error":"#VALUE!"}},{"$f":"表格2[[#This Row],[單價]]","v":{"$error":"#VALUE!"}},{"$f":"表格2[[#This Row],[入貨價]]","v":{"$error":"#VALUE!"}},{"$error":"#VALUE!"},{"$f":"SUMIF(資料庫!D:D,庫存計算!C309,資料庫!E:E)","v":0},{"$error":"#VALUE!"}]
[{"$f":"表格2[[#This Row],[貨源]]","v":{"$error":"#VALUE!"}},{"$f":"表格2[[#This Row],[編號]]","v":{"$error":"#VALUE!"}},{"$f":"表格2[[#This Row],[產品]]","v":{"$error":"#VALUE!"}},{"$f":"表格2[[#This Row],[單價]]","v":{"$error":"#VALUE!"}},{"$f":"表格2[[#This Row],[入貨價]]","v":{"$error":"#VALUE!"}},{"$error":"#VALUE!"},{"$f":"SUMIF(資料庫!D:D,庫存計算!C310,資料庫!E:E)","v":0},{"$error":"#VALUE!"}]
[{"$f":"表格2[[#This Row],[貨源]]","v":{"$error":"#VALUE!"}},{"$f":"表格2[[#This Row],[編號]]","v":{"$error":"#VALUE!"}},{"$f":"表格2[[#This Row],[產品]]","v":{"$error":"#VALUE!"}},{"$f":"表格2[[#This Row],[單價]]","v":{"$error":"#VALUE!"}},{"$f":"表格2[[#This Row],[入貨價]]","v":{"$error":"#VALUE!"}},{"$error":"#VALUE!"},{"$f":"SUMIF(資料庫!D:D,庫存計算!C311,資料庫!E:E)","v":0},{"$error":"#VALUE!"}]
[{"$f":"表格2[[#This Row],[貨源]]","v":{"$error":"#VALUE!"}},{"$f":"表格2[[#This Row],[編號]]","v":{"$error":"#VALUE!"}},{"$f":"表格2[[#This Row],[產品]]","v":{"$error":"#VALUE!"}},{"$f":"表格2[[#This Row],[單價]]","v":{"$error":"#VALUE!"}},{"$f":"表格2[[#This Row],[入貨價]]","v":{"$error":"#VALUE!"}},{"$error":"#VALUE!"},{"$f":"SUMIF(資料庫!D:D,庫存計算!C312,資料庫!E:E)","v":0},{"$error":"#VALUE!"}]
[{"$f":"表格2[[#This Row],[貨源]]","v":{"$error":"#VALUE!"}},{"$f":"表格2[[#This Row],[編號]]","v":{"$error":"#VALUE!"}},{"$f":"表格2[[#This Row],[產品]]","v":{"$error":"#VALUE!"}},{"$f":"表格2[[#This Row],[單價]]","v":{"$error":"#VALUE!"}},{"$f":"表格2[[#This Row],[入貨價]]","v":{"$error":"#VALUE!"}},{"$error":"#VALUE!"},{"$f":"SUMIF(資料庫!D:D,庫存計算!C313,資料庫!E:E)","v":0},{"$error":"#VALUE!"}]
[{"$f":"表格2[[#This Row],[貨源]]","v":{"$error":"#VALUE!"}},{"$f":"表格2[[#This Row],[編號]]","v":{"$error":"#VALUE!"}},{"$f":"表格2[[#This Row],[產品]]","v":{"$error":"#VALUE!"}},{"$f":"表格2[[#This Row],[單價]]","v":{"$error":"#VALUE!"}},{"$f":"表格2[[#This Row],[入貨價]]","v":{"$error":"#VALUE!"}},{"$error":"#VALUE!"},{"$f":"SUMIF(資料庫!D:D,庫存計算!C314,資料庫!E:E)","v":0},{"$error":"#VALUE!"}]
[{"$f":"表格2[[#This Row],[貨源]]","v":{"$error":"#VALUE!"}},{"$f":"表格2[[#This Row],[編號]]","v":{"$error":"#VALUE!"}},{"$f":"表格2[[#This Row],[產品]]","v":{"$error":"#VALUE!"}},{"$f":"表格2[[#This Row],[單價]]","v":{"$error":"#VALUE!"}},{"$f":"表格2[[#This Row],[入貨價]]","v":{"$error":"#VALUE!"}},{"$f":"E315/4","v":{"$error":"#VALUE!"}},{"$f":"SUMIF(資料庫!D:D,庫存計算!C315,資料庫!E:E)","v":0},{"$error":"#VALUE!"}]
[{"$f":"表格2[[#This Row],[貨源]]","v":{"$error":"#VALUE!"}},{"$f":"表格2[[#This Row],[編號]]","v":{"$error":"#VALUE!"}},{"$f":"表格2[[#This Row],[產品]]","v":{"$error":"#VALUE!"}},{"$f":"表格2[[#This Row],[單價]]","v":{"$error":"#VALUE!"}},{"$f":"表格2[[#This Row],[入貨價]]","v":{"$error":"#VALUE!"}},{"$error":"#VALUE!"},{"$f":"SUMIF(資料庫!D:D,庫存計算!C316,資料庫!E:E)","v":0},{"$error":"#VALUE!"}]
[{"$f":"表格2[[#This Row],[貨源]]","v":{"$error":"#VALUE!"}},{"$f":"表格2[[#This Row],[編號]]","v":{"$error":"#VALUE!"}},{"$f":"表格2[[#This Row],[產品]]","v":{"$error":"#VALUE!"}},{"$f":"表格2[[#This Row],[單價]]","v":{"$error":"#VALUE!"}},{"$f":"表格2[[#This Row],[入貨價]]","v":{"$error":"#VALUE!"}},{"$error":"#VALUE!"},{"$f":"SUMIF(資料庫!D:D,庫存計算!C317,資料庫!E:E)","v":0},{"$error":"#VALUE!"}]
[{"$f":"表格2[[#This Row],[貨源]]","v":{"$error":"#VALUE!"}},{"$f":"表格2[[#This Row],[編號]]","v":{"$error":"#VALUE!"}},{"$f":"表格2[[#This Row],[產品]]","v":{"$error":"#VALUE!"}},{"$f":"表格2[[#This Row],[單價]]","v":{"$error":"#VALUE!"}},{"$f":"表格2[[#This Row],[入貨價]]","v":{"$error":"#VALUE!"}},{"$error":"#VALUE!"},{"$f":"SUMIF(資料庫!D:D,庫存計算!C318,資料庫!E:E)","v":0},{"$error":"#VALUE!"}]
[{"$f":"表格2[[#This Row],[貨源]]","v":{"$error":"#VALUE!"}},{"$f":"表格2[[#This Row],[編號]]","v":{"$error":"#VALUE!"}},{"$f":"表格2[[#This Row],[產品]]","v":{"$error":"#VALUE!"}},{"$f":"表格2[[#This Row],[單價]]","v":{"$error":"#VALUE!"}},{"$f":"表格2[[#This Row],[入貨價]]","v":{"$error":"#VALUE!"}},{"$error":"#VALUE!"},{"$f":"SUMIF(資料庫!D:D,庫存計算!C319,資料庫!E:E)","v":0},{"$error":"#VALUE!"}]
[{"$f":"表格2[[#This Row],[貨源]]","v":{"$error":"#VALUE!"}},{"$f":"表格2[[#This Row],[編號]]","v":{"$error":"#VALUE!"}},{"$f":"表格2[[#This Row],[產品]]","v":{"$error":"#VALUE!"}},{"$f":"表格2[[#This Row],[單價]]","v":{"$error":"#VALUE!"}},{"$f":"表格2[[#This Row],[入貨價]]","v":{"$error":"#VALUE!"}},{"$error":"#VALUE!"},{"$f":"SUMIF(資料庫!D:D,庫存計算!C320,資料庫!E:E)","v":0},{"$error":"#VALUE!"}]
[{"$f":"表格2[[#This Row],[貨源]]","v":{"$error":"#VALUE!"}},{"$f":"表格2[[#This Row],[編號]]","v":{"$error":"#VALUE!"}},{"$f":"表格2[[#This Row],[產品]]","v":{"$error":"#VALUE!"}},{"$f":"表格2[[#This Row],[單價]]","v":{"$error":"#VALUE!"}},{"$f":"表格2[[#This Row],[入貨價]]","v":{"$error":"#VALUE!"}},{"$error":"#VALUE!"},{"$f":"SUMIF(資料庫!D:D,庫存計算!C321,資料庫!E:E)","v":0},{"$error":"#VALUE!"}]
[{"$f":"表格2[[#This Row],[貨源]]","v":{"$error":"#VALUE!"}},{"$f":"表格2[[#This Row],[編號]]","v":{"$error":"#VALUE!"}},{"$f":"表格2[[#This Row],[產品]]","v":{"$error":"#VALUE!"}},{"$f":"表格2[[#This Row],[單價]]","v":{"$error":"#VALUE!"}},{"$f":"表格2[[#This Row],[入貨價]]","v":{"$error":"#VALUE!"}},{"$error":"#VALUE!"},{"$f":"SUMIF(資料庫!D:D,庫存計算!C322,資料庫!E:E)","v":0},{"$error":"#VALUE!"}]
[{"$f":"表格2[[#This Row],[貨源]]","v":{"$error":"#VALUE!"}},{"$f":"表格2[[#This Row],[編號]]","v":{"$error":"#VALUE!"}},{"$f":"表格2[[#This Row],[產品]]","v":{"$error":"#VALUE!"}},{"$f":"表格2[[#This Row],[單價]]","v":{"$error":"#VALUE!"}},{"$f":"表格2[[#This Row],[入貨價]]","v":{"$error":"#VALUE!"}},{"$error":"#VALUE!"},{"$f":"SUMIF(資料庫!D:D,庫存計算!C323,資料庫!E:E)","v":0},{"$error":"#VALUE!"}]
[{"$f":"表格2[[#This Row],[貨源]]","v":{"$error":"#VALUE!"}},{"$f":"表格2[[#This Row],[編號]]","v":{"$error":"#VALUE!"}},{"$f":"表格2[[#This Row],[產品]]","v":{"$error":"#VALUE!"}},{"$f":"表格2[[#This Row],[單價]]","v":{"$error":"#VALUE!"}},{"$f":"表格2[[#This Row],[入貨價]]","v":{"$error":"#VALUE!"}},{"$error":"#VALUE!"},{"$f":"SUMIF(資料庫!D:D,庫存計算!C324,資料庫!E:E)","v":0},{"$f":"(D324-F324)*G324","v":{"$error":"#VALUE!"}}]
[{"$f":"表格2[[#This Row],[貨源]]","v":{"$error":"#VALUE!"}},{"$f":"表格2[[#This Row],[編號]]","v":{"$error":"#VALUE!"}},{"$f":"表格2[[#This Row],[產品]]","v":{"$error":"#VALUE!"}},{"$f":"表格2[[#This Row],[單價]]","v":{"$error":"#VALUE!"}},{"$f":"表格2[[#This Row],[入貨價]]","v":{"$error":"#VALUE!"}},{"$error":"#VALUE!"},{"$f":"SUMIF(資料庫!D:D,庫存計算!C325,資料庫!E:E)","v":0},{"$error":"#VALUE!"}]
[{"$f":"表格2[[#This Row],[貨源]]","v":{"$error":"#VALUE!"}},{"$f":"表格2[[#This Row],[編號]]","v":{"$error":"#VALUE!"}},{"$f":"表格2[[#This Row],[產品]]","v":{"$error":"#VALUE!"}},{"$f":"表格2[[#This Row],[單價]]","v":{"$error":"#VALUE!"}},{"$f":"表格2[[#This Row],[入貨價]]","v":{"$error":"#VALUE!"}},{"$error":"#VALUE!"},{"$f":"SUMIF(資料庫!D:D,庫存計算!C326,資料庫!E:E)","v":0},{"$error":"#VALUE!"}]
[{"$f":"表格2[[#This Row],[貨源]]","v":{"$error":"#VALUE!"}},{"$f":"表格2[[#This Row],[編號]]","v":{"$error":"#VALUE!"}},{"$f":"表格2[[#This Row],[產品]]","v":{"$error":"#VALUE!"}},{"$f":"表格2[[#This Row],[單價]]","v":{"$error":"#VALUE!"}},{"$f":"表格2[[#This Row],[入貨價]]","v":{"$error":"#VALUE!"}},{"$error":"#VALUE!"},{"$f":"SUMIF(資料庫!D:D,庫存計算!C327,資料庫!E:E)","v":0},{"$error":"#VALUE!"}]
[{"$f":"表格2[[#This Row],[貨源]]","v":{"$error":"#VALUE!"}},{"$f":"表格2[[#This Row],[編號]]","v":{"$error":"#VALUE!"}},{"$f":"表格2[[#This Row],[產品]]","v":{"$error":"#VALUE!"}},{"$f":"表格2[[#This Row],[單價]]","v":{"$error":"#VALUE!"}},{"$f":"表格2[[#This Row],[入貨價]]","v":{"$error":"#VALUE!"}},{"$error":"#VALUE!"},{"$f":"SUMIF(資料庫!D:D,庫存計算!C328,資料庫!E:E)","v":0},{"$error":"#VALUE!"}]
[{"$f":"表格2[[#This Row],[貨源]]","v":{"$error":"#VALUE!"}},{"$f":"表格2[[#This Row],[編號]]","v":{"$error":"#VALUE!"}},{"$f":"表格2[[#This Row],[產品]]","v":{"$error":"#VALUE!"}},{"$f":"表格2[[#This Row],[單價]]","v":{"$error":"#VALUE!"}},{"$f":"表格2[[#This Row],[入貨價]]","v":{"$error":"#VALUE!"}},{"$error":"#VALUE!"},{"$f":"SUMIF(資料庫!D:D,庫存計算!C329,資料庫!E:E)","v":0},{"$error":"#VALUE!"}]
[{"$f":"表格2[[#This Row],[貨源]]","v":{"$error":"#VALUE!"}},{"$f":"表格2[[#This Row],[編號]]","v":{"$error":"#VALUE!"}},{"$f":"表格2[[#This Row],[產品]]","v":{"$error":"#VALUE!"}},{"$f":"表格2[[#This Row],[單價]]","v":{"$error":"#VALUE!"}},{"$f":"表格2[[#This Row],[入貨價]]","v":{"$error":"#VALUE!"}},{"$error":"#VALUE!"},{"$f":"SUMIF(資料庫!D:D,庫存計算!C330,資料庫!E:E)","v":0},{"$error":"#VALUE!"}]
[{"$f":"表格2[[#This Row],[貨源]]","v":{"$error":"#VALUE!"}},{"$f":"表格2[[#This Row],[編號]]","v":{"$error":"#VALUE!"}},{"$f":"表格2[[#This Row],[產品]]","v":{"$error":"#VALUE!"}},{"$f":"表格2[[#This Row],[單價]]","v":{"$error":"#VALUE!"}},{"$f":"表格2[[#This Row],[入貨價]]","v":{"$error":"#VALUE!"}},{"$error":"#VALUE!"},{"$f":"SUMIF(資料庫!D:D,庫存計算!C331,資料庫!E:E)","v":0},{"$error":"#VALUE!"}]
[{"$f":"表格2[[#This Row],[貨源]]","v":{"$error":"#VALUE!"}},{"$f":"表格2[[#This Row],[編號]]","v":{"$error":"#VALUE!"}},{"$f":"表格2[[#This Row],[產品]]","v":{"$error":"#VALUE!"}},{"$f":"表格2[[#This Row],[單價]]","v":{"$error":"#VALUE!"}},{"$f":"表格2[[#This Row],[入貨價]]","v":{"$error":"#VALUE!"}},{"$error":"#VALUE!"},{"$f":"SUMIF(資料庫!D:D,庫存計算!C332,資料庫!E:E)","v":0},{"$error":"#VALUE!"}]
[{"$f":"表格2[[#This Row],[貨源]]","v":{"$error":"#VALUE!"}},{"$f":"表格2[[#This Row],[編號]]","v":{"$error":"#VALUE!"}},{"$f":"表格2[[#This Row],[產品]]","v":{"$error":"#VALUE!"}},{"$f":"表格2[[#This Row],[單價]]","v":{"$error":"#VALUE!"}},{"$f":"表格2[[#This Row],[入貨價]]","v":{"$error":"#VALUE!"}},{"$error":"#VALUE!"},{"$f":"SUMIF(資料庫!D:D,庫存計算!C333,資料庫!E:E)","v":0},{"$error":"#VALUE!"}]
[{"$f":"表格2[[#This Row],[貨源]]","v":{"$error":"#VALUE!"}},{"$f":"表格2[[#This Row],[編號]]","v":{"$error":"#VALUE!"}},{"$f":"表格2[[#This Row],[產品]]","v":{"$error":"#VALUE!"}},{"$f":"表格2[[#This Row],[單價]]","v":{"$error":"#VALUE!"}},{"$f":"表格2[[#This Row],[入貨價]]","v":{"$error":"#VALUE!"}},{"$error":"#VALUE!"},{"$f":"SUMIF(資料庫!D:D,庫存計算!C334,資料庫!E:E)","v":0},{"$error":"#VALUE!"}]
[{"$f":"表格2[[#This Row],[貨源]]","v":{"$error":"#VALUE!"}},{"$f":"表格2[[#This Row],[編號]]","v":{"$error":"#VALUE!"}},{"$f":"表格2[[#This Row],[產品]]","v":{"$error":"#VALUE!"}},{"$f":"表格2[[#This Row],[單價]]","v":{"$error":"#VALUE!"}},{"$f":"表格2[[#This Row],[入貨價]]","v":{"$error":"#VALUE!"}},{"$error":"#VALUE!"},{"$f":"SUMIF(資料庫!D:D,庫存計算!C335,資料庫!E:E)","v":0},{"$error":"#VALUE!"}]
[{"$f":"表格2[[#This Row],[貨源]]","v":{"$error":"#VALUE!"}},{"$f":"表格2[[#This Row],[編號]]","v":{"$error":"#VALUE!"}},{"$f":"表格2[[#This Row],[產品]]","v":{"$error":"#VALUE!"}},{"$f":"表格2[[#This Row],[單價]]","v":{"$error":"#VALUE!"}},{"$f":"表格2[[#This Row],[入貨價]]","v":{"$error":"#VALUE!"}},{"$error":"#VALUE!"},{"$f":"SUMIF(資料庫!D:D,庫存計算!C336,資料庫!E:E)","v":0},{"$error":"#VALUE!"}]
[{"$f":"表格2[[#This Row],[貨源]]","v":{"$error":"#VALUE!"}},{"$f":"表格2[[#This Row],[編號]]","v":{"$error":"#VALUE!"}},{"$f":"表格2[[#This Row],[產品]]","v":{"$error":"#VALUE!"}},{"$f":"表格2[[#This Row],[單價]]","v":{"$error":"#VALUE!"}},{"$f":"表格2[[#This Row],[入貨價]]","v":{"$error":"#VALUE!"}},{"$error":"#VALUE!"},{"$f":"SUMIF(資料庫!D:D,庫存計算!C337,資料庫!E:E)","v":0},{"$error":"#VALUE!"}]
[{"$f":"表格2[[#This Row],[貨源]]","v":{"$error":"#VALUE!"}},{"$f":"表格2[[#This Row],[編號]]","v":{"$error":"#VALUE!"}},{"$f":"表格2[[#This Row],[產品]]","v":{"$error":"#VALUE!"}},{"$f":"表格2[[#This Row],[單價]]","v":{"$error":"#VALUE!"}},{"$f":"表格2[[#This Row],[入貨價]]","v":{"$error":"#VALUE!"}},{"$error":"#VALUE!"},{"$f":"SUMIF(資料庫!D:D,庫存計算!C338,資料庫!E:E)","v":0},{"$error":"#VALUE!"}]
[{"$f":"表格2[[#This Row],[貨源]]","v":{"$error":"#VALUE!"}},{"$f":"表格2[[#This Row],[編號]]","v":{"$error":"#VALUE!"}},{"$f":"表格2[[#This Row],[產品]]","v":{"$error":"#VALUE!"}},{"$f":"表格2[[#This Row],[單價]]","v":{"$error":"#VALUE!"}},{"$f":"表格2[[#This Row],[入貨價]]","v":{"$error":"#VALUE!"}},{"$error":"#VALUE!"},{"$f":"SUMIF(資料庫!D:D,庫存計算!C339,資料庫!E:E)","v":0},{"$error":"#VALUE!"}]
[{"$f":"表格2[[#This Row],[貨源]]","v":{"$error":"#VALUE!"}},{"$f":"表格2[[#This Row],[編號]]","v":{"$error":"#VALUE!"}},{"$f":"表格2[[#This Row],[產品]]","v":{"$error":"#VALUE!"}},{"$f":"表格2[[#This Row],[單價]]","v":{"$error":"#VALUE!"}},{"$f":"表格2[[#This Row],[入貨價]]","v":{"$error":"#VALUE!"}},{"$error":"#VALUE!"},{"$f":"SUMIF(資料庫!D:D,庫存計算!C340,資料庫!E:E)","v":0},{"$error":"#VALUE!"}]
[{"$f":"表格2[[#This Row],[貨源]]","v":{"$error":"#VALUE!"}},{"$f":"表格2[[#This Row],[編號]]","v":{"$error":"#VALUE!"}},{"$f":"表格2[[#This Row],[產品]]","v":{"$error":"#VALUE!"}},{"$f":"表格2[[#This Row],[單價]]","v":{"$error":"#VALUE!"}},{"$f":"表格2[[#This Row],[入貨價]]","v":{"$error":"#VALUE!"}},{"$error":"#VALUE!"},{"$f":"SUMIF(資料庫!D:D,庫存計算!C341,資料庫!E:E)","v":0},{"$error":"#VALUE!"}]
[{"$f":"表格2[[#This Row],[貨源]]","v":{"$error":"#VALUE!"}},{"$f":"表格2[[#This Row],[編號]]","v":{"$error":"#VALUE!"}},{"$f":"表格2[[#This Row],[產品]]","v":{"$error":"#VALUE!"}},{"$f":"表格2[[#This Row],[單價]]","v":{"$error":"#VALUE!"}},{"$f":"表格2[[#This Row],[入貨價]]","v":{"$error":"#VALUE!"}},{"$error":"#VALUE!"},{"$f":"SUMIF(資料庫!D:D,庫存計算!C342,資料庫!E:E)","v":0},{"$error":"#VALUE!"}]
[{"$f":"表格2[[#This Row],[貨源]]","v":{"$error":"#VALUE!"}},{"$f":"表格2[[#This Row],[編號]]","v":{"$error":"#VALUE!"}},{"$f":"表格2[[#This Row],[產品]]","v":{"$error":"#VALUE!"}},{"$f":"表格2[[#This Row],[單價]]","v":{"$error":"#VALUE!"}},{"$f":"表格2[[#This Row],[入貨價]]","v":{"$error":"#VALUE!"}},{"$error":"#VALUE!"},{"$f":"SUMIF(資料庫!D:D,庫存計算!C343,資料庫!E:E)","v":0},{"$error":"#VALUE!"}]
[{"$f":"表格2[[#This Row],[貨源]]","v":{"$error":"#VALUE!"}},{"$f":"表格2[[#This Row],[編號]]","v":{"$error":"#VALUE!"}},{"$f":"表格2[[#This Row],[產品]]","v":{"$error":"#VALUE!"}},{"$f":"表格2[[#This Row],[單價]]","v":{"$error":"#VALUE!"}},{"$f":"表格2[[#This Row],[入貨價]]","v":{"$error":"#VALUE!"}},{"$error":"#VALUE!"},{"$f":"SUMIF(資料庫!D:D,庫存計算!C344,資料庫!E:E)","v":0},{"$error":"#VALUE!"}]
[{"$f":"表格2[[#This Row],[貨源]]","v":{"$error":"#VALUE!"}},{"$f":"表格2[[#This Row],[編號]]","v":{"$error":"#VALUE!"}},{"$f":"表格2[[#This Row],[產品]]","v":{"$error":"#VALUE!"}},{"$f":"表格2[[#This Row],[單價]]","v":{"$error":"#VALUE!"}},{"$f":"表格2[[#This Row],[入貨價]]","v":{"$error":"#VALUE!"}},{"$error":"#VALUE!"},{"$f":"SUMIF(資料庫!D:D,庫存計算!C345,資料庫!E:E)","v":0},{"$error":"#VALUE!"}]
[{"$f":"表格2[[#This Row],[貨源]]","v":{"$error":"#VALUE!"}},{"$f":"表格2[[#This Row],[編號]]","v":{"$error":"#VALUE!"}},{"$f":"表格2[[#This Row],[產品]]","v":{"$error":"#VALUE!"}},{"$f":"表格2[[#This Row],[單價]]","v":{"$error":"#VALUE!"}},{"$f":"表格2[[#This Row],[入貨價]]","v":{"$error":"#VALUE!"}},{"$error":"#VALUE!"},{"$f":"SUMIF(資料庫!D:D,庫存計算!C346,資料庫!E:E)","v":0},{"$error":"#VALUE!"}]
[{"$f":"表格2[[#This Row],[貨源]]","v":{"$error":"#VALUE!"}},{"$f":"表格2[[#This Row],[編號]]","v":{"$error":"#VALUE!"}},{"$f":"表格2[[#This Row],[產品]]","v":{"$error":"#VALUE!"}},{"$f":"表格2[[#This Row],[單價]]","v":{"$error":"#VALUE!"}},{"$f":"表格2[[#This Row],[入貨價]]","v":{"$error":"#VALUE!"}},{"$error":"#VALUE!"},{"$f":"SUMIF(資料庫!D:D,庫存計算!C347,資料庫!E:E)","v":0},{"$error":"#VALUE!"}]
[{"$f":"表格2[[#This Row],[貨源]]","v":{"$error":"#VALUE!"}},{"$f":"表格2[[#This Row],[編號]]","v":{"$error":"#VALUE!"}},{"$f":"表格2[[#This Row],[產品]]","v":{"$error":"#VALUE!"}},{"$f":"表格2[[#This Row],[單價]]","v":{"$error":"#VALUE!"}},{"$f":"表格2[[#This Row],[入貨價]]","v":{"$error":"#VALUE!"}},{"$error":"#VALUE!"},{"$f":"SUMIF(資料庫!D:D,庫存計算!C348,資料庫!E:E)","v":0},{"$error":"#VALUE!"}]
[{"$f":"表格2[[#This Row],[貨源]]","v":{"$error":"#VALUE!"}},{"$f":"表格2[[#This Row],[編號]]","v":{"$error":"#VALUE!"}},{"$f":"表格2[[#This Row],[產品]]","v":{"$error":"#VALUE!"}},{"$f":"表格2[[#This Row],[單價]]","v":{"$error":"#VALUE!"}},{"$f":"表格2[[#This Row],[入貨價]]","v":{"$error":"#VALUE!"}},{"$error":"#VALUE!"},{"$f":"SUMIF(資料庫!D:D,庫存計算!C349,資料庫!E:E)","v":0},{"$error":"#VALUE!"}]
[{"$f":"表格2[[#This Row],[貨源]]","v":{"$error":"#VALUE!"}},{"$f":"表格2[[#This Row],[編號]]","v":{"$error":"#VALUE!"}},{"$f":"表格2[[#This Row],[產品]]","v":{"$error":"#VALUE!"}},{"$f":"表格2[[#This Row],[單價]]","v":{"$error":"#VALUE!"}},{"$f":"表格2[[#This Row],[入貨價]]","v":{"$error":"#VALUE!"}},{"$error":"#VALUE!"},{"$f":"SUMIF(資料庫!D:D,庫存計算!C350,資料庫!E:E)","v":0},{"$error":"#VALUE!"}]
[{"$f":"表格2[[#This Row],[貨源]]","v":{"$error":"#VALUE!"}},{"$f":"表格2[[#This Row],[編號]]","v":{"$error":"#VALUE!"}},{"$f":"表格2[[#This Row],[產品]]","v":{"$error":"#VALUE!"}},{"$f":"表格2[[#This Row],[單價]]","v":{"$error":"#VALUE!"}},{"$f":"表格2[[#This Row],[入貨價]]","v":{"$error":"#VALUE!"}},{"$error":"#VALUE!"},{"$f":"SUMIF(資料庫!D:D,庫存計算!C351,資料庫!E:E)","v":0},{"$error":"#VALUE!"}]
[{"$f":"表格2[[#This Row],[貨源]]","v":{"$error":"#VALUE!"}},{"$f":"表格2[[#This Row],[編號]]","v":{"$error":"#VALUE!"}},{"$f":"表格2[[#This Row],[產品]]","v":{"$error":"#VALUE!"}},{"$f":"表格2[[#This Row],[單價]]","v":{"$error":"#VALUE!"}},{"$f":"表格2[[#This Row],[入貨價]]","v":{"$error":"#VALUE!"}},{"$error":"#VALUE!"},{"$f":"SUMIF(資料庫!D:D,庫存計算!C352,資料庫!E:E)","v":0},{"$error":"#VALUE!"}]
[{"$f":"表格2[[#This Row],[貨源]]","v":{"$error":"#VALUE!"}},{"$f":"表格2[[#This Row],[編號]]","v":{"$error":"#VALUE!"}},{"$f":"表格2[[#This Row],[產品]]","v":{"$error":"#VALUE!"}},{"$f":"表格2[[#This Row],[單價]]","v":{"$error":"#VALUE!"}},{"$f":"表格2[[#This Row],[入貨價]]","v":{"$error":"#VALUE!"}},{"$error":"#VALUE!"},{"$f":"SUMIF(資料庫!D:D,庫存計算!C353,資料庫!E:E)","v":0},{"$error":"#VALUE!"}]
[{"$f":"表格2[[#This Row],[貨源]]","v":{"$error":"#VALUE!"}},{"$f":"表格2[[#This Row],[編號]]","v":{"$error":"#VALUE!"}},{"$f":"表格2[[#This Row],[產品]]","v":{"$error":"#VALUE!"}},{"$f":"表格2[[#This Row],[單價]]","v":{"$error":"#VALUE!"}},{"$f":"表格2[[#This Row],[入貨價]]","v":{"$error":"#VALUE!"}},{"$error":"#VALUE!"},{"$f":"SUMIF(資料庫!D:D,庫存計算!C354,資料庫!E:E)","v":0},{"$error":"#VALUE!"}]
[{"$f":"表格2[[#This Row],[貨源]]","v":{"$error":"#VALUE!"}},{"$f":"表格2[[#This Row],[編號]]","v":{"$error":"#VALUE!"}},{"$f":"表格2[[#This Row],[產品]]","v":{"$error":"#VALUE!"}},{"$f":"表格2[[#This Row],[單價]]","v":{"$error":"#VALUE!"}},{"$f":"表格2[[#This Row],[入貨價]]","v":{"$error":"#VALUE!"}},{"$error":"#VALUE!"},{"$f":"SUMIF(資料庫!D:D,庫存計算!C355,資料庫!E:E)","v":0},{"$error":"#VALUE!"}]
[{"$f":"表格2[[#This Row],[貨源]]","v":{"$error":"#VALUE!"}},{"$f":"表格2[[#This Row],[編號]]","v":{"$error":"#VALUE!"}},{"$f":"表格2[[#This Row],[產品]]","v":{"$error":"#VALUE!"}},{"$f":"表格2[[#This Row],[單價]]","v":{"$error":"#VALUE!"}},{"$f":"表格2[[#This Row],[入貨價]]","v":{"$error":"#VALUE!"}},{"$error":"#VALUE!"},{"$f":"SUMIF(資料庫!D:D,庫存計算!C356,資料庫!E:E)","v":0},{"$error":"#VALUE!"}]
[{"$f":"表格2[[#This Row],[貨源]]","v":{"$error":"#VALUE!"}},{"$f":"表格2[[#This Row],[編號]]","v":{"$error":"#VALUE!"}},{"$f":"表格2[[#This Row],[產品]]","v":{"$error":"#VALUE!"}},{"$f":"表格2[[#This Row],[單價]]","v":{"$error":"#VALUE!"}},{"$f":"表格2[[#This Row],[入貨價]]","v":{"$error":"#VALUE!"}},{"$error":"#VALUE!"},{"$f":"SUMIF(資料庫!D:D,庫存計算!C357,資料庫!E:E)","v":0},{"$error":"#VALUE!"}]
[{"$f":"表格2[[#This Row],[貨源]]","v":{"$error":"#VALUE!"}},{"$f":"表格2[[#This Row],[編號]]","v":{"$error":"#VALUE!"}},{"$f":"表格2[[#This Row],[產品]]","v":{"$error":"#VALUE!"}},{"$f":"表格2[[#This Row],[單價]]","v":{"$error":"#VALUE!"}},{"$f":"表格2[[#This Row],[入貨價]]","v":{"$error":"#VALUE!"}},{"$error":"#VALUE!"},{"$f":"SUMIF(資料庫!D:D,庫存計算!C358,資料庫!E:E)","v":0},{"$error":"#VALUE!"}]
[{"$f":"表格2[[#This Row],[貨源]]","v":{"$error":"#VALUE!"}},{"$f":"表格2[[#This Row],[編號]]","v":{"$error":"#VALUE!"}},{"$f":"表格2[[#This Row],[產品]]","v":{"$error":"#VALUE!"}},{"$f":"表格2[[#This Row],[單價]]","v":{"$error":"#VALUE!"}},{"$f":"表格2[[#This Row],[入貨價]]","v":{"$error":"#VALUE!"}},{"$error":"#VALUE!"},{"$f":"SUMIF(資料庫!D:D,庫存計算!C359,資料庫!E:E)","v":0},{"$error":"#VALUE!"}]
[{"$f":"表格2[[#This Row],[貨源]]","v":{"$error":"#VALUE!"}},{"$f":"表格2[[#This Row],[編號]]","v":{"$error":"#VALUE!"}},{"$f":"表格2[[#This Row],[產品]]","v":{"$error":"#VALUE!"}},{"$f":"表格2[[#This Row],[單價]]","v":{"$error":"#VALUE!"}},{"$f":"表格2[[#This Row],[入貨價]]","v":{"$error":"#VALUE!"}},{"$error":"#VALUE!"},{"$f":"SUMIF(資料庫!D:D,庫存計算!C360,資料庫!E:E)","v":0},{"$error":"#VALUE!"}]
[{"$f":"表格2[[#This Row],[貨源]]","v":{"$error":"#VALUE!"}},{"$f":"表格2[[#This Row],[編號]]","v":{"$error":"#VALUE!"}},{"$f":"表格2[[#This Row],[產品]]","v":{"$error":"#VALUE!"}},{"$f":"表格2[[#This Row],[單價]]","v":{"$error":"#VALUE!"}},{"$f":"表格2[[#This Row],[入貨價]]","v":{"$error":"#VALUE!"}},{"$error":"#VALUE!"},{"$f":"SUMIF(資料庫!D:D,庫存計算!C361,資料庫!E:E)","v":0},{"$error":"#VALUE!"}]
[{"$f":"表格2[[#This Row],[貨源]]","v":{"$error":"#VALUE!"}},{"$f":"表格2[[#This Row],[編號]]","v":{"$error":"#VALUE!"}},{"$f":"表格2[[#This Row],[產品]]","v":{"$error":"#VALUE!"}},{"$f":"表格2[[#This Row],[單價]]","v":{"$error":"#VALUE!"}},{"$f":"表格2[[#This Row],[入貨價]]","v":{"$error":"#VALUE!"}},{"$error":"#VALUE!"},{"$f":"SUMIF(資料庫!D:D,庫存計算!C362,資料庫!E:E)","v":0},{"$error":"#VALUE!"}]
[{"$f":"表格2[[#This Row],[貨源]]","v":{"$error":"#VALUE!"}},{"$f":"表格2[[#This Row],[編號]]","v":{"$error":"#VALUE!"}},{"$f":"表格2[[#This Row],[產品]]","v":{"$error":"#VALUE!"}},{"$f":"表格2[[#This Row],[單價]]","v":{"$error":"#VALUE!"}},{"$f":"表格2[[#This Row],[入貨價]]","v":{"$error":"#VALUE!"}},{"$error":"#VALUE!"},{"$f":"SUMIF(資料庫!D:D,庫存計算!C363,資料庫!E:E)","v":0},{"$error":"#VALUE!"}]
[{"$f":"表格2[[#This Row],[貨源]]","v":{"$error":"#VALUE!"}},{"$f":"表格2[[#This Row],[編號]]","v":{"$error":"#VALUE!"}},{"$f":"表格2[[#This Row],[產品]]","v":{"$error":"#VALUE!"}},{"$f":"表格2[[#This Row],[單價]]","v":{"$error":"#VALUE!"}},{"$f":"表格2[[#This Row],[入貨價]]","v":{"$error":"#VALUE!"}},{"$error":"#VALUE!"},{"$f":"SUMIF(資料庫!D:D,庫存計算!C364,資料庫!E:E)","v":0},{"$error":"#VALUE!"}]
[{"$f":"表格2[[#This Row],[貨源]]","v":{"$error":"#VALUE!"}},{"$f":"表格2[[#This Row],[編號]]","v":{"$error":"#VALUE!"}},{"$f":"表格2[[#This Row],[產品]]","v":{"$error":"#VALUE!"}},{"$f":"表格2[[#This Row],[單價]]","v":{"$error":"#VALUE!"}},{"$f":"表格2[[#This Row],[入貨價]]","v":{"$error":"#VALUE!"}},{"$error":"#VALUE!"},{"$f":"SUMIF(資料庫!D:D,庫存計算!C365,資料庫!E:E)","v":0},{"$error":"#VALUE!"}]
[{"$f":"表格2[[#This Row],[貨源]]","v":{"$error":"#VALUE!"}},{"$f":"表格2[[#This Row],[編號]]","v":{"$error":"#VALUE!"}},{"$f":"表格2[[#This Row],[產品]]","v":{"$error":"#VALUE!"}},{"$f":"表格2[[#This Row],[單價]]","v":{"$error":"#VALUE!"}},{"$f":"表格2[[#This Row],[入貨價]]","v":{"$error":"#VALUE!"}},{"$error":"#VALUE!"},{"$f":"SUMIF(資料庫!D:D,庫存計算!C366,資料庫!E:E)","v":0},{"$error":"#VALUE!"}]
[{"$f":"表格2[[#This Row],[貨源]]","v":{"$error":"#VALUE!"}},{"$f":"表格2[[#This Row],[編號]]","v":{"$error":"#VALUE!"}},{"$f":"表格2[[#This Row],[產品]]","v":{"$error":"#VALUE!"}},{"$f":"表格2[[#This Row],[單價]]","v":{"$error":"#VALUE!"}},{"$f":"表格2[[#This Row],[入貨價]]","v":{"$error":"#VALUE!"}},{"$error":"#VALUE!"},{"$f":"SUMIF(資料庫!D:D,庫存計算!C367,資料庫!E:E)","v":0},{"$error":"#VALUE!"}]
[{"$f":"表格2[[#This Row],[貨源]]","v":{"$error":"#VALUE!"}},{"$f":"表格2[[#This Row],[編號]]","v":{"$error":"#VALUE!"}},{"$f":"表格2[[#This Row],[產品]]","v":{"$error":"#VALUE!"}},{"$f":"表格2[[#This Row],[單價]]","v":{"$error":"#VALUE!"}},{"$f":"表格2[[#This Row],[入貨價]]","v":{"$error":"#VALUE!"}},{"$error":"#VALUE!"},{"$f":"SUMIF(資料庫!D:D,庫存計算!C368,資料庫!E:E)","v":0},{"$error":"#VALUE!"}]
[{"$f":"表格2[[#This Row],[貨源]]","v":{"$error":"#VALUE!"}},{"$f":"表格2[[#This Row],[編號]]","v":{"$error":"#VALUE!"}},{"$f":"表格2[[#This Row],[產品]]","v":{"$error":"#VALUE!"}},{"$f":"表格2[[#This Row],[單價]]","v":{"$error":"#VALUE!"}},{"$f":"表格2[[#This Row],[入貨價]]","v":{"$error":"#VALUE!"}},{"$error":"#VALUE!"},{"$f":"SUMIF(資料庫!D:D,庫存計算!C369,資料庫!E:E)","v":0},{"$error":"#VALUE!"}]
[{"$f":"表格2[[#This Row],[貨源]]","v":{"$error":"#VALUE!"}},{"$f":"表格2[[#This Row],[編號]]","v":{"$error":"#VALUE!"}},{"$f":"表格2[[#This Row],[產品]]","v":{"$error":"#VALUE!"}},{"$f":"表格2[[#This Row],[單價]]","v":{"$error":"#VALUE!"}},{"$f":"表格2[[#This Row],[入貨價]]","v":{"$error":"#VALUE!"}},{"$error":"#VALUE!"},{"$f":"SUMIF(資料庫!D:D,庫存計算!C370,資料庫!E:E)","v":0},{"$error":"#VALUE!"}]
[{"$f":"表格2[[#This Row],[貨源]]","v":{"$error":"#VALUE!"}},{"$f":"表格2[[#This Row],[編號]]","v":{"$error":"#VALUE!"}},{"$f":"表格2[[#This Row],[產品]]","v":{"$error":"#VALUE!"}},{"$f":"表格2[[#This Row],[單價]]","v":{"$error":"#VALUE!"}},{"$f":"表格2[[#This Row],[入貨價]]","v":{"$error":"#VALUE!"}},{"$error":"#VALUE!"},{"$f":"SUMIF(資料庫!D:D,庫存計算!C371,資料庫!E:E)","v":0},{"$error":"#VALUE!"}]
[{"$f":"表格2[[#This Row],[貨源]]","v":{"$error":"#VALUE!"}},{"$f":"表格2[[#This Row],[編號]]","v":{"$error":"#VALUE!"}},{"$f":"表格2[[#This Row],[產品]]","v":{"$error":"#VALUE!"}},{"$f":"表格2[[#This Row],[單價]]","v":{"$error":"#VALUE!"}},{"$f":"表格2[[#This Row],[入貨價]]","v":{"$error":"#VALUE!"}},{"$error":"#VALUE!"},{"$f":"SUMIF(資料庫!D:D,庫存計算!C372,資料庫!E:E)","v":0},{"$error":"#VALUE!"}]
[{"$f":"表格2[[#This Row],[貨源]]","v":{"$error":"#VALUE!"}},{"$f":"表格2[[#This Row],[編號]]","v":{"$error":"#VALUE!"}},{"$f":"表格2[[#This Row],[產品]]","v":{"$error":"#VALUE!"}},{"$f":"表格2[[#This Row],[單價]]","v":{"$error":"#VALUE!"}},{"$f":"表格2[[#This Row],[入貨價]]","v":{"$error":"#VALUE!"}},{"$error":"#VALUE!"},{"$f":"SUMIF(資料庫!D:D,庫存計算!C373,資料庫!E:E)","v":0},{"$error":"#VALUE!"}]
[{"$f":"表格2[[#This Row],[貨源]]","v":{"$error":"#VALUE!"}},{"$f":"表格2[[#This Row],[編號]]","v":{"$error":"#VALUE!"}},{"$f":"表格2[[#This Row],[產品]]","v":{"$error":"#VALUE!"}},{"$f":"表格2[[#This Row],[單價]]","v":{"$error":"#VALUE!"}},{"$f":"表格2[[#This Row],[入貨價]]","v":{"$error":"#VALUE!"}},{"$error":"#VALUE!"},{"$f":"SUMIF(資料庫!D:D,庫存計算!C374,資料庫!E:E)","v":0},{"$error":"#VALUE!"}]
[{"$f":"表格2[[#This Row],[貨源]]","v":{"$error":"#VALUE!"}},{"$f":"表格2[[#This Row],[編號]]","v":{"$error":"#VALUE!"}},{"$f":"表格2[[#This Row],[產品]]","v":{"$error":"#VALUE!"}},{"$f":"表格2[[#This Row],[單價]]","v":{"$error":"#VALUE!"}},{"$f":"表格2[[#This Row],[入貨價]]","v":{"$error":"#VALUE!"}},{"$error":"#VALUE!"},{"$f":"SUMIF(資料庫!D:D,庫存計算!C375,資料庫!E:E)","v":0},{"$error":"#VALUE!"}]
[{"$f":"表格2[[#This Row],[貨源]]","v":{"$error":"#VALUE!"}},{"$f":"表格2[[#This Row],[編號]]","v":{"$error":"#VALUE!"}},{"$f":"表格2[[#This Row],[產品]]","v":{"$error":"#VALUE!"}},{"$f":"表格2[[#This Row],[單價]]","v":{"$error":"#VALUE!"}},{"$f":"表格2[[#This Row],[入貨價]]","v":{"$error":"#VALUE!"}},{"$error":"#VALUE!"},{"$f":"SUMIF(資料庫!D:D,庫存計算!C376,資料庫!E:E)","v":0},{"$error":"#VALUE!"}]
[{"$f":"表格2[[#This Row],[貨源]]","v":{"$error":"#VALUE!"}},{"$f":"表格2[[#This Row],[編號]]","v":{"$error":"#VALUE!"}},{"$f":"表格2[[#This Row],[產品]]","v":{"$error":"#VALUE!"}},{"$f":"表格2[[#This Row],[單價]]","v":{"$error":"#VALUE!"}},{"$f":"表格2[[#This Row],[入貨價]]","v":{"$error":"#VALUE!"}},{"$error":"#VALUE!"},{"$f":"SUMIF(資料庫!D:D,庫存計算!C377,資料庫!E:E)","v":0},{"$error":"#VALUE!"}]
[{"$f":"表格2[[#This Row],[貨源]]","v":{"$error":"#VALUE!"}},{"$f":"表格2[[#This Row],[編號]]","v":{"$error":"#VALUE!"}},{"$f":"表格2[[#This Row],[產品]]","v":{"$error":"#VALUE!"}},{"$f":"表格2[[#This Row],[單價]]","v":{"$error":"#VALUE!"}},{"$f":"表格2[[#This Row],[入貨價]]","v":{"$error":"#VALUE!"}},{"$error":"#VALUE!"},{"$f":"SUMIF(資料庫!D:D,庫存計算!C378,資料庫!E:E)","v":0},{"$error":"#VALUE!"}]
[{"$f":"表格2[[#This Row],[貨源]]","v":{"$error":"#VALUE!"}},{"$f":"表格2[[#This Row],[編號]]","v":{"$error":"#VALUE!"}},{"$f":"表格2[[#This Row],[產品]]","v":{"$error":"#VALUE!"}},{"$f":"表格2[[#This Row],[單價]]","v":{"$error":"#VALUE!"}},{"$f":"表格2[[#This Row],[入貨價]]","v":{"$error":"#VALUE!"}},{"$f":"E379/4","v":{"$error":"#VALUE!"}},{"$f":"SUMIF(資料庫!D:D,庫存計算!C379,資料庫!E:E)","v":0},{"$error":"#VALUE!"}]
[{"$f":"表格2[[#This Row],[貨源]]","v":{"$error":"#VALUE!"}},{"$f":"表格2[[#This Row],[編號]]","v":{"$error":"#VALUE!"}},{"$f":"表格2[[#This Row],[產品]]","v":{"$error":"#VALUE!"}},{"$f":"表格2[[#This Row],[單價]]","v":{"$error":"#VALUE!"}},{"$f":"表格2[[#This Row],[入貨價]]","v":{"$error":"#VALUE!"}},{"$error":"#VALUE!"},{"$f":"SUMIF(資料庫!D:D,庫存計算!C380,資料庫!E:E)","v":0},{"$error":"#VALUE!"}]
[{"$f":"表格2[[#This Row],[貨源]]","v":{"$error":"#VALUE!"}},{"$f":"表格2[[#This Row],[編號]]","v":{"$error":"#VALUE!"}},{"$f":"表格2[[#This Row],[產品]]","v":{"$error":"#VALUE!"}},{"$f":"表格2[[#This Row],[單價]]","v":{"$error":"#VALUE!"}},{"$f":"表格2[[#This Row],[入貨價]]","v":{"$error":"#VALUE!"}},{"$error":"#VALUE!"},{"$f":"SUMIF(資料庫!D:D,庫存計算!C381,資料庫!E:E)","v":0},{"$error":"#VALUE!"}]
[{"$f":"表格2[[#This Row],[貨源]]","v":{"$error":"#VALUE!"}},{"$f":"表格2[[#This Row],[編號]]","v":{"$error":"#VALUE!"}},{"$f":"表格2[[#This Row],[產品]]","v":{"$error":"#VALUE!"}},{"$f":"表格2[[#This Row],[單價]]","v":{"$error":"#VALUE!"}},{"$f":"表格2[[#This Row],[入貨價]]","v":{"$error":"#VALUE!"}},{"$error":"#VALUE!"},{"$f":"SUMIF(資料庫!D:D,庫存計算!C382,資料庫!E:E)","v":0},{"$error":"#VALUE!"}]
[{"$f":"表格2[[#This Row],[貨源]]","v":{"$error":"#VALUE!"}},{"$f":"表格2[[#This Row],[編號]]","v":{"$error":"#VALUE!"}},{"$f":"表格2[[#This Row],[產品]]","v":{"$error":"#VALUE!"}},{"$f":"表格2[[#This Row],[單價]]","v":{"$error":"#VALUE!"}},{"$f":"表格2[[#This Row],[入貨價]]","v":{"$error":"#VALUE!"}},{"$error":"#VALUE!"},{"$f":"SUMIF(資料庫!D:D,庫存計算!C383,資料庫!E:E)","v":0},{"$error":"#VALUE!"}]
[{"$f":"表格2[[#This Row],[貨源]]","v":{"$error":"#VALUE!"}},{"$f":"表格2[[#This Row],[編號]]","v":{"$error":"#VALUE!"}},{"$f":"表格2[[#This Row],[產品]]","v":{"$error":"#VALUE!"}},{"$f":"表格2[[#This Row],[單價]]","v":{"$error":"#VALUE!"}},{"$f":"表格2[[#This Row],[入貨價]]","v":{"$error":"#VALUE!"}},{"$error":"#VALUE!"},{"$f":"SUMIF(資料庫!D:D,庫存計算!C384,資料庫!E:E)","v":0},{"$error":"#VALUE!"}]
[{"$f":"表格2[[#This Row],[貨源]]","v":{"$error":"#VALUE!"}},{"$f":"表格2[[#This Row],[編號]]","v":{"$error":"#VALUE!"}},{"$f":"表格2[[#This Row],[產品]]","v":{"$error":"#VALUE!"}},{"$f":"表格2[[#This Row],[單價]]","v":{"$error":"#VALUE!"}},{"$f":"表格2[[#This Row],[入貨價]]","v":{"$error":"#VALUE!"}},{"$error":"#VALUE!"},{"$f":"SUMIF(資料庫!D:D,庫存計算!C385,資料庫!E:E)","v":0},{"$error":"#VALUE!"}]
[{"$f":"表格2[[#This Row],[貨源]]","v":{"$error":"#VALUE!"}},{"$f":"表格2[[#This Row],[編號]]","v":{"$error":"#VALUE!"}},{"$f":"表格2[[#This Row],[產品]]","v":{"$error":"#VALUE!"}},{"$f":"表格2[[#This Row],[單價]]","v":{"$error":"#VALUE!"}},{"$f":"表格2[[#This Row],[入貨價]]","v":{"$error":"#VALUE!"}},{"$error":"#VALUE!"},{"$f":"SUMIF(資料庫!D:D,庫存計算!C386,資料庫!E:E)","v":0},{"$error":"#VALUE!"}]
[{"$f":"表格2[[#This Row],[貨源]]","v":{"$error":"#VALUE!"}},{"$f":"表格2[[#This Row],[編號]]","v":{"$error":"#VALUE!"}},{"$f":"表格2[[#This Row],[產品]]","v":{"$error":"#VALUE!"}},{"$f":"表格2[[#This Row],[單價]]","v":{"$error":"#VALUE!"}},{"$f":"表格2[[#This Row],[入貨價]]","v":{"$error":"#VALUE!"}},{"$error":"#VALUE!"},{"$f":"SUMIF(資料庫!D:D,庫存計算!C387,資料庫!E:E)","v":0},{"$error":"#VALUE!"}]
[{"$f":"表格2[[#This Row],[貨源]]","v":{"$error":"#VALUE!"}},{"$f":"表格2[[#This Row],[編號]]","v":{"$error":"#VALUE!"}},{"$f":"表格2[[#This Row],[產品]]","v":{"$error":"#VALUE!"}},{"$f":"表格2[[#This Row],[單價]]","v":{"$error":"#VALUE!"}},{"$f":"表格2[[#This Row],[入貨價]]","v":{"$error":"#VALUE!"}},{"$error":"#VALUE!"},{"$f":"SUMIF(資料庫!D:D,庫存計算!C388,資料庫!E:E)","v":0},{"$f":"(D388-F388)*G388","v":{"$error":"#VALUE!"}}]
[{"$f":"表格2[[#This Row],[貨源]]","v":{"$error":"#VALUE!"}},{"$f":"表格2[[#This Row],[編號]]","v":{"$error":"#VALUE!"}},{"$f":"表格2[[#This Row],[產品]]","v":{"$error":"#VALUE!"}},{"$f":"表格2[[#This Row],[單價]]","v":{"$error":"#VALUE!"}},{"$f":"表格2[[#This Row],[入貨價]]","v":{"$error":"#VALUE!"}},{"$error":"#VALUE!"},{"$f":"SUMIF(資料庫!D:D,庫存計算!C389,資料庫!E:E)","v":0},{"$error":"#VALUE!"}]
[{"$f":"表格2[[#This Row],[貨源]]","v":{"$error":"#VALUE!"}},{"$f":"表格2[[#This Row],[編號]]","v":{"$error":"#VALUE!"}},{"$f":"表格2[[#This Row],[產品]]","v":{"$error":"#VALUE!"}},{"$f":"表格2[[#This Row],[單價]]","v":{"$error":"#VALUE!"}},{"$f":"表格2[[#This Row],[入貨價]]","v":{"$error":"#VALUE!"}},{"$error":"#VALUE!"},{"$f":"SUMIF(資料庫!D:D,庫存計算!C390,資料庫!E:E)","v":0},{"$error":"#VALUE!"}]
[{"$f":"表格2[[#This Row],[貨源]]","v":{"$error":"#VALUE!"}},{"$f":"表格2[[#This Row],[編號]]","v":{"$error":"#VALUE!"}},{"$f":"表格2[[#This Row],[產品]]","v":{"$error":"#VALUE!"}},{"$f":"表格2[[#This Row],[單價]]","v":{"$error":"#VALUE!"}},{"$f":"表格2[[#This Row],[入貨價]]","v":{"$error":"#VALUE!"}},{"$error":"#VALUE!"},{"$f":"SUMIF(資料庫!D:D,庫存計算!C391,資料庫!E:E)","v":0},{"$error":"#VALUE!"}]
[{"$f":"表格2[[#This Row],[貨源]]","v":{"$error":"#VALUE!"}},{"$f":"表格2[[#This Row],[編號]]","v":{"$error":"#VALUE!"}},{"$f":"表格2[[#This Row],[產品]]","v":{"$error":"#VALUE!"}},{"$f":"表格2[[#This Row],[單價]]","v":{"$error":"#VALUE!"}},{"$f":"表格2[[#This Row],[入貨價]]","v":{"$error":"#VALUE!"}},{"$error":"#VALUE!"},{"$f":"SUMIF(資料庫!D:D,庫存計算!C392,資料庫!E:E)","v":0},{"$error":"#VALUE!"}]
[{"$f":"表格2[[#This Row],[貨源]]","v":{"$error":"#VALUE!"}},{"$f":"表格2[[#This Row],[編號]]","v":{"$error":"#VALUE!"}},{"$f":"表格2[[#This Row],[產品]]","v":{"$error":"#VALUE!"}},{"$f":"表格2[[#This Row],[單價]]","v":{"$error":"#VALUE!"}},{"$f":"表格2[[#This Row],[入貨價]]","v":{"$error":"#VALUE!"}},{"$error":"#VALUE!"},{"$f":"SUMIF(資料庫!D:D,庫存計算!C393,資料庫!E:E)","v":0},{"$error":"#VALUE!"}]
[{"$f":"表格2[[#This Row],[貨源]]","v":{"$error":"#VALUE!"}},{"$f":"表格2[[#This Row],[編號]]","v":{"$error":"#VALUE!"}},{"$f":"表格2[[#This Row],[產品]]","v":{"$error":"#VALUE!"}},{"$f":"表格2[[#This Row],[單價]]","v":{"$error":"#VALUE!"}},{"$f":"表格2[[#This Row],[入貨價]]","v":{"$error":"#VALUE!"}},{"$error":"#VALUE!"},{"$f":"SUMIF(資料庫!D:D,庫存計算!C394,資料庫!E:E)","v":0},{"$error":"#VALUE!"}]
[{"$f":"表格2[[#This Row],[貨源]]","v":{"$error":"#VALUE!"}},{"$f":"表格2[[#This Row],[編號]]","v":{"$error":"#VALUE!"}},{"$f":"表格2[[#This Row],[產品]]","v":{"$error":"#VALUE!"}},{"$f":"表格2[[#This Row],[單價]]","v":{"$error":"#VALUE!"}},{"$f":"表格2[[#This Row],[入貨價]]","v":{"$error":"#VALUE!"}},{"$error":"#VALUE!"},{"$f":"SUMIF(資料庫!D:D,庫存計算!C395,資料庫!E:E)","v":0},{"$error":"#VALUE!"}]
[{"$f":"表格2[[#This Row],[貨源]]","v":{"$error":"#VALUE!"}},{"$f":"表格2[[#This Row],[編號]]","v":{"$error":"#VALUE!"}},{"$f":"表格2[[#This Row],[產品]]","v":{"$error":"#VALUE!"}},{"$f":"表格2[[#This Row],[單價]]","v":{"$error":"#VALUE!"}},{"$f":"表格2[[#This Row],[入貨價]]","v":{"$error":"#VALUE!"}},{"$error":"#VALUE!"},{"$f":"SUMIF(資料庫!D:D,庫存計算!C396,資料庫!E:E)","v":0},{"$error":"#VALUE!"}]
[{"$f":"表格2[[#This Row],[貨源]]","v":{"$error":"#VALUE!"}},{"$f":"表格2[[#This Row],[編號]]","v":{"$error":"#VALUE!"}},{"$f":"表格2[[#This Row],[產品]]","v":{"$error":"#VALUE!"}},{"$f":"表格2[[#This Row],[單價]]","v":{"$error":"#VALUE!"}},{"$f":"表格2[[#This Row],[入貨價]]","v":{"$error":"#VALUE!"}},{"$error":"#VALUE!"},{"$f":"SUMIF(資料庫!D:D,庫存計算!C397,資料庫!E:E)","v":0},{"$error":"#VALUE!"}]
[{"$f":"表格2[[#This Row],[貨源]]","v":{"$error":"#VALUE!"}},{"$f":"表格2[[#This Row],[編號]]","v":{"$error":"#VALUE!"}},{"$f":"表格2[[#This Row],[產品]]","v":{"$error":"#VALUE!"}},{"$f":"表格2[[#This Row],[單價]]","v":{"$error":"#VALUE!"}},{"$f":"表格2[[#This Row],[入貨價]]","v":{"$error":"#VALUE!"}},{"$error":"#VALUE!"},{"$f":"SUMIF(資料庫!D:D,庫存計算!C398,資料庫!E:E)","v":0},{"$error":"#VALUE!"}]
[{"$f":"表格2[[#This Row],[貨源]]","v":{"$error":"#VALUE!"}},{"$f":"表格2[[#This Row],[編號]]","v":{"$error":"#VALUE!"}},{"$f":"表格2[[#This Row],[產品]]","v":{"$error":"#VALUE!"}},{"$f":"表格2[[#This Row],[單價]]","v":{"$error":"#VALUE!"}},{"$f":"表格2[[#This Row],[入貨價]]","v":{"$error":"#VALUE!"}},{"$error":"#VALUE!"},{"$f":"SUMIF(資料庫!D:D,庫存計算!C399,資料庫!E:E)","v":0},{"$error":"#VALUE!"}]
[{"$f":"表格2[[#This Row],[貨源]]","v":{"$error":"#VALUE!"}},{"$f":"表格2[[#This Row],[編號]]","v":{"$error":"#VALUE!"}},{"$f":"表格2[[#This Row],[產品]]","v":{"$error":"#VALUE!"}},{"$f":"表格2[[#This Row],[單價]]","v":{"$error":"#VALUE!"}},{"$f":"表格2[[#This Row],[入貨價]]","v":{"$error":"#VALUE!"}},{"$error":"#VALUE!"},{"$f":"SUMIF(資料庫!D:D,庫存計算!C400,資料庫!E:E)","v":0},{"$error":"#VALUE!"}]
[{"$f":"表格2[[#This Row],[貨源]]","v":{"$error":"#VALUE!"}},{"$f":"表格2[[#This Row],[編號]]","v":{"$error":"#VALUE!"}},{"$f":"表格2[[#This Row],[產品]]","v":{"$error":"#VALUE!"}},{"$f":"表格2[[#This Row],[單價]]","v":{"$error":"#VALUE!"}},{"$f":"表格2[[#This Row],[入貨價]]","v":{"$error":"#VALUE!"}},{"$error":"#VALUE!"},{"$f":"SUMIF(資料庫!D:D,庫存計算!C401,資料庫!E:E)","v":0},{"$error":"#VALUE!"}]
[{"$f":"表格2[[#This Row],[貨源]]","v":{"$error":"#VALUE!"}},{"$f":"表格2[[#This Row],[編號]]","v":{"$error":"#VALUE!"}},{"$f":"表格2[[#This Row],[產品]]","v":{"$error":"#VALUE!"}},{"$f":"表格2[[#This Row],[單價]]","v":{"$error":"#VALUE!"}},{"$f":"表格2[[#This Row],[入貨價]]","v":{"$error":"#VALUE!"}},{"$error":"#VALUE!"},{"$f":"SUMIF(資料庫!D:D,庫存計算!C402,資料庫!E:E)","v":0},{"$error":"#VALUE!"}]
[{"$f":"表格2[[#This Row],[貨源]]","v":{"$error":"#VALUE!"}},{"$f":"表格2[[#This Row],[編號]]","v":{"$error":"#VALUE!"}},{"$f":"表格2[[#This Row],[產品]]","v":{"$error":"#VALUE!"}},{"$f":"表格2[[#This Row],[單價]]","v":{"$error":"#VALUE!"}},{"$f":"表格2[[#This Row],[入貨價]]","v":{"$error":"#VALUE!"}},{"$error":"#VALUE!"},{"$f":"SUMIF(資料庫!D:D,庫存計算!C403,資料庫!E:E)","v":0},{"$error":"#VALUE!"}]
[{"$f":"表格2[[#This Row],[貨源]]","v":{"$error":"#VALUE!"}},{"$f":"表格2[[#This Row],[編號]]","v":{"$error":"#VALUE!"}},{"$f":"表格2[[#This Row],[產品]]","v":{"$error":"#VALUE!"}},{"$f":"表格2[[#This Row],[單價]]","v":{"$error":"#VALUE!"}},{"$f":"表格2[[#This Row],[入貨價]]","v":{"$error":"#VALUE!"}},{"$error":"#VALUE!"},{"$f":"SUMIF(資料庫!D:D,庫存計算!C404,資料庫!E:E)","v":0},{"$error":"#VALUE!"}]
[{"$f":"表格2[[#This Row],[貨源]]","v":{"$error":"#VALUE!"}},{"$f":"表格2[[#This Row],[編號]]","v":{"$error":"#VALUE!"}},{"$f":"表格2[[#This Row],[產品]]","v":{"$error":"#VALUE!"}},{"$f":"表格2[[#This Row],[單價]]","v":{"$error":"#VALUE!"}},{"$f":"表格2[[#This Row],[入貨價]]","v":{"$error":"#VALUE!"}},{"$error":"#VALUE!"},{"$f":"SUMIF(資料庫!D:D,庫存計算!C405,資料庫!E:E)","v":0},{"$error":"#VALUE!"}]
[{"$f":"表格2[[#This Row],[貨源]]","v":{"$error":"#VALUE!"}},{"$f":"表格2[[#This Row],[編號]]","v":{"$error":"#VALUE!"}},{"$f":"表格2[[#This Row],[產品]]","v":{"$error":"#VALUE!"}},{"$f":"表格2[[#This Row],[單價]]","v":{"$error":"#VALUE!"}},{"$f":"表格2[[#This Row],[入貨價]]","v":{"$error":"#VALUE!"}},{"$error":"#VALUE!"},{"$f":"SUMIF(資料庫!D:D,庫存計算!C406,資料庫!E:E)","v":0},{"$error":"#VALUE!"}]
[{"$f":"表格2[[#This Row],[貨源]]","v":{"$error":"#VALUE!"}},{"$f":"表格2[[#This Row],[編號]]","v":{"$error":"#VALUE!"}},{"$f":"表格2[[#This Row],[產品]]","v":{"$error":"#VALUE!"}},{"$f":"表格2[[#This Row],[單價]]","v":{"$error":"#VALUE!"}},{"$f":"表格2[[#This Row],[入貨價]]","v":{"$error":"#VALUE!"}},{"$error":"#VALUE!"},{"$f":"SUMIF(資料庫!D:D,庫存計算!C407,資料庫!E:E)","v":0},{"$error":"#VALUE!"}]
[{"$f":"表格2[[#This Row],[貨源]]","v":{"$error":"#VALUE!"}},{"$f":"表格2[[#This Row],[編號]]","v":{"$error":"#VALUE!"}},{"$f":"表格2[[#This Row],[產品]]","v":{"$error":"#VALUE!"}},{"$f":"表格2[[#This Row],[單價]]","v":{"$error":"#VALUE!"}},{"$f":"表格2[[#This Row],[入貨價]]","v":{"$error":"#VALUE!"}},{"$error":"#VALUE!"},{"$f":"SUMIF(資料庫!D:D,庫存計算!C408,資料庫!E:E)","v":0},{"$error":"#VALUE!"}]
[{"$f":"表格2[[#This Row],[貨源]]","v":{"$error":"#VALUE!"}},{"$f":"表格2[[#This Row],[編號]]","v":{"$error":"#VALUE!"}},{"$f":"表格2[[#This Row],[產品]]","v":{"$error":"#VALUE!"}},{"$f":"表格2[[#This Row],[單價]]","v":{"$error":"#VALUE!"}},{"$f":"表格2[[#This Row],[入貨價]]","v":{"$error":"#VALUE!"}},{"$error":"#VALUE!"},{"$f":"SUMIF(資料庫!D:D,庫存計算!C409,資料庫!E:E)","v":0},{"$error":"#VALUE!"}]
[{"$f":"表格2[[#This Row],[貨源]]","v":{"$error":"#VALUE!"}},{"$f":"表格2[[#This Row],[編號]]","v":{"$error":"#VALUE!"}},{"$f":"表格2[[#This Row],[產品]]","v":{"$error":"#VALUE!"}},{"$f":"表格2[[#This Row],[單價]]","v":{"$error":"#VALUE!"}},{"$f":"表格2[[#This Row],[入貨價]]","v":{"$error":"#VALUE!"}},{"$error":"#VALUE!"},{"$f":"SUMIF(資料庫!D:D,庫存計算!C410,資料庫!E:E)","v":0},{"$error":"#VALUE!"}]
[{"$f":"表格2[[#This Row],[貨源]]","v":{"$error":"#VALUE!"}},{"$f":"表格2[[#This Row],[編號]]","v":{"$error":"#VALUE!"}},{"$f":"表格2[[#This Row],[產品]]","v":{"$error":"#VALUE!"}},{"$f":"表格2[[#This Row],[單價]]","v":{"$error":"#VALUE!"}},{"$f":"表格2[[#This Row],[入貨價]]","v":{"$error":"#VALUE!"}},{"$error":"#VALUE!"},{"$f":"SUMIF(資料庫!D:D,庫存計算!C411,資料庫!E:E)","v":0},{"$error":"#VALUE!"}]
[{"$f":"表格2[[#This Row],[貨源]]","v":{"$error":"#VALUE!"}},{"$f":"表格2[[#This Row],[編號]]","v":{"$error":"#VALUE!"}},{"$f":"表格2[[#This Row],[產品]]","v":{"$error":"#VALUE!"}},{"$f":"表格2[[#This Row],[單價]]","v":{"$error":"#VALUE!"}},{"$f":"表格2[[#This Row],[入貨價]]","v":{"$error":"#VALUE!"}},{"$error":"#VALUE!"},{"$f":"SUMIF(資料庫!D:D,庫存計算!C412,資料庫!E:E)","v":0},{"$error":"#VALUE!"}]
[{"$f":"表格2[[#This Row],[貨源]]","v":{"$error":"#VALUE!"}},{"$f":"表格2[[#This Row],[編號]]","v":{"$error":"#VALUE!"}},{"$f":"表格2[[#This Row],[產品]]","v":{"$error":"#VALUE!"}},{"$f":"表格2[[#This Row],[單價]]","v":{"$error":"#VALUE!"}},{"$f":"表格2[[#This Row],[入貨價]]","v":{"$error":"#VALUE!"}},{"$error":"#VALUE!"},{"$f":"SUMIF(資料庫!D:D,庫存計算!C413,資料庫!E:E)","v":0},{"$error":"#VALUE!"}]
[{"$f":"表格2[[#This Row],[貨源]]","v":{"$error":"#VALUE!"}},{"$f":"表格2[[#This Row],[編號]]","v":{"$error":"#VALUE!"}},{"$f":"表格2[[#This Row],[產品]]","v":{"$error":"#VALUE!"}},{"$f":"表格2[[#This Row],[單價]]","v":{"$error":"#VALUE!"}},{"$f":"表格2[[#This Row],[入貨價]]","v":{"$error":"#VALUE!"}},{"$error":"#VALUE!"},{"$f":"SUMIF(資料庫!D:D,庫存計算!C414,資料庫!E:E)","v":0},{"$error":"#VALUE!"}]
[{"$f":"表格2[[#This Row],[貨源]]","v":{"$error":"#VALUE!"}},{"$f":"表格2[[#This Row],[編號]]","v":{"$error":"#VALUE!"}},{"$f":"表格2[[#This Row],[產品]]","v":{"$error":"#VALUE!"}},{"$f":"表格2[[#This Row],[單價]]","v":{"$error":"#VALUE!"}},{"$f":"表格2[[#This Row],[入貨價]]","v":{"$error":"#VALUE!"}},{"$error":"#VALUE!"},{"$f":"SUMIF(資料庫!D:D,庫存計算!C415,資料庫!E:E)","v":0},{"$error":"#VALUE!"}]
[{"$f":"表格2[[#This Row],[貨源]]","v":{"$error":"#VALUE!"}},{"$f":"表格2[[#This Row],[編號]]","v":{"$error":"#VALUE!"}},{"$f":"表格2[[#This Row],[產品]]","v":{"$error":"#VALUE!"}},{"$f":"表格2[[#This Row],[單價]]","v":{"$error":"#VALUE!"}},{"$f":"表格2[[#This Row],[入貨價]]","v":{"$error":"#VALUE!"}},{"$error":"#VALUE!"},{"$f":"SUMIF(資料庫!D:D,庫存計算!C416,資料庫!E:E)","v":0},{"$error":"#VALUE!"}]
[{"$f":"表格2[[#This Row],[貨源]]","v":{"$error":"#VALUE!"}},{"$f":"表格2[[#This Row],[編號]]","v":{"$error":"#VALUE!"}},{"$f":"表格2[[#This Row],[產品]]","v":{"$error":"#VALUE!"}},{"$f":"表格2[[#This Row],[單價]]","v":{"$error":"#VALUE!"}},{"$f":"表格2[[#This Row],[入貨價]]","v":{"$error":"#VALUE!"}},{"$error":"#VALUE!"},{"$f":"SUMIF(資料庫!D:D,庫存計算!C417,資料庫!E:E)","v":0},{"$error":"#VALUE!"}]
[{"$f":"表格2[[#This Row],[貨源]]","v":{"$error":"#VALUE!"}},{"$f":"表格2[[#This Row],[編號]]","v":{"$error":"#VALUE!"}},{"$f":"表格2[[#This Row],[產品]]","v":{"$error":"#VALUE!"}},{"$f":"表格2[[#This Row],[單價]]","v":{"$error":"#VALUE!"}},{"$f":"表格2[[#This Row],[入貨價]]","v":{"$error":"#VALUE!"}},{"$error":"#VALUE!"},{"$f":"SUMIF(資料庫!D:D,庫存計算!C418,資料庫!E:E)","v":0},{"$error":"#VALUE!"}]
[{"$f":"表格2[[#This Row],[貨源]]","v":{"$error":"#VALUE!"}},{"$f":"表格2[[#This Row],[編號]]","v":{"$error":"#VALUE!"}},{"$f":"表格2[[#This Row],[產品]]","v":{"$error":"#VALUE!"}},{"$f":"表格2[[#This Row],[單價]]","v":{"$error":"#VALUE!"}},{"$f":"表格2[[#This Row],[入貨價]]","v":{"$error":"#VALUE!"}},{"$error":"#VALUE!"},{"$f":"SUMIF(資料庫!D:D,庫存計算!C419,資料庫!E:E)","v":0},{"$error":"#VALUE!"}]
[{"$f":"表格2[[#This Row],[貨源]]","v":{"$error":"#VALUE!"}},{"$f":"表格2[[#This Row],[編號]]","v":{"$error":"#VALUE!"}},{"$f":"表格2[[#This Row],[產品]]","v":{"$error":"#VALUE!"}},{"$f":"表格2[[#This Row],[單價]]","v":{"$error":"#VALUE!"}},{"$f":"表格2[[#This Row],[入貨價]]","v":{"$error":"#VALUE!"}},{"$error":"#VALUE!"},{"$f":"SUMIF(資料庫!D:D,庫存計算!C420,資料庫!E:E)","v":0},{"$error":"#VALUE!"}]
[{"$f":"表格2[[#This Row],[貨源]]","v":{"$error":"#VALUE!"}},{"$f":"表格2[[#This Row],[編號]]","v":{"$error":"#VALUE!"}},{"$f":"表格2[[#This Row],[產品]]","v":{"$error":"#VALUE!"}},{"$f":"表格2[[#This Row],[單價]]","v":{"$error":"#VALUE!"}},{"$f":"表格2[[#This Row],[入貨價]]","v":{"$error":"#VALUE!"}},{"$error":"#VALUE!"},{"$f":"SUMIF(資料庫!D:D,庫存計算!C421,資料庫!E:E)","v":0},{"$error":"#VALUE!"}]
[{"$f":"表格2[[#This Row],[貨源]]","v":{"$error":"#VALUE!"}},{"$f":"表格2[[#This Row],[編號]]","v":{"$error":"#VALUE!"}},{"$f":"表格2[[#This Row],[產品]]","v":{"$error":"#VALUE!"}},{"$f":"表格2[[#This Row],[單價]]","v":{"$error":"#VALUE!"}},{"$f":"表格2[[#This Row],[入貨價]]","v":{"$error":"#VALUE!"}},{"$error":"#VALUE!"},{"$f":"SUMIF(資料庫!D:D,庫存計算!C422,資料庫!E:E)","v":0},{"$error":"#VALUE!"}]
[{"$f":"表格2[[#This Row],[貨源]]","v":{"$error":"#VALUE!"}},{"$f":"表格2[[#This Row],[編號]]","v":{"$error":"#VALUE!"}},{"$f":"表格2[[#This Row],[產品]]","v":{"$error":"#VALUE!"}},{"$f":"表格2[[#This Row],[單價]]","v":{"$error":"#VALUE!"}},{"$f":"表格2[[#This Row],[入貨價]]","v":{"$error":"#VALUE!"}},{"$error":"#VALUE!"},{"$f":"SUMIF(資料庫!D:D,庫存計算!C423,資料庫!E:E)","v":0},{"$error":"#VALUE!"}]
[{"$f":"表格2[[#This Row],[貨源]]","v":{"$error":"#VALUE!"}},{"$f":"表格2[[#This Row],[編號]]","v":{"$error":"#VALUE!"}},{"$f":"表格2[[#This Row],[產品]]","v":{"$error":"#VALUE!"}},{"$f":"表格2[[#This Row],[單價]]","v":{"$error":"#VALUE!"}},{"$f":"表格2[[#This Row],[入貨價]]","v":{"$error":"#VALUE!"}},{"$error":"#VALUE!"},{"$f":"SUMIF(資料庫!D:D,庫存計算!C424,資料庫!E:E)","v":0},{"$error":"#VALUE!"}]
[{"$f":"表格2[[#This Row],[貨源]]","v":{"$error":"#VALUE!"}},{"$f":"表格2[[#This Row],[編號]]","v":{"$error":"#VALUE!"}},{"$f":"表格2[[#This Row],[產品]]","v":{"$error":"#VALUE!"}},{"$f":"表格2[[#This Row],[單價]]","v":{"$error":"#VALUE!"}},{"$f":"表格2[[#This Row],[入貨價]]","v":{"$error":"#VALUE!"}},{"$error":"#VALUE!"},{"$f":"SUMIF(資料庫!D:D,庫存計算!C425,資料庫!E:E)","v":0},{"$error":"#VALUE!"}]
[{"$f":"表格2[[#This Row],[貨源]]","v":{"$error":"#VALUE!"}},{"$f":"表格2[[#This Row],[編號]]","v":{"$error":"#VALUE!"}},{"$f":"表格2[[#This Row],[產品]]","v":{"$error":"#VALUE!"}},{"$f":"表格2[[#This Row],[單價]]","v":{"$error":"#VALUE!"}},{"$f":"表格2[[#This Row],[入貨價]]","v":{"$error":"#VALUE!"}},{"$error":"#VALUE!"},{"$f":"SUMIF(資料庫!D:D,庫存計算!C426,資料庫!E:E)","v":0},{"$error":"#VALUE!"}]
[{"$f":"表格2[[#This Row],[貨源]]","v":{"$error":"#VALUE!"}},{"$f":"表格2[[#This Row],[編號]]","v":{"$error":"#VALUE!"}},{"$f":"表格2[[#This Row],[產品]]","v":{"$error":"#VALUE!"}},{"$f":"表格2[[#This Row],[單價]]","v":{"$error":"#VALUE!"}},{"$f":"表格2[[#This Row],[入貨價]]","v":{"$error":"#VALUE!"}},{"$error":"#VALUE!"},{"$f":"SUMIF(資料庫!D:D,庫存計算!C427,資料庫!E:E)","v":0},{"$error":"#VALUE!"}]
[{"$f":"表格2[[#This Row],[貨源]]","v":{"$error":"#VALUE!"}},{"$f":"表格2[[#This Row],[編號]]","v":{"$error":"#VALUE!"}},{"$f":"表格2[[#This Row],[產品]]","v":{"$error":"#VALUE!"}},{"$f":"表格2[[#This Row],[單價]]","v":{"$error":"#VALUE!"}},{"$f":"表格2[[#This Row],[入貨價]]","v":{"$error":"#VALUE!"}},{"$error":"#VALUE!"},{"$f":"SUMIF(資料庫!D:D,庫存計算!C428,資料庫!E:E)","v":0},{"$error":"#VALUE!"}]
[{"$f":"表格2[[#This Row],[貨源]]","v":{"$error":"#VALUE!"}},{"$f":"表格2[[#This Row],[編號]]","v":{"$error":"#VALUE!"}},{"$f":"表格2[[#This Row],[產品]]","v":{"$error":"#VALUE!"}},{"$f":"表格2[[#This Row],[單價]]","v":{"$error":"#VALUE!"}},{"$f":"表格2[[#This Row],[入貨價]]","v":{"$error":"#VALUE!"}},{"$error":"#VALUE!"},{"$f":"SUMIF(資料庫!D:D,庫存計算!C429,資料庫!E:E)","v":0},{"$error":"#VALUE!"}]
[{"$f":"表格2[[#This Row],[貨源]]","v":{"$error":"#VALUE!"}},{"$f":"表格2[[#This Row],[編號]]","v":{"$error":"#VALUE!"}},{"$f":"表格2[[#This Row],[產品]]","v":{"$error":"#VALUE!"}},{"$f":"表格2[[#This Row],[單價]]","v":{"$error":"#VALUE!"}},{"$f":"表格2[[#This Row],[入貨價]]","v":{"$error":"#VALUE!"}},{"$error":"#VALUE!"},{"$f":"SUMIF(資料庫!D:D,庫存計算!C430,資料庫!E:E)","v":0},{"$error":"#VALUE!"}]
[{"$f":"表格2[[#This Row],[貨源]]","v":{"$error":"#VALUE!"}},{"$f":"表格2[[#This Row],[編號]]","v":{"$error":"#VALUE!"}},{"$f":"表格2[[#This Row],[產品]]","v":{"$error":"#VALUE!"}},{"$f":"表格2[[#This Row],[單價]]","v":{"$error":"#VALUE!"}},{"$f":"表格2[[#This Row],[入貨價]]","v":{"$error":"#VALUE!"}},{"$error":"#VALUE!"},{"$f":"SUMIF(資料庫!D:D,庫存計算!C431,資料庫!E:E)","v":0},{"$error":"#VALUE!"}]
[{"$f":"表格2[[#This Row],[貨源]]","v":{"$error":"#VALUE!"}},{"$f":"表格2[[#This Row],[編號]]","v":{"$error":"#VALUE!"}},{"$f":"表格2[[#This Row],[產品]]","v":{"$error":"#VALUE!"}},{"$f":"表格2[[#This Row],[單價]]","v":{"$error":"#VALUE!"}},{"$f":"表格2[[#This Row],[入貨價]]","v":{"$error":"#VALUE!"}},{"$error":"#VALUE!"},{"$f":"SUMIF(資料庫!D:D,庫存計算!C432,資料庫!E:E)","v":0},{"$error":"#VALUE!"}]
[{"$f":"表格2[[#This Row],[貨源]]","v":{"$error":"#VALUE!"}},{"$f":"表格2[[#This Row],[編號]]","v":{"$error":"#VALUE!"}},{"$f":"表格2[[#This Row],[產品]]","v":{"$error":"#VALUE!"}},{"$f":"表格2[[#This Row],[單價]]","v":{"$error":"#VALUE!"}},{"$f":"表格2[[#This Row],[入貨價]]","v":{"$error":"#VALUE!"}},{"$error":"#VALUE!"},{"$f":"SUMIF(資料庫!D:D,庫存計算!C433,資料庫!E:E)","v":0},{"$error":"#VALUE!"}]
[{"$f":"表格2[[#This Row],[貨源]]","v":{"$error":"#VALUE!"}},{"$f":"表格2[[#This Row],[編號]]","v":{"$error":"#VALUE!"}},{"$f":"表格2[[#This Row],[產品]]","v":{"$error":"#VALUE!"}},{"$f":"表格2[[#This Row],[單價]]","v":{"$error":"#VALUE!"}},{"$f":"表格2[[#This Row],[入貨價]]","v":{"$error":"#VALUE!"}},{"$error":"#VALUE!"},{"$f":"SUMIF(資料庫!D:D,庫存計算!C434,資料庫!E:E)","v":0},{"$error":"#VALUE!"}]
[{"$f":"表格2[[#This Row],[貨源]]","v":{"$error":"#VALUE!"}},{"$f":"表格2[[#This Row],[編號]]","v":{"$error":"#VALUE!"}},{"$f":"表格2[[#This Row],[產品]]","v":{"$error":"#VALUE!"}},{"$f":"表格2[[#This Row],[單價]]","v":{"$error":"#VALUE!"}},{"$f":"表格2[[#This Row],[入貨價]]","v":{"$error":"#VALUE!"}},{"$error":"#VALUE!"},{"$f":"SUMIF(資料庫!D:D,庫存計算!C435,資料庫!E:E)","v":0},{"$error":"#VALUE!"}]
[{"$f":"表格2[[#This Row],[貨源]]","v":{"$error":"#VALUE!"}},{"$f":"表格2[[#This Row],[編號]]","v":{"$error":"#VALUE!"}},{"$f":"表格2[[#This Row],[產品]]","v":{"$error":"#VALUE!"}},{"$f":"表格2[[#This Row],[單價]]","v":{"$error":"#VALUE!"}},{"$f":"表格2[[#This Row],[入貨價]]","v":{"$error":"#VALUE!"}},{"$error":"#VALUE!"},{"$f":"SUMIF(資料庫!D:D,庫存計算!C436,資料庫!E:E)","v":0},{"$error":"#VALUE!"}]
[{"$f":"表格2[[#This Row],[貨源]]","v":{"$error":"#VALUE!"}},{"$f":"表格2[[#This Row],[編號]]","v":{"$error":"#VALUE!"}},{"$f":"表格2[[#This Row],[產品]]","v":{"$error":"#VALUE!"}},{"$f":"表格2[[#This Row],[單價]]","v":{"$error":"#VALUE!"}},{"$f":"表格2[[#This Row],[入貨價]]","v":{"$error":"#VALUE!"}},{"$error":"#VALUE!"},{"$f":"SUMIF(資料庫!D:D,庫存計算!C437,資料庫!E:E)","v":0},{"$error":"#VALUE!"}]
[{"$f":"表格2[[#This Row],[貨源]]","v":{"$error":"#VALUE!"}},{"$f":"表格2[[#This Row],[編號]]","v":{"$error":"#VALUE!"}},{"$f":"表格2[[#This Row],[產品]]","v":{"$error":"#VALUE!"}},{"$f":"表格2[[#This Row],[單價]]","v":{"$error":"#VALUE!"}},{"$f":"表格2[[#This Row],[入貨價]]","v":{"$error":"#VALUE!"}},{"$error":"#VALUE!"},{"$f":"SUMIF(資料庫!D:D,庫存計算!C438,資料庫!E:E)","v":0},{"$error":"#VALUE!"}]
[{"$f":"表格2[[#This Row],[貨源]]","v":{"$error":"#VALUE!"}},{"$f":"表格2[[#This Row],[編號]]","v":{"$error":"#VALUE!"}},{"$f":"表格2[[#This Row],[產品]]","v":{"$error":"#VALUE!"}},{"$f":"表格2[[#This Row],[單價]]","v":{"$error":"#VALUE!"}},{"$f":"表格2[[#This Row],[入貨價]]","v":{"$error":"#VALUE!"}},{"$error":"#VALUE!"},{"$f":"SUMIF(資料庫!D:D,庫存計算!C439,資料庫!E:E)","v":0},{"$error":"#VALUE!"}]
[{"$f":"表格2[[#This Row],[貨源]]","v":{"$error":"#VALUE!"}},{"$f":"表格2[[#This Row],[編號]]","v":{"$error":"#VALUE!"}},{"$f":"表格2[[#This Row],[產品]]","v":{"$error":"#VALUE!"}},{"$f":"表格2[[#This Row],[單價]]","v":{"$error":"#VALUE!"}},{"$f":"表格2[[#This Row],[入貨價]]","v":{"$error":"#VALUE!"}},{"$error":"#VALUE!"},{"$f":"SUMIF(資料庫!D:D,庫存計算!C440,資料庫!E:E)","v":0},{"$error":"#VALUE!"}]
[{"$f":"表格2[[#This Row],[貨源]]","v":{"$error":"#VALUE!"}},{"$f":"表格2[[#This Row],[編號]]","v":{"$error":"#VALUE!"}},{"$f":"表格2[[#This Row],[產品]]","v":{"$error":"#VALUE!"}},{"$f":"表格2[[#This Row],[單價]]","v":{"$error":"#VALUE!"}},{"$f":"表格2[[#This Row],[入貨價]]","v":{"$error":"#VALUE!"}},{"$error":"#VALUE!"},{"$f":"SUMIF(資料庫!D:D,庫存計算!C441,資料庫!E:E)","v":0},{"$error":"#VALUE!"}]
[{"$f":"表格2[[#This Row],[貨源]]","v":{"$error":"#VALUE!"}},{"$f":"表格2[[#This Row],[編號]]","v":{"$error":"#VALUE!"}},{"$f":"表格2[[#This Row],[產品]]","v":{"$error":"#VALUE!"}},{"$f":"表格2[[#This Row],[單價]]","v":{"$error":"#VALUE!"}},{"$f":"表格2[[#This Row],[入貨價]]","v":{"$error":"#VALUE!"}},{"$error":"#VALUE!"},{"$f":"SUMIF(資料庫!D:D,庫存計算!C442,資料庫!E:E)","v":0},{"$error":"#VALUE!"}]
[{"$f":"表格2[[#This Row],[貨源]]","v":{"$error":"#VALUE!"}},{"$f":"表格2[[#This Row],[編號]]","v":{"$error":"#VALUE!"}},{"$f":"表格2[[#This Row],[產品]]","v":{"$error":"#VALUE!"}},{"$f":"表格2[[#This Row],[單價]]","v":{"$error":"#VALUE!"}},{"$f":"表格2[[#This Row],[入貨價]]","v":{"$error":"#VALUE!"}},{"$f":"E443/4","v":{"$error":"#VALUE!"}},{"$f":"SUMIF(資料庫!D:D,庫存計算!C443,資料庫!E:E)","v":0},{"$error":"#VALUE!"}]
[{"$f":"表格2[[#This Row],[貨源]]","v":{"$error":"#VALUE!"}},{"$f":"表格2[[#This Row],[編號]]","v":{"$error":"#VALUE!"}},{"$f":"表格2[[#This Row],[產品]]","v":{"$error":"#VALUE!"}},{"$f":"表格2[[#This Row],[單價]]","v":{"$error":"#VALUE!"}},{"$f":"表格2[[#This Row],[入貨價]]","v":{"$error":"#VALUE!"}},{"$error":"#VALUE!"},{"$f":"SUMIF(資料庫!D:D,庫存計算!C444,資料庫!E:E)","v":0},{"$error":"#VALUE!"}]
[{"$f":"表格2[[#This Row],[貨源]]","v":{"$error":"#VALUE!"}},{"$f":"表格2[[#This Row],[編號]]","v":{"$error":"#VALUE!"}},{"$f":"表格2[[#This Row],[產品]]","v":{"$error":"#VALUE!"}},{"$f":"表格2[[#This Row],[單價]]","v":{"$error":"#VALUE!"}},{"$f":"表格2[[#This Row],[入貨價]]","v":{"$error":"#VALUE!"}},{"$error":"#VALUE!"},{"$f":"SUMIF(資料庫!D:D,庫存計算!C445,資料庫!E:E)","v":0},{"$error":"#VALUE!"}]
[{"$f":"表格2[[#This Row],[貨源]]","v":{"$error":"#VALUE!"}},{"$f":"表格2[[#This Row],[編號]]","v":{"$error":"#VALUE!"}},{"$f":"表格2[[#This Row],[產品]]","v":{"$error":"#VALUE!"}},{"$f":"表格2[[#This Row],[單價]]","v":{"$error":"#VALUE!"}},{"$f":"表格2[[#This Row],[入貨價]]","v":{"$error":"#VALUE!"}},{"$error":"#VALUE!"},{"$f":"SUMIF(資料庫!D:D,庫存計算!C446,資料庫!E:E)","v":0},{"$error":"#VALUE!"}]
[{"$f":"表格2[[#This Row],[貨源]]","v":{"$error":"#VALUE!"}},{"$f":"表格2[[#This Row],[編號]]","v":{"$error":"#VALUE!"}},{"$f":"表格2[[#This Row],[產品]]","v":{"$error":"#VALUE!"}},{"$f":"表格2[[#This Row],[單價]]","v":{"$error":"#VALUE!"}},{"$f":"表格2[[#This Row],[入貨價]]","v":{"$error":"#VALUE!"}},{"$error":"#VALUE!"},{"$f":"SUMIF(資料庫!D:D,庫存計算!C447,資料庫!E:E)","v":0},{"$error":"#VALUE!"}]
[{"$f":"表格2[[#This Row],[貨源]]","v":{"$error":"#VALUE!"}},{"$f":"表格2[[#This Row],[編號]]","v":{"$error":"#VALUE!"}},{"$f":"表格2[[#This Row],[產品]]","v":{"$error":"#VALUE!"}},{"$f":"表格2[[#This Row],[單價]]","v":{"$error":"#VALUE!"}},{"$f":"表格2[[#This Row],[入貨價]]","v":{"$error":"#VALUE!"}},{"$error":"#VALUE!"},{"$f":"SUMIF(資料庫!D:D,庫存計算!C448,資料庫!E:E)","v":0},{"$error":"#VALUE!"}]
[{"$f":"表格2[[#This Row],[貨源]]","v":{"$error":"#VALUE!"}},{"$f":"表格2[[#This Row],[編號]]","v":{"$error":"#VALUE!"}},{"$f":"表格2[[#This Row],[產品]]","v":{"$error":"#VALUE!"}},{"$f":"表格2[[#This Row],[單價]]","v":{"$error":"#VALUE!"}},{"$f":"表格2[[#This Row],[入貨價]]","v":{"$error":"#VALUE!"}},{"$error":"#VALUE!"},{"$f":"SUMIF(資料庫!D:D,庫存計算!C449,資料庫!E:E)","v":0},{"$error":"#VALUE!"}]
[{"$f":"表格2[[#This Row],[貨源]]","v":{"$error":"#VALUE!"}},{"$f":"表格2[[#This Row],[編號]]","v":{"$error":"#VALUE!"}},{"$f":"表格2[[#This Row],[產品]]","v":{"$error":"#VALUE!"}},{"$f":"表格2[[#This Row],[單價]]","v":{"$error":"#VALUE!"}},{"$f":"表格2[[#This Row],[入貨價]]","v":{"$error":"#VALUE!"}},{"$error":"#VALUE!"},{"$f":"SUMIF(資料庫!D:D,庫存計算!C450,資料庫!E:E)","v":0},{"$error":"#VALUE!"}]
[{"$f":"表格2[[#This Row],[貨源]]","v":{"$error":"#VALUE!"}},{"$f":"表格2[[#This Row],[編號]]","v":{"$error":"#VALUE!"}},{"$f":"表格2[[#This Row],[產品]]","v":{"$error":"#VALUE!"}},{"$f":"表格2[[#This Row],[單價]]","v":{"$error":"#VALUE!"}},{"$f":"表格2[[#This Row],[入貨價]]","v":{"$error":"#VALUE!"}},{"$error":"#VALUE!"},{"$f":"SUMIF(資料庫!D:D,庫存計算!C451,資料庫!E:E)","v":0},{"$error":"#VALUE!"}]
[{"$f":"表格2[[#This Row],[貨源]]","v":{"$error":"#VALUE!"}},{"$f":"表格2[[#This Row],[編號]]","v":{"$error":"#VALUE!"}},{"$f":"表格2[[#This Row],[產品]]","v":{"$error":"#VALUE!"}},{"$f":"表格2[[#This Row],[單價]]","v":{"$error":"#VALUE!"}},{"$f":"表格2[[#This Row],[入貨價]]","v":{"$error":"#VALUE!"}},{"$error":"#VALUE!"},{"$f":"SUMIF(資料庫!D:D,庫存計算!C452,資料庫!E:E)","v":0},{"$f":"(D452-F452)*G452","v":{"$error":"#VALUE!"}}]
[{"$f":"表格2[[#This Row],[貨源]]","v":{"$error":"#VALUE!"}},{"$f":"表格2[[#This Row],[編號]]","v":{"$error":"#VALUE!"}},{"$f":"表格2[[#This Row],[產品]]","v":{"$error":"#VALUE!"}},{"$f":"表格2[[#This Row],[單價]]","v":{"$error":"#VALUE!"}},{"$f":"表格2[[#This Row],[入貨價]]","v":{"$error":"#VALUE!"}},{"$error":"#VALUE!"},{"$f":"SUMIF(資料庫!D:D,庫存計算!C453,資料庫!E:E)","v":0},{"$error":"#VALUE!"}]
[{"$f":"表格2[[#This Row],[貨源]]","v":{"$error":"#VALUE!"}},{"$f":"表格2[[#This Row],[編號]]","v":{"$error":"#VALUE!"}},{"$f":"表格2[[#This Row],[產品]]","v":{"$error":"#VALUE!"}},{"$f":"表格2[[#This Row],[單價]]","v":{"$error":"#VALUE!"}},{"$f":"表格2[[#This Row],[入貨價]]","v":{"$error":"#VALUE!"}},{"$error":"#VALUE!"},{"$f":"SUMIF(資料庫!D:D,庫存計算!C454,資料庫!E:E)","v":0},{"$error":"#VALUE!"}]
[{"$f":"表格2[[#This Row],[貨源]]","v":{"$error":"#VALUE!"}},{"$f":"表格2[[#This Row],[編號]]","v":{"$error":"#VALUE!"}},{"$f":"表格2[[#This Row],[產品]]","v":{"$error":"#VALUE!"}},{"$f":"表格2[[#This Row],[單價]]","v":{"$error":"#VALUE!"}},{"$f":"表格2[[#This Row],[入貨價]]","v":{"$error":"#VALUE!"}},{"$error":"#VALUE!"},{"$f":"SUMIF(資料庫!D:D,庫存計算!C455,資料庫!E:E)","v":0},{"$error":"#VALUE!"}]
[{"$f":"表格2[[#This Row],[貨源]]","v":{"$error":"#VALUE!"}},{"$f":"表格2[[#This Row],[編號]]","v":{"$error":"#VALUE!"}},{"$f":"表格2[[#This Row],[產品]]","v":{"$error":"#VALUE!"}},{"$f":"表格2[[#This Row],[單價]]","v":{"$error":"#VALUE!"}},{"$f":"表格2[[#This Row],[入貨價]]","v":{"$error":"#VALUE!"}},{"$error":"#VALUE!"},{"$f":"SUMIF(資料庫!D:D,庫存計算!C456,資料庫!E:E)","v":0},{"$error":"#VALUE!"}]
[{"$f":"表格2[[#This Row],[貨源]]","v":{"$error":"#VALUE!"}},{"$f":"表格2[[#This Row],[編號]]","v":{"$error":"#VALUE!"}},{"$f":"表格2[[#This Row],[產品]]","v":{"$error":"#VALUE!"}},{"$f":"表格2[[#This Row],[單價]]","v":{"$error":"#VALUE!"}},{"$f":"表格2[[#This Row],[入貨價]]","v":{"$error":"#VALUE!"}},{"$error":"#VALUE!"},{"$f":"SUMIF(資料庫!D:D,庫存計算!C457,資料庫!E:E)","v":0},{"$error":"#VALUE!"}]
[{"$f":"表格2[[#This Row],[貨源]]","v":{"$error":"#VALUE!"}},{"$f":"表格2[[#This Row],[編號]]","v":{"$error":"#VALUE!"}},{"$f":"表格2[[#This Row],[產品]]","v":{"$error":"#VALUE!"}},{"$f":"表格2[[#This Row],[單價]]","v":{"$error":"#VALUE!"}},{"$f":"表格2[[#This Row],[入貨價]]","v":{"$error":"#VALUE!"}},{"$error":"#VALUE!"},{"$f":"SUMIF(資料庫!D:D,庫存計算!C458,資料庫!E:E)","v":0},{"$error":"#VALUE!"}]
[{"$f":"表格2[[#This Row],[貨源]]","v":{"$error":"#VALUE!"}},{"$f":"表格2[[#This Row],[編號]]","v":{"$error":"#VALUE!"}},{"$f":"表格2[[#This Row],[產品]]","v":{"$error":"#VALUE!"}},{"$f":"表格2[[#This Row],[單價]]","v":{"$error":"#VALUE!"}},{"$f":"表格2[[#This Row],[入貨價]]","v":{"$error":"#VALUE!"}},{"$error":"#VALUE!"},{"$f":"SUMIF(資料庫!D:D,庫存計算!C459,資料庫!E:E)","v":0},{"$error":"#VALUE!"}]
[{"$f":"表格2[[#This Row],[貨源]]","v":{"$error":"#VALUE!"}},{"$f":"表格2[[#This Row],[編號]]","v":{"$error":"#VALUE!"}},{"$f":"表格2[[#This Row],[產品]]","v":{"$error":"#VALUE!"}},{"$f":"表格2[[#This Row],[單價]]","v":{"$error":"#VALUE!"}},{"$f":"表格2[[#This Row],[入貨價]]","v":{"$error":"#VALUE!"}},{"$error":"#VALUE!"},{"$f":"SUMIF(資料庫!D:D,庫存計算!C460,資料庫!E:E)","v":0},{"$error":"#VALUE!"}]
[{"$f":"表格2[[#This Row],[貨源]]","v":{"$error":"#VALUE!"}},{"$f":"表格2[[#This Row],[編號]]","v":{"$error":"#VALUE!"}},{"$f":"表格2[[#This Row],[產品]]","v":{"$error":"#VALUE!"}},{"$f":"表格2[[#This Row],[單價]]","v":{"$error":"#VALUE!"}},{"$f":"表格2[[#This Row],[入貨價]]","v":{"$error":"#VALUE!"}},{"$error":"#VALUE!"},{"$f":"SUMIF(資料庫!D:D,庫存計算!C461,資料庫!E:E)","v":0},{"$error":"#VALUE!"}]
[{"$f":"表格2[[#This Row],[貨源]]","v":{"$error":"#VALUE!"}},{"$f":"表格2[[#This Row],[編號]]","v":{"$error":"#VALUE!"}},{"$f":"表格2[[#This Row],[產品]]","v":{"$error":"#VALUE!"}},{"$f":"表格2[[#This Row],[單價]]","v":{"$error":"#VALUE!"}},{"$f":"表格2[[#This Row],[入貨價]]","v":{"$error":"#VALUE!"}},{"$error":"#VALUE!"},{"$f":"SUMIF(資料庫!D:D,庫存計算!C462,資料庫!E:E)","v":0},{"$error":"#VALUE!"}]
[{"$f":"表格2[[#This Row],[貨源]]","v":{"$error":"#VALUE!"}},{"$f":"表格2[[#This Row],[編號]]","v":{"$error":"#VALUE!"}},{"$f":"表格2[[#This Row],[產品]]","v":{"$error":"#VALUE!"}},{"$f":"表格2[[#This Row],[單價]]","v":{"$error":"#VALUE!"}},{"$f":"表格2[[#This Row],[入貨價]]","v":{"$error":"#VALUE!"}},{"$error":"#VALUE!"},{"$f":"SUMIF(資料庫!D:D,庫存計算!C463,資料庫!E:E)","v":0},{"$error":"#VALUE!"}]
[{"$f":"表格2[[#This Row],[貨源]]","v":{"$error":"#VALUE!"}},{"$f":"表格2[[#This Row],[編號]]","v":{"$error":"#VALUE!"}},{"$f":"表格2[[#This Row],[產品]]","v":{"$error":"#VALUE!"}},{"$f":"表格2[[#This Row],[單價]]","v":{"$error":"#VALUE!"}},{"$f":"表格2[[#This Row],[入貨價]]","v":{"$error":"#VALUE!"}},{"$error":"#VALUE!"},{"$f":"SUMIF(資料庫!D:D,庫存計算!C464,資料庫!E:E)","v":0},{"$error":"#VALUE!"}]
[{"$f":"表格2[[#This Row],[貨源]]","v":{"$error":"#VALUE!"}},{"$f":"表格2[[#This Row],[編號]]","v":{"$error":"#VALUE!"}},{"$f":"表格2[[#This Row],[產品]]","v":{"$error":"#VALUE!"}},{"$f":"表格2[[#This Row],[單價]]","v":{"$error":"#VALUE!"}},{"$f":"表格2[[#This Row],[入貨價]]","v":{"$error":"#VALUE!"}},{"$error":"#VALUE!"},{"$f":"SUMIF(資料庫!D:D,庫存計算!C465,資料庫!E:E)","v":0},{"$error":"#VALUE!"}]
[{"$f":"表格2[[#This Row],[貨源]]","v":{"$error":"#VALUE!"}},{"$f":"表格2[[#This Row],[編號]]","v":{"$error":"#VALUE!"}},{"$f":"表格2[[#This Row],[產品]]","v":{"$error":"#VALUE!"}},{"$f":"表格2[[#This Row],[單價]]","v":{"$error":"#VALUE!"}},{"$f":"表格2[[#This Row],[入貨價]]","v":{"$error":"#VALUE!"}},{"$error":"#VALUE!"},{"$f":"SUMIF(資料庫!D:D,庫存計算!C466,資料庫!E:E)","v":0},{"$error":"#VALUE!"}]
[{"$f":"表格2[[#This Row],[貨源]]","v":{"$error":"#VALUE!"}},{"$f":"表格2[[#This Row],[編號]]","v":{"$error":"#VALUE!"}},{"$f":"表格2[[#This Row],[產品]]","v":{"$error":"#VALUE!"}},{"$f":"表格2[[#This Row],[單價]]","v":{"$error":"#VALUE!"}},{"$f":"表格2[[#This Row],[入貨價]]","v":{"$error":"#VALUE!"}},{"$error":"#VALUE!"},{"$f":"SUMIF(資料庫!D:D,庫存計算!C467,資料庫!E:E)","v":0},{"$error":"#VALUE!"}]
[{"$f":"表格2[[#This Row],[貨源]]","v":{"$error":"#VALUE!"}},{"$f":"表格2[[#This Row],[編號]]","v":{"$error":"#VALUE!"}},{"$f":"表格2[[#This Row],[產品]]","v":{"$error":"#VALUE!"}},{"$f":"表格2[[#This Row],[單價]]","v":{"$error":"#VALUE!"}},{"$f":"表格2[[#This Row],[入貨價]]","v":{"$error":"#VALUE!"}},{"$error":"#VALUE!"},{"$f":"SUMIF(資料庫!D:D,庫存計算!C468,資料庫!E:E)","v":0},{"$error":"#VALUE!"}]
[{"$f":"表格2[[#This Row],[貨源]]","v":{"$error":"#VALUE!"}},{"$f":"表格2[[#This Row],[編號]]","v":{"$error":"#VALUE!"}},{"$f":"表格2[[#This Row],[產品]]","v":{"$error":"#VALUE!"}},{"$f":"表格2[[#This Row],[單價]]","v":{"$error":"#VALUE!"}},{"$f":"表格2[[#This Row],[入貨價]]","v":{"$error":"#VALUE!"}},{"$error":"#VALUE!"},{"$f":"SUMIF(資料庫!D:D,庫存計算!C469,資料庫!E:E)","v":0},{"$error":"#VALUE!"}]
[{"$f":"表格2[[#This Row],[貨源]]","v":{"$error":"#VALUE!"}},{"$f":"表格2[[#This Row],[編號]]","v":{"$error":"#VALUE!"}},{"$f":"表格2[[#This Row],[產品]]","v":{"$error":"#VALUE!"}},{"$f":"表格2[[#This Row],[單價]]","v":{"$error":"#VALUE!"}},{"$f":"表格2[[#This Row],[入貨價]]","v":{"$error":"#VALUE!"}},{"$error":"#VALUE!"},{"$f":"SUMIF(資料庫!D:D,庫存計算!C470,資料庫!E:E)","v":0},{"$error":"#VALUE!"}]
[{"$f":"表格2[[#This Row],[貨源]]","v":{"$error":"#VALUE!"}},{"$f":"表格2[[#This Row],[編號]]","v":{"$error":"#VALUE!"}},{"$f":"表格2[[#This Row],[產品]]","v":{"$error":"#VALUE!"}},{"$f":"表格2[[#This Row],[單價]]","v":{"$error":"#VALUE!"}},{"$f":"表格2[[#This Row],[入貨價]]","v":{"$error":"#VALUE!"}},{"$error":"#VALUE!"},{"$f":"SUMIF(資料庫!D:D,庫存計算!C471,資料庫!E:E)","v":0},{"$error":"#VALUE!"}]
[{"$f":"表格2[[#This Row],[貨源]]","v":{"$error":"#VALUE!"}},{"$f":"表格2[[#This Row],[編號]]","v":{"$error":"#VALUE!"}},{"$f":"表格2[[#This Row],[產品]]","v":{"$error":"#VALUE!"}},{"$f":"表格2[[#This Row],[單價]]","v":{"$error":"#VALUE!"}},{"$f":"表格2[[#This Row],[入貨價]]","v":{"$error":"#VALUE!"}},{"$error":"#VALUE!"},{"$f":"SUMIF(資料庫!D:D,庫存計算!C472,資料庫!E:E)","v":0},{"$error":"#VALUE!"}]
[{"$f":"表格2[[#This Row],[貨源]]","v":{"$error":"#VALUE!"}},{"$f":"表格2[[#This Row],[編號]]","v":{"$error":"#VALUE!"}},{"$f":"表格2[[#This Row],[產品]]","v":{"$error":"#VALUE!"}},{"$f":"表格2[[#This Row],[單價]]","v":{"$error":"#VALUE!"}},{"$f":"表格2[[#This Row],[入貨價]]","v":{"$error":"#VALUE!"}},{"$error":"#VALUE!"},{"$f":"SUMIF(資料庫!D:D,庫存計算!C473,資料庫!E:E)","v":0},{"$error":"#VALUE!"}]
[{"$f":"表格2[[#This Row],[貨源]]","v":{"$error":"#VALUE!"}},{"$f":"表格2[[#This Row],[編號]]","v":{"$error":"#VALUE!"}},{"$f":"表格2[[#This Row],[產品]]","v":{"$error":"#VALUE!"}},{"$f":"表格2[[#This Row],[單價]]","v":{"$error":"#VALUE!"}},{"$f":"表格2[[#This Row],[入貨價]]","v":{"$error":"#VALUE!"}},{"$error":"#VALUE!"},{"$f":"SUMIF(資料庫!D:D,庫存計算!C474,資料庫!E:E)","v":0},{"$error":"#VALUE!"}]
[{"$f":"表格2[[#This Row],[貨源]]","v":{"$error":"#VALUE!"}},{"$f":"表格2[[#This Row],[編號]]","v":{"$error":"#VALUE!"}},{"$f":"表格2[[#This Row],[產品]]","v":{"$error":"#VALUE!"}},{"$f":"表格2[[#This Row],[單價]]","v":{"$error":"#VALUE!"}},{"$f":"表格2[[#This Row],[入貨價]]","v":{"$error":"#VALUE!"}},{"$error":"#VALUE!"},{"$f":"SUMIF(資料庫!D:D,庫存計算!C475,資料庫!E:E)","v":0},{"$error":"#VALUE!"}]
[{"$f":"表格2[[#This Row],[貨源]]","v":{"$error":"#VALUE!"}},{"$f":"表格2[[#This Row],[編號]]","v":{"$error":"#VALUE!"}},{"$f":"表格2[[#This Row],[產品]]","v":{"$error":"#VALUE!"}},{"$f":"表格2[[#This Row],[單價]]","v":{"$error":"#VALUE!"}},{"$f":"表格2[[#This Row],[入貨價]]","v":{"$error":"#VALUE!"}},{"$error":"#VALUE!"},{"$f":"SUMIF(資料庫!D:D,庫存計算!C476,資料庫!E:E)","v":0},{"$error":"#VALUE!"}]
[{"$f":"表格2[[#This Row],[貨源]]","v":{"$error":"#VALUE!"}},{"$f":"表格2[[#This Row],[編號]]","v":{"$error":"#VALUE!"}},{"$f":"表格2[[#This Row],[產品]]","v":{"$error":"#VALUE!"}},{"$f":"表格2[[#This Row],[單價]]","v":{"$error":"#VALUE!"}},{"$f":"表格2[[#This Row],[入貨價]]","v":{"$error":"#VALUE!"}},{"$error":"#VALUE!"},{"$f":"SUMIF(資料庫!D:D,庫存計算!C477,資料庫!E:E)","v":0},{"$error":"#VALUE!"}]
[{"$f":"表格2[[#This Row],[貨源]]","v":{"$error":"#VALUE!"}},{"$f":"表格2[[#This Row],[編號]]","v":{"$error":"#VALUE!"}},{"$f":"表格2[[#This Row],[產品]]","v":{"$error":"#VALUE!"}},{"$f":"表格2[[#This Row],[單價]]","v":{"$error":"#VALUE!"}},{"$f":"表格2[[#This Row],[入貨價]]","v":{"$error":"#VALUE!"}},{"$error":"#VALUE!"},{"$f":"SUMIF(資料庫!D:D,庫存計算!C478,資料庫!E:E)","v":0},{"$error":"#VALUE!"}]
[{"$f":"表格2[[#This Row],[貨源]]","v":{"$error":"#VALUE!"}},{"$f":"表格2[[#This Row],[編號]]","v":{"$error":"#VALUE!"}},{"$f":"表格2[[#This Row],[產品]]","v":{"$error":"#VALUE!"}},{"$f":"表格2[[#This Row],[單價]]","v":{"$error":"#VALUE!"}},{"$f":"表格2[[#This Row],[入貨價]]","v":{"$error":"#VALUE!"}},{"$error":"#VALUE!"},{"$f":"SUMIF(資料庫!D:D,庫存計算!C479,資料庫!E:E)","v":0},{"$error":"#VALUE!"}]
[{"$f":"表格2[[#This Row],[貨源]]","v":{"$error":"#VALUE!"}},{"$f":"表格2[[#This Row],[編號]]","v":{"$error":"#VALUE!"}},{"$f":"表格2[[#This Row],[產品]]","v":{"$error":"#VALUE!"}},{"$f":"表格2[[#This Row],[單價]]","v":{"$error":"#VALUE!"}},{"$f":"表格2[[#This Row],[入貨價]]","v":{"$error":"#VALUE!"}},{"$error":"#VALUE!"},{"$f":"SUMIF(資料庫!D:D,庫存計算!C480,資料庫!E:E)","v":0},{"$error":"#VALUE!"}]
[{"$f":"表格2[[#This Row],[貨源]]","v":{"$error":"#VALUE!"}},{"$f":"表格2[[#This Row],[編號]]","v":{"$error":"#VALUE!"}},{"$f":"表格2[[#This Row],[產品]]","v":{"$error":"#VALUE!"}},{"$f":"表格2[[#This Row],[單價]]","v":{"$error":"#VALUE!"}},{"$f":"表格2[[#This Row],[入貨價]]","v":{"$error":"#VALUE!"}},{"$error":"#VALUE!"},{"$f":"SUMIF(資料庫!D:D,庫存計算!C481,資料庫!E:E)","v":0},{"$error":"#VALUE!"}]
[{"$f":"表格2[[#This Row],[貨源]]","v":{"$error":"#VALUE!"}},{"$f":"表格2[[#This Row],[編號]]","v":{"$error":"#VALUE!"}},{"$f":"表格2[[#This Row],[產品]]","v":{"$error":"#VALUE!"}},{"$f":"表格2[[#This Row],[單價]]","v":{"$error":"#VALUE!"}},{"$f":"表格2[[#This Row],[入貨價]]","v":{"$error":"#VALUE!"}},{"$error":"#VALUE!"},{"$f":"SUMIF(資料庫!D:D,庫存計算!C482,資料庫!E:E)","v":0},{"$error":"#VALUE!"}]
[{"$f":"表格2[[#This Row],[貨源]]","v":{"$error":"#VALUE!"}},{"$f":"表格2[[#This Row],[編號]]","v":{"$error":"#VALUE!"}},{"$f":"表格2[[#This Row],[產品]]","v":{"$error":"#VALUE!"}},{"$f":"表格2[[#This Row],[單價]]","v":{"$error":"#VALUE!"}},{"$f":"表格2[[#This Row],[入貨價]]","v":{"$error":"#VALUE!"}},{"$error":"#VALUE!"},{"$f":"SUMIF(資料庫!D:D,庫存計算!C483,資料庫!E:E)","v":0},{"$error":"#VALUE!"}]
[{"$f":"表格2[[#This Row],[貨源]]","v":{"$error":"#VALUE!"}},{"$f":"表格2[[#This Row],[編號]]","v":{"$error":"#VALUE!"}},{"$f":"表格2[[#This Row],[產品]]","v":{"$error":"#VALUE!"}},{"$f":"表格2[[#This Row],[單價]]","v":{"$error":"#VALUE!"}},{"$f":"表格2[[#This Row],[入貨價]]","v":{"$error":"#VALUE!"}},{"$error":"#VALUE!"},{"$f":"SUMIF(資料庫!D:D,庫存計算!C484,資料庫!E:E)","v":0},{"$error":"#VALUE!"}]
[{"$f":"表格2[[#This Row],[貨源]]","v":{"$error":"#VALUE!"}},{"$f":"表格2[[#This Row],[編號]]","v":{"$error":"#VALUE!"}},{"$f":"表格2[[#This Row],[產品]]","v":{"$error":"#VALUE!"}},{"$f":"表格2[[#This Row],[單價]]","v":{"$error":"#VALUE!"}},{"$f":"表格2[[#This Row],[入貨價]]","v":{"$error":"#VALUE!"}},{"$error":"#VALUE!"},{"$f":"SUMIF(資料庫!D:D,庫存計算!C485,資料庫!E:E)","v":0},{"$error":"#VALUE!"}]
[{"$f":"表格2[[#This Row],[貨源]]","v":{"$error":"#VALUE!"}},{"$f":"表格2[[#This Row],[編號]]","v":{"$error":"#VALUE!"}},{"$f":"表格2[[#This Row],[產品]]","v":{"$error":"#VALUE!"}},{"$f":"表格2[[#This Row],[單價]]","v":{"$error":"#VALUE!"}},{"$f":"表格2[[#This Row],[入貨價]]","v":{"$error":"#VALUE!"}},{"$error":"#VALUE!"},{"$f":"SUMIF(資料庫!D:D,庫存計算!C486,資料庫!E:E)","v":0},{"$error":"#VALUE!"}]
[{"$f":"表格2[[#This Row],[貨源]]","v":{"$error":"#VALUE!"}},{"$f":"表格2[[#This Row],[編號]]","v":{"$error":"#VALUE!"}},{"$f":"表格2[[#This Row],[產品]]","v":{"$error":"#VALUE!"}},{"$f":"表格2[[#This Row],[單價]]","v":{"$error":"#VALUE!"}},{"$f":"表格2[[#This Row],[入貨價]]","v":{"$error":"#VALUE!"}},{"$error":"#VALUE!"},{"$f":"SUMIF(資料庫!D:D,庫存計算!C487,資料庫!E:E)","v":0},{"$error":"#VALUE!"}]
[{"$f":"表格2[[#This Row],[貨源]]","v":{"$error":"#VALUE!"}},{"$f":"表格2[[#This Row],[編號]]","v":{"$error":"#VALUE!"}},{"$f":"表格2[[#This Row],[產品]]","v":{"$error":"#VALUE!"}},{"$f":"表格2[[#This Row],[單價]]","v":{"$error":"#VALUE!"}},{"$f":"表格2[[#This Row],[入貨價]]","v":{"$error":"#VALUE!"}},{"$error":"#VALUE!"},{"$f":"SUMIF(資料庫!D:D,庫存計算!C488,資料庫!E:E)","v":0},{"$error":"#VALUE!"}]
[{"$f":"表格2[[#This Row],[貨源]]","v":{"$error":"#VALUE!"}},{"$f":"表格2[[#This Row],[編號]]","v":{"$error":"#VALUE!"}},{"$f":"表格2[[#This Row],[產品]]","v":{"$error":"#VALUE!"}},{"$f":"表格2[[#This Row],[單價]]","v":{"$error":"#VALUE!"}},{"$f":"表格2[[#This Row],[入貨價]]","v":{"$error":"#VALUE!"}},{"$error":"#VALUE!"},{"$f":"SUMIF(資料庫!D:D,庫存計算!C489,資料庫!E:E)","v":0},{"$error":"#VALUE!"}]
[{"$f":"表格2[[#This Row],[貨源]]","v":{"$error":"#VALUE!"}},{"$f":"表格2[[#This Row],[編號]]","v":{"$error":"#VALUE!"}},{"$f":"表格2[[#This Row],[產品]]","v":{"$error":"#VALUE!"}},{"$f":"表格2[[#This Row],[單價]]","v":{"$error":"#VALUE!"}},{"$f":"表格2[[#This Row],[入貨價]]","v":{"$error":"#VALUE!"}},{"$error":"#VALUE!"},{"$f":"SUMIF(資料庫!D:D,庫存計算!C490,資料庫!E:E)","v":0},{"$error":"#VALUE!"}]
[{"$f":"表格2[[#This Row],[貨源]]","v":{"$error":"#VALUE!"}},{"$f":"表格2[[#This Row],[編號]]","v":{"$error":"#VALUE!"}},{"$f":"表格2[[#This Row],[產品]]","v":{"$error":"#VALUE!"}},{"$f":"表格2[[#This Row],[單價]]","v":{"$error":"#VALUE!"}},{"$f":"表格2[[#This Row],[入貨價]]","v":{"$error":"#VALUE!"}},{"$error":"#VALUE!"},{"$f":"SUMIF(資料庫!D:D,庫存計算!C491,資料庫!E:E)","v":0},{"$error":"#VALUE!"}]
[{"$f":"表格2[[#This Row],[貨源]]","v":{"$error":"#VALUE!"}},{"$f":"表格2[[#This Row],[編號]]","v":{"$error":"#VALUE!"}},{"$f":"表格2[[#This Row],[產品]]","v":{"$error":"#VALUE!"}},{"$f":"表格2[[#This Row],[單價]]","v":{"$error":"#VALUE!"}},{"$f":"表格2[[#This Row],[入貨價]]","v":{"$error":"#VALUE!"}},{"$error":"#VALUE!"},{"$f":"SUMIF(資料庫!D:D,庫存計算!C492,資料庫!E:E)","v":0},{"$error":"#VALUE!"}]
[{"$f":"表格2[[#This Row],[貨源]]","v":{"$error":"#VALUE!"}},{"$f":"表格2[[#This Row],[編號]]","v":{"$error":"#VALUE!"}},{"$f":"表格2[[#This Row],[產品]]","v":{"$error":"#VALUE!"}},{"$f":"表格2[[#This Row],[單價]]","v":{"$error":"#VALUE!"}},{"$f":"表格2[[#This Row],[入貨價]]","v":{"$error":"#VALUE!"}},{"$error":"#VALUE!"},{"$f":"SUMIF(資料庫!D:D,庫存計算!C493,資料庫!E:E)","v":0},{"$error":"#VALUE!"}]
[{"$f":"表格2[[#This Row],[貨源]]","v":{"$error":"#VALUE!"}},{"$f":"表格2[[#This Row],[編號]]","v":{"$error":"#VALUE!"}},{"$f":"表格2[[#This Row],[產品]]","v":{"$error":"#VALUE!"}},{"$f":"表格2[[#This Row],[單價]]","v":{"$error":"#VALUE!"}},{"$f":"表格2[[#This Row],[入貨價]]","v":{"$error":"#VALUE!"}},{"$error":"#VALUE!"},{"$f":"SUMIF(資料庫!D:D,庫存計算!C494,資料庫!E:E)","v":0},{"$error":"#VALUE!"}]
[{"$f":"表格2[[#This Row],[貨源]]","v":{"$error":"#VALUE!"}},{"$f":"表格2[[#This Row],[編號]]","v":{"$error":"#VALUE!"}},{"$f":"表格2[[#This Row],[產品]]","v":{"$error":"#VALUE!"}},{"$f":"表格2[[#This Row],[單價]]","v":{"$error":"#VALUE!"}},{"$f":"表格2[[#This Row],[入貨價]]","v":{"$error":"#VALUE!"}},{"$error":"#VALUE!"},{"$f":"SUMIF(資料庫!D:D,庫存計算!C495,資料庫!E:E)","v":0},{"$error":"#VALUE!"}]
[{"$f":"表格2[[#This Row],[貨源]]","v":{"$error":"#VALUE!"}},{"$f":"表格2[[#This Row],[編號]]","v":{"$error":"#VALUE!"}},{"$f":"表格2[[#This Row],[產品]]","v":{"$error":"#VALUE!"}},{"$f":"表格2[[#This Row],[單價]]","v":{"$error":"#VALUE!"}},{"$f":"表格2[[#This Row],[入貨價]]","v":{"$error":"#VALUE!"}},{"$error":"#VALUE!"},{"$f":"SUMIF(資料庫!D:D,庫存計算!C496,資料庫!E:E)","v":0},{"$error":"#VALUE!"}]
[{"$f":"表格2[[#This Row],[貨源]]","v":{"$error":"#VALUE!"}},{"$f":"表格2[[#This Row],[編號]]","v":{"$error":"#VALUE!"}},{"$f":"表格2[[#This Row],[產品]]","v":{"$error":"#VALUE!"}},{"$f":"表格2[[#This Row],[單價]]","v":{"$error":"#VALUE!"}},{"$f":"表格2[[#This Row],[入貨價]]","v":{"$error":"#VALUE!"}},{"$error":"#VALUE!"},{"$f":"SUMIF(資料庫!D:D,庫存計算!C497,資料庫!E:E)","v":0},{"$error":"#VALUE!"}]
[{"$f":"表格2[[#This Row],[貨源]]","v":{"$error":"#VALUE!"}},{"$f":"表格2[[#This Row],[編號]]","v":{"$error":"#VALUE!"}},{"$f":"表格2[[#This Row],[產品]]","v":{"$error":"#VALUE!"}},{"$f":"表格2[[#This Row],[單價]]","v":{"$error":"#VALUE!"}},{"$f":"表格2[[#This Row],[入貨價]]","v":{"$error":"#VALUE!"}},{"$error":"#VALUE!"},{"$f":"SUMIF(資料庫!D:D,庫存計算!C498,資料庫!E:E)","v":0},{"$error":"#VALUE!"}]
[{"$f":"表格2[[#This Row],[貨源]]","v":{"$error":"#VALUE!"}},{"$f":"表格2[[#This Row],[編號]]","v":{"$error":"#VALUE!"}},{"$f":"表格2[[#This Row],[產品]]","v":{"$error":"#VALUE!"}},{"$f":"表格2[[#This Row],[單價]]","v":{"$error":"#VALUE!"}},{"$f":"表格2[[#This Row],[入貨價]]","v":{"$error":"#VALUE!"}},{"$error":"#VALUE!"},{"$f":"SUMIF(資料庫!D:D,庫存計算!C499,資料庫!E:E)","v":0},{"$error":"#VALUE!"}]
[{"$f":"表格2[[#This Row],[貨源]]","v":{"$error":"#VALUE!"}},{"$f":"表格2[[#This Row],[編號]]","v":{"$error":"#VALUE!"}},{"$f":"表格2[[#This Row],[產品]]","v":{"$error":"#VALUE!"}},{"$f":"表格2[[#This Row],[單價]]","v":{"$error":"#VALUE!"}},{"$f":"表格2[[#This Row],[入貨價]]","v":{"$error":"#VALUE!"}},{"$error":"#VALUE!"},{"$f":"SUMIF(資料庫!D:D,庫存計算!C500,資料庫!E:E)","v":0},{"$error":"#VALUE!"}]
[{"$f":"表格2[[#This Row],[貨源]]","v":{"$error":"#VALUE!"}},{"$f":"表格2[[#This Row],[編號]]","v":{"$error":"#VALUE!"}},{"$f":"表格2[[#This Row],[產品]]","v":{"$error":"#VALUE!"}},{"$f":"表格2[[#This Row],[單價]]","v":{"$error":"#VALUE!"}},{"$f":"表格2[[#This Row],[入貨價]]","v":{"$error":"#VALUE!"}},{"$error":"#VALUE!"},{"$f":"SUMIF(資料庫!D:D,庫存計算!C501,資料庫!E:E)","v":0},{"$error":"#VALUE!"}]
[{"$f":"表格2[[#This Row],[貨源]]","v":{"$error":"#VALUE!"}},{"$f":"表格2[[#This Row],[編號]]","v":{"$error":"#VALUE!"}},{"$f":"表格2[[#This Row],[產品]]","v":{"$error":"#VALUE!"}},{"$f":"表格2[[#This Row],[單價]]","v":{"$error":"#VALUE!"}},{"$f":"表格2[[#This Row],[入貨價]]","v":{"$error":"#VALUE!"}},{"$error":"#VALUE!"},{"$f":"SUMIF(資料庫!D:D,庫存計算!C502,資料庫!E:E)","v":0},{"$error":"#VALUE!"}]
[{"$f":"表格2[[#This Row],[貨源]]","v":{"$error":"#VALUE!"}},{"$f":"表格2[[#This Row],[編號]]","v":{"$error":"#VALUE!"}},{"$f":"表格2[[#This Row],[產品]]","v":{"$error":"#VALUE!"}},{"$f":"表格2[[#This Row],[單價]]","v":{"$error":"#VALUE!"}},{"$f":"表格2[[#This Row],[入貨價]]","v":{"$error":"#VALUE!"}},{"$error":"#VALUE!"},{"$f":"SUMIF(資料庫!D:D,庫存計算!C503,資料庫!E:E)","v":0},{"$error":"#VALUE!"}]
[{"$f":"表格2[[#This Row],[貨源]]","v":{"$error":"#VALUE!"}},{"$f":"表格2[[#This Row],[編號]]","v":{"$error":"#VALUE!"}},{"$f":"表格2[[#This Row],[產品]]","v":{"$error":"#VALUE!"}},{"$f":"表格2[[#This Row],[單價]]","v":{"$error":"#VALUE!"}},{"$f":"表格2[[#This Row],[入貨價]]","v":{"$error":"#VALUE!"}},{"$error":"#VALUE!"},{"$f":"SUMIF(資料庫!D:D,庫存計算!C504,資料庫!E:E)","v":0},{"$error":"#VALUE!"}]
[{"$f":"表格2[[#This Row],[貨源]]","v":{"$error":"#VALUE!"}},null,{"$f":"表格2[[#This Row],[產品]]","v":{"$error":"#VALUE!"}},{"$f":"表格2[[#This Row],[單價]]","v":{"$error":"#VALUE!"}},{"$f":"表格2[[#This Row],[入貨價]]","v":{"$error":"#VALUE!"}},{"$error":"#VALUE!"},{"$f":"SUMIF(資料庫!D:D,庫存計算!C505,資料庫!E:E)","v":0},{"$error":"#VALUE!"}]
[{"$f":"表格2[[#This Row],[貨源]]","v":{"$error":"#VALUE!"}},null,{"$f":"表格2[[#This Row],[產品]]","v":{"$error":"#VALUE!"}},{"$f":"表格2[[#This Row],[單價]]","v":{"$error":"#VALUE!"}},{"$f":"表格2[[#This Row],[入貨價]]","v":{"$error":"#VALUE!"}},{"$error":"#VALUE!"},{"$f":"SUMIF(資料庫!D:D,庫存計算!C506,資料庫!E:E)","v":0},{"$error":"#VALUE!"}]
[{"$f":"表格2[[#This Row],[貨源]]","v":{"$error":"#VALUE!"}},null,{"$f":"表格2[[#This Row],[產品]]","v":{"$error":"#VALUE!"}},{"$f":"表格2[[#This Row],[單價]]","v":{"$error":"#VALUE!"}},{"$f":"表格2[[#This Row],[入貨價]]","v":{"$error":"#VALUE!"}},{"$f":"E507/4","v":{"$error":"#VALUE!"}},{"$f":"SUMIF(資料庫!D:D,庫存計算!C507,資料庫!E:E)","v":0},{"$error":"#VALUE!"}]
[{"$f":"表格2[[#This Row],[貨源]]","v":{"$error":"#VALUE!"}},null,{"$f":"表格2[[#This Row],[產品]]","v":{"$error":"#VALUE!"}},{"$f":"表格2[[#This Row],[單價]]","v":{"$error":"#VALUE!"}},{"$f":"表格2[[#This Row],[入貨價]]","v":{"$error":"#VALUE!"}},{"$error":"#VALUE!"},{"$f":"SUMIF(資料庫!D:D,庫存計算!C508,資料庫!E:E)","v":0},{"$error":"#VALUE!"}]
[{"$f":"表格2[[#This Row],[貨源]]","v":{"$error":"#VALUE!"}},null,{"$f":"表格2[[#This Row],[產品]]","v":{"$error":"#VALUE!"}},{"$f":"表格2[[#This Row],[單價]]","v":{"$error":"#VALUE!"}},{"$f":"表格2[[#This Row],[入貨價]]","v":{"$error":"#VALUE!"}},{"$error":"#VALUE!"},{"$f":"SUMIF(資料庫!D:D,庫存計算!C509,資料庫!E:E)","v":0},{"$error":"#VALUE!"}]
[{"$f":"表格2[[#This Row],[貨源]]","v":{"$error":"#VALUE!"}},null,{"$f":"表格2[[#This Row],[產品]]","v":{"$error":"#VALUE!"}},{"$f":"表格2[[#This Row],[單價]]","v":{"$error":"#VALUE!"}},{"$f":"表格2[[#This Row],[入貨價]]","v":{"$error":"#VALUE!"}},{"$error":"#VALUE!"},{"$f":"SUMIF(資料庫!D:D,庫存計算!C510,資料庫!E:E)","v":0},{"$error":"#VALUE!"}]
[{"$f":"表格2[[#This Row],[貨源]]","v":{"$error":"#VALUE!"}},null,{"$f":"表格2[[#This Row],[產品]]","v":{"$error":"#VALUE!"}},{"$f":"表格2[[#This Row],[單價]]","v":{"$error":"#VALUE!"}},{"$f":"表格2[[#This Row],[入貨價]]","v":{"$error":"#VALUE!"}},{"$error":"#VALUE!"},{"$f":"SUMIF(資料庫!D:D,庫存計算!C511,資料庫!E:E)","v":0},{"$error":"#VALUE!"}]
[{"$f":"表格2[[#This Row],[貨源]]","v":{"$error":"#VALUE!"}},null,{"$f":"表格2[[#This Row],[產品]]","v":{"$error":"#VALUE!"}},{"$f":"表格2[[#This Row],[單價]]","v":{"$error":"#VALUE!"}},{"$f":"表格2[[#This Row],[入貨價]]","v":{"$error":"#VALUE!"}},{"$error":"#VALUE!"},{"$f":"SUMIF(資料庫!D:D,庫存計算!C512,資料庫!E:E)","v":0},{"$error":"#VALUE!"}]
[{"$f":"表格2[[#This Row],[貨源]]","v":{"$error":"#VALUE!"}},null,{"$f":"表格2[[#This Row],[產品]]","v":{"$error":"#VALUE!"}},{"$f":"表格2[[#This Row],[單價]]","v":{"$error":"#VALUE!"}},{"$f":"表格2[[#This Row],[入貨價]]","v":{"$error":"#VALUE!"}},{"$error":"#VALUE!"},{"$f":"SUMIF(資料庫!D:D,庫存計算!C513,資料庫!E:E)","v":0},{"$error":"#VALUE!"}]
[{"$f":"表格2[[#This Row],[貨源]]","v":{"$error":"#VALUE!"}},null,{"$f":"表格2[[#This Row],[產品]]","v":{"$error":"#VALUE!"}},{"$f":"表格2[[#This Row],[單價]]","v":{"$error":"#VALUE!"}},{"$f":"表格2[[#This Row],[入貨價]]","v":{"$error":"#VALUE!"}},{"$error":"#VALUE!"},{"$f":"SUMIF(資料庫!D:D,庫存計算!C514,資料庫!E:E)","v":0},{"$error":"#VALUE!"}]
[{"$f":"表格2[[#This Row],[貨源]]","v":{"$error":"#VALUE!"}},null,{"$f":"表格2[[#This Row],[產品]]","v":{"$error":"#VALUE!"}},{"$f":"表格2[[#This Row],[單價]]","v":{"$error":"#VALUE!"}},{"$f":"表格2[[#This Row],[入貨價]]","v":{"$error":"#VALUE!"}},{"$error":"#VALUE!"},{"$f":"SUMIF(資料庫!D:D,庫存計算!C515,資料庫!E:E)","v":0},{"$error":"#VALUE!"}]
[{"$f":"表格2[[#This Row],[貨源]]","v":{"$error":"#VALUE!"}},null,{"$f":"表格2[[#This Row],[產品]]","v":{"$error":"#VALUE!"}},{"$f":"表格2[[#This Row],[單價]]","v":{"$error":"#VALUE!"}},{"$f":"表格2[[#This Row],[入貨價]]","v":{"$error":"#VALUE!"}},{"$error":"#VALUE!"},{"$f":"SUMIF(資料庫!D:D,庫存計算!C516,資料庫!E:E)","v":0},{"$f":"(D516-F516)*G516","v":{"$error":"#VALUE!"}}]
[{"$f":"表格2[[#This Row],[貨源]]","v":{"$error":"#VALUE!"}},null,{"$f":"表格2[[#This Row],[產品]]","v":{"$error":"#VALUE!"}},{"$f":"表格2[[#This Row],[單價]]","v":{"$error":"#VALUE!"}},{"$f":"表格2[[#This Row],[入貨價]]","v":{"$error":"#VALUE!"}},{"$error":"#VALUE!"},{"$f":"SUMIF(資料庫!D:D,庫存計算!C517,資料庫!E:E)","v":0},{"$error":"#VALUE!"}]
[{"$f":"表格2[[#This Row],[貨源]]","v":{"$error":"#VALUE!"}},null,{"$f":"表格2[[#This Row],[產品]]","v":{"$error":"#VALUE!"}},{"$f":"表格2[[#This Row],[單價]]","v":{"$error":"#VALUE!"}},{"$f":"表格2[[#This Row],[入貨價]]","v":{"$error":"#VALUE!"}},{"$error":"#VALUE!"},{"$f":"SUMIF(資料庫!D:D,庫存計算!C518,資料庫!E:E)","v":0},{"$error":"#VALUE!"}]
[{"$f":"表格2[[#This Row],[貨源]]","v":{"$error":"#VALUE!"}},null,{"$f":"表格2[[#This Row],[產品]]","v":{"$error":"#VALUE!"}},{"$f":"表格2[[#This Row],[單價]]","v":{"$error":"#VALUE!"}},{"$f":"表格2[[#This Row],[入貨價]]","v":{"$error":"#VALUE!"}},{"$error":"#VALUE!"},{"$f":"SUMIF(資料庫!D:D,庫存計算!C519,資料庫!E:E)","v":0},{"$error":"#VALUE!"}]
[{"$f":"表格2[[#This Row],[貨源]]","v":{"$error":"#VALUE!"}},null,{"$f":"表格2[[#This Row],[產品]]","v":{"$error":"#VALUE!"}},{"$f":"表格2[[#This Row],[單價]]","v":{"$error":"#VALUE!"}},{"$f":"表格2[[#This Row],[入貨價]]","v":{"$error":"#VALUE!"}},{"$error":"#VALUE!"},{"$f":"SUMIF(資料庫!D:D,庫存計算!C520,資料庫!E:E)","v":0},{"$error":"#VALUE!"}]
[{"$f":"表格2[[#This Row],[貨源]]","v":{"$error":"#VALUE!"}},null,{"$f":"表格2[[#This Row],[產品]]","v":{"$error":"#VALUE!"}},{"$f":"表格2[[#This Row],[單價]]","v":{"$error":"#VALUE!"}},{"$f":"表格2[[#This Row],[入貨價]]","v":{"$error":"#VALUE!"}},{"$error":"#VALUE!"},{"$f":"SUMIF(資料庫!D:D,庫存計算!C521,資料庫!E:E)","v":0},{"$error":"#VALUE!"}]
[{"$f":"表格2[[#This Row],[貨源]]","v":{"$error":"#VALUE!"}},null,{"$f":"表格2[[#This Row],[產品]]","v":{"$error":"#VALUE!"}},{"$f":"表格2[[#This Row],[單價]]","v":{"$error":"#VALUE!"}},{"$f":"表格2[[#This Row],[入貨價]]","v":{"$error":"#VALUE!"}},{"$error":"#VALUE!"},{"$f":"SUMIF(資料庫!D:D,庫存計算!C522,資料庫!E:E)","v":0},{"$error":"#VALUE!"}]
[{"$f":"表格2[[#This Row],[貨源]]","v":{"$error":"#VALUE!"}},null,{"$f":"表格2[[#This Row],[產品]]","v":{"$error":"#VALUE!"}},{"$f":"表格2[[#This Row],[單價]]","v":{"$error":"#VALUE!"}},{"$f":"表格2[[#This Row],[入貨價]]","v":{"$error":"#VALUE!"}},{"$error":"#VALUE!"},{"$f":"SUMIF(資料庫!D:D,庫存計算!C523,資料庫!E:E)","v":0},{"$error":"#VALUE!"}]
[{"$f":"表格2[[#This Row],[貨源]]","v":{"$error":"#VALUE!"}},null,{"$f":"表格2[[#This Row],[產品]]","v":{"$error":"#VALUE!"}},{"$f":"表格2[[#This Row],[單價]]","v":{"$error":"#VALUE!"}},{"$f":"表格2[[#This Row],[入貨價]]","v":{"$error":"#VALUE!"}},{"$error":"#VALUE!"},{"$f":"SUMIF(資料庫!D:D,庫存計算!C524,資料庫!E:E)","v":0},{"$error":"#VALUE!"}]
[{"$f":"表格2[[#This Row],[貨源]]","v":{"$error":"#VALUE!"}},null,{"$f":"表格2[[#This Row],[產品]]","v":{"$error":"#VALUE!"}},{"$f":"表格2[[#This Row],[單價]]","v":{"$error":"#VALUE!"}},{"$f":"表格2[[#This Row],[入貨價]]","v":{"$error":"#VALUE!"}},{"$error":"#VALUE!"},{"$f":"SUMIF(資料庫!D:D,庫存計算!C525,資料庫!E:E)","v":0},{"$error":"#VALUE!"}]
[{"$f":"表格2[[#This Row],[貨源]]","v":{"$error":"#VALUE!"}},null,{"$f":"表格2[[#This Row],[產品]]","v":{"$error":"#VALUE!"}},{"$f":"表格2[[#This Row],[單價]]","v":{"$error":"#VALUE!"}},{"$f":"表格2[[#This Row],[入貨價]]","v":{"$error":"#VALUE!"}},{"$f":"E526/4","v":{"$error":"#VALUE!"}},{"$f":"SUMIF(資料庫!D:D,庫存計算!C526,資料庫!E:E)","v":0},{"$error":"#VALUE!"}]

{"sheet":"SIMBA LIST","index":10,"n_rows":239,"n_cols":4,"rows_kept":239,"cut":false,"hidden":false,"merged":[]}
["編號","產品","入貨價"]
["S1213","-小獅王-拋棄式雙層奶粉袋(12入)-",63]
["S1214","-小獅王-溜滑梯專利衛生奶粉盒(菈藍)-",138,100]
["S1215","-小獅王-溜滑梯專利衛生奶粉盒(貝粉)-",138]
["S1218G","-小獅王-母乳儲存袋150ml(60入)-粉色-",195]
["S1219G","-小獅王-母乳儲存袋200ml(60入)-藍色(綠色)-",195]
["S1220G","-小獅王-母乳儲存袋250ml(60入)-紫色-",195]
["S1221F","奶粉盒-小獅王-神奇定量奶粉罐-氣泡水(藍)-",177]
["S1221G","奶粉盒-小獅王-神奇定量奶粉罐-酪梨(綠)-",177]
["S1221H","奶粉盒-小獅王-神奇定量奶粉罐-無花果(粉)-",177]
["S1221K","奶粉盒-小獅王-神奇定量奶粉罐-肉桂捲(米)-",177]
["S1332","-小獅王-不倒翁牙刷(綠)-",49]
["S1332-1","-小獅王-不倒翁牙刷(橘)-",49]
["S1341-0","-小獅王-矽膠練習牙刷(天空藍)-",83]
["S1341-1","-小獅王-矽膠練習牙刷(淘氣綠)-",83]
["S1341-2","-小獅王-矽膠練習牙刷(溫暖橘)-",83]
["S1464F","奶樽刷-小獅王-超柔無垢白金矽膠旋轉奶瓶刷(小樹)-綠-",174]
["S1464G","奶樽刷-小獅王-超柔無垢白金矽膠旋轉奶瓶刷(小麥)-米-",174]
["S1464H","奶樽刷-小獅王-超柔無垢白金矽膠旋轉奶瓶刷(小櫻)-紅-",174]
["S1464K","奶樽刷-小獅王-超柔無垢白金矽膠旋轉奶瓶刷(小石)-灰-",174]
["S1465F","奶樽刷-小獅王-超柔無垢白金矽膠奶瓶刷(小樹)-綠-",170]
["S1465G","奶樽刷-小獅王-超柔無垢白金矽膠奶瓶刷(小麥)-米-",170]
["S1465H","奶樽刷-小獅王-超柔無垢白金矽膠奶瓶刷(小櫻)-紅-",170]
["S1465K","奶樽刷-小獅王-超柔無垢白金矽膠奶瓶刷(小石)-灰-",170]
["S1466F","奶嘴刷-小獅王-超柔無垢白金矽膠奶嘴刷(小樹)-綠-",107]
["S1466G","奶嘴刷-小獅王-超柔無垢白金矽膠奶嘴刷(小麥)-米-",107]
["S1466H","奶嘴刷-小獅王-超柔無垢白金矽膠奶嘴刷(小櫻)-紅-",107]
["S1466K","奶嘴刷-小獅王-超柔無垢白金矽膠奶嘴刷(小石)-灰-",107]
["S1737","-小獅王-嬰兒剪刀-",49]
["S1738","-小獅王-放大鏡嬰兒剪刀(曲面)-",63]
["S1745","-小獅王-辛巴指甲剪-",58]
["S1751","-小獅王-蘿蔓夜光奶嘴帶-天藍(香草)-",81]
["S1752","-小獅王-蘿蔓夜光奶嘴帶-粉紅(玫瑰)-",81]
["S1753","-小獅王-蘿蔓夜光奶嘴帶-咖啡(豔陽)-",81]
["S1754","-小獅王-桃樂絲夜光奶嘴帶-藍(許願精靈)-",81]
["S1755","-小獅王-桃樂絲夜光奶嘴帶-粉(美夢成真)-",81]
["S1760","奶嘴鍊-小獅王-辛巴防塵奶嘴鍊-經典(橘色)-",85]
["S1761","奶嘴鍊-小獅王-辛巴防塵奶嘴鍊-香草(藍色)-",85]
["S1762","奶嘴鍊-小獅王-辛巴防塵奶嘴鍊-莓果(粉紅)-",85]
["S1763","奶嘴鍊-小獅王-辛巴防塵奶嘴鍊-焦糖(咖啡)-",85]
["S18110","安撫奶嘴-小獅王-蘿蔓拇指安撫奶嘴-初生(天藍)(香草)-",70]
["S18111","安撫奶嘴-小獅王-蘿蔓拇指安撫奶嘴-較大(天藍)(香草)-",70]
["S18120","安撫奶嘴-小獅王-蘿蔓拇指安撫奶嘴-初生(粉紅)(玫瑰)-",70]
["S18121","安撫奶嘴-小獅王-蘿蔓拇指安撫奶嘴-較大(粉紅)(玫瑰)-",70]
["S18130","安撫奶嘴-小獅王-蘿蔓拇指安撫奶嘴-初生(咖啡)(豔陽)-",70]
["S18131","安撫奶嘴-小獅王-蘿蔓拇指安撫奶嘴-較大(咖啡)(豔陽)-",70]
["S19010","安撫奶嘴-小獅王-小辛巴拇指安撫奶嘴(初生)-",70]
["S19011","安撫奶嘴-小獅王-小辛巴拇指安撫奶嘴(較大)-",70]
["S2242","-小獅王-奶瓶蔬果洗潔液800ml組合包(一組2入)-",299]
["S2244","-小獅王-高分解酵素奶瓶清潔劑800ml-",220]
["S2245","-小獅王-高分解酵素奶瓶清潔劑800ml組合包(2入)-",410]
["S3334","-小獅王-啵啵軟質湯匙(藍洋洋)-2入-",54]
["S3335","-小獅王-啵啵軟質湯匙(啵啵粉)-2入-",54]
["S3351","-小獅王-美味漢堡碗-樂活海洋堡(藍色)-",134]
["S3352","-小獅王-美味漢堡碗-青檸桔事堡(綠色)-",134]
["S3354","-小獅王-美味漢堡碗-粉紅甜心堡(粉紅色)-",134]
["S3355","-小獅王-美味漢堡碗-花生好事堡(咖啡色)-",134]
["S3385","-小獅王-美味兒童叉匙組-焦糖(咖啡)-",58]
["S3391","-小獅王-美味軟糖湯匙組-香草(藍色)-",81]
["S3394","-小獅王-美味軟糖湯匙組-莓果(粉色)-",81]
["S3395","-小獅王-美味軟糖湯匙組-焦糖(咖啡)-",81]
["S5334","-小獅王-透氣棉開襟包屁衣70cm(短袖)-阜灰-",""]
["S606F","-UDI  H1智能高效蒸氣烘乾消毒鍋(苜白)-",3060]
["S606G","-UDI H1智能高效蒸氣烘乾消毒鍋(栗粉)-",3060]
["S606H","-UDI H1智能高效蒸氣烘乾消毒鍋(杏茶)-",3060]
["S8670","-小獅王-好樂飲防漏滑蓋替換吸管組(2入)-",107]
["S8671","好樂飲-小獅王-好樂飲PPSU防漏滑蓋學習水杯250ml(可可杏)-",441]
["S8672","好樂飲-小獅王-好樂飲PPSU防漏滑蓋學習水杯250ml(悠悠粉)-",441]
["S8673","好樂飲-小獅王-好樂飲PPSU防漏滑蓋學習水杯250ml(安安藍)-",441]
["S9535-5","-小獅王-吸乳器(矽膠軟墊)-",200]
["S9554","-小獅王-iFeed極美機超靜音電動吸乳器-",2950]
["S9554-1","-小獅王-iFeed極美機電動吸乳器(吸乳喇叭罩)-",200]
["S9733","-小獅王-長效薰衣草精油防蚊貼-恐龍圖鑑(16枚)-",72]
["S9734","-小獅王-長效薰衣草精油防蚊貼-恐龍圖鑑(32枚)-",125]
["S9817","-小獅王-嬰兒防滑浴盆(凱特藍)-",480]
["S9818","-小獅王-嬰兒防滑浴盆(麗芙粉)-",480]
["S9819","-小獅王-可調式沐浴網-",245]
["S9931-B","-小獅王-嬰兒乾溼兩用巾(80抽)藍色包裝-",63]
["S9931-P","-小獅王-嬰兒乾溼兩用巾(80抽)粉色包裝-",63]
["S9952","-小獅王-智能六段式定溫調乳器(S5 PRO)-",3850]
["S9978","-小獅王-薰衣草精油防蚊液組(噴霧型)-",214]
["S9979","-小獅王-薰衣草精油防蚊液(噴霧型)60ml-",116]
["S9987","-小獅王-長效檸檬草精油防蚊貼(16枚)-",72]
["S9988","-小獅王-長效檸檬草精油防蚊貼(32枚)-",125]
["sample004001","-小獅王-超柔無垢白金矽膠旋轉奶瓶刷(小麥)-米 (樣品)-",""]
["sample004002","-小獅王-超柔無垢白金矽膠奶瓶刷(小石)-灰 (樣品)-",""]
["sample004003","-小獅王-智能六段式定溫調乳器(S5 PRO)-",""]
["sample004004","-小獅王-UDI H1智能高效蒸氣烘乾消毒鍋(杏茶)-",""]
["sample004005","-小獅王-短袖80-",""]
["sample004006","-小獅王-無袖80-",""]
["sample004007","-小獅王-短袖70-",""]
["sample004008","-小獅王-短袖60-",""]
["sample004009","-小獅王-無袖70-",""]
["sample004010","-小獅王-長袖60-",""]
["SW1351","-小獅王-辛巴 Pointy 嬰兒口腔清潔指套 (100入)-",201]
["SW1467","-小獅王-超柔無垢海綿快拆旋轉奶瓶刷-",146]
["SW1468","-小獅王-超柔無垢海綿旋轉奶瓶刷-",128]
["SW1469","-小獅王-超柔無垢海綿奶嘴刷(2入)-",88]
["SW1470","-小獅王-超柔無垢海綿快拆旋轉奶瓶刷替換刷頭(1入)-",41]
["SW1471","-小獅王-超柔無垢海綿旋轉奶瓶刷替換包(2入)-",47]
["SW1472","-小獅王-超柔無垢海綿奶嘴刷替換包(3入)-",30]
["SW1473","-小獅王-超柔無垢海綿旋轉奶瓶刷組-",128]
["SW1660","-小獅王-平安御守香火袋-恐龍樂園(藍)-",112]
["SW1661","-小獅王-平安御守香火袋-蜜桃菠菠(粉)-",112]
["SW1662","-小獅王-平安御守香火袋-小鳥星球(綠)-",112]
["SW1663","-小獅王-平安御守香火袋-奶油字母(杏)-",112]
["SW1710","-小獅王-蘊蜜夜光奶嘴帶-晨藍-",81]
["SW1711","-小獅王-蘊蜜夜光奶嘴帶-栗粉-",81]
["SW1712","-小獅王-蘊蜜夜光奶嘴帶-杏茶-",81]
["SW1714","-小獅王-蘊蜜夜光奶嘴帶-綠沐-",81]
["SW1720","-小獅王-蘊蜜萬用防掉雙頭夾(晨藍)-",98]
["SW1721","-小獅王-蘊蜜萬用防掉雙頭夾(栗粉)-",98]
["SW1722","-小獅王-蘊蜜萬用防掉雙頭夾(杏茶)-",98]
["SW1723","-小獅王-蘊蜜萬用防掉雙頭夾(紫芙)-",98]
["SW1724","-小獅王-蘊蜜萬用防掉雙頭夾(綠沐)-",98]
["SW1910","安撫奶嘴-小獅王-蘊蜜超柔拇指安撫奶嘴(晨藍)-初生-",74]
["SW1911","安撫奶嘴-小獅王-蘊蜜超柔拇指安撫奶嘴(栗粉)-初生-",74]
["SW1912","安撫奶嘴-小獅王-蘊蜜超柔拇指安撫奶嘴(杏茶)-初生-",74]
["SW1914","安撫奶嘴-小獅王-蘊蜜超柔拇指安撫奶嘴(綠沐)-初生-",74]
["SW1920","安撫奶嘴-小獅王-蘊蜜超柔拇指安撫奶嘴(晨藍)-較大-",74]
["SW1921","安撫奶嘴-小獅王-蘊蜜超柔拇指安撫奶嘴(栗粉)-較大-",74]
["SW1922","安撫奶嘴-小獅王-蘊蜜超柔拇指安撫奶嘴(杏茶)-較大-",74]
["SW1924","安撫奶嘴-小獅王-蘊蜜超柔拇指安撫奶嘴(綠沐)-較大-",74]
["SW1930","安撫奶嘴-小獅王-蘊蜜超柔拇指安撫奶嘴(晨藍)-耐咬較大型-",74]
["SW1931","安撫奶嘴-小獅王-蘊蜜超柔拇指安撫奶嘴(栗粉)-耐咬較大型-",74]
["SW1932","安撫奶嘴-小獅王-蘊蜜超柔拇指安撫奶嘴(杏茶)-耐咬較大型-",74]
["SW1934","安撫奶嘴-小獅王-蘊蜜超柔拇指安撫奶嘴(綠沐)-耐咬較大型-",74]
["SW3420","食物剪刀-小獅王-嬰兒食物金剛剪(晨藍)-",170]
["SW3421","食物剪刀-小獅王-嬰兒食物金剛剪(栗粉)-",170]
["SW3422","食物剪刀-小獅王-嬰兒食物金剛剪(杏茶)-",170]
["SW3430","-小獅王-美味軟質湯匙(晨藍)-",67]
["SW3431","-小獅王-美味軟質湯匙(栗粉)-",67]
["SW3432","-小獅王-美味軟質湯匙(杏茶)-",67]
["SW3440","-小獅王-美味曲奇吸盤碗-晨藍-",170]
["SW3441","-小獅王-美味曲奇吸盤碗-栗粉-",170]
["SW3442","-小獅王-美味曲奇吸盤碗-杏茶-",170]
["SW3450","-小獅王-美味漢堡吸盤碗-晨藍-",161]
["SW3451","-小獅王-美味漢堡吸盤碗-栗粉-",161]
["SW3452","-小獅王-美味漢堡吸盤碗-杏茶-",161]
["SW3470","-小獅王-美味學習叉匙組-晨藍-",54]
["SW3471","-小獅王-美味學習叉匙組-栗粉-",54]
["SW3472","-小獅王-美味學習叉匙組-杏茶-",54]
["SW3480","-小獅王-美味兒童叉匙組-晨藍-",81]
["SW3481","-小獅王-美味兒童叉匙組-栗粉 -",81]
["SW3482","-小獅王-美味兒童叉匙組-杏茶-",81]
["SW3490","-小獅王-美味軟糖湯匙組-晨藍-",98]
["SW3491","-小獅王-美味軟糖湯匙組-栗粉-",98]
["SW3492","-小獅王-美味軟糖湯匙組-杏茶-",98]
["SW6120","PPSU 普通奶樽-小獅王-蘊蜜鉑金PPSU寬口防脹氣奶瓶200ml(晨藍)-圓S",267]
["SW6121","PPSU 普通奶樽-小獅王-蘊蜜鉑金PPSU寬口防脹氣奶瓶200ml(栗粉)-圓S",267]
["SW6122","PPSU 普通奶樽-小獅王-蘊蜜鉑金PPSU寬口防脹氣奶瓶200ml(杏茶)-圓S",267]
["SW6123","PPSU 普通奶樽-小獅王-蘊蜜鉑金PPSU寬口防脹氣奶瓶200ml(紫芙)-圓S",267]
["SW6124","PPSU 普通奶樽-小獅王-蘊蜜鉑金PPSU寬口防脹氣奶瓶200ml(綠沐)-圓S",267]
["SW6130","PPSU 普通奶樽-小獅王-蘊蜜鉑金PPSU寬口防脹氣奶瓶270ml(晨藍)-十字M",290]
["SW6131","PPSU 普通奶樽-小獅王-蘊蜜鉑金PPSU寬口防脹氣奶瓶270ml(栗粉)-十字M",290]
["SW6132","PPSU 普通奶樽-小獅王-蘊蜜鉑金PPSU寬口防脹氣奶瓶270ml(杏茶)-十字M",290]
["SW6133","PPSU 普通奶樽-小獅王-蘊蜜鉑金PPSU寬口防脹氣奶瓶270ml(紫芙)-十字M",290]
["SW6134","PPSU 普通奶樽-小獅王-蘊蜜鉑金PPSU寬口防脹氣奶瓶270ml(綠沐)-十字M",290]
["SW6150","PPSU 普通奶樽-小獅王-蘊蜜鉑金PPSU寬口防脹氣奶瓶360ml(晨藍)-十字M",312]
["SW6151","PPSU 普通奶樽-小獅王-蘊蜜鉑金PPSU寬口防脹氣奶瓶360ml(栗粉)-十字M",312]
["SW6152","PPSU 普通奶樽-小獅王-蘊蜜鉑金PPSU寬口防脹氣奶瓶360ml(杏茶)-十字M",312]
["SW6153","PPSU 普通奶樽-小獅王-蘊蜜鉑金PPSU寬口防脹氣奶瓶360ml(紫芙)-十字M",312]
["SW6154","PPSU 普通奶樽-小獅王-蘊蜜鉑金PPSU寬口防脹氣奶瓶360ml(綠沐)-十字M",312]
["SW6160","把手奶樽-小獅王-蘊蜜鉑金PPSU寬口吸管把手防脹氣奶瓶200ml(晨藍)-十字S",299]
["SW6161","把手奶樽-小獅王-蘊蜜鉑金PPSU寬口吸管把手防脹氣奶瓶200ml(栗粉)-十字S",299]
["SW6162","把手奶樽-小獅王-蘊蜜鉑金PPSU寬口吸管把手防脹氣奶瓶200ml(杏茶)-十字S",299]
["SW6164","把手奶樽-小獅王-蘊蜜鉑金PPSU寬口吸管把手防脹氣奶瓶200ml(綠沐)-十字S",299]
["SW6170","把手奶樽-小獅王-蘊蜜鉑金PPSU寬口吸管把手防脹氣奶瓶270ml(晨藍)-十字M",321]
["SW6171","把手奶樽-小獅王-蘊蜜鉑金PPSU寬口吸管把手防脹氣奶瓶270ml(栗粉)-十字M",321]
["SW6172","把手奶樽-小獅王-蘊蜜鉑金PPSU寬口吸管把手防脹氣奶瓶270ml(杏茶)-十字M",321]
["SW6174","把手奶樽-小獅王-蘊蜜鉑金PPSU寬口吸管把手防脹氣奶瓶270ml(綠沐)-十字M",321]
["SW6180","把手奶樽-小獅王-蘊蜜鉑金PPSU寬口吸管把手防脹氣奶瓶360ml(晨藍)-十字M",343]
["SW6181","把手奶樽-小獅王-蘊蜜鉑金PPSU寬口吸管把手防脹氣奶瓶360ml(栗粉)-十字M",343]
["SW6182","把手奶樽-小獅王-蘊蜜鉑金PPSU寬口吸管把手防脹氣奶瓶360ml(杏茶)-十字M",343]
["SW6184","把手奶樽-小獅王-蘊蜜鉑金PPSU寬口吸管把手防脹氣奶瓶360ml(綠沐)-十字M",343]
["SW6331","奶樽嘴-小獅王-超柔防脹氣寬口十字奶嘴S-4入(0個月以上)-",161]
["SW6332","奶樽嘴-小獅王-超柔防脹氣寬口十字奶嘴M-4入(3個月以上)-",161]
["SW6333","奶樽嘴-小獅王-超柔防脹氣寬口十字奶嘴L-4入(6個月以上)-",161]
["SW6334","奶樽嘴-小獅王-超柔防脹氣寬口十字奶嘴XL-4入(12個月以上)-",161]
["SW6335","奶樽嘴-小獅王-超柔防脹氣寬口圓孔奶嘴S-4入(0個月以上)-",161]
["SW6336","奶樽嘴-小獅王-超柔防脹氣寬口圓孔奶嘴M-4入(3個月以上)-",161]
["SW6337","奶樽嘴-小獅王-超柔防脹氣寬口圓孔奶嘴L-4入(6個月以上)-",161]
["SW6338","奶樽嘴-小獅王-超柔防脹氣寬口圓孔奶嘴SS-4入(初生學習)-",161]
["SW6940","玻璃奶樽-小獅王-蘊蜜質金玻璃寬口防脹氣奶瓶180ml(晨藍)-新生專用-",174]
["SW6941","玻璃奶樽-小獅王-蘊蜜質金玻璃寬口防脹氣奶瓶180ml(栗粉)-新生專用-",174]
["SW6942","玻璃奶樽-小獅王-蘊蜜質金玻璃寬口防脹氣奶瓶180ml(杏茶)-新生專用-",174]
["SW6943","玻璃奶樽-小獅王-蘊蜜質金玻璃寬口防脹氣奶瓶180ml(紫芙)-新生專用-",174]
["SW6944","玻璃奶樽-小獅王-蘊蜜質金玻璃寬口防脹氣奶瓶180ml(綠沐)-新生專用-",174]
["SW6950","玻璃奶樽-小獅王-蘊蜜質金玻璃寬口防脹氣奶瓶270ml(晨藍)-新生專用-",178]
["SW6951","玻璃奶樽-小獅王-蘊蜜質金玻璃寬口防脹氣奶瓶270ml(栗粉)-新生專用-",178]
["SW6952","玻璃奶樽-小獅王-蘊蜜質金玻璃寬口防脹氣奶瓶270ml(杏茶)-新生專用-",178]
["SW6953","玻璃奶樽-小獅王-蘊蜜質金玻璃寬口防脹氣奶瓶270ml(紫芙)-新生專用-",178]
["SW6954","玻璃奶樽-小獅王-蘊蜜質金玻璃寬口防脹氣奶瓶270ml(綠沐)-新生專用-",178]
["SW7010","配件1-小獅王-蘊蜜寬口奶瓶儲乳片5入-",85]
["SW7011","配件5-小獅王-蘊蜜寬口奶瓶蝶型吸管組-",49]
["SW7012","配件6-小獅王-蘊蜜寬口奶瓶防漏學習吸管組-",74]
["SW7013","配件7-小獅王-蘊蜜寬口防漏滑蓋吸管組-",116]
["SW7014","-小獅王-蘊蜜寬口防漏滑蓋矽膠墊圈-",30]
["SW7015","吸管刷-小獅王-蘊蜜清潔刷6入-",63]
["SW7020","配件3-小獅王-蘊蜜寬口奶瓶瓶蓋組(晨藍)-",27]
["SW7021","配件3-小獅王-蘊蜜寬口奶瓶瓶蓋組(栗粉)-",27]
["SW7022","配件3-小獅王-蘊蜜寬口奶瓶瓶蓋組(杏茶)-",27]
["SW7023","配件3-小獅王-蘊蜜寬口奶瓶瓶蓋組(紫芙)-",27]
["SW7024","配件3-小獅王-蘊蜜寬口奶瓶瓶蓋組(綠沐)-",27]
["SW7025","配件3-小獅王-蘊蜜寬口奶瓶瓶蓋組(蒔黑)-",27]
["SW7026","配件3-小獅王-蘊蜜寬口奶瓶瓶蓋組(苜白)-",27]
["SW7030","配件4-小獅王-蘊蜜寬口奶瓶防滑把手(晨藍)-",27]
["SW7031","配件4-小獅王-蘊蜜寬口奶瓶防滑把手(栗粉)-",27]
["SW7032","配件4-小獅王-蘊蜜寬口奶瓶防滑把手(杏茶)-",27]
["SW7033","配件4-小獅王-蘊蜜寬口奶瓶防滑把手(紫芙)-",27]
["SW7034","配件4-小獅王-蘊蜜寬口奶瓶防滑把手(綠沐)-",27]
["SW7035","配件4-小獅王-蘊蜜寬口奶瓶防滑把手(蒔黑)-",27]
["SW7036","配件4-小獅王-蘊蜜寬口奶瓶防滑把手(苜白)-",27]
["SW7040","配件2-小獅王-蘊蜜寬口奶瓶萬用蓋(晨藍)-",30]
["SW7041","配件2-小獅王-蘊蜜寬口奶瓶萬用蓋(栗粉)-",30]
["SW7042","配件2-小獅王-蘊蜜寬口奶瓶萬用蓋(杏茶)-",30]
["SW7043","配件2-小獅王-蘊蜜寬口奶瓶萬用蓋(紫芙)-",30]
["SW7044","配件2-小獅王-蘊蜜寬口奶瓶萬用蓋(綠沐)-",30]
["SW7045","配件2-小獅王-蘊蜜寬口奶瓶萬用蓋(蒔黑)-",30]
["SW7046","配件2-小獅王-蘊蜜寬口奶瓶萬用蓋(苜白)-",30]
["SW7050","配件7-小獅王-蘊蜜寬口防漏滑蓋把手吸管組(晨藍)-",112]
["SW7051","配件7-小獅王-蘊蜜寬口防漏滑蓋把手吸管組(栗粉)-",112]
["SW7052","配件7-小獅王-蘊蜜寬口防漏滑蓋把手吸管組(杏茶)-",112]
["SW7053","配件7-小獅王-蘊蜜寬口防漏滑蓋把手吸管組(紫芙)-",112]
["SW7054","配件7-小獅王-蘊蜜寬口防漏滑蓋把手吸管組(綠沐)-",112]
["SW7055","配件7-小獅王-蘊蜜寬口防漏滑蓋把手吸管組(蒔黑)-",112]
["SW7056","配件7-小獅王-蘊蜜寬口防漏滑蓋把手吸管組(苜白)-",112]
["SW7060","配件8-小獅王-蘊蜜寬口即飲杯蓋組(晨藍)-",98]
["SW7061","配件8-小獅王-蘊蜜寬口即飲杯蓋組(栗粉)-",98]
["SW7062","配件8-小獅王-蘊蜜寬口即飲杯蓋組(杏茶)-",98]
["SW7063","配件8-小獅王-蘊蜜寬口即飲杯蓋組(紫芙)-",98]
["SW7064","配件8-小獅王-蘊蜜寬口即飲杯蓋組(綠沐)-",98]
["SW7065","配件8-小獅王-蘊蜜寬口即飲杯蓋組(蒔黑)-",98]
["SW7066","配件8-小獅王-蘊蜜寬口即飲杯蓋組(苜白)-",98]
["SW8110","學習水杯-小獅王-蘊蜜鉑金PPSU防漏滑蓋學習水杯270ml(晨藍)-",379]
["SW8111","學習水杯-小獅王-蘊蜜鉑金PPSU防漏滑蓋學習水杯270ml(栗粉)-",379]
["SW8112","學習水杯-小獅王-蘊蜜鉑金PPSU防漏滑蓋學習水杯270ml(杏茶)-",379]
["SW8113","學習水杯-小獅王-蘊蜜鉑金PPSU防漏滑蓋學習水杯270ml(紫芙)-",379]
["SW8114","學習水杯-小獅王-蘊蜜鉑金PPSU防漏滑蓋學習水杯270ml(綠沐)-",379]

{"sheet":"SIMBA入庫表","index":11,"n_rows":114,"n_cols":5,"rows_kept":114,"cut":false,"hidden":false,"merged":[]}
["入庫日期","訂單編號","產品","數量","單價"]
["2024-09-19",{"$f":"_xlfn.XLOOKUP(C2,'SIMBA LIST'!B:B,'SIMBA LIST'!A:A)","v":{"$error":"#NAME?"}},"配件7-小獅王-蘊蜜寬口防漏滑蓋把手吸管組(綠沐)-",3,{"$f":"_xlfn.XLOOKUP(C2,'SIMBA LIST'!B:B,'SIMBA LIST'!C:C)","v":{"$error":"#NAME?"}}]
["2024-09-19",{"$f":"_xlfn.XLOOKUP(C3,'SIMBA LIST'!B:B,'SIMBA LIST'!A:A)","v":{"$error":"#NAME?"}},"配件7-小獅王-蘊蜜寬口防漏滑蓋把手吸管組(栗粉)-",3,{"$f":"_xlfn.XLOOKUP(C3,'SIMBA LIST'!B:B,'SIMBA LIST'!C:C)","v":{"$error":"#NAME?"}}]
["2024-09-19",{"$f":"_xlfn.XLOOKUP(C4,'SIMBA LIST'!B:B,'SIMBA LIST'!A:A)","v":{"$error":"#NAME?"}},"配件7-小獅王-蘊蜜寬口防漏滑蓋把手吸管組(苜白)-",2,{"$f":"_xlfn.XLOOKUP(C4,'SIMBA LIST'!B:B,'SIMBA LIST'!C:C)","v":{"$error":"#NAME?"}}]
["2024-09-19",{"$f":"_xlfn.XLOOKUP(C5,'SIMBA LIST'!B:B,'SIMBA LIST'!A:A)","v":{"$error":"#NAME?"}},"配件7-小獅王-蘊蜜寬口防漏滑蓋把手吸管組(晨藍)-",3,{"$f":"_xlfn.XLOOKUP(C5,'SIMBA LIST'!B:B,'SIMBA LIST'!C:C)","v":{"$error":"#NAME?"}}]
["2024-09-19",{"$f":"_xlfn.XLOOKUP(C6,'SIMBA LIST'!B:B,'SIMBA LIST'!A:A)","v":{"$error":"#NAME?"}},"配件7-小獅王-蘊蜜寬口防漏滑蓋把手吸管組(杏茶)-",3,{"$f":"_xlfn.XLOOKUP(C6,'SIMBA LIST'!B:B,'SIMBA LIST'!C:C)","v":{"$error":"#NAME?"}}]
["2024-09-19",{"$f":"_xlfn.XLOOKUP(C7,'SIMBA LIST'!B:B,'SIMBA LIST'!A:A)","v":{"$error":"#NAME?"}},"配件7-小獅王-蘊蜜寬口防漏滑蓋把手吸管組(紫芙)-",2,{"$f":"_xlfn.XLOOKUP(C7,'SIMBA LIST'!B:B,'SIMBA LIST'!C:C)","v":{"$error":"#NAME?"}}]
["2024-09-19",{"$f":"_xlfn.XLOOKUP(C8,'SIMBA LIST'!B:B,'SIMBA LIST'!A:A)","v":{"$error":"#NAME?"}},"配件7-小獅王-蘊蜜寬口防漏滑蓋把手吸管組(蒔黑)-",1,{"$f":"_xlfn.XLOOKUP(C8,'SIMBA LIST'!B:B,'SIMBA LIST'!C:C)","v":{"$error":"#NAME?"}}]
["2024-09-19",{"$f":"_xlfn.XLOOKUP(C9,'SIMBA LIST'!B:B,'SIMBA LIST'!A:A)","v":{"$error":"#NAME?"}},"安撫奶嘴-小獅王-蘊蜜超柔拇指安撫奶嘴(栗粉)-初生-",1,{"$f":"_xlfn.XLOOKUP(C9,'SIMBA LIST'!B:B,'SIMBA LIST'!C:C)","v":{"$error":"#NAME?"}}]
["2024-09-19",{"$f":"_xlfn.XLOOKUP(C10,'SIMBA LIST'!B:B,'SIMBA LIST'!A:A)","v":{"$error":"#NAME?"}},"安撫奶嘴-小獅王-蘊蜜超柔拇指安撫奶嘴(栗粉)-耐咬較大型-",1,{"$f":"_xlfn.XLOOKUP(C10,'SIMBA LIST'!B:B,'SIMBA LIST'!C:C)","v":{"$error":"#NAME?"}}]
["2024-09-19",{"$f":"_xlfn.XLOOKUP(C11,'SIMBA LIST'!B:B,'SIMBA LIST'!A:A)","v":{"$error":"#NAME?"}},"安撫奶嘴-小獅王-蘊蜜超柔拇指安撫奶嘴(綠沐)-初生-",1,{"$f":"_xlfn.XLOOKUP(C11,'SIMBA LIST'!B:B,'SIMBA LIST'!C:C)","v":{"$error":"#NAME?"}}]
["2024-09-19",{"$f":"_xlfn.XLOOKUP(C12,'SIMBA LIST'!B:B,'SIMBA LIST'!A:A)","v":{"$error":"#NAME?"}},"安撫奶嘴-小獅王-蘊蜜超柔拇指安撫奶嘴(晨藍)-初生-",1,{"$f":"_xlfn.XLOOKUP(C12,'SIMBA LIST'!B:B,'SIMBA LIST'!C:C)","v":{"$error":"#NAME?"}}]
["2024-09-19",{"$f":"_xlfn.XLOOKUP(C13,'SIMBA LIST'!B:B,'SIMBA LIST'!A:A)","v":{"$error":"#NAME?"}},"安撫奶嘴-小獅王-蘊蜜超柔拇指安撫奶嘴(晨藍)-較大-",1,{"$f":"_xlfn.XLOOKUP(C13,'SIMBA LIST'!B:B,'SIMBA LIST'!C:C)","v":{"$error":"#NAME?"}}]
["2024-09-19",{"$f":"_xlfn.XLOOKUP(C14,'SIMBA LIST'!B:B,'SIMBA LIST'!A:A)","v":{"$error":"#NAME?"}},"安撫奶嘴-小獅王-蘊蜜超柔拇指安撫奶嘴(杏茶)-初生-",1,{"$f":"_xlfn.XLOOKUP(C14,'SIMBA LIST'!B:B,'SIMBA LIST'!C:C)","v":{"$error":"#NAME?"}}]
["2024-09-19",{"$f":"_xlfn.XLOOKUP(C15,'SIMBA LIST'!B:B,'SIMBA LIST'!A:A)","v":{"$error":"#NAME?"}},"奶樽嘴-小獅王-超柔防脹氣寬口十字奶嘴S-4入(0個月以上)-",2,{"$f":"_xlfn.XLOOKUP(C15,'SIMBA LIST'!B:B,'SIMBA LIST'!C:C)","v":{"$error":"#NAME?"}}]
["2024-09-19",{"$f":"_xlfn.XLOOKUP(C16,'SIMBA LIST'!B:B,'SIMBA LIST'!A:A)","v":{"$error":"#NAME?"}},"奶樽嘴-小獅王-超柔防脹氣寬口十字奶嘴M-4入(3個月以上)-",4,{"$f":"_xlfn.XLOOKUP(C16,'SIMBA LIST'!B:B,'SIMBA LIST'!C:C)","v":{"$error":"#NAME?"}}]
["2024-09-19",{"$f":"_xlfn.XLOOKUP(C17,'SIMBA LIST'!B:B,'SIMBA LIST'!A:A)","v":{"$error":"#NAME?"}},"奶樽嘴-小獅王-超柔防脹氣寬口十字奶嘴L-4入(6個月以上)-",4,{"$f":"_xlfn.XLOOKUP(C17,'SIMBA LIST'!B:B,'SIMBA LIST'!C:C)","v":{"$error":"#NAME?"}}]
["2024-09-19",{"$f":"_xlfn.XLOOKUP(C18,'SIMBA LIST'!B:B,'SIMBA LIST'!A:A)","v":{"$error":"#NAME?"}},"奶樽嘴-小獅王-超柔防脹氣寬口十字奶嘴XL-4入(12個月以上)-",2,{"$f":"_xlfn.XLOOKUP(C18,'SIMBA LIST'!B:B,'SIMBA LIST'!C:C)","v":{"$error":"#NAME?"}}]
["2024-09-19",{"$f":"_xlfn.XLOOKUP(C19,'SIMBA LIST'!B:B,'SIMBA LIST'!A:A)","v":{"$error":"#NAME?"}},"安撫奶嘴-小獅王-小辛巴拇指安撫奶嘴(初生)-",2,{"$f":"_xlfn.XLOOKUP(C19,'SIMBA LIST'!B:B,'SIMBA LIST'!C:C)","v":{"$error":"#NAME?"}}]
["2024-09-19",{"$f":"_xlfn.XLOOKUP(C20,'SIMBA LIST'!B:B,'SIMBA LIST'!A:A)","v":{"$error":"#NAME?"}},"安撫奶嘴-小獅王-小辛巴拇指安撫奶嘴(較大)-",1,{"$f":"_xlfn.XLOOKUP(C20,'SIMBA LIST'!B:B,'SIMBA LIST'!C:C)","v":{"$error":"#NAME?"}}]
["2024-09-19",{"$f":"_xlfn.XLOOKUP(C21,'SIMBA LIST'!B:B,'SIMBA LIST'!A:A)","v":{"$error":"#NAME?"}},"好樂飲-小獅王-好樂飲PPSU防漏滑蓋學習水杯250ml(可可杏)-",3,{"$f":"_xlfn.XLOOKUP(C21,'SIMBA LIST'!B:B,'SIMBA LIST'!C:C)","v":{"$error":"#NAME?"}}]
["2024-09-19",{"$f":"_xlfn.XLOOKUP(C22,'SIMBA LIST'!B:B,'SIMBA LIST'!A:A)","v":{"$error":"#NAME?"}},"好樂飲-小獅王-好樂飲PPSU防漏滑蓋學習水杯250ml(悠悠粉)-",1,{"$f":"_xlfn.XLOOKUP(C22,'SIMBA LIST'!B:B,'SIMBA LIST'!C:C)","v":{"$error":"#NAME?"}}]
["2024-09-19",{"$f":"_xlfn.XLOOKUP(C23,'SIMBA LIST'!B:B,'SIMBA LIST'!A:A)","v":{"$error":"#NAME?"}},"配件6-小獅王-蘊蜜寬口奶瓶防漏學習吸管組-",2,{"$f":"_xlfn.XLOOKUP(C23,'SIMBA LIST'!B:B,'SIMBA LIST'!C:C)","v":{"$error":"#NAME?"}}]
["2024-09-19",{"$f":"_xlfn.XLOOKUP(C24,'SIMBA LIST'!B:B,'SIMBA LIST'!A:A)","v":{"$error":"#NAME?"}},"配件1-小獅王-蘊蜜寬口奶瓶儲乳片5入-",1,{"$f":"_xlfn.XLOOKUP(C24,'SIMBA LIST'!B:B,'SIMBA LIST'!C:C)","v":{"$error":"#NAME?"}}]
["2024-09-19",{"$f":"_xlfn.XLOOKUP(C25,'SIMBA LIST'!B:B,'SIMBA LIST'!A:A)","v":{"$error":"#NAME?"}},"配件7-小獅王-蘊蜜寬口防漏滑蓋吸管組-",4,{"$f":"_xlfn.XLOOKUP(C25,'SIMBA LIST'!B:B,'SIMBA LIST'!C:C)","v":{"$error":"#NAME?"}}]
["2024-09-19",{"$f":"_xlfn.XLOOKUP(C26,'SIMBA LIST'!B:B,'SIMBA LIST'!A:A)","v":{"$error":"#NAME?"}},"配件5-小獅王-蘊蜜寬口奶瓶蝶型吸管組-",7,{"$f":"_xlfn.XLOOKUP(C26,'SIMBA LIST'!B:B,'SIMBA LIST'!C:C)","v":{"$error":"#NAME?"}}]
["2024-09-19",{"$f":"_xlfn.XLOOKUP(C27,'SIMBA LIST'!B:B,'SIMBA LIST'!A:A)","v":{"$error":"#NAME?"}},"食物剪刀-小獅王-嬰兒食物金剛剪(杏茶)-",3,{"$f":"_xlfn.XLOOKUP(C27,'SIMBA LIST'!B:B,'SIMBA LIST'!C:C)","v":{"$error":"#NAME?"}}]
["2024-09-19",{"$f":"_xlfn.XLOOKUP(C28,'SIMBA LIST'!B:B,'SIMBA LIST'!A:A)","v":{"$error":"#NAME?"}},"食物剪刀-小獅王-嬰兒食物金剛剪(晨藍)-",3,{"$f":"_xlfn.XLOOKUP(C28,'SIMBA LIST'!B:B,'SIMBA LIST'!C:C)","v":{"$error":"#NAME?"}}]
["2024-09-19",{"$f":"_xlfn.XLOOKUP(C29,'SIMBA LIST'!B:B,'SIMBA LIST'!A:A)","v":{"$error":"#NAME?"}},"吸管刷-小獅王-蘊蜜清潔刷6入-",3,{"$f":"_xlfn.XLOOKUP(C29,'SIMBA LIST'!B:B,'SIMBA LIST'!C:C)","v":{"$error":"#NAME?"}}]
["2024-09-19",{"$f":"_xlfn.XLOOKUP(C30,'SIMBA LIST'!B:B,'SIMBA LIST'!A:A)","v":{"$error":"#NAME?"}},"-小獅王-好樂飲防漏滑蓋替換吸管組(2入)-",2,{"$f":"_xlfn.XLOOKUP(C30,'SIMBA LIST'!B:B,'SIMBA LIST'!C:C)","v":{"$error":"#NAME?"}}]
["2024-09-19",{"$f":"_xlfn.XLOOKUP(C31,'SIMBA LIST'!B:B,'SIMBA LIST'!A:A)","v":{"$error":"#NAME?"}},"-小獅王-平安御守香火袋-恐龍樂園(藍)-",1,{"$f":"_xlfn.XLOOKUP(C31,'SIMBA LIST'!B:B,'SIMBA LIST'!C:C)","v":{"$error":"#NAME?"}}]
["2024-09-19",{"$f":"_xlfn.XLOOKUP(C32,'SIMBA LIST'!B:B,'SIMBA LIST'!A:A)","v":{"$error":"#NAME?"}},"-小獅王-平安御守香火袋-蜜桃菠菠(粉)-",1,{"$f":"_xlfn.XLOOKUP(C32,'SIMBA LIST'!B:B,'SIMBA LIST'!C:C)","v":{"$error":"#NAME?"}}]
["2024-09-19",{"$f":"_xlfn.XLOOKUP(C33,'SIMBA LIST'!B:B,'SIMBA LIST'!A:A)","v":{"$error":"#NAME?"}},"-小獅王-平安御守香火袋-奶油字母(杏)-",2,{"$f":"_xlfn.XLOOKUP(C33,'SIMBA LIST'!B:B,'SIMBA LIST'!C:C)","v":{"$error":"#NAME?"}}]
["2024-09-19",{"$f":"_xlfn.XLOOKUP(C34,'SIMBA LIST'!B:B,'SIMBA LIST'!A:A)","v":{"$error":"#NAME?"}},"-小獅王-平安御守香火袋-小鳥星球(綠)-",2,{"$f":"_xlfn.XLOOKUP(C34,'SIMBA LIST'!B:B,'SIMBA LIST'!C:C)","v":{"$error":"#NAME?"}}]
["2024-09-19",{"$f":"_xlfn.XLOOKUP(C35,'SIMBA LIST'!B:B,'SIMBA LIST'!A:A)","v":{"$error":"#NAME?"}},"-小獅王-長效檸檬草精油防蚊貼(32枚)-",2,{"$f":"_xlfn.XLOOKUP(C35,'SIMBA LIST'!B:B,'SIMBA LIST'!C:C)","v":{"$error":"#NAME?"}}]
["2024-09-19",{"$f":"_xlfn.XLOOKUP(C36,'SIMBA LIST'!B:B,'SIMBA LIST'!A:A)","v":{"$error":"#NAME?"}},"-小獅王-蘊蜜萬用防掉雙頭夾(晨藍)-",3,{"$f":"_xlfn.XLOOKUP(C36,'SIMBA LIST'!B:B,'SIMBA LIST'!C:C)","v":{"$error":"#NAME?"}}]
["2024-09-19",{"$f":"_xlfn.XLOOKUP(C37,'SIMBA LIST'!B:B,'SIMBA LIST'!A:A)","v":{"$error":"#NAME?"}},"-小獅王-蘊蜜萬用防掉雙頭夾(杏茶)-",3,{"$f":"_xlfn.XLOOKUP(C37,'SIMBA LIST'!B:B,'SIMBA LIST'!C:C)","v":{"$error":"#NAME?"}}]
["2024-09-19",{"$f":"_xlfn.XLOOKUP(C38,'SIMBA LIST'!B:B,'SIMBA LIST'!A:A)","v":{"$error":"#NAME?"}},"-小獅王-蘊蜜萬用防掉雙頭夾(綠沐)-",2,{"$f":"_xlfn.XLOOKUP(C38,'SIMBA LIST'!B:B,'SIMBA LIST'!C:C)","v":{"$error":"#NAME?"}}]
["2024-09-19",{"$f":"_xlfn.XLOOKUP(C39,'SIMBA LIST'!B:B,'SIMBA LIST'!A:A)","v":{"$error":"#NAME?"}},"-小獅王-蘊蜜萬用防掉雙頭夾(栗粉)-",2,{"$f":"_xlfn.XLOOKUP(C39,'SIMBA LIST'!B:B,'SIMBA LIST'!C:C)","v":{"$error":"#NAME?"}}]
["2024-09-19",{"$f":"_xlfn.XLOOKUP(C40,'SIMBA LIST'!B:B,'SIMBA LIST'!A:A)","v":{"$error":"#NAME?"}},"-小獅王-蘊蜜夜光奶嘴帶-栗粉-",1,{"$f":"_xlfn.XLOOKUP(C40,'SIMBA LIST'!B:B,'SIMBA LIST'!C:C)","v":{"$error":"#NAME?"}}]
["2024-09-19",{"$f":"_xlfn.XLOOKUP(C41,'SIMBA LIST'!B:B,'SIMBA LIST'!A:A)","v":{"$error":"#NAME?"}},"-小獅王-蘊蜜夜光奶嘴帶-綠沐-",1,{"$f":"_xlfn.XLOOKUP(C41,'SIMBA LIST'!B:B,'SIMBA LIST'!C:C)","v":{"$error":"#NAME?"}}]
["2024-09-19",{"$f":"_xlfn.XLOOKUP(C42,'SIMBA LIST'!B:B,'SIMBA LIST'!A:A)","v":{"$error":"#NAME?"}},"配件8-小獅王-蘊蜜寬口即飲杯蓋組(杏茶)-",1,{"$f":"_xlfn.XLOOKUP(C42,'SIMBA LIST'!B:B,'SIMBA LIST'!C:C)","v":{"$error":"#NAME?"}}]
["2024-09-19",{"$f":"_xlfn.XLOOKUP(C43,'SIMBA LIST'!B:B,'SIMBA LIST'!A:A)","v":{"$error":"#NAME?"}},"配件8-小獅王-蘊蜜寬口即飲杯蓋組(苜白)-",1,{"$f":"_xlfn.XLOOKUP(C43,'SIMBA LIST'!B:B,'SIMBA LIST'!C:C)","v":{"$error":"#NAME?"}}]
["2024-09-19",{"$f":"_xlfn.XLOOKUP(C44,'SIMBA LIST'!B:B,'SIMBA LIST'!A:A)","v":{"$error":"#NAME?"}},"配件8-小獅王-蘊蜜寬口即飲杯蓋組(蒔黑)-",1,{"$f":"_xlfn.XLOOKUP(C44,'SIMBA LIST'!B:B,'SIMBA LIST'!C:C)","v":{"$error":"#NAME?"}}]
["2024-09-19",{"$f":"_xlfn.XLOOKUP(C45,'SIMBA LIST'!B:B,'SIMBA LIST'!A:A)","v":{"$error":"#NAME?"}},"配件8-小獅王-蘊蜜寬口即飲杯蓋組(栗粉)-",1,{"$f":"_xlfn.XLOOKUP(C45,'SIMBA LIST'!B:B,'SIMBA LIST'!C:C)","v":{"$error":"#NAME?"}}]
["2024-09-19",{"$f":"_xlfn.XLOOKUP(C46,'SIMBA LIST'!B:B,'SIMBA LIST'!A:A)","v":{"$error":"#NAME?"}},"配件8-小獅王-蘊蜜寬口即飲杯蓋組(紫芙)-",1,{"$f":"_xlfn.XLOOKUP(C46,'SIMBA LIST'!B:B,'SIMBA LIST'!C:C)","v":{"$error":"#NAME?"}}]
["2024-09-19",{"$f":"_xlfn.XLOOKUP(C47,'SIMBA LIST'!B:B,'SIMBA LIST'!A:A)","v":{"$error":"#NAME?"}},"配件2-小獅王-蘊蜜寬口奶瓶萬用蓋(紫芙)-",1,{"$f":"_xlfn.XLOOKUP(C47,'SIMBA LIST'!B:B,'SIMBA LIST'!C:C)","v":{"$error":"#NAME?"}}]
["2024-09-19",{"$f":"_xlfn.XLOOKUP(C48,'SIMBA LIST'!B:B,'SIMBA LIST'!A:A)","v":{"$error":"#NAME?"}},"配件2-小獅王-蘊蜜寬口奶瓶萬用蓋(栗粉)-",3,{"$f":"_xlfn.XLOOKUP(C48,'SIMBA LIST'!B:B,'SIMBA LIST'!C:C)","v":{"$error":"#NAME?"}}]
["2024-09-19",{"$f":"_xlfn.XLOOKUP(C49,'SIMBA LIST'!B:B,'SIMBA LIST'!A:A)","v":{"$error":"#NAME?"}},"配件2-小獅王-蘊蜜寬口奶瓶萬用蓋(綠沐)-",3,{"$f":"_xlfn.XLOOKUP(C49,'SIMBA LIST'!B:B,'SIMBA LIST'!C:C)","v":{"$error":"#NAME?"}}]
["2024-09-19",{"$f":"_xlfn.XLOOKUP(C50,'SIMBA LIST'!B:B,'SIMBA LIST'!A:A)","v":{"$error":"#NAME?"}},"配件2-小獅王-蘊蜜寬口奶瓶萬用蓋(杏茶)-",2,{"$f":"_xlfn.XLOOKUP(C50,'SIMBA LIST'!B:B,'SIMBA LIST'!C:C)","v":{"$error":"#NAME?"}}]
["2024-09-19",{"$f":"_xlfn.XLOOKUP(C51,'SIMBA LIST'!B:B,'SIMBA LIST'!A:A)","v":{"$error":"#NAME?"}},"奶粉盒-小獅王-神奇定量奶粉罐-肉桂捲(米)-",1,{"$f":"_xlfn.XLOOKUP(C51,'SIMBA LIST'!B:B,'SIMBA LIST'!C:C)","v":{"$error":"#NAME?"}}]
["2024-09-19",{"$f":"_xlfn.XLOOKUP(C52,'SIMBA LIST'!B:B,'SIMBA LIST'!A:A)","v":{"$error":"#NAME?"}},"奶粉盒-小獅王-神奇定量奶粉罐-無花果(粉)-",1,{"$f":"_xlfn.XLOOKUP(C52,'SIMBA LIST'!B:B,'SIMBA LIST'!C:C)","v":{"$error":"#NAME?"}}]
["2024-09-19",{"$f":"_xlfn.XLOOKUP(C53,'SIMBA LIST'!B:B,'SIMBA LIST'!A:A)","v":{"$error":"#NAME?"}},"奶粉盒-小獅王-神奇定量奶粉罐-酪梨(綠)-",1,{"$f":"_xlfn.XLOOKUP(C53,'SIMBA LIST'!B:B,'SIMBA LIST'!C:C)","v":{"$error":"#NAME?"}}]
["2024-09-19",{"$f":"_xlfn.XLOOKUP(C54,'SIMBA LIST'!B:B,'SIMBA LIST'!A:A)","v":{"$error":"#NAME?"}},"奶嘴鍊-小獅王-辛巴防塵奶嘴鍊-經典(橘色)-",2,{"$f":"_xlfn.XLOOKUP(C54,'SIMBA LIST'!B:B,'SIMBA LIST'!C:C)","v":{"$error":"#NAME?"}}]
["2024-09-19",{"$f":"_xlfn.XLOOKUP(C55,'SIMBA LIST'!B:B,'SIMBA LIST'!A:A)","v":{"$error":"#NAME?"}},"奶嘴鍊-小獅王-辛巴防塵奶嘴鍊-焦糖(咖啡)-",2,{"$f":"_xlfn.XLOOKUP(C55,'SIMBA LIST'!B:B,'SIMBA LIST'!C:C)","v":{"$error":"#NAME?"}}]
["2024-09-19",{"$f":"_xlfn.XLOOKUP(C56,'SIMBA LIST'!B:B,'SIMBA LIST'!A:A)","v":{"$error":"#NAME?"}},"奶嘴鍊-小獅王-辛巴防塵奶嘴鍊-香草(藍色)-",3,{"$f":"_xlfn.XLOOKUP(C56,'SIMBA LIST'!B:B,'SIMBA LIST'!C:C)","v":{"$error":"#NAME?"}}]
["2024-09-19",{"$f":"_xlfn.XLOOKUP(C57,'SIMBA LIST'!B:B,'SIMBA LIST'!A:A)","v":{"$error":"#NAME?"}},"奶嘴鍊-小獅王-辛巴防塵奶嘴鍊-莓果(粉紅)-",8,{"$f":"_xlfn.XLOOKUP(C57,'SIMBA LIST'!B:B,'SIMBA LIST'!C:C)","v":{"$error":"#NAME?"}}]
["2024-09-19",{"$f":"_xlfn.XLOOKUP(C58,'SIMBA LIST'!B:B,'SIMBA LIST'!A:A)","v":{"$error":"#NAME?"}},"配件4-小獅王-蘊蜜寬口奶瓶防滑把手(栗粉)-",1,{"$f":"_xlfn.XLOOKUP(C58,'SIMBA LIST'!B:B,'SIMBA LIST'!C:C)","v":{"$error":"#NAME?"}}]
["2024-09-19",{"$f":"_xlfn.XLOOKUP(C59,'SIMBA LIST'!B:B,'SIMBA LIST'!A:A)","v":{"$error":"#NAME?"}},"配件4-小獅王-蘊蜜寬口奶瓶防滑把手(紫芙)-",1,{"$f":"_xlfn.XLOOKUP(C59,'SIMBA LIST'!B:B,'SIMBA LIST'!C:C)","v":{"$error":"#NAME?"}}]
["2024-09-19",{"$f":"_xlfn.XLOOKUP(C60,'SIMBA LIST'!B:B,'SIMBA LIST'!A:A)","v":{"$error":"#NAME?"}},"配件4-小獅王-蘊蜜寬口奶瓶防滑把手(苜白)-",1,{"$f":"_xlfn.XLOOKUP(C60,'SIMBA LIST'!B:B,'SIMBA LIST'!C:C)","v":{"$error":"#NAME?"}}]
["2024-09-19",{"$f":"_xlfn.XLOOKUP(C61,'SIMBA LIST'!B:B,'SIMBA LIST'!A:A)","v":{"$error":"#NAME?"}},"-小獅王-美味曲奇吸盤碗-栗粉-",2,{"$f":"_xlfn.XLOOKUP(C61,'SIMBA LIST'!B:B,'SIMBA LIST'!C:C)","v":{"$error":"#NAME?"}}]
["2024-09-19",{"$f":"_xlfn.XLOOKUP(C62,'SIMBA LIST'!B:B,'SIMBA LIST'!A:A)","v":{"$error":"#NAME?"}},"-小獅王-美味曲奇吸盤碗-晨藍-",2,{"$f":"_xlfn.XLOOKUP(C62,'SIMBA LIST'!B:B,'SIMBA LIST'!C:C)","v":{"$error":"#NAME?"}}]
["2024-09-19",{"$f":"_xlfn.XLOOKUP(C63,'SIMBA LIST'!B:B,'SIMBA LIST'!A:A)","v":{"$error":"#NAME?"}},"-小獅王-美味曲奇吸盤碗-杏茶-",2,{"$f":"_xlfn.XLOOKUP(C63,'SIMBA LIST'!B:B,'SIMBA LIST'!C:C)","v":{"$error":"#NAME?"}}]
["2024-09-19",{"$f":"_xlfn.XLOOKUP(C64,'SIMBA LIST'!B:B,'SIMBA LIST'!A:A)","v":{"$error":"#NAME?"}},"配件3-小獅王-蘊蜜寬口奶瓶瓶蓋組(栗粉)-",1,{"$f":"_xlfn.XLOOKUP(C64,'SIMBA LIST'!B:B,'SIMBA LIST'!C:C)","v":{"$error":"#NAME?"}}]
["2024-09-19",{"$f":"_xlfn.XLOOKUP(C65,'SIMBA LIST'!B:B,'SIMBA LIST'!A:A)","v":{"$error":"#NAME?"}},"配件3-小獅王-蘊蜜寬口奶瓶瓶蓋組(晨藍)-",1,{"$f":"_xlfn.XLOOKUP(C65,'SIMBA LIST'!B:B,'SIMBA LIST'!C:C)","v":{"$error":"#NAME?"}}]
["2024-09-19",{"$f":"_xlfn.XLOOKUP(C66,'SIMBA LIST'!B:B,'SIMBA LIST'!A:A)","v":{"$error":"#NAME?"}},"配件3-小獅王-蘊蜜寬口奶瓶瓶蓋組(杏茶)-",1,{"$f":"_xlfn.XLOOKUP(C66,'SIMBA LIST'!B:B,'SIMBA LIST'!C:C)","v":{"$error":"#NAME?"}}]
["2024-09-19",{"$f":"_xlfn.XLOOKUP(C67,'SIMBA LIST'!B:B,'SIMBA LIST'!A:A)","v":{"$error":"#NAME?"}},"配件3-小獅王-蘊蜜寬口奶瓶瓶蓋組(綠沐)-",1,{"$f":"_xlfn.XLOOKUP(C67,'SIMBA LIST'!B:B,'SIMBA LIST'!C:C)","v":{"$error":"#NAME?"}}]
["2024-09-19",{"$f":"_xlfn.XLOOKUP(C68,'SIMBA LIST'!B:B,'SIMBA LIST'!A:A)","v":{"$error":"#NAME?"}},"奶嘴刷-小獅王-超柔無垢白金矽膠奶嘴刷(小樹)-綠-",1,{"$f":"_xlfn.XLOOKUP(C68,'SIMBA LIST'!B:B,'SIMBA LIST'!C:C)","v":{"$error":"#NAME?"}}]
["2024-09-19",{"$f":"_xlfn.XLOOKUP(C69,'SIMBA LIST'!B:B,'SIMBA LIST'!A:A)","v":{"$error":"#NAME?"}},"奶嘴刷-小獅王-超柔無垢白金矽膠奶嘴刷(小麥)-米-",1,{"$f":"_xlfn.XLOOKUP(C69,'SIMBA LIST'!B:B,'SIMBA LIST'!C:C)","v":{"$error":"#NAME?"}}]
["2024-09-19",{"$f":"_xlfn.XLOOKUP(C70,'SIMBA LIST'!B:B,'SIMBA LIST'!A:A)","v":{"$error":"#NAME?"}},"奶嘴刷-小獅王-超柔無垢白金矽膠奶嘴刷(小櫻)-紅-",1,{"$f":"_xlfn.XLOOKUP(C70,'SIMBA LIST'!B:B,'SIMBA LIST'!C:C)","v":{"$error":"#NAME?"}}]
["2024-09-19",{"$f":"_xlfn.XLOOKUP(C71,'SIMBA LIST'!B:B,'SIMBA LIST'!A:A)","v":{"$error":"#NAME?"}},"奶嘴刷-小獅王-超柔無垢白金矽膠奶嘴刷(小石)-灰-",1,{"$f":"_xlfn.XLOOKUP(C71,'SIMBA LIST'!B:B,'SIMBA LIST'!C:C)","v":{"$error":"#NAME?"}}]
["2024-09-19",{"$f":"_xlfn.XLOOKUP(C72,'SIMBA LIST'!B:B,'SIMBA LIST'!A:A)","v":{"$error":"#NAME?"}},"奶樽刷-小獅王-超柔無垢白金矽膠旋轉奶瓶刷(小樹)-綠-",1,{"$f":"_xlfn.XLOOKUP(C72,'SIMBA LIST'!B:B,'SIMBA LIST'!C:C)","v":{"$error":"#NAME?"}}]
["2024-09-19",{"$f":"_xlfn.XLOOKUP(C73,'SIMBA LIST'!B:B,'SIMBA LIST'!A:A)","v":{"$error":"#NAME?"}},"奶樽刷-小獅王-超柔無垢白金矽膠旋轉奶瓶刷(小麥)-米-",1,{"$f":"_xlfn.XLOOKUP(C73,'SIMBA LIST'!B:B,'SIMBA LIST'!C:C)","v":{"$error":"#NAME?"}}]
["2024-09-19",{"$f":"_xlfn.XLOOKUP(C74,'SIMBA LIST'!B:B,'SIMBA LIST'!A:A)","v":{"$error":"#NAME?"}},"奶樽刷-小獅王-超柔無垢白金矽膠旋轉奶瓶刷(小櫻)-紅-",1,{"$f":"_xlfn.XLOOKUP(C74,'SIMBA LIST'!B:B,'SIMBA LIST'!C:C)","v":{"$error":"#NAME?"}}]
["2024-09-19",{"$f":"_xlfn.XLOOKUP(C75,'SIMBA LIST'!B:B,'SIMBA LIST'!A:A)","v":{"$error":"#NAME?"}},"奶樽刷-小獅王-超柔無垢白金矽膠旋轉奶瓶刷(小石)-灰-",1,{"$f":"_xlfn.XLOOKUP(C75,'SIMBA LIST'!B:B,'SIMBA LIST'!C:C)","v":{"$error":"#NAME?"}}]
["2024-09-19",{"$f":"_xlfn.XLOOKUP(C76,'SIMBA LIST'!B:B,'SIMBA LIST'!A:A)","v":{"$error":"#NAME?"}},"奶樽刷-小獅王-超柔無垢白金矽膠奶瓶刷(小樹)-綠-",1,{"$f":"_xlfn.XLOOKUP(C76,'SIMBA LIST'!B:B,'SIMBA LIST'!C:C)","v":{"$error":"#NAME?"}}]
["2024-09-19",{"$f":"_xlfn.XLOOKUP(C77,'SIMBA LIST'!B:B,'SIMBA LIST'!A:A)","v":{"$error":"#NAME?"}},"奶樽刷-小獅王-超柔無垢白金矽膠奶瓶刷(小麥)-米-",1,{"$f":"_xlfn.XLOOKUP(C77,'SIMBA LIST'!B:B,'SIMBA LIST'!C:C)","v":{"$error":"#NAME?"}}]
["2024-09-19",{"$f":"_xlfn.XLOOKUP(C78,'SIMBA LIST'!B:B,'SIMBA LIST'!A:A)","v":{"$error":"#NAME?"}},"奶樽刷-小獅王-超柔無垢白金矽膠奶瓶刷(小櫻)-紅-",1,{"$f":"_xlfn.XLOOKUP(C78,'SIMBA LIST'!B:B,'SIMBA LIST'!C:C)","v":{"$error":"#NAME?"}}]
["2024-09-19",{"$f":"_xlfn.XLOOKUP(C79,'SIMBA LIST'!B:B,'SIMBA LIST'!A:A)","v":{"$error":"#NAME?"}},"奶樽刷-小獅王-超柔無垢白金矽膠奶瓶刷(小石)-灰-",1,{"$f":"_xlfn.XLOOKUP(C79,'SIMBA LIST'!B:B,'SIMBA LIST'!C:C)","v":{"$error":"#NAME?"}}]
["2024-09-19",{"$f":"_xlfn.XLOOKUP(C80,'SIMBA LIST'!B:B,'SIMBA LIST'!A:A)","v":{"$error":"#NAME?"}},"-小獅王-矽膠練習牙刷(天空藍)-",2,{"$f":"_xlfn.XLOOKUP(C80,'SIMBA LIST'!B:B,'SIMBA LIST'!C:C)","v":{"$error":"#NAME?"}}]
["2024-09-19",{"$f":"_xlfn.XLOOKUP(C81,'SIMBA LIST'!B:B,'SIMBA LIST'!A:A)","v":{"$error":"#NAME?"}},"-小獅王-矽膠練習牙刷(淘氣綠)-",1,{"$f":"_xlfn.XLOOKUP(C81,'SIMBA LIST'!B:B,'SIMBA LIST'!C:C)","v":{"$error":"#NAME?"}}]
["2024-09-19",{"$f":"_xlfn.XLOOKUP(C82,'SIMBA LIST'!B:B,'SIMBA LIST'!A:A)","v":{"$error":"#NAME?"}},"-小獅王-矽膠練習牙刷(溫暖橘)-",2,{"$f":"_xlfn.XLOOKUP(C82,'SIMBA LIST'!B:B,'SIMBA LIST'!C:C)","v":{"$error":"#NAME?"}}]
["2024-09-19",{"$f":"_xlfn.XLOOKUP(C83,'SIMBA LIST'!B:B,'SIMBA LIST'!A:A)","v":{"$error":"#NAME?"}},"-小獅王-美味兒童叉匙組-杏茶-",1,{"$f":"_xlfn.XLOOKUP(C83,'SIMBA LIST'!B:B,'SIMBA LIST'!C:C)","v":{"$error":"#NAME?"}}]
["2024-09-19",{"$f":"_xlfn.XLOOKUP(C84,'SIMBA LIST'!B:B,'SIMBA LIST'!A:A)","v":{"$error":"#NAME?"}},"-小獅王-美味兒童叉匙組-晨藍-",1,{"$f":"_xlfn.XLOOKUP(C84,'SIMBA LIST'!B:B,'SIMBA LIST'!C:C)","v":{"$error":"#NAME?"}}]
["2024-09-19",{"$f":"_xlfn.XLOOKUP(C85,'SIMBA LIST'!B:B,'SIMBA LIST'!A:A)","v":{"$error":"#NAME?"}},"學習水杯-小獅王-蘊蜜鉑金PPSU防漏滑蓋學習水杯270ml(晨藍)-",1,{"$f":"_xlfn.XLOOKUP(C85,'SIMBA LIST'!B:B,'SIMBA LIST'!C:C)","v":{"$error":"#NAME?"}}]
["2024-09-19",{"$f":"_xlfn.XLOOKUP(C86,'SIMBA LIST'!B:B,'SIMBA LIST'!A:A)","v":{"$error":"#NAME?"}},"學習水杯-小獅王-蘊蜜鉑金PPSU防漏滑蓋學習水杯270ml(栗粉)-",2,{"$f":"_xlfn.XLOOKUP(C86,'SIMBA LIST'!B:B,'SIMBA LIST'!C:C)","v":{"$error":"#NAME?"}}]
["2024-09-19",{"$f":"_xlfn.XLOOKUP(C87,'SIMBA LIST'!B:B,'SIMBA LIST'!A:A)","v":{"$error":"#NAME?"}},"學習水杯-小獅王-蘊蜜鉑金PPSU防漏滑蓋學習水杯270ml(杏茶)-",0,{"$f":"_xlfn.XLOOKUP(C87,'SIMBA LIST'!B:B,'SIMBA LIST'!C:C)","v":{"$error":"#NAME?"}}]
["2024-09-19",{"$f":"_xlfn.XLOOKUP(C88,'SIMBA LIST'!B:B,'SIMBA LIST'!A:A)","v":{"$error":"#NAME?"}},"學習水杯-小獅王-蘊蜜鉑金PPSU防漏滑蓋學習水杯270ml(紫芙)-",2,{"$f":"_xlfn.XLOOKUP(C88,'SIMBA LIST'!B:B,'SIMBA LIST'!C:C)","v":{"$error":"#NAME?"}}]
["2024-09-19",{"$f":"_xlfn.XLOOKUP(C89,'SIMBA LIST'!B:B,'SIMBA LIST'!A:A)","v":{"$error":"#NAME?"}},"學習水杯-小獅王-蘊蜜鉑金PPSU防漏滑蓋學習水杯270ml(綠沐)-",4,{"$f":"_xlfn.XLOOKUP(C89,'SIMBA LIST'!B:B,'SIMBA LIST'!C:C)","v":{"$error":"#NAME?"}}]
["2024-09-19",{"$f":"_xlfn.XLOOKUP(C90,'SIMBA LIST'!B:B,'SIMBA LIST'!A:A)","v":{"$error":"#NAME?"}},"把手奶樽-小獅王-蘊蜜鉑金PPSU寬口吸管把手防脹氣奶瓶270ml(晨藍)-十字M",2,{"$f":"_xlfn.XLOOKUP(C90,'SIMBA LIST'!B:B,'SIMBA LIST'!C:C)","v":{"$error":"#NAME?"}}]
["2024-09-19",{"$f":"_xlfn.XLOOKUP(C91,'SIMBA LIST'!B:B,'SIMBA LIST'!A:A)","v":{"$error":"#NAME?"}},"把手奶樽-小獅王-蘊蜜鉑金PPSU寬口吸管把手防脹氣奶瓶270ml(綠沐)-十字M",3,{"$f":"_xlfn.XLOOKUP(C91,'SIMBA LIST'!B:B,'SIMBA LIST'!C:C)","v":{"$error":"#NAME?"}}]
["2024-09-19",{"$f":"_xlfn.XLOOKUP(C92,'SIMBA LIST'!B:B,'SIMBA LIST'!A:A)","v":{"$error":"#NAME?"}},"把手奶樽-小獅王-蘊蜜鉑金PPSU寬口吸管把手防脹氣奶瓶270ml(栗粉)-十字M",3,{"$f":"_xlfn.XLOOKUP(C92,'SIMBA LIST'!B:B,'SIMBA LIST'!C:C)","v":{"$error":"#NAME?"}}]
["2024-09-19",{"$f":"_xlfn.XLOOKUP(C93,'SIMBA LIST'!B:B,'SIMBA LIST'!A:A)","v":{"$error":"#NAME?"}},"把手奶樽-小獅王-蘊蜜鉑金PPSU寬口吸管把手防脹氣奶瓶270ml(杏茶)-十字M",3,{"$f":"_xlfn.XLOOKUP(C93,'SIMBA LIST'!B:B,'SIMBA LIST'!C:C)","v":{"$error":"#NAME?"}}]
["2024-09-19",{"$f":"_xlfn.XLOOKUP(C94,'SIMBA LIST'!B:B,'SIMBA LIST'!A:A)","v":{"$error":"#NAME?"}},"把手奶樽-小獅王-蘊蜜鉑金PPSU寬口吸管把手防脹氣奶瓶360ml(晨藍)-十字M",3,{"$f":"_xlfn.XLOOKUP(C94,'SIMBA LIST'!B:B,'SIMBA LIST'!C:C)","v":{"$error":"#NAME?"}}]
["2024-09-19",{"$f":"_xlfn.XLOOKUP(C95,'SIMBA LIST'!B:B,'SIMBA LIST'!A:A)","v":{"$error":"#NAME?"}},"把手奶樽-小獅王-蘊蜜鉑金PPSU寬口吸管把手防脹氣奶瓶360ml(杏茶)-十字M",2,{"$f":"_xlfn.XLOOKUP(C95,'SIMBA LIST'!B:B,'SIMBA LIST'!C:C)","v":{"$error":"#NAME?"}}]
["2024-09-19",{"$f":"_xlfn.XLOOKUP(C96,'SIMBA LIST'!B:B,'SIMBA LIST'!A:A)","v":{"$error":"#NAME?"}},"把手奶樽-小獅王-蘊蜜鉑金PPSU寬口吸管把手防脹氣奶瓶360ml(栗粉)-十字M",5,{"$f":"_xlfn.XLOOKUP(C96,'SIMBA LIST'!B:B,'SIMBA LIST'!C:C)","v":{"$error":"#NAME?"}}]
["2024-09-19",{"$f":"_xlfn.XLOOKUP(C97,'SIMBA LIST'!B:B,'SIMBA LIST'!A:A)","v":{"$error":"#NAME?"}},"PPSU 普通奶樽-小獅王-蘊蜜鉑金PPSU寬口防脹氣奶瓶200ml(栗粉)-圓S",3,{"$f":"_xlfn.XLOOKUP(C97,'SIMBA LIST'!B:B,'SIMBA LIST'!C:C)","v":{"$error":"#NAME?"}}]
["2024-09-19",{"$f":"_xlfn.XLOOKUP(C98,'SIMBA LIST'!B:B,'SIMBA LIST'!A:A)","v":{"$error":"#NAME?"}},"PPSU 普通奶樽-小獅王-蘊蜜鉑金PPSU寬口防脹氣奶瓶200ml(紫芙)-圓S",2,{"$f":"_xlfn.XLOOKUP(C98,'SIMBA LIST'!B:B,'SIMBA LIST'!C:C)","v":{"$error":"#NAME?"}}]
["2024-09-19",{"$f":"_xlfn.XLOOKUP(C99,'SIMBA LIST'!B:B,'SIMBA LIST'!A:A)","v":{"$error":"#NAME?"}},"PPSU 普通奶樽-小獅王-蘊蜜鉑金PPSU寬口防脹氣奶瓶200ml(綠沐)-圓S",6,{"$f":"_xlfn.XLOOKUP(C99,'SIMBA LIST'!B:B,'SIMBA LIST'!C:C)","v":{"$error":"#NAME?"}}]
["2024-09-19",{"$f":"_xlfn.XLOOKUP(C100,'SIMBA LIST'!B:B,'SIMBA LIST'!A:A)","v":{"$error":"#NAME?"}},"PPSU 普通奶樽-小獅王-蘊蜜鉑金PPSU寬口防脹氣奶瓶200ml(杏茶)-圓S",3,{"$f":"_xlfn.XLOOKUP(C100,'SIMBA LIST'!B:B,'SIMBA LIST'!C:C)","v":{"$error":"#NAME?"}}]
["2024-09-19",{"$f":"_xlfn.XLOOKUP(C101,'SIMBA LIST'!B:B,'SIMBA LIST'!A:A)","v":{"$error":"#NAME?"}},"PPSU 普通奶樽-小獅王-蘊蜜鉑金PPSU寬口防脹氣奶瓶200ml(晨藍)-圓S",1,{"$f":"_xlfn.XLOOKUP(C101,'SIMBA LIST'!B:B,'SIMBA LIST'!C:C)","v":{"$error":"#NAME?"}}]
["2024-09-19",{"$f":"_xlfn.XLOOKUP(C102,'SIMBA LIST'!B:B,'SIMBA LIST'!A:A)","v":{"$error":"#NAME?"}},"PPSU 普通奶樽-小獅王-蘊蜜鉑金PPSU寬口防脹氣奶瓶270ml(栗粉)-十字M",3,{"$f":"_xlfn.XLOOKUP(C102,'SIMBA LIST'!B:B,'SIMBA LIST'!C:C)","v":{"$error":"#NAME?"}}]
["2024-09-19",{"$f":"_xlfn.XLOOKUP(C103,'SIMBA LIST'!B:B,'SIMBA LIST'!A:A)","v":{"$error":"#NAME?"}},"PPSU 普通奶樽-小獅王-蘊蜜鉑金PPSU寬口防脹氣奶瓶270ml(紫芙)-十字M",1,{"$f":"_xlfn.XLOOKUP(C103,'SIMBA LIST'!B:B,'SIMBA LIST'!C:C)","v":{"$error":"#NAME?"}}]
["2024-09-19",{"$f":"_xlfn.XLOOKUP(C104,'SIMBA LIST'!B:B,'SIMBA LIST'!A:A)","v":{"$error":"#NAME?"}},"PPSU 普通奶樽-小獅王-蘊蜜鉑金PPSU寬口防脹氣奶瓶270ml(綠沐)-十字M",2,{"$f":"_xlfn.XLOOKUP(C104,'SIMBA LIST'!B:B,'SIMBA LIST'!C:C)","v":{"$error":"#NAME?"}}]
["2024-09-19",{"$f":"_xlfn.XLOOKUP(C105,'SIMBA LIST'!B:B,'SIMBA LIST'!A:A)","v":{"$error":"#NAME?"}},"PPSU 普通奶樽-小獅王-蘊蜜鉑金PPSU寬口防脹氣奶瓶270ml(杏茶)-十字M",3,{"$f":"_xlfn.XLOOKUP(C105,'SIMBA LIST'!B:B,'SIMBA LIST'!C:C)","v":{"$error":"#NAME?"}}]
["2024-09-19",{"$f":"_xlfn.XLOOKUP(C106,'SIMBA LIST'!B:B,'SIMBA LIST'!A:A)","v":{"$error":"#NAME?"}},"PPSU 普通奶樽-小獅王-蘊蜜鉑金PPSU寬口防脹氣奶瓶270ml(晨藍)-十字M",2,{"$f":"_xlfn.XLOOKUP(C106,'SIMBA LIST'!B:B,'SIMBA LIST'!C:C)","v":{"$error":"#NAME?"}}]
["2024-09-19",{"$f":"_xlfn.XLOOKUP(C107,'SIMBA LIST'!B:B,'SIMBA LIST'!A:A)","v":{"$error":"#NAME?"}},"PPSU 普通奶樽-小獅王-蘊蜜鉑金PPSU寬口防脹氣奶瓶360ml(晨藍)-十字M",4,{"$f":"_xlfn.XLOOKUP(C107,'SIMBA LIST'!B:B,'SIMBA LIST'!C:C)","v":{"$error":"#NAME?"}}]
["2024-09-19",{"$f":"_xlfn.XLOOKUP(C108,'SIMBA LIST'!B:B,'SIMBA LIST'!A:A)","v":{"$error":"#NAME?"}},"PPSU 普通奶樽-小獅王-蘊蜜鉑金PPSU寬口防脹氣奶瓶360ml(綠沐)-十字M",5,{"$f":"_xlfn.XLOOKUP(C108,'SIMBA LIST'!B:B,'SIMBA LIST'!C:C)","v":{"$error":"#NAME?"}}]
["2024-09-19",{"$f":"_xlfn.XLOOKUP(C109,'SIMBA LIST'!B:B,'SIMBA LIST'!A:A)","v":{"$error":"#NAME?"}},"PPSU 普通奶樽-小獅王-蘊蜜鉑金PPSU寬口防脹氣奶瓶360ml(紫芙)-十字M",5,{"$f":"_xlfn.XLOOKUP(C109,'SIMBA LIST'!B:B,'SIMBA LIST'!C:C)","v":{"$error":"#NAME?"}}]
["2024-09-19",{"$f":"_xlfn.XLOOKUP(C110,'SIMBA LIST'!B:B,'SIMBA LIST'!A:A)","v":{"$error":"#NAME?"}},"PPSU 普通奶樽-小獅王-蘊蜜鉑金PPSU寬口防脹氣奶瓶360ml(栗粉)-十字M",5,{"$f":"_xlfn.XLOOKUP(C110,'SIMBA LIST'!B:B,'SIMBA LIST'!C:C)","v":{"$error":"#NAME?"}}]
["2024-09-19",{"$f":"_xlfn.XLOOKUP(C111,'SIMBA LIST'!B:B,'SIMBA LIST'!A:A)","v":{"$error":"#NAME?"}},"把手奶樽-小獅王-蘊蜜鉑金PPSU寬口吸管把手防脹氣奶瓶200ml(栗粉)-十字S",3,{"$f":"_xlfn.XLOOKUP(C111,'SIMBA LIST'!B:B,'SIMBA LIST'!C:C)","v":{"$error":"#NAME?"}}]
["2024-09-19",{"$f":"_xlfn.XLOOKUP(C112,'SIMBA LIST'!B:B,'SIMBA LIST'!A:A)","v":{"$error":"#NAME?"}},"把手奶樽-小獅王-蘊蜜鉑金PPSU寬口吸管把手防脹氣奶瓶200ml(晨藍)-十字S",2,{"$f":"_xlfn.XLOOKUP(C112,'SIMBA LIST'!B:B,'SIMBA LIST'!C:C)","v":{"$error":"#NAME?"}}]
["2024-09-19",{"$f":"_xlfn.XLOOKUP(C113,'SIMBA LIST'!B:B,'SIMBA LIST'!A:A)","v":{"$error":"#NAME?"}},"把手奶樽-小獅王-蘊蜜鉑金PPSU寬口吸管把手防脹氣奶瓶200ml(杏茶)-十字S",1,{"$f":"_xlfn.XLOOKUP(C113,'SIMBA LIST'!B:B,'SIMBA LIST'!C:C)","v":{"$error":"#NAME?"}}]
["2024-09-19",{"$f":"_xlfn.XLOOKUP(C114,'SIMBA LIST'!B:B,'SIMBA LIST'!A:A)","v":{"$error":"#NAME?"}},"把手奶樽-小獅王-蘊蜜鉑金PPSU寬口吸管把手防脹氣奶瓶200ml(綠沐)-十字S",2,{"$f":"_xlfn.XLOOKUP(C114,'SIMBA LIST'!B:B,'SIMBA LIST'!C:C)","v":{"$error":"#NAME?"}}]