{"text_format":"1","workbook":"xlsx","n_sheets":7,"sheets":["訂單","商品","資料庫","客戶","SEND","訂貨","庫存計算"],"not_rendered":{"charts":0,"images":1,"macros":1,"external_links":0,"defined_names":5,"comments":0,"pivot_tables":2},"unopened":[],"bounds":{"document_bytes":16777216,"sheet_cells":100000,"rows_first":2000,"rows_last":500,"rows_between":2000,"halvings":0,"cell_chars":16384,"cell_head_chars":4096},"cells_cut":0,"cells_raw":0,"read":"whole","date_system":"1900"}

{"sheet":"訂單","index":0,"n_rows":24,"n_cols":7,"rows_kept":24,"cut":false,"hidden":false,"merged":[[23,2,23,6],[2,6,2,7]]}
[]
[]
[null,null,"INVOICE",null,null,null,"WWW.1683KIDS.COM\nIG: 1683_KIDS"]
[]
[null,null,"客戶電話"]
[null,null,null,null,null,"訂單編號",129]
[null,null,null,null,null,"訂單日期","2024-10-14"]
[]
[null,null,"編號","產品項目","數量","單價","金額"]
[null,null,{"$f":"_xlfn.XLOOKUP(D10,表格2[產品],表格2[編號],\"\")","v":""},null,null,{"$f":"IFERROR(VLOOKUP(D10,表格2[[產品]:[單價]],3,0),\"\")","v":""},{"$f":"IF(OR(E10=\"\",F10=\"\"),\"\",E10*F10)","v":""}]
[null,null,{"$f":"_xlfn.XLOOKUP(D11,表格2[產品],表格2[編號],\"\")","v":""},null,null,{"$f":"IFERROR(VLOOKUP(D11,表格2[[產品]:[單價]],3,0),\"\")","v":""},{"$f":"IF(OR(E11=\"\",F11=\"\"),\"\",E11*F11)","v":""}]
[null,null,{"$f":"_xlfn.XLOOKUP(D12,表格2[產品],表格2[編號],\"\")","v":""},null,null,{"$f":"IFERROR(VLOOKUP(D12,表格2[[產品]:[單價]],3,0),\"\")","v":""},""]
[null,null,{"$f":"_xlfn.XLOOKUP(D13,表格2[產品],表格2[編號],\"\")","v":""},null,null,{"$f":"IFERROR(VLOOKUP(D13,表格2[[產品]:[單價]],3,0),\"\")","v":""},""]
[null,null,{"$f":"_xlfn.XLOOKUP(D14,表格2[產品],表格2[編號],\"\")","v":""},null,null,{"$f":"IFERROR(VLOOKUP(D14,表格2[[產品]:[單價]],3,0),\"\")","v":""},""]
[null,null,{"$f":"_xlfn.XLOOKUP(D15,表格2[產品],表格2[編號],\"\")","v":""},null,null,{"$f":"IFERROR(VLOOKUP(D15,表格2[[產品]:[單價]],3,0),\"\")","v":""},""]
[null,null,{"$f":"_xlfn.XLOOKUP(D16,表格2[產品],表格2[編號],\"\")","v":""},null,null,{"$f":"IFERROR(VLOOKUP(D16,表格2[[產品]:[單價]],3,0),\"\")","v":""},""]
[null,null,null,null,null,"總金額",{"$f":"SUM(G10:G16)","v":0}]
[null,null,"付款方式:"]
[null,null,"FPS 轉數快: 59831890",null,null,"收件方式:"]
[null,null,"PAYME: 5983180",null,null,"順豐到付"]
[null,null,"ALIPAY: 59831890",null,null,"大埔廣場自提點 (需提前約時間)"]
[]
[null,null,"為免出現棄單情況,請於24小時內或截單前轉數,入數後請whatsapp 收據,否則會視訂單無效🙏🏻"]
[null,null,"訂單細則:\n1.\t訂單已確立後,不可更改尺碼或款式\n2.\t預訂產品有機會延誤或早到,不接受貨期延誤作退款原因\n3.\t貨品不設退換, 寄出前會檢查清楚才寄出\n4.\t寄出前會WHATSAPP拍攝寄出的產品, 請檢查款式是否正確\n5.\t如發現產品有任何問題,請簽收後48小時內通知,逾期通知恕不處理"]

{"sheet":"商品","index":1,"n_rows":441,"n_cols":11,"rows_kept":441,"cut":false,"hidden":false,"merged":[]}
["編號","產品","入貨價","單價","出POST日期","到貨日","狀態","ITEM","SIZE","顏色","貨源"]
["A0001",{"$f":"表格2[[#This Row],[ITEM]]&\"-\"&表格2[[#This Row],[SIZE]]&\"-\"&表格2[[#This Row],[顏色]]","v":"三合一-粉100-"},null,139,null,null,null,"三合一","粉100"]
["A0001",{"$f":"表格2[[#This Row],[ITEM]]&\"-\"&表格2[[#This Row],[SIZE]]&\"-\"&表格2[[#This Row],[顏色]]","v":"三合一-粉160-"},null,139,null,null,null,"三合一","粉160"]
["A0001",{"$f":"表格2[[#This Row],[ITEM]]&\"-\"&表格2[[#This Row],[SIZE]]&\"-\"&表格2[[#This Row],[顏色]]","v":"三合一-粉80-"},null,139,null,null,null,"三合一","粉80"]
["A0001",{"$f":"表格2[[#This Row],[ITEM]]&\"-\"&表格2[[#This Row],[SIZE]]&\"-\"&表格2[[#This Row],[顏色]]","v":"三合一-粉90-"},null,139,null,null,null,"三合一","粉90"]
["A0001",{"$f":"表格2[[#This Row],[ITEM]]&\"-\"&表格2[[#This Row],[SIZE]]&\"-\"&表格2[[#This Row],[顏色]]","v":"三合一-橙100-"},null,139,null,null,null,"三合一","橙100"]
["A0001",{"$f":"表格2[[#This Row],[ITEM]]&\"-\"&表格2[[#This Row],[SIZE]]&\"-\"&表格2[[#This Row],[顏色]]","v":"三合一-橙110-"},null,139,null,null,null,"三合一","橙110"]
["A0001",{"$f":"表格2[[#This Row],[ITEM]]&\"-\"&表格2[[#This Row],[SIZE]]&\"-\"&表格2[[#This Row],[顏色]]","v":"三合一-橙90-"},null,139,null,null,null,"三合一","橙90"]
["A0001",{"$f":"表格2[[#This Row],[ITEM]]&\"-\"&表格2[[#This Row],[SIZE]]&\"-\"&表格2[[#This Row],[顏色]]","v":"三合一-藍100-"},null,139,null,null,null,"三合一","藍100"]
["A0001",{"$f":"表格2[[#This Row],[ITEM]]&\"-\"&表格2[[#This Row],[SIZE]]&\"-\"&表格2[[#This Row],[顏色]]","v":"三合一-藍160-"},null,139,null,null,null,"三合一","藍160"]
["A0001",{"$f":"表格2[[#This Row],[ITEM]]&\"-\"&表格2[[#This Row],[SIZE]]&\"-\"&表格2[[#This Row],[顏色]]","v":"三合一-藍80-"},null,139,null,null,null,"三合一","藍80"]
["A0001",{"$f":"表格2[[#This Row],[ITEM]]&\"-\"&表格2[[#This Row],[SIZE]]&\"-\"&表格2[[#This Row],[顏色]]","v":"三合一-藍90-"},null,139,null,null,null,"三合一","藍90"]
["A0002",{"$f":"表格2[[#This Row],[ITEM]]&\"-\"&表格2[[#This Row],[SIZE]]&\"-\"&表格2[[#This Row],[顏色]]","v":"小兵-18-24-"},null,38,null,null,null,"小兵","18-24"]
["A0003",{"$f":"表格2[[#This Row],[ITEM]]&\"-\"&表格2[[#This Row],[SIZE]]&\"-\"&表格2[[#This Row],[顏色]]","v":"小魔怪-100-"},null,85,null,null,null,"小魔怪",100]
["A0003",{"$f":"表格2[[#This Row],[ITEM]]&\"-\"&表格2[[#This Row],[SIZE]]&\"-\"&表格2[[#This Row],[顏色]]","v":"小魔怪-120-"},null,85,null,null,null,"小魔怪",120]
["A0004",{"$f":"表格2[[#This Row],[ITEM]]&\"-\"&表格2[[#This Row],[SIZE]]&\"-\"&表格2[[#This Row],[顏色]]","v":"毛衛衣-MELODY80-"},null,69,null,null,null,"毛衛衣","MELODY80"]
["A0004",{"$f":"表格2[[#This Row],[ITEM]]&\"-\"&表格2[[#This Row],[SIZE]]&\"-\"&表格2[[#This Row],[顏色]]","v":"毛衛衣-MELODY90-"},null,null,null,null,null,"毛衛衣","MELODY90"]
["A0005",{"$f":"表格2[[#This Row],[ITEM]]&\"-\"&表格2[[#This Row],[SIZE]]&\"-\"&表格2[[#This Row],[顏色]]","v":"水怪滿印set-90-"},null,75,null,null,null,"水怪滿印set",90]
["A0006",{"$f":"表格2[[#This Row],[ITEM]]&\"-\"&表格2[[#This Row],[SIZE]]&\"-\"&表格2[[#This Row],[顏色]]","v":"印章--"},null,65,null,null,null,"印章"]
["A0007",{"$f":"表格2[[#This Row],[ITEM]]&\"-\"&表格2[[#This Row],[SIZE]]&\"-\"&表格2[[#This Row],[顏色]]","v":"吊帶褲-水110-"},null,79,null,null,null,"吊帶褲","水110"]
["A0007",{"$f":"表格2[[#This Row],[ITEM]]&\"-\"&表格2[[#This Row],[SIZE]]&\"-\"&表格2[[#This Row],[顏色]]","v":"吊帶褲-水90-"},null,79,null,null,null,"吊帶褲","水90"]
["A0007",{"$f":"表格2[[#This Row],[ITEM]]&\"-\"&表格2[[#This Row],[SIZE]]&\"-\"&表格2[[#This Row],[顏色]]","v":"吊帶褲-HT90-"},null,79,null,null,null,"吊帶褲","HT90"]
["A0008",{"$f":"表格2[[#This Row],[ITEM]]&\"-\"&表格2[[#This Row],[SIZE]]&\"-\"&表格2[[#This Row],[顏色]]","v":"安撫巾-水-"},null,null,null,null,null,"安撫巾","水"]
["A0008",{"$f":"表格2[[#This Row],[ITEM]]&\"-\"&表格2[[#This Row],[SIZE]]&\"-\"&表格2[[#This Row],[顏色]]","v":"安撫巾-玉-"},null,null,null,null,null,"安撫巾","玉"]
["A0008",{"$f":"表格2[[#This Row],[ITEM]]&\"-\"&表格2[[#This Row],[SIZE]]&\"-\"&表格2[[#This Row],[顏色]]","v":"安撫巾-KU-"},null,null,null,null,null,"安撫巾","KU"]
["A0009",{"$f":"表格2[[#This Row],[ITEM]]&\"-\"&表格2[[#This Row],[SIZE]]&\"-\"&表格2[[#This Row],[顏色]]","v":"冷衫-白90-"},null,null,null,null,null,"冷衫","白90"]
["A0009",{"$f":"表格2[[#This Row],[ITEM]]&\"-\"&表格2[[#This Row],[SIZE]]&\"-\"&表格2[[#This Row],[顏色]]","v":"冷衫-粉90-"},null,null,null,null,null,"冷衫","粉90"]
["A0010",{"$f":"表格2[[#This Row],[ITEM]]&\"-\"&表格2[[#This Row],[SIZE]]&\"-\"&表格2[[#This Row],[顏色]]","v":"冷衫-白-90-"},null,null,null,null,null,"冷衫-白",90]
["A0011",{"$f":"表格2[[#This Row],[ITEM]]&\"-\"&表格2[[#This Row],[SIZE]]&\"-\"&表格2[[#This Row],[顏色]]","v":"冷衫-啡-90-"},null,null,null,null,null,"冷衫-啡",90]
["A0012",{"$f":"表格2[[#This Row],[ITEM]]&\"-\"&表格2[[#This Row],[SIZE]]&\"-\"&表格2[[#This Row],[顏色]]","v":"和服-粉90-"},null,null,null,null,null,"和服","粉90"]
["A0013",{"$f":"表格2[[#This Row],[ITEM]]&\"-\"&表格2[[#This Row],[SIZE]]&\"-\"&表格2[[#This Row],[顏色]]","v":"姓名貼--"},null,null,null,null,null,"姓名貼"]
["A0014",{"$f":"表格2[[#This Row],[ITEM]]&\"-\"&表格2[[#This Row],[SIZE]]&\"-\"&表格2[[#This Row],[顏色]]","v":"知母時--"},null,null,null,null,null,"知母時"]
["A0015",{"$f":"表格2[[#This Row],[ITEM]]&\"-\"&表格2[[#This Row],[SIZE]]&\"-\"&表格2[[#This Row],[顏色]]","v":"花邊冷衫-白90-"},null,null,null,null,null,"花邊冷衫","白90"]
["A0015",{"$f":"表格2[[#This Row],[ITEM]]&\"-\"&表格2[[#This Row],[SIZE]]&\"-\"&表格2[[#This Row],[顏色]]","v":"花邊冷衫-粉100-"},null,null,null,null,null,"花邊冷衫","粉100"]
["A0015",{"$f":"表格2[[#This Row],[ITEM]]&\"-\"&表格2[[#This Row],[SIZE]]&\"-\"&表格2[[#This Row],[顏色]]","v":"花邊冷衫-粉90-"},null,null,null,null,null,"花邊冷衫","粉90"]
["A0016",{"$f":"表格2[[#This Row],[ITEM]]&\"-\"&表格2[[#This Row],[SIZE]]&\"-\"&表格2[[#This Row],[顏色]]","v":"星月亮水手-衛衣-灰90-"},null,null,null,null,null,"星月亮水手-衛衣","灰90"]
["A0016",{"$f":"表格2[[#This Row],[ITEM]]&\"-\"&表格2[[#This Row],[SIZE]]&\"-\"&表格2[[#This Row],[顏色]]","v":"星月亮水手-衛衣-藍90-"},null,null,null,null,null,"星月亮水手-衛衣","藍90"]
["A0017",{"$f":"表格2[[#This Row],[ITEM]]&\"-\"&表格2[[#This Row],[SIZE]]&\"-\"&表格2[[#This Row],[顏色]]","v":"星月亮水手-PAT-藍100-"},null,null,null,null,null,"星月亮水手-PAT","藍100"]
["A0018",{"$f":"表格2[[#This Row],[ITEM]]&\"-\"&表格2[[#This Row],[SIZE]]&\"-\"&表格2[[#This Row],[顏色]]","v":"秋褲2條裝-A-90-"},null,null,null,null,null,"秋褲2條裝-A",90]
["A0019",{"$f":"表格2[[#This Row],[ITEM]]&\"-\"&表格2[[#This Row],[SIZE]]&\"-\"&表格2[[#This Row],[顏色]]","v":"面包超人袋--"},null,null,null,null,null,"面包超人袋"]
["A0020",{"$f":"表格2[[#This Row],[ITEM]]&\"-\"&表格2[[#This Row],[SIZE]]&\"-\"&表格2[[#This Row],[顏色]]","v":"唐老鴨背包--"},null,null,null,null,null,"唐老鴨背包"]
["A0021",{"$f":"表格2[[#This Row],[ITEM]]&\"-\"&表格2[[#This Row],[SIZE]]&\"-\"&表格2[[#This Row],[顏色]]","v":"唐老鴨連身-66-"},null,null,null,null,null,"唐老鴨連身",66]
["A0021",{"$f":"表格2[[#This Row],[ITEM]]&\"-\"&表格2[[#This Row],[SIZE]]&\"-\"&表格2[[#This Row],[顏色]]","v":"唐老鴨連身-73-"},null,null,null,null,null,"唐老鴨連身",73]
["A0021",{"$f":"表格2[[#This Row],[ITEM]]&\"-\"&表格2[[#This Row],[SIZE]]&\"-\"&表格2[[#This Row],[顏色]]","v":"唐老鴨連身-80-"},null,null,null,null,null,"唐老鴨連身",80]
["A0021",{"$f":"表格2[[#This Row],[ITEM]]&\"-\"&表格2[[#This Row],[SIZE]]&\"-\"&表格2[[#This Row],[顏色]]","v":"唐老鴨連身-90-"},null,null,null,null,null,"唐老鴨連身",90]
["A0021",{"$f":"表格2[[#This Row],[ITEM]]&\"-\"&表格2[[#This Row],[SIZE]]&\"-\"&表格2[[#This Row],[顏色]]","v":"唐老鴨連身-100-"},null,null,null,null,null,"唐老鴨連身",100]
["A0022",{"$f":"表格2[[#This Row],[ITEM]]&\"-\"&表格2[[#This Row],[SIZE]]&\"-\"&表格2[[#This Row],[顏色]]","v":"現-牛仔花花裙-90-"},null,null,null,null,null,"現-牛仔花花裙",90]
["A0023",{"$f":"表格2[[#This Row],[ITEM]]&\"-\"&表格2[[#This Row],[SIZE]]&\"-\"&表格2[[#This Row],[顏色]]","v":"現-淺藍史迪仔aloha-3-6-"},null,null,null,null,null,"現-淺藍史迪仔aloha","3-6"]
["A0024",{"$f":"表格2[[#This Row],[ITEM]]&\"-\"&表格2[[#This Row],[SIZE]]&\"-\"&表格2[[#This Row],[顏色]]","v":"現-綠龍長袖-90--"},null,null,null,null,null,"現-綠龍長袖-90"]
["A0025",{"$f":"表格2[[#This Row],[ITEM]]&\"-\"&表格2[[#This Row],[SIZE]]&\"-\"&表格2[[#This Row],[顏色]]","v":"現-george-滿印littlemonkey-白-95-"},null,null,null,null,null,"現-george-滿印littlemonkey-白",95]
["A0026",{"$f":"表格2[[#This Row],[ITEM]]&\"-\"&表格2[[#This Row],[SIZE]]&\"-\"&表格2[[#This Row],[顏色]]","v":"單眼仔-包80-"},null,null,null,null,null,"單眼仔","包80"]
["A0026",{"$f":"表格2[[#This Row],[ITEM]]&\"-\"&表格2[[#This Row],[SIZE]]&\"-\"&表格2[[#This Row],[顏色]]","v":"單眼仔-衛100-"},null,null,null,null,null,"單眼仔","衛100"]
["A0026",{"$f":"表格2[[#This Row],[ITEM]]&\"-\"&表格2[[#This Row],[SIZE]]&\"-\"&表格2[[#This Row],[顏色]]","v":"單眼仔-衛130-"},null,null,null,null,null,"單眼仔","衛130"]
["A0027",{"$f":"表格2[[#This Row],[ITEM]]&\"-\"&表格2[[#This Row],[SIZE]]&\"-\"&表格2[[#This Row],[顏色]]","v":"間條連身-青90-"},null,null,null,null,null,"間條連身","青90"]
["A0027",{"$f":"表格2[[#This Row],[ITEM]]&\"-\"&表格2[[#This Row],[SIZE]]&\"-\"&表格2[[#This Row],[顏色]]","v":"間條連身-MELODY90-"},null,null,null,null,null,"間條連身","MELODY90"]
["A0028",{"$f":"表格2[[#This Row],[ITEM]]&\"-\"&表格2[[#This Row],[SIZE]]&\"-\"&表格2[[#This Row],[顏色]]","v":"獅子外套-90-"},null,null,null,null,null,"獅子外套",90]
["A0028",{"$f":"表格2[[#This Row],[ITEM]]&\"-\"&表格2[[#This Row],[SIZE]]&\"-\"&表格2[[#This Row],[顏色]]","v":"獅子外套-100-"},null,null,null,null,null,"獅子外套",100]
["A0029",{"$f":"表格2[[#This Row],[ITEM]]&\"-\"&表格2[[#This Row],[SIZE]]&\"-\"&表格2[[#This Row],[顏色]]","v":"獅子褲-90-"},null,null,null,null,null,"獅子褲",90]
["A0029",{"$f":"表格2[[#This Row],[ITEM]]&\"-\"&表格2[[#This Row],[SIZE]]&\"-\"&表格2[[#This Row],[顏色]]","v":"獅子褲-100-"},null,null,null,null,null,"獅子褲",100]
["A0030",{"$f":"表格2[[#This Row],[ITEM]]&\"-\"&表格2[[#This Row],[SIZE]]&\"-\"&表格2[[#This Row],[顏色]]","v":"睡衣SET B-90-"},null,null,null,null,null,"睡衣SET B",90]
["A0031",{"$f":"表格2[[#This Row],[ITEM]]&\"-\"&表格2[[#This Row],[SIZE]]&\"-\"&表格2[[#This Row],[顏色]]","v":"碎花衫-100-"},null,null,null,null,null,"碎花衫",100]
["A0032",{"$f":"表格2[[#This Row],[ITEM]]&\"-\"&表格2[[#This Row],[SIZE]]&\"-\"&表格2[[#This Row],[顏色]]","v":"聖誕老人連身-70-"},null,null,null,null,null,"聖誕老人連身",70]
["A0033",{"$f":"表格2[[#This Row],[ITEM]]&\"-\"&表格2[[#This Row],[SIZE]]&\"-\"&表格2[[#This Row],[顏色]]","v":"聖誕老人裙-100-"},null,null,null,null,null,"聖誕老人裙",100]
["A0034",{"$f":"表格2[[#This Row],[ITEM]]&\"-\"&表格2[[#This Row],[SIZE]]&\"-\"&表格2[[#This Row],[顏色]]","v":"聖誕鹿-80-"},null,null,null,null,null,"聖誕鹿",80]
["A0034",{"$f":"表格2[[#This Row],[ITEM]]&\"-\"&表格2[[#This Row],[SIZE]]&\"-\"&表格2[[#This Row],[顏色]]","v":"聖誕鹿-90-"},null,null,null,null,null,"聖誕鹿",90]
["A0034",{"$f":"表格2[[#This Row],[ITEM]]&\"-\"&表格2[[#This Row],[SIZE]]&\"-\"&表格2[[#This Row],[顏色]]","v":"聖誕鹿-100-"},null,null,null,null,null,"聖誕鹿",100]
["A0034",{"$f":"表格2[[#This Row],[ITEM]]&\"-\"&表格2[[#This Row],[SIZE]]&\"-\"&表格2[[#This Row],[顏色]]","v":"聖誕鹿-120-"},null,null,null,null,null,"聖誕鹿",120]
["A0035",{"$f":"表格2[[#This Row],[ITEM]]&\"-\"&表格2[[#This Row],[SIZE]]&\"-\"&表格2[[#This Row],[顏色]]","v":"聖誕樹-80-"},null,null,null,null,null,"聖誕樹",80]
["A0035",{"$f":"表格2[[#This Row],[ITEM]]&\"-\"&表格2[[#This Row],[SIZE]]&\"-\"&表格2[[#This Row],[顏色]]","v":"聖誕樹-90-"},null,null,null,null,null,"聖誕樹",90]
["A0035",{"$f":"表格2[[#This Row],[ITEM]]&\"-\"&表格2[[#This Row],[SIZE]]&\"-\"&表格2[[#This Row],[顏色]]","v":"聖誕樹-100-"},null,null,null,null,null,"聖誕樹",100]
["A0036",{"$f":"表格2[[#This Row],[ITEM]]&\"-\"&表格2[[#This Row],[SIZE]]&\"-\"&表格2[[#This Row],[顏色]]","v":"滿印熊-衛-白100-"},null,null,null,null,null,"滿印熊-衛","白100"]
["A0037",{"$f":"表格2[[#This Row],[ITEM]]&\"-\"&表格2[[#This Row],[SIZE]]&\"-\"&表格2[[#This Row],[顏色]]","v":"滿印熊-PAT-白100-"},null,null,null,null,null,"滿印熊-PAT","白100"]
["A0037",{"$f":"表格2[[#This Row],[ITEM]]&\"-\"&表格2[[#This Row],[SIZE]]&\"-\"&表格2[[#This Row],[顏色]]","v":"滿印熊-PAT-啡80-"},null,null,null,null,null,"滿印熊-PAT","啡80"]
["A0038",{"$f":"表格2[[#This Row],[ITEM]]&\"-\"&表格2[[#This Row],[SIZE]]&\"-\"&表格2[[#This Row],[顏色]]","v":"福袋B-110-"},null,null,null,null,null,"福袋B",110]
["A0038",{"$f":"表格2[[#This Row],[ITEM]]&\"-\"&表格2[[#This Row],[SIZE]]&\"-\"&表格2[[#This Row],[顏色]]","v":"福袋D-90-"},null,null,null,null,null,"福袋D",90]
["A0038",{"$f":"表格2[[#This Row],[ITEM]]&\"-\"&表格2[[#This Row],[SIZE]]&\"-\"&表格2[[#This Row],[顏色]]","v":"福袋D-140-"},null,null,null,null,null,"福袋D",140]
["A0039",{"$f":"表格2[[#This Row],[ITEM]]&\"-\"&表格2[[#This Row],[SIZE]]&\"-\"&表格2[[#This Row],[顏色]]","v":"綠仙子SET-90-"},null,null,null,null,null,"綠仙子SET",90]
["A0040",{"$f":"表格2[[#This Row],[ITEM]]&\"-\"&表格2[[#This Row],[SIZE]]&\"-\"&表格2[[#This Row],[顏色]]","v":"豬仔-包70-"},null,null,null,null,null,"豬仔","包70"]
["A0040",{"$f":"表格2[[#This Row],[ITEM]]&\"-\"&表格2[[#This Row],[SIZE]]&\"-\"&表格2[[#This Row],[顏色]]","v":"豬仔-衛90-"},null,null,null,null,null,"豬仔","衛90"]
["A0041",{"$f":"表格2[[#This Row],[ITEM]]&\"-\"&表格2[[#This Row],[SIZE]]&\"-\"&表格2[[#This Row],[顏色]]","v":"豬仔連身-80-"},null,null,null,null,null,"豬仔連身",80]
["A0041",{"$f":"表格2[[#This Row],[ITEM]]&\"-\"&表格2[[#This Row],[SIZE]]&\"-\"&表格2[[#This Row],[顏色]]","v":"豬仔連身-90-"},null,null,null,null,null,"豬仔連身",90]
["A0042",{"$f":"表格2[[#This Row],[ITEM]]&\"-\"&表格2[[#This Row],[SIZE]]&\"-\"&表格2[[#This Row],[顏色]]","v":"褲-啡100-"},null,null,null,null,null,"褲","啡100"]
["A0043",{"$f":"表格2[[#This Row],[ITEM]]&\"-\"&表格2[[#This Row],[SIZE]]&\"-\"&表格2[[#This Row],[顏色]]","v":"頸巾-兔-"},null,null,null,null,null,"頸巾","兔"]
["A0043",{"$f":"表格2[[#This Row],[ITEM]]&\"-\"&表格2[[#This Row],[SIZE]]&\"-\"&表格2[[#This Row],[顏色]]","v":"頸巾-熊-"},null,null,null,null,null,"頸巾","熊"]
["A0044",{"$f":"表格2[[#This Row],[ITEM]]&\"-\"&表格2[[#This Row],[SIZE]]&\"-\"&表格2[[#This Row],[顏色]]","v":"點點筆--"},null,null,null,null,null,"點點筆"]
["A0045",{"$f":"表格2[[#This Row],[ITEM]]&\"-\"&表格2[[#This Row],[SIZE]]&\"-\"&表格2[[#This Row],[顏色]]","v":"蠟筆--"},null,null,null,null,null,"蠟筆"]
["A0046",{"$f":"表格2[[#This Row],[ITEM]]&\"-\"&表格2[[#This Row],[SIZE]]&\"-\"&表格2[[#This Row],[顏色]]","v":"bb 防曬lotion--"},null,null,null,null,null,"bb 防曬lotion"]
["A0047",{"$f":"表格2[[#This Row],[ITEM]]&\"-\"&表格2[[#This Row],[SIZE]]&\"-\"&表格2[[#This Row],[顏色]]","v":"BEAR BEAR 冷衫-100-"},null,null,null,null,null,"BEAR BEAR 冷衫",100]
["A0047",{"$f":"表格2[[#This Row],[ITEM]]&\"-\"&表格2[[#This Row],[SIZE]]&\"-\"&表格2[[#This Row],[顏色]]","v":"BEAR BEAR 冷衫-110-"},null,null,null,null,null,"BEAR BEAR 冷衫",110]
["A0048",{"$f":"表格2[[#This Row],[ITEM]]&\"-\"&表格2[[#This Row],[SIZE]]&\"-\"&表格2[[#This Row],[顏色]]","v":"BEAR BEAR 直間-110-"},null,null,null,null,null,"BEAR BEAR 直間",110]
["A0049",{"$f":"表格2[[#This Row],[ITEM]]&\"-\"&表格2[[#This Row],[SIZE]]&\"-\"&表格2[[#This Row],[顏色]]","v":"BEAR BEAR 風嬲-110-"},null,null,null,null,null,"BEAR BEAR 風嬲",110]
["A0049",{"$f":"表格2[[#This Row],[ITEM]]&\"-\"&表格2[[#This Row],[SIZE]]&\"-\"&表格2[[#This Row],[顏色]]","v":"BEAR BEAR 風嬲-120-"},null,null,null,null,null,"BEAR BEAR 風嬲",120]
["A0050",{"$f":"表格2[[#This Row],[ITEM]]&\"-\"&表格2[[#This Row],[SIZE]]&\"-\"&表格2[[#This Row],[顏色]]","v":"CARE BEAR 毛毛衛衣-白90-"},null,null,null,null,null,"CARE BEAR 毛毛衛衣","白90"]
["A0051",{"$f":"表格2[[#This Row],[ITEM]]&\"-\"&表格2[[#This Row],[SIZE]]&\"-\"&表格2[[#This Row],[顏色]]","v":"CARE BEAR 家居親子裝-粉90-"},null,null,null,null,null,"CARE BEAR 家居親子裝","粉90"]
["A0051",{"$f":"表格2[[#This Row],[ITEM]]&\"-\"&表格2[[#This Row],[SIZE]]&\"-\"&表格2[[#This Row],[顏色]]","v":"CARE BEAR 家居親子裝-粉L-"},null,null,null,null,null,"CARE BEAR 家居親子裝","粉L"]
["A0052",{"$f":"表格2[[#This Row],[ITEM]]&\"-\"&表格2[[#This Row],[SIZE]]&\"-\"&表格2[[#This Row],[顏色]]","v":"CARE BEAR C1-藍100-"},null,null,null,null,null,"CARE BEAR C1","藍100"]
["A0053",{"$f":"表格2[[#This Row],[ITEM]]&\"-\"&表格2[[#This Row],[SIZE]]&\"-\"&表格2[[#This Row],[顏色]]","v":"CART衛衣有帽-110-"},null,null,null,null,null,"CART衛衣有帽",110]
["A0053",{"$f":"表格2[[#This Row],[ITEM]]&\"-\"&表格2[[#This Row],[SIZE]]&\"-\"&表格2[[#This Row],[顏色]]","v":"CART衛衣有帽-藍L-"},null,null,null,null,null,"CART衛衣有帽","藍L"]
["A0053",{"$f":"表格2[[#This Row],[ITEM]]&\"-\"&表格2[[#This Row],[SIZE]]&\"-\"&表格2[[#This Row],[顏色]]","v":"CART衛衣有帽-藍S-"},null,null,null,null,null,"CART衛衣有帽","藍S"]
["A0054",{"$f":"表格2[[#This Row],[ITEM]]&\"-\"&表格2[[#This Row],[SIZE]]&\"-\"&表格2[[#This Row],[顏色]]","v":"cool kids 舒緩膏--"},null,null,null,null,null,"cool kids 舒緩膏"]
["A0055",{"$f":"表格2[[#This Row],[ITEM]]&\"-\"&表格2[[#This Row],[SIZE]]&\"-\"&表格2[[#This Row],[顏色]]","v":"DTD車帶--"},null,null,null,null,null,"DTD車帶"]
["A0056",{"$f":"表格2[[#This Row],[ITEM]]&\"-\"&表格2[[#This Row],[SIZE]]&\"-\"&表格2[[#This Row],[顏色]]","v":"GAP 連身灰-90-"},null,null,null,null,null,"GAP 連身灰",90]
["A0056",{"$f":"表格2[[#This Row],[ITEM]]&\"-\"&表格2[[#This Row],[SIZE]]&\"-\"&表格2[[#This Row],[顏色]]","v":"GAP 連身灰-100-"},null,null,null,null,null,"GAP 連身灰",100]
["A0056",{"$f":"表格2[[#This Row],[ITEM]]&\"-\"&表格2[[#This Row],[SIZE]]&\"-\"&表格2[[#This Row],[顏色]]","v":"GAP 連身米-80-"},null,null,null,null,null,"GAP 連身米",80]
["A0056",{"$f":"表格2[[#This Row],[ITEM]]&\"-\"&表格2[[#This Row],[SIZE]]&\"-\"&表格2[[#This Row],[顏色]]","v":"GAP 連身米-90-"},null,null,null,null,null,"GAP 連身米",90]
["A0056",{"$f":"表格2[[#This Row],[ITEM]]&\"-\"&表格2[[#This Row],[SIZE]]&\"-\"&表格2[[#This Row],[顏色]]","v":"GAP 連身米-100-"},null,null,null,null,null,"GAP 連身米",100]
["A0056",{"$f":"表格2[[#This Row],[ITEM]]&\"-\"&表格2[[#This Row],[SIZE]]&\"-\"&表格2[[#This Row],[顏色]]","v":"GAP 連身紅-90-"},null,null,null,null,null,"GAP 連身紅",90]
["A0056",{"$f":"表格2[[#This Row],[ITEM]]&\"-\"&表格2[[#This Row],[SIZE]]&\"-\"&表格2[[#This Row],[顏色]]","v":"GAP 連身紅-100-"},null,null,null,null,null,"GAP 連身紅",100]
["A0056",{"$f":"表格2[[#This Row],[ITEM]]&\"-\"&表格2[[#This Row],[SIZE]]&\"-\"&表格2[[#This Row],[顏色]]","v":"GAP 連身棒球-80-"},null,null,null,null,null,"GAP 連身棒球",80]
["A0056",{"$f":"表格2[[#This Row],[ITEM]]&\"-\"&表格2[[#This Row],[SIZE]]&\"-\"&表格2[[#This Row],[顏色]]","v":"GAP 連身棒球-90-"},null,null,null,null,null,"GAP 連身棒球",90]
["A0057",{"$f":"表格2[[#This Row],[ITEM]]&\"-\"&表格2[[#This Row],[SIZE]]&\"-\"&表格2[[#This Row],[顏色]]","v":"H2-18-24-"},null,null,null,null,null,"H2","18-24"]
["A0058",{"$f":"表格2[[#This Row],[ITEM]]&\"-\"&表格2[[#This Row],[SIZE]]&\"-\"&表格2[[#This Row],[顏色]]","v":"H3-2-3-"},null,null,null,null,null,"H3","2-3"]
["A0059",{"$f":"表格2[[#This Row],[ITEM]]&\"-\"&表格2[[#This Row],[SIZE]]&\"-\"&表格2[[#This Row],[顏色]]","v":"H4-2-3-"},null,null,null,null,null,"H4","2-3"]
["A0059",{"$f":"表格2[[#This Row],[ITEM]]&\"-\"&表格2[[#This Row],[SIZE]]&\"-\"&表格2[[#This Row],[顏色]]","v":"H4-18-24-"},null,null,null,null,null,"H4","18-24"]
["A0060",{"$f":"表格2[[#This Row],[ITEM]]&\"-\"&表格2[[#This Row],[SIZE]]&\"-\"&表格2[[#This Row],[顏色]]","v":"H5-100-"},null,null,null,null,null,"H5",100]
["A0061",{"$f":"表格2[[#This Row],[ITEM]]&\"-\"&表格2[[#This Row],[SIZE]]&\"-\"&表格2[[#This Row],[顏色]]","v":"h7-6-12-"},null,null,null,null,null,"h7","6-12"]
["A0062",{"$f":"表格2[[#This Row],[ITEM]]&\"-\"&表格2[[#This Row],[SIZE]]&\"-\"&表格2[[#This Row],[顏色]]","v":"H8-0-6-"},null,null,null,null,null,"H8","0-6"]
["A0063",{"$f":"表格2[[#This Row],[ITEM]]&\"-\"&表格2[[#This Row],[SIZE]]&\"-\"&表格2[[#This Row],[顏色]]","v":"konny 咩帶-灰米-"},null,null,null,null,null,"konny 咩帶","灰米"]
["A0064",{"$f":"表格2[[#This Row],[ITEM]]&\"-\"&表格2[[#This Row],[SIZE]]&\"-\"&表格2[[#This Row],[顏色]]","v":"konny口水肩-4-"},null,null,null,null,null,"konny口水肩",4]
["A0065",{"$f":"表格2[[#This Row],[ITEM]]&\"-\"&表格2[[#This Row],[SIZE]]&\"-\"&表格2[[#This Row],[顏色]]","v":"konny碗-綠-"},null,null,null,null,null,"konny碗","綠"]
["A0065",{"$f":"表格2[[#This Row],[ITEM]]&\"-\"&表格2[[#This Row],[SIZE]]&\"-\"&表格2[[#This Row],[顏色]]","v":"konny碗-燕-"},null,null,null,null,null,"konny碗","燕"]
["A0065",{"$f":"表格2[[#This Row],[ITEM]]&\"-\"&表格2[[#This Row],[SIZE]]&\"-\"&表格2[[#This Row],[顏色]]","v":"konny碗-藍-"},null,null,null,null,null,"konny碗","藍"]
["A0066",{"$f":"表格2[[#This Row],[ITEM]]&\"-\"&表格2[[#This Row],[SIZE]]&\"-\"&表格2[[#This Row],[顏色]]","v":"lee 衛衣-灰白130-"},null,null,null,null,null,"lee 衛衣","灰白130"]
["A0066",{"$f":"表格2[[#This Row],[ITEM]]&\"-\"&表格2[[#This Row],[SIZE]]&\"-\"&表格2[[#This Row],[顏色]]","v":"lee 衛衣-灰藍90-"},null,null,null,null,null,"lee 衛衣","灰藍90"]
["A0067",{"$f":"表格2[[#This Row],[ITEM]]&\"-\"&表格2[[#This Row],[SIZE]]&\"-\"&表格2[[#This Row],[顏色]]","v":"LEE吊帶褲-灰100-"},null,null,null,null,null,"LEE吊帶褲","灰100"]
["A0068",{"$f":"表格2[[#This Row],[ITEM]]&\"-\"&表格2[[#This Row],[SIZE]]&\"-\"&表格2[[#This Row],[顏色]]","v":"Linabell 粉外套-110-"},null,null,null,null,null,"Linabell 粉外套",110]
["A0068",{"$f":"表格2[[#This Row],[ITEM]]&\"-\"&表格2[[#This Row],[SIZE]]&\"-\"&表格2[[#This Row],[顏色]]","v":"Linabell 粉外套-120-"},null,null,null,null,null,"Linabell 粉外套",120]
["A0069",{"$f":"表格2[[#This Row],[ITEM]]&\"-\"&表格2[[#This Row],[SIZE]]&\"-\"&表格2[[#This Row],[顏色]]","v":"MELODY紅白衛衣-80-"},null,null,null,null,null,"MELODY紅白衛衣",80]
["A0069",{"$f":"表格2[[#This Row],[ITEM]]&\"-\"&表格2[[#This Row],[SIZE]]&\"-\"&表格2[[#This Row],[顏色]]","v":"MELODY紅白衛衣-90-"},null,null,null,null,null,"MELODY紅白衛衣",90]
["A0070",{"$f":"表格2[[#This Row],[ITEM]]&\"-\"&表格2[[#This Row],[SIZE]]&\"-\"&表格2[[#This Row],[顏色]]","v":"MIFFY 外套-白100-"},null,null,null,null,null,"MIFFY 外套","白100"]
["A0071",{"$f":"表格2[[#This Row],[ITEM]]&\"-\"&表格2[[#This Row],[SIZE]]&\"-\"&表格2[[#This Row],[顏色]]","v":"miffy 拖鞋-白37-"},null,null,null,null,null,"miffy 拖鞋","白37"]
["A0072",{"$f":"表格2[[#This Row],[ITEM]]&\"-\"&表格2[[#This Row],[SIZE]]&\"-\"&表格2[[#This Row],[顏色]]","v":"miffy 書包--"},null,null,null,null,null,"miffy 書包"]
["A0073",{"$f":"表格2[[#This Row],[ITEM]]&\"-\"&表格2[[#This Row],[SIZE]]&\"-\"&表格2[[#This Row],[顏色]]","v":"MIFFY A-粉80-"},null,null,null,null,null,"MIFFY A","粉80"]
["A0073",{"$f":"表格2[[#This Row],[ITEM]]&\"-\"&表格2[[#This Row],[SIZE]]&\"-\"&表格2[[#This Row],[顏色]]","v":"MIFFY A-藍80-"},null,null,null,null,null,"MIFFY A","藍80"]
["A0074",{"$f":"表格2[[#This Row],[ITEM]]&\"-\"&表格2[[#This Row],[SIZE]]&\"-\"&表格2[[#This Row],[顏色]]","v":"MIFFY3件套(1長1短1褲)-粉80-"},null,null,null,null,null,"MIFFY3件套(1長1短1褲)","粉80"]
["A0074",{"$f":"表格2[[#This Row],[ITEM]]&\"-\"&表格2[[#This Row],[SIZE]]&\"-\"&表格2[[#This Row],[顏色]]","v":"MIFFY3件套(1長1短1褲)-黃90-"},null,null,null,null,null,"MIFFY3件套(1長1短1褲)","黃90"]
["A0075",{"$f":"表格2[[#This Row],[ITEM]]&\"-\"&表格2[[#This Row],[SIZE]]&\"-\"&表格2[[#This Row],[顏色]]","v":"MIFFY冷衫-灰80-"},null,null,null,null,null,"MIFFY冷衫","灰80"]
["A0075",{"$f":"表格2[[#This Row],[ITEM]]&\"-\"&表格2[[#This Row],[SIZE]]&\"-\"&表格2[[#This Row],[顏色]]","v":"MIFFY冷衫-杏80-"},null,null,null,null,null,"MIFFY冷衫","杏80"]
["A0076",{"$f":"表格2[[#This Row],[ITEM]]&\"-\"&表格2[[#This Row],[SIZE]]&\"-\"&表格2[[#This Row],[顏色]]","v":"MIFFY杯套-藍--"},null,null,null,null,null,"MIFFY杯套-藍"]
["A0077",{"$f":"表格2[[#This Row],[ITEM]]&\"-\"&表格2[[#This Row],[SIZE]]&\"-\"&表格2[[#This Row],[顏色]]","v":"MIFFY家居服SET-粉80-"},null,null,null,null,null,"MIFFY家居服SET","粉80"]
["A0077",{"$f":"表格2[[#This Row],[ITEM]]&\"-\"&表格2[[#This Row],[SIZE]]&\"-\"&表格2[[#This Row],[顏色]]","v":"MIFFY家居服SET-藍90-"},null,null,null,null,null,"MIFFY家居服SET","藍90"]
["A0078",{"$f":"表格2[[#This Row],[ITEM]]&\"-\"&表格2[[#This Row],[SIZE]]&\"-\"&表格2[[#This Row],[顏色]]","v":"MIFFY滿印-白90-"},null,null,null,null,null,"MIFFY滿印","白90"]
["A0078",{"$f":"表格2[[#This Row],[ITEM]]&\"-\"&表格2[[#This Row],[SIZE]]&\"-\"&表格2[[#This Row],[顏色]]","v":"MIFFY滿印-粉90-"},null,null,null,null,null,"MIFFY滿印","粉90"]
["A0079",{"$f":"表格2[[#This Row],[ITEM]]&\"-\"&表格2[[#This Row],[SIZE]]&\"-\"&表格2[[#This Row],[顏色]]","v":"MIFFYB-白90-"},null,null,null,null,null,"MIFFYB","白90"]
["A0079",{"$f":"表格2[[#This Row],[ITEM]]&\"-\"&表格2[[#This Row],[SIZE]]&\"-\"&表格2[[#This Row],[顏色]]","v":"MIFFYB-粉90-"},null,null,null,null,null,"MIFFYB","粉90"]
["A0080",{"$f":"表格2[[#This Row],[ITEM]]&\"-\"&表格2[[#This Row],[SIZE]]&\"-\"&表格2[[#This Row],[顏色]]","v":"MLB-5外套-黑-"},null,null,null,null,null,"MLB-5外套","黑"]
["A0081",{"$f":"表格2[[#This Row],[ITEM]]&\"-\"&表格2[[#This Row],[SIZE]]&\"-\"&表格2[[#This Row],[顏色]]","v":"NF 被-啡-"},null,null,null,null,null,"NF 被","啡"]
["A0081",{"$f":"表格2[[#This Row],[ITEM]]&\"-\"&表格2[[#This Row],[SIZE]]&\"-\"&表格2[[#This Row],[顏色]]","v":"NF 被-黑-"},null,null,null,null,null,"NF 被","黑"]
["A0082",{"$f":"表格2[[#This Row],[ITEM]]&\"-\"&表格2[[#This Row],[SIZE]]&\"-\"&表格2[[#This Row],[顏色]]","v":"NF 熊仔外套-白100-"},null,null,null,null,null,"NF 熊仔外套","白100"]
["A0082",{"$f":"表格2[[#This Row],[ITEM]]&\"-\"&表格2[[#This Row],[SIZE]]&\"-\"&表格2[[#This Row],[顏色]]","v":"NF 熊仔外套-白110-"},null,null,null,null,null,"NF 熊仔外套","白110"]
["A0082",{"$f":"表格2[[#This Row],[ITEM]]&\"-\"&表格2[[#This Row],[SIZE]]&\"-\"&表格2[[#This Row],[顏色]]","v":"NF 熊仔外套-白90-"},null,null,null,null,null,"NF 熊仔外套","白90"]
["A0082",{"$f":"表格2[[#This Row],[ITEM]]&\"-\"&表格2[[#This Row],[SIZE]]&\"-\"&表格2[[#This Row],[顏色]]","v":"NF 熊仔外套-粉100-"},null,null,null,null,null,"NF 熊仔外套","粉100"]
["A0082",{"$f":"表格2[[#This Row],[ITEM]]&\"-\"&表格2[[#This Row],[SIZE]]&\"-\"&表格2[[#This Row],[顏色]]","v":"NF 熊仔外套-粉90-"},null,null,null,null,null,"NF 熊仔外套","粉90"]
["A0082",{"$f":"表格2[[#This Row],[ITEM]]&\"-\"&表格2[[#This Row],[SIZE]]&\"-\"&表格2[[#This Row],[顏色]]","v":"NF 熊仔外套-啡110-"},null,null,null,null,null,"NF 熊仔外套","啡110"]
["A0082",{"$f":"表格2[[#This Row],[ITEM]]&\"-\"&表格2[[#This Row],[SIZE]]&\"-\"&表格2[[#This Row],[顏色]]","v":"NF 熊仔外套-啡130-"},null,null,null,null,null,"NF 熊仔外套","啡130"]
["A0082",{"$f":"表格2[[#This Row],[ITEM]]&\"-\"&表格2[[#This Row],[SIZE]]&\"-\"&表格2[[#This Row],[顏色]]","v":"NF 熊仔外套-啡90-"},null,null,null,null,null,"NF 熊仔外套","啡90"]
["A0083",{"$f":"表格2[[#This Row],[ITEM]]&\"-\"&表格2[[#This Row],[SIZE]]&\"-\"&表格2[[#This Row],[顏色]]","v":"NF 熊仔爬服-粉100-"},null,null,null,null,null,"NF 熊仔爬服","粉100"]
["A0084",{"$f":"表格2[[#This Row],[ITEM]]&\"-\"&表格2[[#This Row],[SIZE]]&\"-\"&表格2[[#This Row],[顏色]]","v":"nf legging褲-白80-"},null,null,null,null,null,"nf legging褲","白80"]
["A0084",{"$f":"表格2[[#This Row],[ITEM]]&\"-\"&表格2[[#This Row],[SIZE]]&\"-\"&表格2[[#This Row],[顏色]]","v":"nf legging褲-黑100-"},null,null,null,null,null,"nf legging褲","黑100"]
["A0084",{"$f":"表格2[[#This Row],[ITEM]]&\"-\"&表格2[[#This Row],[SIZE]]&\"-\"&表格2[[#This Row],[顏色]]","v":"nf legging褲-黑130-"},null,null,null,null,null,"nf legging褲","黑130"]
["A0085",{"$f":"表格2[[#This Row],[ITEM]]&\"-\"&表格2[[#This Row],[SIZE]]&\"-\"&表格2[[#This Row],[顏色]]","v":"NF雙面棉外套-米杏100-"},null,null,null,null,null,"NF雙面棉外套","米杏100"]
["A0085",{"$f":"表格2[[#This Row],[ITEM]]&\"-\"&表格2[[#This Row],[SIZE]]&\"-\"&表格2[[#This Row],[顏色]]","v":"NF雙面棉外套-米杏L-"},null,null,null,null,null,"NF雙面棉外套","米杏L"]
["A0085",{"$f":"表格2[[#This Row],[ITEM]]&\"-\"&表格2[[#This Row],[SIZE]]&\"-\"&表格2[[#This Row],[顏色]]","v":"NF雙面棉外套-杏M-"},null,null,null,null,null,"NF雙面棉外套","杏M"]
["A0085",{"$f":"表格2[[#This Row],[ITEM]]&\"-\"&表格2[[#This Row],[SIZE]]&\"-\"&表格2[[#This Row],[顏色]]","v":"NF雙面棉外套-粉100-"},null,null,null,null,null,"NF雙面棉外套","粉100"]
["A0085",{"$f":"表格2[[#This Row],[ITEM]]&\"-\"&表格2[[#This Row],[SIZE]]&\"-\"&表格2[[#This Row],[顏色]]","v":"NF雙面棉外套-粉M-"},null,null,null,null,null,"NF雙面棉外套","粉M"]
["A0085",{"$f":"表格2[[#This Row],[ITEM]]&\"-\"&表格2[[#This Row],[SIZE]]&\"-\"&表格2[[#This Row],[顏色]]","v":"NF雙面棉外套-綠100-"},null,null,null,null,null,"NF雙面棉外套","綠100"]
["A0085",{"$f":"表格2[[#This Row],[ITEM]]&\"-\"&表格2[[#This Row],[SIZE]]&\"-\"&表格2[[#This Row],[顏色]]","v":"NF雙面棉外套-綠110-"},null,null,null,null,null,"NF雙面棉外套","綠110"]
["A0085",{"$f":"表格2[[#This Row],[ITEM]]&\"-\"&表格2[[#This Row],[SIZE]]&\"-\"&表格2[[#This Row],[顏色]]","v":"NF雙面棉外套-綠90-"},null,null,null,null,null,"NF雙面棉外套","綠90"]
["A0085",{"$f":"表格2[[#This Row],[ITEM]]&\"-\"&表格2[[#This Row],[SIZE]]&\"-\"&表格2[[#This Row],[顏色]]","v":"NF雙面棉外套-綠L-"},null,null,null,null,null,"NF雙面棉外套","綠L"]
["A0086",{"$f":"表格2[[#This Row],[ITEM]]&\"-\"&表格2[[#This Row],[SIZE]]&\"-\"&表格2[[#This Row],[顏色]]","v":"POLO背心-白110-"},null,null,null,null,null,"POLO背心","白110"]
["A0086",{"$f":"表格2[[#This Row],[ITEM]]&\"-\"&表格2[[#This Row],[SIZE]]&\"-\"&表格2[[#This Row],[顏色]]","v":"POLO背心-白90-"},null,null,null,null,null,"POLO背心","白90"]
["A0086",{"$f":"表格2[[#This Row],[ITEM]]&\"-\"&表格2[[#This Row],[SIZE]]&\"-\"&表格2[[#This Row],[顏色]]","v":"POLO背心-深藍110-"},null,null,null,null,null,"POLO背心","深藍110"]
["A0087",{"$f":"表格2[[#This Row],[ITEM]]&\"-\"&表格2[[#This Row],[SIZE]]&\"-\"&表格2[[#This Row],[顏色]]","v":"POLO純色連身裙-卡其100-"},null,null,null,null,null,"POLO純色連身裙","卡其100"]
["A0087",{"$f":"表格2[[#This Row],[ITEM]]&\"-\"&表格2[[#This Row],[SIZE]]&\"-\"&表格2[[#This Row],[顏色]]","v":"POLO純色連身裙-卡其90-"},null,null,null,null,null,"POLO純色連身裙","卡其90"]
["A0087",{"$f":"表格2[[#This Row],[ITEM]]&\"-\"&表格2[[#This Row],[SIZE]]&\"-\"&表格2[[#This Row],[顏色]]","v":"POLO純色連身裙-藍100-"},null,null,null,null,null,"POLO純色連身裙","藍100"]
["A0087",{"$f":"表格2[[#This Row],[ITEM]]&\"-\"&表格2[[#This Row],[SIZE]]&\"-\"&表格2[[#This Row],[顏色]]","v":"POLO純色連身裙-藍110-"},null,null,null,null,null,"POLO純色連身裙","藍110"]
["A0088",{"$f":"表格2[[#This Row],[ITEM]]&\"-\"&表格2[[#This Row],[SIZE]]&\"-\"&表格2[[#This Row],[顏色]]","v":"POLO條紋衫-90-"},null,null,null,null,null,"POLO條紋衫",90]
["A0089",{"$f":"表格2[[#This Row],[ITEM]]&\"-\"&表格2[[#This Row],[SIZE]]&\"-\"&表格2[[#This Row],[顏色]]","v":"POLO條紋裙-90-"},null,null,null,null,null,"POLO條紋裙",90]
["A0089",{"$f":"表格2[[#This Row],[ITEM]]&\"-\"&表格2[[#This Row],[SIZE]]&\"-\"&表格2[[#This Row],[顏色]]","v":"POLO條紋裙-100-"},null,null,null,null,null,"POLO條紋裙",100]
["A0090",{"$f":"表格2[[#This Row],[ITEM]]&\"-\"&表格2[[#This Row],[SIZE]]&\"-\"&表格2[[#This Row],[顏色]]","v":"POOH 背包--"},null,null,null,null,null,"POOH 背包"]
["A0091",{"$f":"表格2[[#This Row],[ITEM]]&\"-\"&表格2[[#This Row],[SIZE]]&\"-\"&表格2[[#This Row],[顏色]]","v":"pooh pat-18-24-"},null,null,null,null,null,"pooh pat","18-24"]
["A0092",{"$f":"表格2[[#This Row],[ITEM]]&\"-\"&表格2[[#This Row],[SIZE]]&\"-\"&表格2[[#This Row],[顏色]]","v":"SANRIO 滿印-水90-"},null,null,null,null,null,"SANRIO 滿印","水90"]
["A0092",{"$f":"表格2[[#This Row],[ITEM]]&\"-\"&表格2[[#This Row],[SIZE]]&\"-\"&表格2[[#This Row],[顏色]]","v":"SANRIO 滿印-HT80-"},null,null,null,null,null,"SANRIO 滿印","HT80"]
["A0092",{"$f":"表格2[[#This Row],[ITEM]]&\"-\"&表格2[[#This Row],[SIZE]]&\"-\"&表格2[[#This Row],[顏色]]","v":"SANRIO 滿印-HT90-"},null,null,null,null,null,"SANRIO 滿印","HT90"]
["S1213",{"$f":"表格2[[#This Row],[ITEM]]&\"-\"&表格2[[#This Row],[SIZE]]&\"-\"&表格2[[#This Row],[顏色]]","v":"-小獅王-拋棄式雙層奶粉袋(12入)-"},63,38,null,null,null,null,"小獅王-拋棄式雙層奶粉袋(12入)"]
["S1214",{"$f":"表格2[[#This Row],[ITEM]]&\"-\"&表格2[[#This Row],[SIZE]]&\"-\"&表格2[[#This Row],[顏色]]","v":"-小獅王-溜滑梯專利衛生奶粉盒(菈藍)-"},138,null,null,null,null,null,"小獅王-溜滑梯專利衛生奶粉盒(菈藍)"]
["S1215",{"$f":"表格2[[#This Row],[ITEM]]&\"-\"&表格2[[#This Row],[SIZE]]&\"-\"&表格2[[#This Row],[顏色]]","v":"-小獅王-溜滑梯專利衛生奶粉盒(貝粉)-"},138,null,null,null,null,null,"小獅王-溜滑梯專利衛生奶粉盒(貝粉)"]
["S1218G",{"$f":"表格2[[#This Row],[ITEM]]&\"-\"&表格2[[#This Row],[SIZE]]&\"-\"&表格2[[#This Row],[顏色]]","v":"-小獅王-母乳儲存袋150ml(60入)-粉色-"},195,88,null,null,null,null,"小獅王-母乳儲存袋150ml(60入)-粉色"]
["S1219G",{"$f":"表格2[[#This Row],[ITEM]]&\"-\"&表格2[[#This Row],[SIZE]]&\"-\"&表格2[[#This Row],[顏色]]","v":"-小獅王-母乳儲存袋200ml(60入)-藍色(綠色)-"},195,88,null,null,null,null,"小獅王-母乳儲存袋200ml(60入)-藍色(綠色)"]
["S1220G",{"$f":"表格2[[#This Row],[ITEM]]&\"-\"&表格2[[#This Row],[SIZE]]&\"-\"&表格2[[#This Row],[顏色]]","v":"-小獅王-母乳儲存袋250ml(60入)-紫色-"},195,88,null,null,null,null,"小獅王-母乳儲存袋250ml(60入)-紫色"]
["S1221F",{"$f":"表格2[[#This Row],[ITEM]]&\"-\"&表格2[[#This Row],[SIZE]]&\"-\"&表格2[[#This Row],[顏色]]","v":"奶粉盒-小獅王-神奇定量奶粉罐-氣泡水(藍)-"},177,85,null,null,null,"奶粉盒","小獅王-神奇定量奶粉罐-氣泡水(藍)"]
["S1221G",{"$f":"表格2[[#This Row],[ITEM]]&\"-\"&表格2[[#This Row],[SIZE]]&\"-\"&表格2[[#This Row],[顏色]]","v":"奶粉盒-小獅王-神奇定量奶粉罐-酪梨(綠)-"},177,85,null,null,null,"奶粉盒","小獅王-神奇定量奶粉罐-酪梨(綠)"]
["S1221H",{"$f":"表格2[[#This Row],[ITEM]]&\"-\"&表格2[[#This Row],[SIZE]]&\"-\"&表格2[[#This Row],[顏色]]","v":"奶粉盒-小獅王-神奇定量奶粉罐-無花果(粉)-"},177,85,null,null,null,"奶粉盒","小獅王-神奇定量奶粉罐-無花果(粉)"]
["S1221K",{"$f":"表格2[[#This Row],[ITEM]]&\"-\"&表格2[[#This Row],[SIZE]]&\"-\"&表格2[[#This Row],[顏色]]","v":"奶粉盒-小獅王-神奇定量奶粉罐-肉桂捲(米)-"},177,85,null,null,null,"奶粉盒","小獅王-神奇定量奶粉罐-肉桂捲(米)"]
["S1332",{"$f":"表格2[[#This Row],[ITEM]]&\"-\"&表格2[[#This Row],[SIZE]]&\"-\"&表格2[[#This Row],[顏色]]","v":"-小獅王-不倒翁牙刷(綠)-"},49,null,null,null,null,null,"小獅王-不倒翁牙刷(綠)"]
["S1332-1",{"$f":"表格2[[#This Row],[ITEM]]&\"-\"&表格2[[#This Row],[SIZE]]&\"-\"&表格2[[#This Row],[顏色]]","v":"-小獅王-不倒翁牙刷(橘)-"},49,null,null,null,null,null,"小獅王-不倒翁牙刷(橘)"]
["S1341-0",{"$f":"表格2[[#This Row],[ITEM]]&\"-\"&表格2[[#This Row],[SIZE]]&\"-\"&表格2[[#This Row],[顏色]]","v":"-小獅王-矽膠練習牙刷(天空藍)-"},83,49,null,null,null,null,"小獅王-矽膠練習牙刷(天空藍)"]
["S1341-1",{"$f":"表格2[[#This Row],[ITEM]]&\"-\"&表格2[[#This Row],[SIZE]]&\"-\"&表格2[[#This Row],[顏色]]","v":"-小獅王-矽膠練習牙刷(淘氣綠)-"},83,49,null,null,null,null,"小獅王-矽膠練習牙刷(淘氣綠)"]
["S1341-2",{"$f":"表格2[[#This Row],[ITEM]]&\"-\"&表格2[[#This Row],[SIZE]]&\"-\"&表格2[[#This Row],[顏色]]","v":"-小獅王-矽膠練習牙刷(溫暖橘)-"},83,49,null,null,null,null,"小獅王-矽膠練習牙刷(溫暖橘)"]
["S1464F",{"$f":"表格2[[#This Row],[ITEM]]&\"-\"&表格2[[#This Row],[SIZE]]&\"-\"&表格2[[#This Row],[顏色]]","v":"奶樽刷-小獅王-超柔無垢白金矽膠旋轉奶瓶刷(小樹)-綠-"},174,69,null,null,null,"奶樽刷","小獅王-超柔無垢白金矽膠旋轉奶瓶刷(小樹)-綠"]
["S1464G",{"$f":"表格2[[#This Row],[ITEM]]&\"-\"&表格2[[#This Row],[SIZE]]&\"-\"&表格2[[#This Row],[顏色]]","v":"奶樽刷-小獅王-超柔無垢白金矽膠旋轉奶瓶刷(小麥)-米-"},174,69,null,null,null,"奶樽刷","小獅王-超柔無垢白金矽膠旋轉奶瓶刷(小麥)-米"]
["S1464H",{"$f":"表格2[[#This Row],[ITEM]]&\"-\"&表格2[[#This Row],[SIZE]]&\"-\"&表格2[[#This Row],[顏色]]","v":"奶樽刷-小獅王-超柔無垢白金矽膠旋轉奶瓶刷(小櫻)-紅-"},174,69,null,null,null,"奶樽刷","小獅王-超柔無垢白金矽膠旋轉奶瓶刷(小櫻)-紅"]
["S1464K",{"$f":"表格2[[#This Row],[ITEM]]&\"-\"&表格2[[#This Row],[SIZE]]&\"-\"&表格2[[#This Row],[顏色]]","v":"奶樽刷-小獅王-超柔無垢白金矽膠旋轉奶瓶刷(小石)-灰-"},174,69,null,null,null,"奶樽刷","小獅王-超柔無垢白金矽膠旋轉奶瓶刷(小石)-灰"]
["S1465F",{"$f":"表格2[[#This Row],[ITEM]]&\"-\"&表格2[[#This Row],[SIZE]]&\"-\"&表格2[[#This Row],[顏色]]","v":"奶樽刷-小獅王-超柔無垢白金矽膠奶瓶刷(小樹)-綠-"},170,69,null,null,null,"奶樽刷","小獅王-超柔無垢白金矽膠奶瓶刷(小樹)-綠"]
["S1465G",{"$f":"表格2[[#This Row],[ITEM]]&\"-\"&表格2[[#This Row],[SIZE]]&\"-\"&表格2[[#This Row],[顏色]]","v":"奶樽刷-小獅王-超柔無垢白金矽膠奶瓶刷(小麥)-米-"},170,69,null,null,null,"奶樽刷","小獅王-超柔無垢白金矽膠奶瓶刷(小麥)-米"]
["S1465H",{"$f":"表格2[[#This Row],[ITEM]]&\"-\"&表格2[[#This Row],[SIZE]]&\"-\"&表格2[[#This Row],[顏色]]","v":"奶樽刷-小獅王-超柔無垢白金矽膠奶瓶刷(小櫻)-紅-"},170,69,null,null,null,"奶樽刷","小獅王-超柔無垢白金矽膠奶瓶刷(小櫻)-紅"]
["S1465K",{"$f":"表格2[[#This Row],[ITEM]]&\"-\"&表格2[[#This Row],[SIZE]]&\"-\"&表格2[[#This Row],[顏色]]","v":"奶樽刷-小獅王-超柔無垢白金矽膠奶瓶刷(小石)-灰-"},170,69,null,null,null,"奶樽刷","小獅王-超柔無垢白金矽膠奶瓶刷(小石)-灰"]
["S1466F",{"$f":"表格2[[#This Row],[ITEM]]&\"-\"&表格2[[#This Row],[SIZE]]&\"-\"&表格2[[#This Row],[顏色]]","v":"奶嘴刷-小獅王-超柔無垢白金矽膠奶嘴刷(小樹)-綠-"},107,49,null,null,null,"奶嘴刷","小獅王-超柔無垢白金矽膠奶嘴刷(小樹)-綠"]
["S1466G",{"$f":"表格2[[#This Row],[ITEM]]&\"-\"&表格2[[#This Row],[SIZE]]&\"-\"&表格2[[#This Row],[顏色]]","v":"奶嘴刷-小獅王-超柔無垢白金矽膠奶嘴刷(小麥)-米-"},107,49,null,null,null,"奶嘴刷","小獅王-超柔無垢白金矽膠奶嘴刷(小麥)-米"]
["S1466H",{"$f":"表格2[[#This Row],[ITEM]]&\"-\"&表格2[[#This Row],[SIZE]]&\"-\"&表格2[[#This Row],[顏色]]","v":"奶嘴刷-小獅王-超柔無垢白金矽膠奶嘴刷(小櫻)-紅-"},107,49,null,null,null,"奶嘴刷","小獅王-超柔無垢白金矽膠奶嘴刷(小櫻)-紅"]
["S1466K",{"$f":"表格2[[#This Row],[ITEM]]&\"-\"&表格2[[#This Row],[SIZE]]&\"-\"&表格2[[#This Row],[顏色]]","v":"奶嘴刷-小獅王-超柔無垢白金矽膠奶嘴刷(小石)-灰-"},107,49,null,null,null,"奶嘴刷","小獅王-超柔無垢白金矽膠奶嘴刷(小石)-灰"]
["S1737",{"$f":"表格2[[#This Row],[ITEM]]&\"-\"&表格2[[#This Row],[SIZE]]&\"-\"&表格2[[#This Row],[顏色]]","v":"-小獅王-嬰兒剪刀-"},49,null,null,null,null,null,"小獅王-嬰兒剪刀"]
["S1738",{"$f":"表格2[[#This Row],[ITEM]]&\"-\"&表格2[[#This Row],[SIZE]]&\"-\"&表格2[[#This Row],[顏色]]","v":"-小獅王-放大鏡嬰兒剪刀(曲面)-"},63,null,null,null,null,null,"小獅王-放大鏡嬰兒剪刀(曲面)"]
["S1745",{"$f":"表格2[[#This Row],[ITEM]]&\"-\"&表格2[[#This Row],[SIZE]]&\"-\"&表格2[[#This Row],[顏色]]","v":"-小獅王-辛巴指甲剪-"},58,null,null,null,null,null,"小獅王-辛巴指甲剪"]
["S1751",{"$f":"表格2[[#This Row],[ITEM]]&\"-\"&表格2[[#This Row],[SIZE]]&\"-\"&表格2[[#This Row],[顏色]]","v":"-小獅王-蘿蔓夜光奶嘴帶-天藍(香草)-"},81,49,null,null,null,null,"小獅王-蘿蔓夜光奶嘴帶-天藍(香草)"]
["S1752",{"$f":"表格2[[#This Row],[ITEM]]&\"-\"&表格2[[#This Row],[SIZE]]&\"-\"&表格2[[#This Row],[顏色]]","v":"-小獅王-蘿蔓夜光奶嘴帶-粉紅(玫瑰)-"},81,49,null,null,null,null,"小獅王-蘿蔓夜光奶嘴帶-粉紅(玫瑰)"]
["S1753",{"$f":"表格2[[#This Row],[ITEM]]&\"-\"&表格2[[#This Row],[SIZE]]&\"-\"&表格2[[#This Row],[顏色]]","v":"-小獅王-蘿蔓夜光奶嘴帶-咖啡(豔陽)-"},81,49,null,null,null,null,"小獅王-蘿蔓夜光奶嘴帶-咖啡(豔陽)"]
["S1754",{"$f":"表格2[[#This Row],[ITEM]]&\"-\"&表格2[[#This Row],[SIZE]]&\"-\"&表格2[[#This Row],[顏色]]","v":"-小獅王-桃樂絲夜光奶嘴帶-藍(許願精靈)-"},81,49,null,null,null,null,"小獅王-桃樂絲夜光奶嘴帶-藍(許願精靈)"]
["S1755",{"$f":"表格2[[#This Row],[ITEM]]&\"-\"&表格2[[#This Row],[SIZE]]&\"-\"&表格2[[#This Row],[顏色]]","v":"-小獅王-桃樂絲夜光奶嘴帶-粉(美夢成真)-"},81,49,null,null,null,null,"小獅王-桃樂絲夜光奶嘴帶-粉(美夢成真)"]
["S1760",{"$f":"表格2[[#This Row],[ITEM]]&\"-\"&表格2[[#This Row],[SIZE]]&\"-\"&表格2[[#This Row],[顏色]]","v":"奶嘴鍊-小獅王-辛巴防塵奶嘴鍊-經典(橘色)-"},85,45,null,null,null,"奶嘴鍊","小獅王-辛巴防塵奶嘴鍊-經典(橘色)"]
["S1761",{"$f":"表格2[[#This Row],[ITEM]]&\"-\"&表格2[[#This Row],[SIZE]]&\"-\"&表格2[[#This Row],[顏色]]","v":"奶嘴鍊-小獅王-辛巴防塵奶嘴鍊-香草(藍色)-"},85,45,null,null,null,"奶嘴鍊","小獅王-辛巴防塵奶嘴鍊-香草(藍色)"]
["S1762",{"$f":"表格2[[#This Row],[ITEM]]&\"-\"&表格2[[#This Row],[SIZE]]&\"-\"&表格2[[#This Row],[顏色]]","v":"奶嘴鍊-小獅王-辛巴防塵奶嘴鍊-莓果(粉紅)-"},85,45,null,null,null,"奶嘴鍊","小獅王-辛巴防塵奶嘴鍊-莓果(粉紅)"]
["S1763",{"$f":"表格2[[#This Row],[ITEM]]&\"-\"&表格2[[#This Row],[SIZE]]&\"-\"&表格2[[#This Row],[顏色]]","v":"奶嘴鍊-小獅王-辛巴防塵奶嘴鍊-焦糖(咖啡)-"},85,45,null,null,null,"奶嘴鍊","小獅王-辛巴防塵奶嘴鍊-焦糖(咖啡)"]
["S18110",{"$f":"表格2[[#This Row],[ITEM]]&\"-\"&表格2[[#This Row],[SIZE]]&\"-\"&表格2[[#This Row],[顏色]]","v":"安撫奶嘴-小獅王-蘿蔓拇指安撫奶嘴-初生(天藍)(香草)-"},70,45,null,null,null,"安撫奶嘴","小獅王-蘿蔓拇指安撫奶嘴-初生(天藍)(香草)"]
["S18111",{"$f":"表格2[[#This Row],[ITEM]]&\"-\"&表格2[[#This Row],[SIZE]]&\"-\"&表格2[[#This Row],[顏色]]","v":"安撫奶嘴-小獅王-蘿蔓拇指安撫奶嘴-較大(天藍)(香草)-"},70,45,null,null,null,"安撫奶嘴","小獅王-蘿蔓拇指安撫奶嘴-較大(天藍)(香草)"]
["S18120",{"$f":"表格2[[#This Row],[ITEM]]&\"-\"&表格2[[#This Row],[SIZE]]&\"-\"&表格2[[#This Row],[顏色]]","v":"安撫奶嘴-小獅王-蘿蔓拇指安撫奶嘴-初生(粉紅)(玫瑰)-"},70,45,null,null,null,"安撫奶嘴","小獅王-蘿蔓拇指安撫奶嘴-初生(粉紅)(玫瑰)"]
["S18121",{"$f":"表格2[[#This Row],[ITEM]]&\"-\"&表格2[[#This Row],[SIZE]]&\"-\"&表格2[[#This Row],[顏色]]","v":"安撫奶嘴-小獅王-蘿蔓拇指安撫奶嘴-較大(粉紅)(玫瑰)-"},70,45,null,null,null,"安撫奶嘴","小獅王-蘿蔓拇指安撫奶嘴-較大(粉紅)(玫瑰)"]
["S18130",{"$f":"表格2[[#This Row],[ITEM]]&\"-\"&表格2[[#This Row],[SIZE]]&\"-\"&表格2[[#This Row],[顏色]]","v":"安撫奶嘴-小獅王-蘿蔓拇指安撫奶嘴-初生(咖啡)(豔陽)-"},70,45,null,null,null,"安撫奶嘴","小獅王-蘿蔓拇指安撫奶嘴-初生(咖啡)(豔陽)"]
["S18131",{"$f":"表格2[[#This Row],[ITEM]]&\"-\"&表格2[[#This Row],[SIZE]]&\"-\"&表格2[[#This Row],[顏色]]","v":"安撫奶嘴-小獅王-蘿蔓拇指安撫奶嘴-較大(咖啡)(豔陽)-"},70,45,null,null,null,"安撫奶嘴","小獅王-蘿蔓拇指安撫奶嘴-較大(咖啡)(豔陽)"]
["S19010",{"$f":"表格2[[#This Row],[ITEM]]&\"-\"&表格2[[#This Row],[SIZE]]&\"-\"&表格2[[#This Row],[顏色]]","v":"安撫奶嘴-小獅王-小辛巴拇指安撫奶嘴(初生)-"},70,45,null,null,null,"安撫奶嘴","小獅王-小辛巴拇指安撫奶嘴(初生)"]
["S19011",{"$f":"表格2[[#This Row],[ITEM]]&\"-\"&表格2[[#This Row],[SIZE]]&\"-\"&表格2[[#This Row],[顏色]]","v":"安撫奶嘴-小獅王-小辛巴拇指安撫奶嘴(較大)-"},70,45,null,null,null,"安撫奶嘴","小獅王-小辛巴拇指安撫奶嘴(較大)"]
["S2242",{"$f":"表格2[[#This Row],[ITEM]]&\"-\"&表格2[[#This Row],[SIZE]]&\"-\"&表格2[[#This Row],[顏色]]","v":"-小獅王-奶瓶蔬果洗潔液800ml組合包(一組2入)-"},299,null,null,null,null,null,"小獅王-奶瓶蔬果洗潔液800ml組合包(一組2入)"]
["S2244",{"$f":"表格2[[#This Row],[ITEM]]&\"-\"&表格2[[#This Row],[SIZE]]&\"-\"&表格2[[#This Row],[顏色]]","v":"-小獅王-高分解酵素奶瓶清潔劑800ml-"},220,null,null,null,null,null,"小獅王-高分解酵素奶瓶清潔劑800ml"]
["S2245",{"$f":"表格2[[#This Row],[ITEM]]&\"-\"&表格2[[#This Row],[SIZE]]&\"-\"&表格2[[#This Row],[顏色]]","v":"-小獅王-高分解酵素奶瓶清潔劑800ml組合包(2入)-"},410,null,null,null,null,null,"小獅王-高分解酵素奶瓶清潔劑800ml組合包(2入)"]
["S3334",{"$f":"表格2[[#This Row],[ITEM]]&\"-\"&表格2[[#This Row],[SIZE]]&\"-\"&表格2[[#This Row],[顏色]]","v":"-小獅王-啵啵軟質湯匙(藍洋洋)-2入-"},54,45,null,null,null,null,"小獅王-啵啵軟質湯匙(藍洋洋)-2入"]
["S3335",{"$f":"表格2[[#This Row],[ITEM]]&\"-\"&表格2[[#This Row],[SIZE]]&\"-\"&表格2[[#This Row],[顏色]]","v":"-小獅王-啵啵軟質湯匙(啵啵粉)-2入-"},54,45,null,null,null,null,"小獅王-啵啵軟質湯匙(啵啵粉)-2入"]
["S3351",{"$f":"表格2[[#This Row],[ITEM]]&\"-\"&表格2[[#This Row],[SIZE]]&\"-\"&表格2[[#This Row],[顏色]]","v":"-小獅王-美味漢堡碗-樂活海洋堡(藍色)-"},134,85,null,null,null,null,"小獅王-美味漢堡碗-樂活海洋堡(藍色)"]
["S3352",{"$f":"表格2[[#This Row],[ITEM]]&\"-\"&表格2[[#This Row],[SIZE]]&\"-\"&表格2[[#This Row],[顏色]]","v":"-小獅王-美味漢堡碗-青檸桔事堡(綠色)-"},134,85,null,null,null,null,"小獅王-美味漢堡碗-青檸桔事堡(綠色)"]
["S3354",{"$f":"表格2[[#This Row],[ITEM]]&\"-\"&表格2[[#This Row],[SIZE]]&\"-\"&表格2[[#This Row],[顏色]]","v":"-小獅王-美味漢堡碗-粉紅甜心堡(粉紅色)-"},134,85,null,null,null,null,"小獅王-美味漢堡碗-粉紅甜心堡(粉紅色)"]
["S3355",{"$f":"表格2[[#This Row],[ITEM]]&\"-\"&表格2[[#This Row],[SIZE]]&\"-\"&表格2[[#This Row],[顏色]]","v":"-小獅王-美味漢堡碗-花生好事堡(咖啡色)-"},134,85,null,null,null,null,"小獅王-美味漢堡碗-花生好事堡(咖啡色)"]
["S3385",{"$f":"表格2[[#This Row],[ITEM]]&\"-\"&表格2[[#This Row],[SIZE]]&\"-\"&表格2[[#This Row],[顏色]]","v":"-小獅王-美味兒童叉匙組-焦糖(咖啡)-"},58,45,null,null,null,null,"小獅王-美味兒童叉匙組-焦糖(咖啡)"]
["S3391",{"$f":"表格2[[#This Row],[ITEM]]&\"-\"&表格2[[#This Row],[SIZE]]&\"-\"&表格2[[#This Row],[顏色]]","v":"-小獅王-美味軟糖湯匙組-香草(藍色)-"},81,45,null,null,null,null,"小獅王-美味軟糖湯匙組-香草(藍色)"]
["S3394",{"$f":"表格2[[#This Row],[ITEM]]&\"-\"&表格2[[#This Row],[SIZE]]&\"-\"&表格2[[#This Row],[顏色]]","v":"-小獅王-美味軟糖湯匙組-莓果(粉色)-"},81,45,null,null,null,null,"小獅王-美味軟糖湯匙組-莓果(粉色)"]
["S3395",{"$f":"表格2[[#This Row],[ITEM]]&\"-\"&表格2[[#This Row],[SIZE]]&\"-\"&表格2[[#This Row],[顏色]]","v":"-小獅王-美味軟糖湯匙組-焦糖(咖啡)-"},81,45,null,null,null,null,"小獅王-美味軟糖湯匙組-焦糖(咖啡)"]
["S5334",{"$f":"表格2[[#This Row],[ITEM]]&\"-\"&表格2[[#This Row],[SIZE]]&\"-\"&表格2[[#This Row],[顏色]]","v":"-小獅王-透氣棉開襟包屁衣70cm(短袖)-阜灰-"},"",null,null,null,null,null,"小獅王-透氣棉開襟包屁衣70cm(短袖)-阜灰"]
["S606F",{"$f":"表格2[[#This Row],[ITEM]]&\"-\"&表格2[[#This Row],[SIZE]]&\"-\"&表格2[[#This Row],[顏色]]","v":"-UDI  H1智能高效蒸氣烘乾消毒鍋(苜白)-"},3060,null,null,null,null,null,"UDI  H1智能高效蒸氣烘乾消毒鍋(苜白)"]
["S606G",{"$f":"表格2[[#This Row],[ITEM]]&\"-\"&表格2[[#This Row],[SIZE]]&\"-\"&表格2[[#This Row],[顏色]]","v":"-UDI H1智能高效蒸氣烘乾消毒鍋(栗粉)-"},3060,null,null,null,null,null,"UDI H1智能高效蒸氣烘乾消毒鍋(栗粉)"]
["S606H",{"$f":"表格2[[#This Row],[ITEM]]&\"-\"&表格2[[#This Row],[SIZE]]&\"-\"&表格2[[#This Row],[顏色]]","v":"-UDI H1智能高效蒸氣烘乾消毒鍋(杏茶)-"},3060,null,null,null,null,null,"UDI H1智能高效蒸氣烘乾消毒鍋(杏茶)"]
["S8670",{"$f":"表格2[[#This Row],[ITEM]]&\"-\"&表格2[[#This Row],[SIZE]]&\"-\"&表格2[[#This Row],[顏色]]","v":"-小獅王-好樂飲防漏滑蓋替換吸管組(2入)-"},107,null,null,null,null,null,"小獅王-好樂飲防漏滑蓋替換吸管組(2入)"]
["S8671",{"$f":"表格2[[#This Row],[ITEM]]&\"-\"&表格2[[#This Row],[SIZE]]&\"-\"&表格2[[#This Row],[顏色]]","v":"好樂飲-小獅王-好樂飲PPSU防漏滑蓋學習水杯250ml(可可杏)-"},441,170,null,null,null,"好樂飲","小獅王-好樂飲PPSU防漏滑蓋學習水杯250ml(可可杏)"]
["S8672",{"$f":"表格2[[#This Row],[ITEM]]&\"-\"&表格2[[#This Row],[SIZE]]&\"-\"&表格2[[#This Row],[顏色]]","v":"好樂飲-小獅王-好樂飲PPSU防漏滑蓋學習水杯250ml(悠悠粉)-"},441,170,null,null,null,"好樂飲","小獅王-好樂飲PPSU防漏滑蓋學習水杯250ml(悠悠粉)"]
["S8673",{"$f":"表格2[[#This Row],[ITEM]]&\"-\"&表格2[[#This Row],[SIZE]]&\"-\"&表格2[[#This Row],[顏色]]","v":"好樂飲-小獅王-好樂飲PPSU防漏滑蓋學習水杯250ml(安安藍)-"},441,170,null,null,null,"好樂飲","小獅王-好樂飲PPSU防漏滑蓋學習水杯250ml(安安藍)"]
["S9535-5",{"$f":"表格2[[#This Row],[ITEM]]&\"-\"&表格2[[#This Row],[SIZE]]&\"-\"&表格2[[#This Row],[顏色]]","v":"-小獅王-吸乳器(矽膠軟墊)-"},200,null,null,null,null,null,"小獅王-吸乳器(矽膠軟墊)"]
["S9554",{"$f":"表格2[[#This Row],[ITEM]]&\"-\"&表格2[[#This Row],[SIZE]]&\"-\"&表格2[[#This Row],[顏色]]","v":"-小獅王-iFeed極美機超靜音電動吸乳器-"},2950,null,null,null,null,null,"小獅王-iFeed極美機超靜音電動吸乳器"]
["S9554-1",{"$f":"表格2[[#This Row],[ITEM]]&\"-\"&表格2[[#This Row],[SIZE]]&\"-\"&表格2[[#This Row],[顏色]]","v":"-小獅王-iFeed極美機電動吸乳器(吸乳喇叭罩)-"},200,null,null,null,null,null,"小獅王-iFeed極美機電動吸乳器(吸乳喇叭罩)"]
["S9733",{"$f":"表格2[[#This Row],[ITEM]]&\"-\"&表格2[[#This Row],[SIZE]]&\"-\"&表格2[[#This Row],[顏色]]","v":"-小獅王-長效薰衣草精油防蚊貼-恐龍圖鑑(16枚)-"},72,null,null,null,null,null,"小獅王-長效薰衣草精油防蚊貼-恐龍圖鑑(16枚)"]
["S9734",{"$f":"表格2[[#This Row],[ITEM]]&\"-\"&表格2[[#This Row],[SIZE]]&\"-\"&表格2[[#This Row],[顏色]]","v":"-小獅王-長效薰衣草精油防蚊貼-恐龍圖鑑(32枚)-"},125,50,null,null,null,null,"小獅王-長效薰衣草精油防蚊貼-恐龍圖鑑(32枚)"]
["S9817",{"$f":"表格2[[#This Row],[ITEM]]&\"-\"&表格2[[#This Row],[SIZE]]&\"-\"&表格2[[#This Row],[顏色]]","v":"-小獅王-嬰兒防滑浴盆(凱特藍)-"},480,null,null,null,null,null,"小獅王-嬰兒防滑浴盆(凱特藍)"]
["S9818",{"$f":"表格2[[#This Row],[ITEM]]&\"-\"&表格2[[#This Row],[SIZE]]&\"-\"&表格2[[#This Row],[顏色]]","v":"-小獅王-嬰兒防滑浴盆(麗芙粉)-"},480,null,null,null,null,null,"小獅王-嬰兒防滑浴盆(麗芙粉)"]
["S9819",{"$f":"表格2[[#This Row],[ITEM]]&\"-\"&表格2[[#This Row],[SIZE]]&\"-\"&表格2[[#This Row],[顏色]]","v":"-小獅王-可調式沐浴網-"},245,null,null,null,null,null,"小獅王-可調式沐浴網"]
["S9931-B",{"$f":"表格2[[#This Row],[ITEM]]&\"-\"&表格2[[#This Row],[SIZE]]&\"-\"&表格2[[#This Row],[顏色]]","v":"-小獅王-嬰兒乾溼兩用巾(80抽)藍色包裝-"},63,null,null,null,null,null,"小獅王-嬰兒乾溼兩用巾(80抽)藍色包裝"]
["S9931-P",{"$f":"表格2[[#This Row],[ITEM]]&\"-\"&表格2[[#This Row],[SIZE]]&\"-\"&表格2[[#This Row],[顏色]]","v":"-小獅王-嬰兒乾溼兩用巾(80抽)粉色包裝-"},63,null,null,null,null,null,"小獅王-嬰兒乾溼兩用巾(80抽)粉色包裝"]
["S9952",{"$f":"表格2[[#This Row],[ITEM]]&\"-\"&表格2[[#This Row],[SIZE]]&\"-\"&表格2[[#This Row],[顏色]]","v":"-小獅王-智能六段式定溫調乳器(S5 PRO)-"},3850,null,null,null,null,null,"小獅王-智能六段式定溫調乳器(S5 PRO)"]
["S9978",{"$f":"表格2[[#This Row],[ITEM]]&\"-\"&表格2[[#This Row],[SIZE]]&\"-\"&表格2[[#This Row],[顏色]]","v":"-小獅王-薰衣草精油防蚊液組(噴霧型)-"},214,null,null,null,null,null,"小獅王-薰衣草精油防蚊液組(噴霧型)"]
["S9979",{"$f":"表格2[[#This Row],[ITEM]]&\"-\"&表格2[[#This Row],[SIZE]]&\"-\"&表格2[[#This Row],[顏色]]","v":"-小獅王-薰衣草精油防蚊液(噴霧型)60ml-"},116,null,null,null,null,null,"小獅王-薰衣草精油防蚊液(噴霧型)60ml"]
["S9987",{"$f":"表格2[[#This Row],[ITEM]]&\"-\"&表格2[[#This Row],[SIZE]]&\"-\"&表格2[[#This Row],[顏色]]","v":"-小獅王-長效檸檬草精油防蚊貼(16枚)-"},72,null,null,null,null,null,"小獅王-長效檸檬草精油防蚊貼(16枚)"]
["S9988",{"$f":"表格2[[#This Row],[ITEM]]&\"-\"&表格2[[#This Row],[SIZE]]&\"-\"&表格2[[#This Row],[顏色]]","v":"-小獅王-長效檸檬草精油防蚊貼(32枚)-"},125,50,null,null,null,null,"小獅王-長效檸檬草精油防蚊貼(32枚)"]
["sample004001",{"$f":"表格2[[#This Row],[ITEM]]&\"-\"&表格2[[#This Row],[SIZE]]&\"-\"&表格2[[#This Row],[顏色]]","v":"-小獅王-超柔無垢白金矽膠旋轉奶瓶刷(小麥)-米 (樣品)-"},"",null,null,null,null,null,"小獅王-超柔無垢白金矽膠旋轉奶瓶刷(小麥)-米 (樣品)"]
["sample004002",{"$f":"表格2[[#This Row],[ITEM]]&\"-\"&表格2[[#This Row],[SIZE]]&\"-\"&表格2[[#This Row],[顏色]]","v":"-小獅王-超柔無垢白金矽膠奶瓶刷(小石)-灰 (樣品)-"},"",null,null,null,null,null,"小獅王-超柔無垢白金矽膠奶瓶刷(小石)-灰 (樣品)"]
["sample004003",{"$f":"表格2[[#This Row],[ITEM]]&\"-\"&表格2[[#This Row],[SIZE]]&\"-\"&表格2[[#This Row],[顏色]]","v":"-小獅王-智能六段式定溫調乳器(S5 PRO)-"},"",null,null,null,null,null,"小獅王-智能六段式定溫調乳器(S5 PRO)"]
["sample004004",{"$f":"表格2[[#This Row],[ITEM]]&\"-\"&表格2[[#This Row],[SIZE]]&\"-\"&表格2[[#This Row],[顏色]]","v":"-小獅王-UDI H1智能高效蒸氣烘乾消毒鍋(杏茶)-"},"",null,null,null,null,null,"小獅王-UDI H1智能高效蒸氣烘乾消毒鍋(杏茶)"]
["sample004005",{"$f":"表格2[[#This Row],[ITEM]]&\"-\"&表格2[[#This Row],[SIZE]]&\"-\"&表格2[[#This Row],[顏色]]","v":"-小獅王-短袖80-"},"",null,null,null,null,null,"小獅王-短袖80"]
["sample004006",{"$f":"表格2[[#This Row],[ITEM]]&\"-\"&表格2[[#This Row],[SIZE]]&\"-\"&表格2[[#This Row],[顏色]]","v":"-小獅王-無袖80-"},"",null,null,null,null,null,"小獅王-無袖80"]
["sample004007",{"$f":"表格2[[#This Row],[ITEM]]&\"-\"&表格2[[#This Row],[SIZE]]&\"-\"&表格2[[#This Row],[顏色]]","v":"-小獅王-短袖70-"},"",null,null,null,null,null,"小獅王-短袖70"]
["sample004008",{"$f":"表格2[[#This Row],[ITEM]]&\"-\"&表格2[[#This Row],[SIZE]]&\"-\"&表格2[[#This Row],[顏色]]","v":"-小獅王-短袖60-"},"",null,null,null,null,null,"小獅王-短袖60"]
["sample004009",{"$f":"表格2[[#This Row],[ITEM]]&\"-\"&表格2[[#This Row],[SIZE]]&\"-\"&表格2[[#This Row],[顏色]]","v":"-小獅王-無袖70-"},"",null,null,null,null,null,"小獅王-無袖70"]
["sample004010",{"$f":"表格2[[#This Row],[ITEM]]&\"-\"&表格2[[#This Row],[SIZE]]&\"-\"&表格2[[#This Row],[顏色]]","v":"-小獅王-長袖60-"},"",null,null,null,null,null,"小獅王-長袖60"]
["SW1351",{"$f":"表格2[[#This Row],[ITEM]]&\"-\"&表格2[[#This Row],[SIZE]]&\"-\"&表格2[[#This Row],[顏色]]","v":"-小獅王-辛巴 Pointy 嬰兒口腔清潔指套 (100入)-"},201,null,null,null,null,null,"小獅王-辛巴 Pointy 嬰兒口腔清潔指套 (100入)"]
["SW1467",{"$f":"表格2[[#This Row],[ITEM]]&\"-\"&表格2[[#This Row],[SIZE]]&\"-\"&表格2[[#This Row],[顏色]]","v":"-小獅王-超柔無垢海綿快拆旋轉奶瓶刷-"},146,null,null,null,null,null,"小獅王-超柔無垢海綿快拆旋轉奶瓶刷"]
["SW1468",{"$f":"表格2[[#This Row],[ITEM]]&\"-\"&表格2[[#This Row],[SIZE]]&\"-\"&表格2[[#This Row],[顏色]]","v":"-小獅王-超柔無垢海綿旋轉奶瓶刷-"},128,null,null,null,null,null,"小獅王-超柔無垢海綿旋轉奶瓶刷"]
["SW1469",{"$f":"表格2[[#This Row],[ITEM]]&\"-\"&表格2[[#This Row],[SIZE]]&\"-\"&表格2[[#This Row],[顏色]]","v":"-小獅王-超柔無垢海綿奶嘴刷(2入)-"},88,null,null,null,null,null,"小獅王-超柔無垢海綿奶嘴刷(2入)"]
["SW1470",{"$f":"表格2[[#This Row],[ITEM]]&\"-\"&表格2[[#This Row],[SIZE]]&\"-\"&表格2[[#This Row],[顏色]]","v":"-小獅王-超柔無垢海綿快拆旋轉奶瓶刷替換刷頭(1入)-"},41,null,null,null,null,null,"小獅王-超柔無垢海綿快拆旋轉奶瓶刷替換刷頭(1入)"]
["SW1471",{"$f":"表格2[[#This Row],[ITEM]]&\"-\"&表格2[[#This Row],[SIZE]]&\"-\"&表格2[[#This Row],[顏色]]","v":"-小獅王-超柔無垢海綿旋轉奶瓶刷替換包(2入)-"},47,null,null,null,null,null,"小獅王-超柔無垢海綿旋轉奶瓶刷替換包(2入)"]
["SW1472",{"$f":"表格2[[#This Row],[ITEM]]&\"-\"&表格2[[#This Row],[SIZE]]&\"-\"&表格2[[#This Row],[顏色]]","v":"-小獅王-超柔無垢海綿奶嘴刷替換包(3入)-"},30,null,null,null,null,null,"小獅王-超柔無垢海綿奶嘴刷替換包(3入)"]
["SW1473",{"$f":"表格2[[#This Row],[ITEM]]&\"-\"&表格2[[#This Row],[SIZE]]&\"-\"&表格2[[#This Row],[顏色]]","v":"-小獅王-超柔無垢海綿旋轉奶瓶刷組-"},128,null,null,null,null,null,"小獅王-超柔無垢海綿旋轉奶瓶刷組"]
["SW1660",{"$f":"表格2[[#This Row],[ITEM]]&\"-\"&表格2[[#This Row],[SIZE]]&\"-\"&表格2[[#This Row],[顏色]]","v":"-小獅王-平安御守香火袋-恐龍樂園(藍)-"},112,55,null,null,null,null,"小獅王-平安御守香火袋-恐龍樂園(藍)"]
["SW1661",{"$f":"表格2[[#This Row],[ITEM]]&\"-\"&表格2[[#This Row],[SIZE]]&\"-\"&表格2[[#This Row],[顏色]]","v":"-小獅王-平安御守香火袋-蜜桃菠菠(粉)-"},112,55,null,null,null,null,"小獅王-平安御守香火袋-蜜桃菠菠(粉)"]
["SW1662",{"$f":"表格2[[#This Row],[ITEM]]&\"-\"&表格2[[#This Row],[SIZE]]&\"-\"&表格2[[#This Row],[顏色]]","v":"-小獅王-平安御守香火袋-小鳥星球(綠)-"},112,55,null,null,null,null,"小獅王-平安御守香火袋-小鳥星球(綠)"]
["SW1663",{"$f":"表格2[[#This Row],[ITEM]]&\"-\"&表格2[[#This Row],[SIZE]]&\"-\"&表格2[[#This Row],[顏色]]","v":"-小獅王-平安御守香火袋-奶油字母(杏)-"},112,55,null,null,null,null,"小獅王-平安御守香火袋-奶油字母(杏)"]
["SW1710",{"$f":"表格2[[#This Row],[ITEM]]&\"-\"&表格2[[#This Row],[SIZE]]&\"-\"&表格2[[#This Row],[顏色]]","v":"-小獅王-蘊蜜夜光奶嘴帶-晨藍-"},81,49,null,null,null,null,"小獅王-蘊蜜夜光奶嘴帶-晨藍"]
["SW1711",{"$f":"表格2[[#This Row],[ITEM]]&\"-\"&表格2[[#This Row],[SIZE]]&\"-\"&表格2[[#This Row],[顏色]]","v":"-小獅王-蘊蜜夜光奶嘴帶-栗粉-"},81,49,null,null,null,null,"小獅王-蘊蜜夜光奶嘴帶-栗粉"]
["SW1712",{"$f":"表格2[[#This Row],[ITEM]]&\"-\"&表格2[[#This Row],[SIZE]]&\"-\"&表格2[[#This Row],[顏色]]","v":"-小獅王-蘊蜜夜光奶嘴帶-杏茶-"},81,49,null,null,null,null,"小獅王-蘊蜜夜光奶嘴帶-杏茶"]
["SW1714",{"$f":"表格2[[#This Row],[ITEM]]&\"-\"&表格2[[#This Row],[SIZE]]&\"-\"&表格2[[#This Row],[顏色]]","v":"-小獅王-蘊蜜夜光奶嘴帶-綠沐-"},81,49,null,null,null,null,"小獅王-蘊蜜夜光奶嘴帶-綠沐"]
["SW1720",{"$f":"表格2[[#This Row],[ITEM]]&\"-\"&表格2[[#This Row],[SIZE]]&\"-\"&表格2[[#This Row],[顏色]]","v":"-小獅王-蘊蜜萬用防掉雙頭夾(晨藍)-"},98,45,null,null,null,null,"小獅王-蘊蜜萬用防掉雙頭夾(晨藍)"]
["SW1721",{"$f":"表格2[[#This Row],[ITEM]]&\"-\"&表格2[[#This Row],[SIZE]]&\"-\"&表格2[[#This Row],[顏色]]","v":"-小獅王-蘊蜜萬用防掉雙頭夾(栗粉)-"},98,45,null,null,null,null,"小獅王-蘊蜜萬用防掉雙頭夾(栗粉)"]
["SW1722",{"$f":"表格2[[#This Row],[ITEM]]&\"-\"&表格2[[#This Row],[SIZE]]&\"-\"&表格2[[#This Row],[顏色]]","v":"-小獅王-蘊蜜萬用防掉雙頭夾(杏茶)-"},98,45,null,null,null,null,"小獅王-蘊蜜萬用防掉雙頭夾(杏茶)"]
["SW1723",{"$f":"表格2[[#This Row],[ITEM]]&\"-\"&表格2[[#This Row],[SIZE]]&\"-\"&表格2[[#This Row],[顏色]]","v":"-小獅王-蘊蜜萬用防掉雙頭夾(紫芙)-"},98,45,null,null,null,null,"小獅王-蘊蜜萬用防掉雙頭夾(紫芙)"]
["SW1724",{"$f":"表格2[[#This Row],[ITEM]]&\"-\"&表格2[[#This Row],[SIZE]]&\"-\"&表格2[[#This Row],[顏色]]","v":"-小獅王-蘊蜜萬用防掉雙頭夾(綠沐)-"},98,45,null,null,null,null,"小獅王-蘊蜜萬用防掉雙頭夾(綠沐)"]
["SW1910",{"$f":"表格2[[#This Row],[ITEM]]&\"-\"&表格2[[#This Row],[SIZE]]&\"-\"&表格2[[#This Row],[顏色]]","v":"安撫奶嘴-小獅王-蘊蜜超柔拇指安撫奶嘴(晨藍)-初生-"},74,45,null,null,null,"安撫奶嘴","小獅王-蘊蜜超柔拇指安撫奶嘴(晨藍)-初生"]
["SW1911",{"$f":"表格2[[#This Row],[ITEM]]&\"-\"&表格2[[#This Row],[SIZE]]&\"-\"&表格2[[#This Row],[顏色]]","v":"安撫奶嘴-小獅王-蘊蜜超柔拇指安撫奶嘴(栗粉)-初生-"},74,45,null,null,null,"安撫奶嘴","小獅王-蘊蜜超柔拇指安撫奶嘴(栗粉)-初生"]
["SW1912",{"$f":"表格2[[#This Row],[ITEM]]&\"-\"&表格2[[#This Row],[SIZE]]&\"-\"&表格2[[#This Row],[顏色]]","v":"安撫奶嘴-小獅王-蘊蜜超柔拇指安撫奶嘴(杏茶)-初生-"},74,45,null,null,null,"安撫奶嘴","小獅王-蘊蜜超柔拇指安撫奶嘴(杏茶)-初生"]
["SW1914",{"$f":"表格2[[#This Row],[ITEM]]&\"-\"&表格2[[#This Row],[SIZE]]&\"-\"&表格2[[#This Row],[顏色]]","v":"安撫奶嘴-小獅王-蘊蜜超柔拇指安撫奶嘴(綠沐)-初生-"},74,45,null,null,null,"安撫奶嘴","小獅王-蘊蜜超柔拇指安撫奶嘴(綠沐)-初生"]
["SW1920",{"$f":"表格2[[#This Row],[ITEM]]&\"-\"&表格2[[#This Row],[SIZE]]&\"-\"&表格2[[#This Row],[顏色]]","v":"安撫奶嘴-小獅王-蘊蜜超柔拇指安撫奶嘴(晨藍)-較大-"},74,45,null,null,null,"安撫奶嘴","小獅王-蘊蜜超柔拇指安撫奶嘴(晨藍)-較大"]
["SW1921",{"$f":"表格2[[#This Row],[ITEM]]&\"-\"&表格2[[#This Row],[SIZE]]&\"-\"&表格2[[#This Row],[顏色]]","v":"安撫奶嘴-小獅王-蘊蜜超柔拇指安撫奶嘴(栗粉)-較大-"},74,45,null,null,null,"安撫奶嘴","小獅王-蘊蜜超柔拇指安撫奶嘴(栗粉)-較大"]
["SW1922",{"$f":"表格2[[#This Row],[ITEM]]&\"-\"&表格2[[#This Row],[SIZE]]&\"-\"&表格2[[#This Row],[顏色]]","v":"安撫奶嘴-小獅王-蘊蜜超柔拇指安撫奶嘴(杏茶)-較大-"},74,45,null,null,null,"安撫奶嘴","小獅王-蘊蜜超柔拇指安撫奶嘴(杏茶)-較大"]
["SW1924",{"$f":"表格2[[#This Row],[ITEM]]&\"-\"&表格2[[#This Row],[SIZE]]&\"-\"&表格2[[#This Row],[顏色]]","v":"安撫奶嘴-小獅王-蘊蜜超柔拇指安撫奶嘴(綠沐)-較大-"},74,45,null,null,null,"安撫奶嘴","小獅王-蘊蜜超柔拇指安撫奶嘴(綠沐)-較大"]
["SW1930",{"$f":"表格2[[#This Row],[ITEM]]&\"-\"&表格2[[#This Row],[SIZE]]&\"-\"&表格2[[#This Row],[顏色]]","v":"安撫奶嘴-小獅王-蘊蜜超柔拇指安撫奶嘴(晨藍)-耐咬較大型-"},74,45,null,null,null,"安撫奶嘴","小獅王-蘊蜜超柔拇指安撫奶嘴(晨藍)-耐咬較大型"]
["SW1931",{"$f":"表格2[[#This Row],[ITEM]]&\"-\"&表格2[[#This Row],[SIZE]]&\"-\"&表格2[[#This Row],[顏色]]","v":"安撫奶嘴-小獅王-蘊蜜超柔拇指安撫奶嘴(栗粉)-耐咬較大型-"},74,45,null,null,null,"安撫奶嘴","小獅王-蘊蜜超柔拇指安撫奶嘴(栗粉)-耐咬較大型"]
["SW1932",{"$f":"表格2[[#This Row],[ITEM]]&\"-\"&表格2[[#This Row],[SIZE]]&\"-\"&表格2[[#This Row],[顏色]]","v":"安撫奶嘴-小獅王-蘊蜜超柔拇指安撫奶嘴(杏茶)-耐咬較大型-"},74,45,null,null,null,"安撫奶嘴","小獅王-蘊蜜超柔拇指安撫奶嘴(杏茶)-耐咬較大型"]
["SW1934",{"$f":"表格2[[#This Row],[ITEM]]&\"-\"&表格2[[#This Row],[SIZE]]&\"-\"&表格2[[#This Row],[顏色]]","v":"安撫奶嘴-小獅王-蘊蜜超柔拇指安撫奶嘴(綠沐)-耐咬較大型-"},74,45,null,null,null,"安撫奶嘴","小獅王-蘊蜜超柔拇指安撫奶嘴(綠沐)-耐咬較大型"]
["SW3420",{"$f":"表格2[[#This Row],[ITEM]]&\"-\"&表格2[[#This Row],[SIZE]]&\"-\"&表格2[[#This Row],[顏色]]","v":"食物剪刀-小獅王-嬰兒食物金剛剪(晨藍)-"},170,69,null,null,null,"食物剪刀","小獅王-嬰兒食物金剛剪(晨藍)"]
["SW3421",{"$f":"表格2[[#This Row],[ITEM]]&\"-\"&表格2[[#This Row],[SIZE]]&\"-\"&表格2[[#This Row],[顏色]]","v":"食物剪刀-小獅王-嬰兒食物金剛剪(栗粉)-"},170,69,null,null,null,"食物剪刀","小獅王-嬰兒食物金剛剪(栗粉)"]
["SW3422",{"$f":"表格2[[#This Row],[ITEM]]&\"-\"&表格2[[#This Row],[SIZE]]&\"-\"&表格2[[#This Row],[顏色]]","v":"食物剪刀-小獅王-嬰兒食物金剛剪(杏茶)-"},170,69,null,null,null,"食物剪刀","小獅王-嬰兒食物金剛剪(杏茶)"]
["SW3430",{"$f":"表格2[[#This Row],[ITEM]]&\"-\"&表格2[[#This Row],[SIZE]]&\"-\"&表格2[[#This Row],[顏色]]","v":"-小獅王-美味軟質湯匙(晨藍)-"},67,45,null,null,null,null,"小獅王-美味軟質湯匙(晨藍)"]
["SW3431",{"$f":"表格2[[#This Row],[ITEM]]&\"-\"&表格2[[#This Row],[SIZE]]&\"-\"&表格2[[#This Row],[顏色]]","v":"-小獅王-美味軟質湯匙(栗粉)-"},67,45,null,null,null,null,"小獅王-美味軟質湯匙(栗粉)"]
["SW3432",{"$f":"表格2[[#This Row],[ITEM]]&\"-\"&表格2[[#This Row],[SIZE]]&\"-\"&表格2[[#This Row],[顏色]]","v":"-小獅王-美味軟質湯匙(杏茶)-"},67,45,null,null,null,null,"小獅王-美味軟質湯匙(杏茶)"]
["SW3440",{"$f":"表格2[[#This Row],[ITEM]]&\"-\"&表格2[[#This Row],[SIZE]]&\"-\"&表格2[[#This Row],[顏色]]","v":"-小獅王-美味曲奇吸盤碗-晨藍-"},170,85,null,null,null,null,"小獅王-美味曲奇吸盤碗-晨藍"]
["SW3441",{"$f":"表格2[[#This Row],[ITEM]]&\"-\"&表格2[[#This Row],[SIZE]]&\"-\"&表格2[[#This Row],[顏色]]","v":"-小獅王-美味曲奇吸盤碗-栗粉-"},170,85,null,null,null,null,"小獅王-美味曲奇吸盤碗-栗粉"]
["SW3442",{"$f":"表格2[[#This Row],[ITEM]]&\"-\"&表格2[[#This Row],[SIZE]]&\"-\"&表格2[[#This Row],[顏色]]","v":"-小獅王-美味曲奇吸盤碗-杏茶-"},170,85,null,null,null,null,"小獅王-美味曲奇吸盤碗-杏茶"]
["SW3450",{"$f":"表格2[[#This Row],[ITEM]]&\"-\"&表格2[[#This Row],[SIZE]]&\"-\"&表格2[[#This Row],[顏色]]","v":"-小獅王-美味漢堡吸盤碗-晨藍-"},161,85,null,null,null,null,"小獅王-美味漢堡吸盤碗-晨藍"]
["SW3451",{"$f":"表格2[[#This Row],[ITEM]]&\"-\"&表格2[[#This Row],[SIZE]]&\"-\"&表格2[[#This Row],[顏色]]","v":"-小獅王-美味漢堡吸盤碗-栗粉-"},161,85,null,null,null,null,"小獅王-美味漢堡吸盤碗-栗粉"]
["SW3452",{"$f":"表格2[[#This Row],[ITEM]]&\"-\"&表格2[[#This Row],[SIZE]]&\"-\"&表格2[[#This Row],[顏色]]","v":"-小獅王-美味漢堡吸盤碗-杏茶-"},161,85,null,null,null,null,"小獅王-美味漢堡吸盤碗-杏茶"]
["SW3470",{"$f":"表格2[[#This Row],[ITEM]]&\"-\"&表格2[[#This Row],[SIZE]]&\"-\"&表格2[[#This Row],[顏色]]","v":"-小獅王-美味學習叉匙組-晨藍-"},54,45,null,null,null,null,"小獅王-美味學習叉匙組-晨藍"]
["SW3471",{"$f":"表格2[[#This Row],[ITEM]]&\"-\"&表格2[[#This Row],[SIZE]]&\"-\"&表格2[[#This Row],[顏色]]","v":"-小獅王-美味學習叉匙組-栗粉-"},54,45,null,null,null,null,"小獅王-美味學習叉匙組-栗粉"]
["SW3472",{"$f":"表格2[[#This Row],[ITEM]]&\"-\"&表格2[[#This Row],[SIZE]]&\"-\"&表格2[[#This Row],[顏色]]","v":"-小獅王-美味學習叉匙組-杏茶-"},54,45,null,null,null,null,"小獅王-美味學習叉匙組-杏茶"]
["SW3480",{"$f":"表格2[[#This Row],[ITEM]]&\"-\"&表格2[[#This Row],[SIZE]]&\"-\"&表格2[[#This Row],[顏色]]","v":"-小獅王-美味兒童叉匙組-晨藍-"},81,45,null,null,null,null,"小獅王-美味兒童叉匙組-晨藍"]
["SW3481",{"$f":"表格2[[#This Row],[ITEM]]&\"-\"&表格2[[#This Row],[SIZE]]&\"-\"&表格2[[#This Row],[顏色]]","v":"-小獅王-美味兒童叉匙組-栗粉 -"},81,45,null,null,null,null,"小獅王-美味兒童叉匙組-栗粉 "]
["SW3482",{"$f":"表格2[[#This Row],[ITEM]]&\"-\"&表格2[[#This Row],[SIZE]]&\"-\"&表格2[[#This Row],[顏色]]","v":"-小獅王-美味兒童叉匙組-杏茶-"},81,45,null,null,null,null,"小獅王-美味兒童叉匙組-杏茶"]
["SW3490",{"$f":"表格2[[#This Row],[ITEM]]&\"-\"&表格2[[#This Row],[SIZE]]&\"-\"&表格2[[#This Row],[顏色]]","v":"-小獅王-美味軟糖湯匙組-晨藍-"},98,45,null,null,null,null,"小獅王-美味軟糖湯匙組-晨藍"]
["SW3491",{"$f":"表格2[[#This Row],[ITEM]]&\"-\"&表格2[[#This Row],[SIZE]]&\"-\"&表格2[[#This Row],[顏色]]","v":"-小獅王-美味軟糖湯匙組-栗粉-"},98,45,null,null,null,null,"小獅王-美味軟糖湯匙組-栗粉"]
["SW3492",{"$f":"表格2[[#This Row],[ITEM]]&\"-\"&表格2[[#This Row],[SIZE]]&\"-\"&表格2[[#This Row],[顏色]]","v":"-小獅王-美味軟糖湯匙組-杏茶-"},98,45,null,null,null,null,"小獅王-美味軟糖湯匙組-杏茶"]
["SW6120",{"$f":"表格2[[#This Row],[ITEM]]&\"-\"&表格2[[#This Row],[SIZE]]&\"-\"&表格2[[#This Row],[顏色]]","v":"PPSU 普通奶樽-小獅王-蘊蜜鉑金PPSU寬口防脹氣奶瓶200ml(晨藍)-圓S"},267,115,null,null,null,"PPSU 普通奶樽","小獅王-蘊蜜鉑金PPSU寬口防脹氣奶瓶200ml(晨藍)","圓S"]
["SW6121",{"$f":"表格2[[#This Row],[ITEM]]&\"-\"&表格2[[#This Row],[SIZE]]&\"-\"&表格2[[#This Row],[顏色]]","v":"PPSU 普通奶樽-小獅王-蘊蜜鉑金PPSU寬口防脹氣奶瓶200ml(栗粉)-圓S"},267,115,null,null,null,"PPSU 普通奶樽","小獅王-蘊蜜鉑金PPSU寬口防脹氣奶瓶200ml(栗粉)","圓S"]
["SW6122",{"$f":"表格2[[#This Row],[ITEM]]&\"-\"&表格2[[#This Row],[SIZE]]&\"-\"&表格2[[#This Row],[顏色]]","v":"PPSU 普通奶樽-小獅王-蘊蜜鉑金PPSU寬口防脹氣奶瓶200ml(杏茶)-圓S"},267,115,null,null,null,"PPSU 普通奶樽","小獅王-蘊蜜鉑金PPSU寬口防脹氣奶瓶200ml(杏茶)","圓S"]
["SW6123",{"$f":"表格2[[#This Row],[ITEM]]&\"-\"&表格2[[#This Row],[SIZE]]&\"-\"&表格2[[#This Row],[顏色]]","v":"PPSU 普通奶樽-小獅王-蘊蜜鉑金PPSU寬口防脹氣奶瓶200ml(紫芙)-圓S"},267,115,null,null,null,"PPSU 普通奶樽","小獅王-蘊蜜鉑金PPSU寬口防脹氣奶瓶200ml(紫芙)","圓S"]
["SW6124",{"$f":"表格2[[#This Row],[ITEM]]&\"-\"&表格2[[#This Row],[SIZE]]&\"-\"&表格2[[#This Row],[顏色]]","v":"PPSU 普通奶樽-小獅王-蘊蜜鉑金PPSU寬口防脹氣奶瓶200ml(綠沐)-圓S"},267,115,null,null,null,"PPSU 普通奶樽","小獅王-蘊蜜鉑金PPSU寬口防脹氣奶瓶200ml(綠沐)","圓S"]
["SW6130",{"$f":"表格2[[#This Row],[ITEM]]&\"-\"&表格2[[#This Row],[SIZE]]&\"-\"&表格2[[#This Row],[顏色]]","v":"PPSU 普通奶樽-小獅王-蘊蜜鉑金PPSU寬口防脹氣奶瓶270ml(晨藍)-圓S"},290,128,null,null,null,"PPSU 普通奶樽","小獅王-蘊蜜鉑金PPSU寬口防脹氣奶瓶270ml(晨藍)","圓S"]
["SW6131",{"$f":"表格2[[#This Row],[ITEM]]&\"-\"&表格2[[#This Row],[SIZE]]&\"-\"&表格2[[#This Row],[顏色]]","v":"PPSU 普通奶樽-小獅王-蘊蜜鉑金PPSU寬口防脹氣奶瓶270ml(栗粉)-十字M"},290,128,null,null,null,"PPSU 普通奶樽","小獅王-蘊蜜鉑金PPSU寬口防脹氣奶瓶270ml(栗粉)","十字M"]
["SW6132",{"$f":"表格2[[#This Row],[ITEM]]&\"-\"&表格2[[#This Row],[SIZE]]&\"-\"&表格2[[#This Row],[顏色]]","v":"PPSU 普通奶樽-小獅王-蘊蜜鉑金PPSU寬口防脹氣奶瓶270ml(杏茶)-十字M"},290,128,null,null,null,"PPSU 普通奶樽","小獅王-蘊蜜鉑金PPSU寬口防脹氣奶瓶270ml(杏茶)","十字M"]
["SW6133",{"$f":"表格2[[#This Row],[ITEM]]&\"-\"&表格2[[#This Row],[SIZE]]&\"-\"&表格2[[#This Row],[顏色]]","v":"PPSU 普通奶樽-小獅王-蘊蜜鉑金PPSU寬口防脹氣奶瓶270ml(紫芙)-十字M"},290,128,null,null,null,"PPSU 普通奶樽","小獅王-蘊蜜鉑金PPSU寬口防脹氣奶瓶270ml(紫芙)","十字M"]
["SW6134",{"$f":"表格2[[#This Row],[ITEM]]&\"-\"&表格2[[#This Row],[SIZE]]&\"-\"&表格2[[#This Row],[顏色]]","v":"PPSU 普通奶樽-小獅王-蘊蜜鉑金PPSU寬口防脹氣奶瓶270ml(綠沐)-十字M"},290,128,null,null,null,"PPSU 普通奶樽","小獅王-蘊蜜鉑金PPSU寬口防脹氣奶瓶270ml(綠沐)","十字M"]
["SW6150",{"$f":"表格2[[#This Row],[ITEM]]&\"-\"&表格2[[#This Row],[SIZE]]&\"-\"&表格2[[#This Row],[顏色]]","v":"PPSU 普通奶樽-小獅王-蘊蜜鉑金PPSU寬口防脹氣奶瓶360ml(晨藍)-十字M"},312,135,null,null,null,"PPSU 普通奶樽","小獅王-蘊蜜鉑金PPSU寬口防脹氣奶瓶360ml(晨藍)","十字M"]
["SW6151",{"$f":"表格2[[#This Row],[ITEM]]&\"-\"&表格2[[#This Row],[SIZE]]&\"-\"&表格2[[#This Row],[顏色]]","v":"PPSU 普通奶樽-小獅王-蘊蜜鉑金PPSU寬口防脹氣奶瓶360ml(栗粉)-十字M"},312,135,null,null,null,"PPSU 普通奶樽","小獅王-蘊蜜鉑金PPSU寬口防脹氣奶瓶360ml(栗粉)","十字M"]
["SW6152",{"$f":"表格2[[#This Row],[ITEM]]&\"-\"&表格2[[#This Row],[SIZE]]&\"-\"&表格2[[#This Row],[顏色]]","v":"PPSU 普通奶樽-小獅王-蘊蜜鉑金PPSU寬口防脹氣奶瓶360ml(杏茶)-十字M"},312,135,null,null,null,"PPSU 普通奶樽","小獅王-蘊蜜鉑金PPSU寬口防脹氣奶瓶360ml(杏茶)","十字M"]
["SW6153",{"$f":"表格2[[#This Row],[ITEM]]&\"-\"&表格2[[#This Row],[SIZE]]&\"-\"&表格2[[#This Row],[顏色]]","v":"PPSU 普通奶樽-小獅王-蘊蜜鉑金PPSU寬口防脹氣奶瓶360ml(紫芙)-十字M"},312,135,null,null,null,"PPSU 普通奶樽","小獅王-蘊蜜鉑金PPSU寬口防脹氣奶瓶360ml(紫芙)","十字M"]
["SW6154",{"$f":"表格2[[#This Row],[ITEM]]&\"-\"&表格2[[#This Row],[SIZE]]&\"-\"&表格2[[#This Row],[顏色]]","v":"PPSU 普通奶樽-小獅王-蘊蜜鉑金PPSU寬口防脹氣奶瓶360ml(綠沐)-十字M"},312,135,null,null,null,"PPSU 普通奶樽","小獅王-蘊蜜鉑金PPSU寬口防脹氣奶瓶360ml(綠沐)","十字M"]
["SW6160",{"$f":"表格2[[#This Row],[ITEM]]&\"-\"&表格2[[#This Row],[SIZE]]&\"-\"&表格2[[#This Row],[顏色]]","v":"把手奶樽-小獅王-蘊蜜鉑金PPSU寬口吸管把手防脹氣奶瓶200ml(晨藍)-十字S"},299,135,null,null,null,"把手奶樽","小獅王-蘊蜜鉑金PPSU寬口吸管把手防脹氣奶瓶200ml(晨藍)","十字S"]
["SW6161",{"$f":"表格2[[#This Row],[ITEM]]&\"-\"&表格2[[#This Row],[SIZE]]&\"-\"&表格2[[#This Row],[顏色]]","v":"把手奶樽-小獅王-蘊蜜鉑金PPSU寬口吸管把手防脹氣奶瓶200ml(栗粉)-十字S"},299,135,null,null,null,"把手奶樽","小獅王-蘊蜜鉑金PPSU寬口吸管把手防脹氣奶瓶200ml(栗粉)","十字S"]
["SW6162",{"$f":"表格2[[#This Row],[ITEM]]&\"-\"&表格2[[#This Row],[SIZE]]&\"-\"&表格2[[#This Row],[顏色]]","v":"把手奶樽-小獅王-蘊蜜鉑金PPSU寬口吸管把手防脹氣奶瓶200ml(杏茶)-十字S"},299,135,null,null,null,"把手奶樽","小獅王-蘊蜜鉑金PPSU寬口吸管把手防脹氣奶瓶200ml(杏茶)","十字S"]
["SW6164",{"$f":"表格2[[#This Row],[ITEM]]&\"-\"&表格2[[#This Row],[SIZE]]&\"-\"&表格2[[#This Row],[顏色]]","v":"把手奶樽-小獅王-蘊蜜鉑金PPSU寬口吸管把手防脹氣奶瓶200ml(綠沐)-十字S"},299,135,null,null,null,"把手奶樽","小獅王-蘊蜜鉑金PPSU寬口吸管把手防脹氣奶瓶200ml(綠沐)","十字S"]
["SW6170",{"$f":"表格2[[#This Row],[ITEM]]&\"-\"&表格2[[#This Row],[SIZE]]&\"-\"&表格2[[#This Row],[顏色]]","v":"把手奶樽-小獅王-蘊蜜鉑金PPSU寬口吸管把手防脹氣奶瓶270ml(晨藍)-十字M"},321,140,null,null,null,"把手奶樽","小獅王-蘊蜜鉑金PPSU寬口吸管把手防脹氣奶瓶270ml(晨藍)","十字M"]
["SW6171",{"$f":"表格2[[#This Row],[ITEM]]&\"-\"&表格2[[#This Row],[SIZE]]&\"-\"&表格2[[#This Row],[顏色]]","v":"把手奶樽-小獅王-蘊蜜鉑金PPSU寬口吸管把手防脹氣奶瓶270ml(栗粉)-十字M"},321,140,null,null,null,"把手奶樽","小獅王-蘊蜜鉑金PPSU寬口吸管把手防脹氣奶瓶270ml(栗粉)","十字M"]
["SW6172",{"$f":"表格2[[#This Row],[ITEM]]&\"-\"&表格2[[#This Row],[SIZE]]&\"-\"&表格2[[#This Row],[顏色]]","v":"把手奶樽-小獅王-蘊蜜鉑金PPSU寬口吸管把手防脹氣奶瓶270ml(杏茶)-十字M"},321,140,null,null,null,"把手奶樽","小獅王-蘊蜜鉑金PPSU寬口吸管把手防脹氣奶瓶270ml(杏茶)","十字M"]
["SW6174",{"$f":"表格2[[#This Row],[ITEM]]&\"-\"&表格2[[#This Row],[SIZE]]&\"-\"&表格2[[#This Row],[顏色]]","v":"把手奶樽-小獅王-蘊蜜鉑金PPSU寬口吸管把手防脹氣奶瓶270ml(綠沐)-十字M"},321,140,null,null,null,"把手奶樽","小獅王-蘊蜜鉑金PPSU寬口吸管把手防脹氣奶瓶270ml(綠沐)","十字M"]
["SW6180",{"$f":"表格2[[#This Row],[ITEM]]&\"-\"&表格2[[#This Row],[SIZE]]&\"-\"&表格2[[#This Row],[顏色]]","v":"把手奶樽-小獅王-蘊蜜鉑金PPSU寬口吸管把手防脹氣奶瓶360ml(晨藍)-十字M"},343,148,null,null,null,"把手奶樽","小獅王-蘊蜜鉑金PPSU寬口吸管把手防脹氣奶瓶360ml(晨藍)","十字M"]
["SW6181",{"$f":"表格2[[#This Row],[ITEM]]&\"-\"&表格2[[#This Row],[SIZE]]&\"-\"&表格2[[#This Row],[顏色]]","v":"把手奶樽-小獅王-蘊蜜鉑金PPSU寬口吸管把手防脹氣奶瓶360ml(栗粉)-十字M"},343,148,null,null,null,"把手奶樽","小獅王-蘊蜜鉑金PPSU寬口吸管把手防脹氣奶瓶360ml(栗粉)","十字M"]
["SW6182",{"$f":"表格2[[#This Row],[ITEM]]&\"-\"&表格2[[#This Row],[SIZE]]&\"-\"&表格2[[#This Row],[顏色]]","v":"把手奶樽-小獅王-蘊蜜鉑金PPSU寬口吸管把手防脹氣奶瓶360ml(杏茶)-十字M"},343,148,null,null,null,"把手奶樽","小獅王-蘊蜜鉑金PPSU寬口吸管把手防脹氣奶瓶360ml(杏茶)","十字M"]
["SW6184",{"$f":"表格2[[#This Row],[ITEM]]&\"-\"&表格2[[#This Row],[SIZE]]&\"-\"&表格2[[#This Row],[顏色]]","v":"把手奶樽-小獅王-蘊蜜鉑金PPSU寬口吸管把手防脹氣奶瓶360ml(綠沐)-十字M"},343,148,null,null,null,"把手奶樽","小獅王-蘊蜜鉑金PPSU寬口吸管把手防脹氣奶瓶360ml(綠沐)","十字M"]
["SW6331",{"$f":"表格2[[#This Row],[ITEM]]&\"-\"&表格2[[#This Row],[SIZE]]&\"-\"&表格2[[#This Row],[顏色]]","v":"奶樽嘴-小獅王-超柔防脹氣寬口十字奶嘴S-4入(0個月以上)-"},161,85,null,null,null,"奶樽嘴","小獅王-超柔防脹氣寬口十字奶嘴S-4入(0個月以上)"]
["SW6332",{"$f":"表格2[[#This Row],[ITEM]]&\"-\"&表格2[[#This Row],[SIZE]]&\"-\"&表格2[[#This Row],[顏色]]","v":"奶樽嘴-小獅王-超柔防脹氣寬口十字奶嘴M-4入(3個月以上)-"},161,85,null,null,null,"奶樽嘴","小獅王-超柔防脹氣寬口十字奶嘴M-4入(3個月以上)"]
["SW6333",{"$f":"表格2[[#This Row],[ITEM]]&\"-\"&表格2[[#This Row],[SIZE]]&\"-\"&表格2[[#This Row],[顏色]]","v":"奶樽嘴-小獅王-超柔防脹氣寬口十字奶嘴L-4入(6個月以上)-"},161,85,null,null,null,"奶樽嘴","小獅王-超柔防脹氣寬口十字奶嘴L-4入(6個月以上)"]
["SW6334",{"$f":"表格2[[#This Row],[ITEM]]&\"-\"&表格2[[#This Row],[SIZE]]&\"-\"&表格2[[#This Row],[顏色]]","v":"奶樽嘴-小獅王-超柔防脹氣寬口十字奶嘴XL-4入(12個月以上)-"},161,85,null,null,null,"奶樽嘴","小獅王-超柔防脹氣寬口十字奶嘴XL-4入(12個月以上)"]
["SW6335",{"$f":"表格2[[#This Row],[ITEM]]&\"-\"&表格2[[#This Row],[SIZE]]&\"-\"&表格2[[#This Row],[顏色]]","v":"奶樽嘴-小獅王-超柔防脹氣寬口圓孔奶嘴S-4入(0個月以上)-"},161,85,null,null,null,"奶樽嘴","小獅王-超柔防脹氣寬口圓孔奶嘴S-4入(0個月以上)"]
["SW6336",{"$f":"表格2[[#This Row],[ITEM]]&\"-\"&表格2[[#This Row],[SIZE]]&\"-\"&表格2[[#This Row],[顏色]]","v":"奶樽嘴-小獅王-超柔防脹氣寬口圓孔奶嘴M-4入(3個月以上)-"},161,85,null,null,null,"奶樽嘴","小獅王-超柔防脹氣寬口圓孔奶嘴M-4入(3個月以上)"]
["SW6337",{"$f":"表格2[[#This Row],[ITEM]]&\"-\"&表格2[[#This Row],[SIZE]]&\"-\"&表格2[[#This Row],[顏色]]","v":"奶樽嘴-小獅王-超柔防脹氣寬口圓孔奶嘴L-4入(6個月以上)-"},161,85,null,null,null,"奶樽嘴","小獅王-超柔防脹氣寬口圓孔奶嘴L-4入(6個月以上)"]
["SW6338",{"$f":"表格2[[#This Row],[ITEM]]&\"-\"&表格2[[#This Row],[SIZE]]&\"-\"&表格2[[#This Row],[顏色]]","v":"奶樽嘴-小獅王-超柔防脹氣寬口圓孔奶嘴SS-4入(初生學習)-"},161,85,null,null,null,"奶樽嘴","小獅王-超柔防脹氣寬口圓孔奶嘴SS-4入(初生學習)"]
["SW6940",{"$f":"表格2[[#This Row],[ITEM]]&\"-\"&表格2[[#This Row],[SIZE]]&\"-\"&表格2[[#This Row],[顏色]]","v":"玻璃奶樽-小獅王-蘊蜜質金玻璃寬口防脹氣奶瓶180ml(晨藍)-新生專用-"},174,null,null,null,null,"玻璃奶樽","小獅王-蘊蜜質金玻璃寬口防脹氣奶瓶180ml(晨藍)-新生專用"]
["SW6941",{"$f":"表格2[[#This Row],[ITEM]]&\"-\"&表格2[[#This Row],[SIZE]]&\"-\"&表格2[[#This Row],[顏色]]","v":"玻璃奶樽-小獅王-蘊蜜質金玻璃寬口防脹氣奶瓶180ml(栗粉)-新生專用-"},174,null,null,null,null,"玻璃奶樽","小獅王-蘊蜜質金玻璃寬口防脹氣奶瓶180ml(栗粉)-新生專用"]
["SW6942",{"$f":"表格2[[#This Row],[ITEM]]&\"-\"&表格2[[#This Row],[SIZE]]&\"-\"&表格2[[#This Row],[顏色]]","v":"玻璃奶樽-小獅王-蘊蜜質金玻璃寬口防脹氣奶瓶180ml(杏茶)-新生專用-"},174,null,null,null,null,"玻璃奶樽","小獅王-蘊蜜質金玻璃寬口防脹氣奶瓶180ml(杏茶)-新生專用"]
["SW6943",{"$f":"表格2[[#This Row],[ITEM]]&\"-\"&表格2[[#This Row],[SIZE]]&\"-\"&表格2[[#This Row],[顏色]]","v":"玻璃奶樽-小獅王-蘊蜜質金玻璃寬口防脹氣奶瓶180ml(紫芙)-新生專用-"},174,null,null,null,null,"玻璃奶樽","小獅王-蘊蜜質金玻璃寬口防脹氣奶瓶180ml(紫芙)-新生專用"]
["SW6944",{"$f":"表格2[[#This Row],[ITEM]]&\"-\"&表格2[[#This Row],[SIZE]]&\"-\"&表格2[[#This Row],[顏色]]","v":"玻璃奶樽-小獅王-蘊蜜質金玻璃寬口防脹氣奶瓶180ml(綠沐)-新生專用-"},174,null,null,null,null,"玻璃奶樽","小獅王-蘊蜜質金玻璃寬口防脹氣奶瓶180ml(綠沐)-新生專用"]
["SW6950",{"$f":"表格2[[#This Row],[ITEM]]&\"-\"&表格2[[#This Row],[SIZE]]&\"-\"&表格2[[#This Row],[顏色]]","v":"玻璃奶樽-小獅王-蘊蜜質金玻璃寬口防脹氣奶瓶270ml(晨藍)-新生專用-"},178,null,null,null,null,"玻璃奶樽","小獅王-蘊蜜質金玻璃寬口防脹氣奶瓶270ml(晨藍)-新生專用"]
["SW6951",{"$f":"表格2[[#This Row],[ITEM]]&\"-\"&表格2[[#This Row],[SIZE]]&\"-\"&表格2[[#This Row],[顏色]]","v":"玻璃奶樽-小獅王-蘊蜜質金玻璃寬口防脹氣奶瓶270ml(栗粉)-新生專用-"},178,null,null,null,null,"玻璃奶樽","小獅王-蘊蜜質金玻璃寬口防脹氣奶瓶270ml(栗粉)-新生專用"]
["SW6952",{"$f":"表格2[[#This Row],[ITEM]]&\"-\"&表格2[[#This Row],[SIZE]]&\"-\"&表格2[[#This Row],[顏色]]","v":"玻璃奶樽-小獅王-蘊蜜質金玻璃寬口防脹氣奶瓶270ml(杏茶)-新生專用-"},178,null,null,null,null,"玻璃奶樽","小獅王-蘊蜜質金玻璃寬口防脹氣奶瓶270ml(杏茶)-新生專用"]
["SW6953",{"$f":"表格2[[#This Row],[ITEM]]&\"-\"&表格2[[#This Row],[SIZE]]&\"-\"&表格2[[#This Row],[顏色]]","v":"玻璃奶樽-小獅王-蘊蜜質金玻璃寬口防脹氣奶瓶270ml(紫芙)-新生專用-"},178,null,null,null,null,"玻璃奶樽","小獅王-蘊蜜質金玻璃寬口防脹氣奶瓶270ml(紫芙)-新生專用"]
["SW6954",{"$f":"表格2[[#This Row],[ITEM]]&\"-\"&表格2[[#This Row],[SIZE]]&\"-\"&表格2[[#This Row],[顏色]]","v":"玻璃奶樽-小獅王-蘊蜜質金玻璃寬口防脹氣奶瓶270ml(綠沐)-新生專用-"},178,null,null,null,null,"玻璃奶樽","小獅王-蘊蜜質金玻璃寬口防脹氣奶瓶270ml(綠沐)-新生專用"]
["SW7010",{"$f":"表格2[[#This Row],[ITEM]]&\"-\"&表格2[[#This Row],[SIZE]]&\"-\"&表格2[[#This Row],[顏色]]","v":"配件1-小獅王-蘊蜜寬口奶瓶儲乳片5入-"},85,28,null,null,null,"配件1","小獅王-蘊蜜寬口奶瓶儲乳片5入"]
["SW7011",{"$f":"表格2[[#This Row],[ITEM]]&\"-\"&表格2[[#This Row],[SIZE]]&\"-\"&表格2[[#This Row],[顏色]]","v":"配件5-小獅王-蘊蜜寬口奶瓶蝶型吸管組-"},49,35,null,null,null,"配件5","小獅王-蘊蜜寬口奶瓶蝶型吸管組"]
["SW7012",{"$f":"表格2[[#This Row],[ITEM]]&\"-\"&表格2[[#This Row],[SIZE]]&\"-\"&表格2[[#This Row],[顏色]]","v":"配件6-小獅王-蘊蜜寬口奶瓶防漏學習吸管組-"},74,38,null,null,null,"配件6","小獅王-蘊蜜寬口奶瓶防漏學習吸管組"]
["SW7013",{"$f":"表格2[[#This Row],[ITEM]]&\"-\"&表格2[[#This Row],[SIZE]]&\"-\"&表格2[[#This Row],[顏色]]","v":"配件7-小獅王-蘊蜜寬口防漏滑蓋吸管組-"},116,55,null,null,null,"配件7","小獅王-蘊蜜寬口防漏滑蓋吸管組"]
["SW7014",{"$f":"表格2[[#This Row],[ITEM]]&\"-\"&表格2[[#This Row],[SIZE]]&\"-\"&表格2[[#This Row],[顏色]]","v":"-小獅王-蘊蜜寬口防漏滑蓋矽膠墊圈-"},30,28,null,null,null,null,"小獅王-蘊蜜寬口防漏滑蓋矽膠墊圈"]
["SW7015",{"$f":"表格2[[#This Row],[ITEM]]&\"-\"&表格2[[#This Row],[SIZE]]&\"-\"&表格2[[#This Row],[顏色]]","v":"吸管刷-小獅王-蘊蜜清潔刷6入-"},63,38,null,null,null,"吸管刷","小獅王-蘊蜜清潔刷6入"]
["SW7020",{"$f":"表格2[[#This Row],[ITEM]]&\"-\"&表格2[[#This Row],[SIZE]]&\"-\"&表格2[[#This Row],[顏色]]","v":"配件3-小獅王-蘊蜜寬口奶瓶瓶蓋組(晨藍)-"},27,18,null,null,null,"配件3","小獅王-蘊蜜寬口奶瓶瓶蓋組(晨藍)"]
["SW7021",{"$f":"表格2[[#This Row],[ITEM]]&\"-\"&表格2[[#This Row],[SIZE]]&\"-\"&表格2[[#This Row],[顏色]]","v":"配件3-小獅王-蘊蜜寬口奶瓶瓶蓋組(栗粉)-"},27,18,null,null,null,"配件3","小獅王-蘊蜜寬口奶瓶瓶蓋組(栗粉)"]
["SW7022",{"$f":"表格2[[#This Row],[ITEM]]&\"-\"&表格2[[#This Row],[SIZE]]&\"-\"&表格2[[#This Row],[顏色]]","v":"配件3-小獅王-蘊蜜寬口奶瓶瓶蓋組(杏茶)-"},27,18,null,null,null,"配件3","小獅王-蘊蜜寬口奶瓶瓶蓋組(杏茶)"]
["SW7023",{"$f":"表格2[[#This Row],[ITEM]]&\"-\"&表格2[[#This Row],[SIZE]]&\"-\"&表格2[[#This Row],[顏色]]","v":"配件3-小獅王-蘊蜜寬口奶瓶瓶蓋組(紫芙)-"},27,18,null,null,null,"配件3","小獅王-蘊蜜寬口奶瓶瓶蓋組(紫芙)"]
["SW7024",{"$f":"表格2[[#This Row],[ITEM]]&\"-\"&表格2[[#This Row],[SIZE]]&\"-\"&表格2[[#This Row],[顏色]]","v":"配件3-小獅王-蘊蜜寬口奶瓶瓶蓋組(綠沐)-"},27,18,null,null,null,"配件3","小獅王-蘊蜜寬口奶瓶瓶蓋組(綠沐)"]
["SW7025",{"$f":"表格2[[#This Row],[ITEM]]&\"-\"&表格2[[#This Row],[SIZE]]&\"-\"&表格2[[#This Row],[顏色]]","v":"配件3-小獅王-蘊蜜寬口奶瓶瓶蓋組(蒔黑)-"},27,18,null,null,null,"配件3","小獅王-蘊蜜寬口奶瓶瓶蓋組(蒔黑)"]
["SW7026",{"$f":"表格2[[#This Row],[ITEM]]&\"-\"&表格2[[#This Row],[SIZE]]&\"-\"&表格2[[#This Row],[顏色]]","v":"配件3-小獅王-蘊蜜寬口奶瓶瓶蓋組(苜白)-"},27,18,null,null,null,"配件3","小獅王-蘊蜜寬口奶瓶瓶蓋組(苜白)"]
["SW7030",{"$f":"表格2[[#This Row],[ITEM]]&\"-\"&表格2[[#This Row],[SIZE]]&\"-\"&表格2[[#This Row],[顏色]]","v":"配件4-小獅王-蘊蜜寬口奶瓶防滑把手(晨藍)-"},27,18,null,null,null,"配件4","小獅王-蘊蜜寬口奶瓶防滑把手(晨藍)"]
["SW7031",{"$f":"表格2[[#This Row],[ITEM]]&\"-\"&表格2[[#This Row],[SIZE]]&\"-\"&表格2[[#This Row],[顏色]]","v":"配件4-小獅王-蘊蜜寬口奶瓶防滑把手(栗粉)-"},27,18,null,null,null,"配件4","小獅王-蘊蜜寬口奶瓶防滑把手(栗粉)"]
["SW7032",{"$f":"表格2[[#This Row],[ITEM]]&\"-\"&表格2[[#This Row],[SIZE]]&\"-\"&表格2[[#This Row],[顏色]]","v":"配件4-小獅王-蘊蜜寬口奶瓶防滑把手(杏茶)-"},27,18,null,null,null,"配件4","小獅王-蘊蜜寬口奶瓶防滑把手(杏茶)"]
["SW7033",{"$f":"表格2[[#This Row],[ITEM]]&\"-\"&表格2[[#This Row],[SIZE]]&\"-\"&表格2[[#This Row],[顏色]]","v":"配件4-小獅王-蘊蜜寬口奶瓶防滑把手(紫芙)-"},27,18,null,null,null,"配件4","小獅王-蘊蜜寬口奶瓶防滑把手(紫芙)"]
["SW7034",{"$f":"表格2[[#This Row],[ITEM]]&\"-\"&表格2[[#This Row],[SIZE]]&\"-\"&表格2[[#This Row],[顏色]]","v":"配件4-小獅王-蘊蜜寬口奶瓶防滑把手(綠沐)-"},27,18,null,null,null,"配件4","小獅王-蘊蜜寬口奶瓶防滑把手(綠沐)"]
["SW7035",{"$f":"表格2[[#This Row],[ITEM]]&\"-\"&表格2[[#This Row],[SIZE]]&\"-\"&表格2[[#This Row],[顏色]]","v":"配件4-小獅王-蘊蜜寬口奶瓶防滑把手(蒔黑)-"},27,18,null,null,null,"配件4","小獅王-蘊蜜寬口奶瓶防滑把手(蒔黑)"]
["SW7036",{"$f":"表格2[[#This Row],[ITEM]]&\"-\"&表格2[[#This Row],[SIZE]]&\"-\"&表格2[[#This Row],[顏色]]","v":"配件4-小獅王-蘊蜜寬口奶瓶防滑把手(苜白)-"},27,18,null,null,null,"配件4","小獅王-蘊蜜寬口奶瓶防滑把手(苜白)"]
["SW7040",{"$f":"表格2[[#This Row],[ITEM]]&\"-\"&表格2[[#This Row],[SIZE]]&\"-\"&表格2[[#This Row],[顏色]]","v":"配件2-小獅王-蘊蜜寬口奶瓶萬用蓋(晨藍)-"},30,18,null,null,null,"配件2","小獅王-蘊蜜寬口奶瓶萬用蓋(晨藍)"]
["SW7041",{"$f":"表格2[[#This Row],[ITEM]]&\"-\"&表格2[[#This Row],[SIZE]]&\"-\"&表格2[[#This Row],[顏色]]","v":"配件2-小獅王-蘊蜜寬口奶瓶萬用蓋(栗粉)-"},30,18,null,null,null,"配件2","小獅王-蘊蜜寬口奶瓶萬用蓋(栗粉)"]
["SW7042",{"$f":"表格2[[#This Row],[ITEM]]&\"-\"&表格2[[#This Row],[SIZE]]&\"-\"&表格2[[#This Row],[顏色]]","v":"配件2-小獅王-蘊蜜寬口奶瓶萬用蓋(杏茶)-"},30,18,null,null,null,"配件2","小獅王-蘊蜜寬口奶瓶萬用蓋(杏茶)"]
["SW7043",{"$f":"表格2[[#This Row],[ITEM]]&\"-\"&表格2[[#This Row],[SIZE]]&\"-\"&表格2[[#This Row],[顏色]]","v":"配件2-小獅王-蘊蜜寬口奶瓶萬用蓋(紫芙)-"},30,18,null,null,null,"配件2","小獅王-蘊蜜寬口奶瓶萬用蓋(紫芙)"]
["SW7044",{"$f":"表格2[[#This Row],[ITEM]]&\"-\"&表格2[[#This Row],[SIZE]]&\"-\"&表格2[[#This Row],[顏色]]","v":"配件2-小獅王-蘊蜜寬口奶瓶萬用蓋(綠沐)-"},30,18,null,null,null,"配件2","小獅王-蘊蜜寬口奶瓶萬用蓋(綠沐)"]
["SW7045",{"$f":"表格2[[#This Row],[ITEM]]&\"-\"&表格2[[#This Row],[SIZE]]&\"-\"&表格2[[#This Row],[顏色]]","v":"配件2-小獅王-蘊蜜寬口奶瓶萬用蓋(蒔黑)-"},30,18,null,null,null,"配件2","小獅王-蘊蜜寬口奶瓶萬用蓋(蒔黑)"]
["SW7046",{"$f":"表格2[[#This Row],[ITEM]]&\"-\"&表格2[[#This Row],[SIZE]]&\"-\"&表格2[[#This Row],[顏色]]","v":"配件2-小獅王-蘊蜜寬口奶瓶萬用蓋(苜白)-"},30,18,null,null,null,"配件2","小獅王-蘊蜜寬口奶瓶萬用蓋(苜白)"]
["SW7050",{"$f":"表格2[[#This Row],[ITEM]]&\"-\"&表格2[[#This Row],[SIZE]]&\"-\"&表格2[[#This Row],[顏色]]","v":"配件7-小獅王-蘊蜜寬口防漏滑蓋把手吸管組(晨藍)-"},112,55,null,null,null,"配件7","小獅王-蘊蜜寬口防漏滑蓋把手吸管組(晨藍)"]
["SW7051",{"$f":"表格2[[#This Row],[ITEM]]&\"-\"&表格2[[#This Row],[SIZE]]&\"-\"&表格2[[#This Row],[顏色]]","v":"配件7-小獅王-蘊蜜寬口防漏滑蓋把手吸管組(栗粉)-"},112,55,null,null,null,"配件7","小獅王-蘊蜜寬口防漏滑蓋把手吸管組(栗粉)"]
["SW7052",{"$f":"表格2[[#This Row],[ITEM]]&\"-\"&表格2[[#This Row],[SIZE]]&\"-\"&表格2[[#This Row],[顏色]]","v":"配件7-小獅王-蘊蜜寬口防漏滑蓋把手吸管組(杏茶)-"},112,55,null,null,null,"配件7","小獅王-蘊蜜寬口防漏滑蓋把手吸管組(杏茶)"]
["SW7053",{"$f":"表格2[[#This Row],[ITEM]]&\"-\"&表格2[[#This Row],[SIZE]]&\"-\"&表格2[[#This Row],[顏色]]","v":"配件7-小獅王-蘊蜜寬口防漏滑蓋把手吸管組(紫芙)-"},112,55,null,null,null,"配件7","小獅王-蘊蜜寬口防漏滑蓋把手吸管組(紫芙)"]
["SW7054",{"$f":"表格2[[#This Row],[ITEM]]&\"-\"&表格2[[#This Row],[SIZE]]&\"-\"&表格2[[#This Row],[顏色]]","v":"配件7-小獅王-蘊蜜寬口防漏滑蓋把手吸管組(綠沐)-"},112,55,null,null,null,"配件7","小獅王-蘊蜜寬口防漏滑蓋把手吸管組(綠沐)"]
["SW7055",{"$f":"表格2[[#This Row],[ITEM]]&\"-\"&表格2[[#This Row],[SIZE]]&\"-\"&表格2[[#This Row],[顏色]]","v":"配件7-小獅王-蘊蜜寬口防漏滑蓋把手吸管組(蒔黑)-"},112,55,null,null,null,"配件7","小獅王-蘊蜜寬口防漏滑蓋把手吸管組(蒔黑)"]
["SW7056",{"$f":"表格2[[#This Row],[ITEM]]&\"-\"&表格2[[#This Row],[SIZE]]&\"-\"&表格2[[#This Row],[顏色]]","v":"配件7-小獅王-蘊蜜寬口防漏滑蓋把手吸管組(苜白)-"},112,55,null,null,null,"配件7","小獅王-蘊蜜寬口防漏滑蓋把手吸管組(苜白)"]
["SW7060",{"$f":"表格2[[#This Row],[ITEM]]&\"-\"&表格2[[#This Row],[SIZE]]&\"-\"&表格2[[#This Row],[顏色]]","v":"配件8-小獅王-蘊蜜寬口即飲杯蓋組(晨藍)-"},98,48,null,null,null,"配件8","小獅王-蘊蜜寬口即飲杯蓋組(晨藍)"]
["SW7061",{"$f":"表格2[[#This Row],[ITEM]]&\"-\"&表格2[[#This Row],[SIZE]]&\"-\"&表格2[[#This Row],[顏色]]","v":"配件8-小獅王-蘊蜜寬口即飲杯蓋組(栗粉)-"},98,48,null,null,null,"配件8","小獅王-蘊蜜寬口即飲杯蓋組(栗粉)"]
["SW7062",{"$f":"表格2[[#This Row],[ITEM]]&\"-\"&表格2[[#This Row],[SIZE]]&\"-\"&表格2[[#This Row],[顏色]]","v":"配件8-小獅王-蘊蜜寬口即飲杯蓋組(杏茶)-"},98,48,null,null,null,"配件8","小獅王-蘊蜜寬口即飲杯蓋組(杏茶)"]
["SW7063",{"$f":"表格2[[#This Row],[ITEM]]&\"-\"&表格2[[#This Row],[SIZE]]&\"-\"&表格2[[#This Row],[顏色]]","v":"配件8-小獅王-蘊蜜寬口即飲杯蓋組(紫芙)-"},98,48,null,null,null,"配件8","小獅王-蘊蜜寬口即飲杯蓋組(紫芙)"]
["SW7064",{"$f":"表格2[[#This Row],[ITEM]]&\"-\"&表格2[[#This Row],[SIZE]]&\"-\"&表格2[[#This Row],[顏色]]","v":"配件8-小獅王-蘊蜜寬口即飲杯蓋組(綠沐)-"},98,48,null,null,null,"配件8","小獅王-蘊蜜寬口即飲杯蓋組(綠沐)"]
["SW7065",{"$f":"表格2[[#This Row],[ITEM]]&\"-\"&表格2[[#This Row],[SIZE]]&\"-\"&表格2[[#This Row],[顏色]]","v":"配件8-小獅王-蘊蜜寬口即飲杯蓋組(蒔黑)-"},98,48,null,null,null,"配件8","小獅王-蘊蜜寬口即飲杯蓋組(蒔黑)"]
["SW7066",{"$f":"表格2[[#This Row],[ITEM]]&\"-\"&表格2[[#This Row],[SIZE]]&\"-\"&表格2[[#This Row],[顏色]]","v":"配件8-小獅王-蘊蜜寬口即飲杯蓋組(苜白)-"},98,48,null,null,null,"配件8","小獅王-蘊蜜寬口即飲杯蓋組(苜白)"]
["SW8110",{"$f":"表格2[[#This Row],[ITEM]]&\"-\"&表格2[[#This Row],[SIZE]]&\"-\"&表格2[[#This Row],[顏色]]","v":"學習水杯-小獅王-蘊蜜鉑金PPSU防漏滑蓋學習水杯270ml(晨藍)-"},379,155,null,null,null,"學習水杯","小獅王-蘊蜜鉑金PPSU防漏滑蓋學習水杯270ml(晨藍)"]
["SW8111",{"$f":"表格2[[#This Row],[ITEM]]&\"-\"&表格2[[#This Row],[SIZE]]&\"-\"&表格2[[#This Row],[顏色]]","v":"學習水杯-小獅王-蘊蜜鉑金PPSU防漏滑蓋學習水杯270ml(栗粉)-"},379,155,null,null,null,"學習水杯","小獅王-蘊蜜鉑金PPSU防漏滑蓋學習水杯270ml(栗粉)"]
["SW8112",{"$f":"表格2[[#This Row],[ITEM]]&\"-\"&表格2[[#This Row],[SIZE]]&\"-\"&表格2[[#This Row],[顏色]]","v":"學習水杯-小獅王-蘊蜜鉑金PPSU防漏滑蓋學習水杯270ml(杏茶)-"},379,155,null,null,null,"學習水杯","小獅王-蘊蜜鉑金PPSU防漏滑蓋學習水杯270ml(杏茶)"]
["SW8113",{"$f":"表格2[[#This Row],[ITEM]]&\"-\"&表格2[[#This Row],[SIZE]]&\"-\"&表格2[[#This Row],[顏色]]","v":"學習水杯-小獅王-蘊蜜鉑金PPSU防漏滑蓋學習水杯270ml(紫芙)-"},379,155,null,null,null,"學習水杯","小獅王-蘊蜜鉑金PPSU防漏滑蓋學習水杯270ml(紫芙)"]
["SW8114",{"$f":"表格2[[#This Row],[ITEM]]&\"-\"&表格2[[#This Row],[SIZE]]&\"-\"&表格2[[#This Row],[顏色]]","v":"學習水杯-小獅王-蘊蜜鉑金PPSU防漏滑蓋學習水杯270ml(綠沐)-"},379,155,null,null,null,"學習水杯","小獅王-蘊蜜鉑金PPSU防漏滑蓋學習水杯270ml(綠沐)"]
["TESTING",{"$f":"表格2[[#This Row],[ITEM]]&\"-\"&表格2[[#This Row],[SIZE]]&\"-\"&表格2[[#This Row],[顏色]]","v":"TES-90-Y"},50,10,null,null,null,"TES","90","Y","TBRAND"]
["T0016",{"$f":"表格2[[#This Row],[ITEM]]&\"-\"&表格2[[#This Row],[SIZE]]&\"-\"&表格2[[#This Row],[顏色]]","v":"台SANRIO三色衛衣-100-紫"},null,109,null,null,null,"台SANRIO三色衛衣","100","紫","LATIV"]
["T0018",{"$f":"表格2[[#This Row],[ITEM]]&\"-\"&表格2[[#This Row],[SIZE]]&\"-\"&表格2[[#This Row],[顏色]]","v":"台防滑襪-SET B-M"},null,55,null,null,null,"台防滑襪","SET B","M","LATIV"]
["T005",{"$f":"表格2[[#This Row],[ITEM]]&\"-\"&表格2[[#This Row],[SIZE]]&\"-\"&表格2[[#This Row],[顏色]]","v":"台小飛象外套-90-白"},null,95,null,null,null,"台小飛象外套","90","白","LATIV"]
["T0014",{"$f":"表格2[[#This Row],[ITEM]]&\"-\"&表格2[[#This Row],[SIZE]]&\"-\"&表格2[[#This Row],[顏色]]","v":"台LINE奶茶衛衣-100-白"},null,109,null,null,null,"台LINE奶茶衛衣","100","白","LATIV"]
["T0016",{"$f":"表格2[[#This Row],[ITEM]]&\"-\"&表格2[[#This Row],[SIZE]]&\"-\"&表格2[[#This Row],[顏色]]","v":"台SANRIO三色衛衣-90-紫"},null,109,null,null,null,"台SANRIO三色衛衣","90","紫","LATIV"]
["T005",{"$f":"表格2[[#This Row],[ITEM]]&\"-\"&表格2[[#This Row],[SIZE]]&\"-\"&表格2[[#This Row],[顏色]]","v":"台小飛象外套-90-粉"},null,95,null,null,null,"台小飛象外套","90","粉","LATIV"]
["T0010",{"$f":"表格2[[#This Row],[ITEM]]&\"-\"&表格2[[#This Row],[SIZE]]&\"-\"&表格2[[#This Row],[顏色]]","v":"台連身扣鏤小仙子-90-紫"},null,109,null,null,null,"台連身扣鏤小仙子","90","紫","LATIV"]
["T0011",{"$f":"表格2[[#This Row],[ITEM]]&\"-\"&表格2[[#This Row],[SIZE]]&\"-\"&表格2[[#This Row],[顏色]]","v":"台連身扣鏤小飛象-90-黃"},null,109,null,null,null,"台連身扣鏤小飛象","90","黃","LATIV"]
["T0014",{"$f":"表格2[[#This Row],[ITEM]]&\"-\"&表格2[[#This Row],[SIZE]]&\"-\"&表格2[[#This Row],[顏色]]","v":"台LINE奶茶衛衣-80-白"},null,109,null,null,null,"台LINE奶茶衛衣","80","白","LATIV"]
["T0018",{"$f":"表格2[[#This Row],[ITEM]]&\"-\"&表格2[[#This Row],[SIZE]]&\"-\"&表格2[[#This Row],[顏色]]","v":"台防滑襪-SET B-S"},null,55,null,null,null,"台防滑襪","SET B","S","LATIV"]
["T0013",{"$f":"表格2[[#This Row],[ITEM]]&\"-\"&表格2[[#This Row],[SIZE]]&\"-\"&表格2[[#This Row],[顏色]]","v":"台三件套小飛象-80-"},null,145,null,null,null,"台三件套小飛象","80",null,"LATIV"]
["T0014",{"$f":"表格2[[#This Row],[ITEM]]&\"-\"&表格2[[#This Row],[SIZE]]&\"-\"&表格2[[#This Row],[顏色]]","v":"台魚魚上衣-80-藍白"},null,89,null,null,null,"台魚魚上衣","80","藍白","LATIV"]
["T005",{"$f":"表格2[[#This Row],[ITEM]]&\"-\"&表格2[[#This Row],[SIZE]]&\"-\"&表格2[[#This Row],[顏色]]","v":"台小飛象外套-100-粉"},null,95,null,null,null,"台小飛象外套","100","粉","LATIV"]
[null,{"$f":"表格2[[#This Row],[ITEM]]&\"-\"&表格2[[#This Row],[SIZE]]&\"-\"&表格2[[#This Row],[顏色]]","v":"--"}]
[null,{"$f":"表格2[[#This Row],[ITEM]]&\"-\"&表格2[[#This Row],[SIZE]]&\"-\"&表格2[[#This Row],[顏色]]","v":"--"}]
[null,{"$f":"表格2[[#This Row],[ITEM]]&\"-\"&表格2[[#This Row],[SIZE]]&\"-\"&表格2[[#This Row],[顏色]]","v":"--"}]
[null,{"$f":"表格2[[#This Row],[ITEM]]&\"-\"&表格2[[#This Row],[SIZE]]&\"-\"&表格2[[#This Row],[顏色]]","v":"--"}]
[null,{"$f":"表格2[[#This Row],[ITEM]]&\"-\"&表格2[[#This Row],[SIZE]]&\"-\"&表格2[[#This Row],[顏色]]","v":"--"}]

{"sheet":"資料庫","index":2,"n_rows":1048576,"n_cols":10,"rows_kept":4500,"cut":true,"hidden":false,"merged":[],"bounds":{"rows_first":2000,"rows_last":500,"rows_between":2000,"halvings":0}}
["訂單編號","訂單日期","客戶電話","購買商品","數量","單價","金額","狀態","編號","已付款"]
[1,"2022-12-20","林阿杰","圓領長版上衣",2,490,980,"已寄",{"$f":"_xlfn.XLOOKUP(D2,表格2[產品],表格2[編號],\"\")","v":""},false]
[null,null,null,null,null,null,null,null,null,false]
[null,null,null,null,null,null,null,null,null,false]
[null,null,null,null,null,null,null,null,null,false]
[null,null,null,null,null,null,null,null,null,false]
[null,null,null,null,null,null,null,null,null,false]
[null,null,null,null,null,null,null,null,null,false]
[null,null,null,null,null,null,null,null,null,false]
[null,null,null,null,null,null,null,null,null,false]
[null,null,null,null,null,null,null,null,null,false]
[null,null,null,null,null,null,null,null,null,false]
[null,null,null,null,null,null,null,null,null,false]
[null,null,null,null,null,null,null,null,null,false]
[null,null,null,null,null,null,null,null,null,false]
[null,null,null,null,null,null,null,null,null,false]
[null,null,null,null,null,null,null,null,null,false]
[null,null,null,null,null,null,null,null,null,false]
[null,null,null,null,null,null,null,null,null,false]
[null,null,null,null,null,null,null,null,null,false]
[null,null,null,null,null,null,null,null,null,false]
[null,null,null,null,null,null,null,null,null,false]
[null,null,null,null,null,null,null,null,null,false]
[null,null,null,null,null,null,null,null,null,false]
[null,null,null,null,null,null,null,null,null,false]
[null,null,null,null,null,null,null,null,null,false]
[null,null,null,null,null,null,null,null,null,false]
[null,null,null,null,null,null,null,null,null,false]
[null,null,null,null,null,null,null,null,null,false]
[null,null,null,null,null,null,null,null,null,false]
[null,null,null,null,null,null,null,null,null,false]
[null,null,null,null,null,null,null,null,null,false]
[null,null,null,null,null,null,null,null,null,false]
[null,null,null,null,null,null,null,null,null,false]
[null,null,null,null,null,null,null,null,null,false]
[null,null,null,null,null,null,null,null,null,false]
[null,null,null,null,null,null,null,null,null,false]
[null,null,null,null,null,null,null,null,null,false]
[null,null,null,null,null,null,null,null,null,false]
[null,null,null,null,null,null,null,null,null,false]
[null,null,null,null,null,null,null,null,null,false]
[null,null,null,null,null,null,null,null,null,false]
[null,null,null,null,null,null,null,null,null,false]
[null,null,null,null,null,null,null,null,null,false]
[null,null,null,null,null,null,null,null,null,false]
[null,null,null,null,null,null,null,null,null,false]
[null,null,null,null,null,null,null,null,null,false]
[null,null,null,null,null,null,null,null,null,false]
[null,null,null,null,null,null,null,null,null,false]
[null,null,null,null,null,null,null,null,null,false]
[null,null,null,null,null,null,null,null,null,false]
[null,null,null,null,null,null,null,null,null,false]
[null,null,null,null,null,null,null,null,null,false]
[null,null,null,null,null,null,null,null,null,false]
[null,null,null,null,null,null,null,null,null,false]
[null,null,null,null,null,null,null,null,null,false]
[null,null,null,null,null,null,null,null,null,false]
[null,null,null,null,null,null,null,null,null,false]
[null,null,null,null,null,null,null,null,null,false]
[null,null,null,null,null,null,null,null,null,false]
[null,null,null,null,null,null,null,null,null,false]
[null,null,null,null,null,null,null,null,null,false]
[null,null,null,null,null,null,null,null,null,false]
[null,null,null,null,null,null,null,null,null,false]
[null,null,null,null,null,null,null,null,null,false]
[null,null,null,null,null,null,null,null,null,false]
[null,null,null,null,null,null,null,null,null,false]
[null,null,null,null,null,null,null,null,null,false]
[null,null,null,null,null,null,null,null,null,false]
[null,null,null,null,null,null,null,null,null,false]
[null,null,null,null,null,null,null,null,null,false]
[null,null,null,null,null,null,null,null,null,false]
[null,null,null,null,null,null,null,null,null,false]
[null,null,null,null,null,null,null,null,null,false]
[null,null,null,null,null,null,null,null,null,false]
[null,null,null,null,null,null,null,null,null,false]
[null,null,null,null,null,null,null,null,null,false]
[null,null,null,null,null,null,null,null,null,false]
[null,null,null,null,null,null,null,null,null,false]
[null,null,null,null,null,null,null,null,null,false]
[null,null,null,null,null,null,null,null,null,false]
[null,null,null,null,null,null,null,null,null,false]
[null,null,null,null,null,null,null,null,null,false]
[null,null,null,null,null,null,null,null,null,false]
[null,null,null,null,null,null,null,null,null,false]
[null,null,null,null,null,null,null,null,null,false]
[null,null,null,null,null,null,null,null,null,false]
[null,null,null,null,null,null,null,null,null,false]
[null,null,null,null,null,null,null,null,null,false]
[null,null,null,null,null,null,null,null,null,false]
[null,null,null,null,null,null,null,null,null,false]
[null,null,null,null,null,null,null,null,null,false]
[null,null,null,null,null,null,null,null,null,false]
[null,null,null,null,null,null,null,null,null,false]
[null,null,null,null,null,null,null,null,null,false]
[null,null,null,null,null,null,null,null,null,false]
[null,null,null,null,null,null,null,null,null,false]
[null,null,null,null,null,null,null,null,null,false]
[null,null,null,null,null,null,null,null,null,false]
[null,null,null,null,null,null,null,null,null,false]
[null,null,null,null,null,null,null,null,null,false]
[null,null,null,null,null,null,null,null,null,false]
[null,null,null,null,null,null,null,null,null,false]
[null,null,null,null,null,null,null,null,null,false]
[null,null,null,null,null,null,null,null,null,false]
[null,null,null,null,null,null,null,null,null,false]
[null,null,null,null,null,null,null,null,null,false]
[null,null,null,null,null,null,null,null,null,false]
[null,null,null,null,null,null,null,null,null,false]
[null,null,null,null,null,null,null,null,null,false]
[null,null,null,null,null,null,null,null,null,false]
[null,null,null,null,null,null,null,null,null,false]
[null,null,null,null,null,null,null,null,null,false]
[null,null,null,null,null,null,null,null,null,false]
[null,null,null,null,null,null,null,null,null,false]
[null,null,null,null,null,null,null,null,null,false]
[null,null,null,null,null,null,null,null,null,false]
[null,null,null,null,null,null,null,null,null,false]
[null,null,null,null,null,null,null,null,null,false]
[null,null,null,null,null,null,null,null,null,false]
[null,null,null,null,null,null,null,null,null,false]
[null,null,null,null,null,null,null,null,null,false]
[null,null,null,null,null,null,null,null,null,false]
[null,null,null,null,null,null,null,null,null,false]
[null,null,null,null,null,null,null,null,null,false]
[null,null,null,null,null,null,null,null,null,false]
[null,null,null,null,null,null,null,null,null,false]
[null,null,null,null,null,null,null,null,null,false]
[null,null,null,null,null,null,null,null,null,false]
[null,null,null,null,null,null,null,null,null,false]
[null,null,null,null,null,null,null,null,null,false]
[null,null,null,null,null,null,null,null,null,false]
[null,null,null,null,null,null,null,null,null,false]
[null,null,null,null,null,null,null,null,null,false]
[null,null,null,null,null,null,null,null,null,false]
[null,null,null,null,null,null,null,null,null,false]
[null,null,null,null,null,null,null,null,null,false]
[null,null,null,null,null,null,null,null,null,false]
[null,null,null,null,null,null,null,null,null,false]
[null,null,null,null,null,null,null,null,null,false]
[null,null,null,null,null,null,null,null,null,false]
[null,null,null,null,null,null,null,null,null,false]
[null,null,null,null,null,null,null,null,null,false]
[null,null,null,null,null,null,null,null,null,false]
[null,null,null,null,null,null,null,null,null,false]
[null,null,null,null,null,null,null,null,null,false]
[null,null,null,null,null,null,null,null,null,false]
[null,null,null,null,null,null,null,null,null,false]
[null,null,null,null,null,null,null,null,null,false]
[null,null,null,null,null,null,null,null,null,false]
[null,null,null,null,null,null,null,null,null,false]
[null,null,null,null,null,null,null,null,null,false]
[null,null,null,null,null,null,null,null,null,false]
[null,null,null,null,null,null,null,null,null,false]
[null,null,null,null,null,null,null,null,null,false]
[null,null,null,null,null,null,null,null,null,false]
[null,null,null,null,null,null,null,null,null,false]
[null,null,null,null,null,null,null,null,null,false]
[null,null,null,null,null,null,null,null,null,false]
[null,null,null,null,null,null,null,null,null,false]
[null,null,null,null,null,null,null,null,null,false]
[null,null,null,null,null,null,null,null,null,false]
[null,null,null,null,null,null,null,null,null,false]
[null,null,null,null,null,null,null,null,null,false]
[null,null,null,null,null,null,null,null,null,false]
[null,null,null,null,null,null,null,null,null,false]
[null,null,null,null,null,null,null,null,null,false]
[null,null,null,null,null,null,null,null,null,false]
[null,null,null,null,null,null,null,null,null,false]
[null,null,null,null,null,null,null,null,null,false]
[null,null,null,null,null,null,null,null,null,false]
[null,null,null,null,null,null,null,null,null,false]
[null,null,null,null,null,null,null,null,null,false]
[null,null,null,null,null,null,null,null,null,false]
[null,null,null,null,null,null,null,null,null,false]
[null,null,null,null,null,null,null,null,null,false]
[null,null,null,null,null,null,null,null,null,false]
[null,null,null,null,null,null,null,null,null,false]
[null,null,null,null,null,null,null,null,null,false]
[null,null,null,null,null,null,null,null,null,false]
[null,null,null,null,null,null,null,null,null,false]
[null,null,null,null,null,null,null,null,null,false]
[null,null,null,null,null,null,null,null,null,false]
[null,null,null,null,null,null,null,null,null,false]
[null,null,null,null,null,null,null,null,null,false]
[null,null,null,null,null,null,null,null,null,false]
[null,null,null,null,null,null,null,null,null,false]
[null,null,null,null,null,null,null,null,null,false]
[null,null,null,null,null,null,null,null,null,false]
[null,null,null,null,null,null,null,null,null,false]
[null,null,null,null,null,null,null,null,null,false]
[null,null,null,null,null,null,null,null,null,false]
[null,null,null,null,null,null,null,null,null,false]
[null,null,null,null,null,null,null,null,null,false]
[null,null,null,null,null,null,null,null,null,false]
[null,null,null,null,null,null,null,null,null,false]
[null,null,null,null,null,null,null,null,null,false]
[null,null,null,null,null,null,null,null,null,false]
[null,null,null,null,null,null,null,null,null,false]
[null,null,null,null,null,null,null,null,null,false]
[null,null,null,null,null,null,null,null,null,false]
[null,null,null,null,null,null,null,null,null,false]
[null,null,null,null,null,null,null,null,null,false]
[null,null,null,null,null,null,null,null,null,false]
[null,null,null,null,null,null,null,null,null,false]
[null,null,null,null,null,null,null,null,null,false]
[null,null,null,null,null,null,null,null,null,false]
[null,null,null,null,null,null,null,null,null,false]
[null,null,null,null,null,null,null,null,null,false]
[null,null,null,null,null,null,null,null,null,false]
[null,null,null,null,null,null,null,null,null,false]
[null,null,null,null,null,null,null,null,null,false]
[null,null,null,null,null,null,null,null,null,false]
[null,null,null,null,null,null,null,null,null,false]
[null,null,null,null,null,null,null,null,null,false]
[null,null,null,null,null,null,null,null,null,false]
[null,null,null,null,null,null,null,null,null,false]
[null,null,null,null,null,null,null,null,null,false]
[null,null,null,null,null,null,null,null,null,false]
[null,null,null,null,null,null,null,null,null,false]
[null,null,null,null,null,null,null,null,null,false]
[null,null,null,null,null,null,null,null,null,false]
[null,null,null,null,null,null,null,null,null,false]
[null,null,null,null,null,null,null,null,null,false]
[null,null,null,null,null,null,null,null,null,false]
[null,null,null,null,null,null,null,null,null,false]
[null,null,null,null,null,null,null,null,null,false]
[null,null,null,null,null,null,null,null,null,false]
[null,null,null,null,null,null,null,null,null,false]
[null,null,null,null,null,null,null,null,null,false]
[null,null,null,null,null,null,null,null,null,false]
[null,null,null,null,null,null,null,null,null,false]
[null,null,null,null,null,null,null,null,null,false]
[null,null,null,null,null,null,null,null,null,false]
[null,null,null,null,null,null,null,null,null,false]
[null,null,null,null,null,null,null,null,null,false]
[null,null,null,null,null,null,null,null,null,false]
[null,null,null,null,null,null,null,null,null,false]
[null,null,null,null,null,null,null,null,null,false]
[null,null,null,null,null,null,null,null,null,false]
[null,null,null,null,null,null,null,null,null,false]
[null,null,null,null,null,null,null,null,null,false]
[null,null,null,null,null,null,null,null,null,false]
[null,null,null,null,null,null,null,null,null,false]
[null,null,null,null,null,null,null,null,null,false]
[null,null,null,null,null,null,null,null,null,false]
[null,null,null,null,null,null,null,null,null,false]
[null,null,null,null,null,null,null,null,null,false]
[null,null,null,null,null,null,null,null,null,false]
[null,null,null,null,null,null,null,null,null,false]
[null,null,null,null,null,null,null,null,null,false]
[null,null,null,null,null,null,null,null,null,false]
[null,null,null,null,null,null,null,null,null,false]
[null,null,null,null,null,null,null,null,null,false]
[null,null,null,null,null,null,null,null,null,false]
[null,null,null,null,null,null,null,null,null,false]
[null,null,null,null,null,null,null,null,null,false]
[null,null,null,null,null,null,null,null,null,false]
[null,null,null,null,null,null,null,null,null,false]
[null,null,null,null,null,null,null,null,null,false]
[null,null,null,null,null,null,null,null,null,false]
[null,null,null,null,null,null,null,null,null,false]
[null,null,null,null,null,null,null,null,null,false]
[null,null,null,null,null,null,null,null,null,false]
[null,null,null,null,null,null,null,null,null,false]
[null,null,null,null,null,null,null,null,null,false]
[null,null,null,null,null,null,null,null,null,false]
[null,null,null,null,null,null,null,null,null,false]
[null,null,null,null,null,null,null,null,null,false]
[null,null,null,null,null,null,null,null,null,false]
[null,null,null,null,null,null,null,null,null,false]
[null,null,null,null,null,null,null,null,null,false]
[null,null,null,null,null,null,null,null,null,false]
[null,null,null,null,null,null,null,null,null,false]
[null,null,null,null,null,null,null,null,null,false]
[null,null,null,null,null,null,null,null,null,false]
[null,null,null,null,null,null,null,null,null,false]
[null,null,null,null,null,null,null,null,null,false]
[null,null,null,null,null,null,null,null,null,false]
[null,null,null,null,null,null,null,null,null,false]
[null,null,null,null,null,null,null,null,null,false]
[null,null,null,null,null,null,null,null,null,false]
[null,null,null,null,null,null,null,null,null,false]
[null,null,null,null,null,null,null,null,null,false]
[null,null,null,null,null,null,null,null,null,false]
[null,null,null,null,null,null,null,null,null,false]
[null,null,null,null,null,null,null,null,null,false]
[null,null,null,null,null,null,null,null,null,false]
[null,null,null,null,null,null,null,null,null,false]
[null,null,null,null,null,null,null,null,null,false]
[null,null,null,null,null,null,null,null,null,false]
[null,null,null,null,null,null,null,null,null,false]
[null,null,null,null,null,null,null,null,null,false]
[null,null,null,null,null,null,null,null,null,false]
[null,null,null,null,null,null,null,null,null,false]
[null,null,null,null,null,null,null,null,null,false]
[null,null,null,null,null,null,null,null,null,false]
[null,null,null,null,null,null,null,null,null,false]
[null,null,null,null,null,null,null,null,null,false]
[null,null,null,null,null,null,null,null,null,false]
[null,null,null,null,null,null,null,null,null,false]
[null,null,null,null,null,null,null,null,null,false]
[null,null,null,null,null,null,null,null,null,false]
[null,null,null,null,null,null,null,null,null,false]
[null,null,null,null,null,null,null,null,null,false]
[null,null,null,null,null,null,null,null,null,false]
[null,null,null,null,null,null,null,null,null,false]
[null,null,null,null,null,null,null,null,null,false]
[null,null,null,null,null,null,null,null,null,false]
[null,null,null,null,null,null,null,null,null,false]
[null,null,null,null,null,null,null,null,null,false]
[null,null,null,null,null,null,null,null,null,false]
[null,null,null,null,null,null,null,null,null,false]
[null,null,null,null,null,null,null,null,null,false]
[null,null,null,null,null,null,null,null,null,false]
[null,null,null,null,null,null,null,null,null,false]
[null,null,null,null,null,null,null,null,null,false]
[null,null,null,null,null,null,null,null,null,false]
[null,null,null,null,null,null,null,null,null,false]
[null,null,null,null,null,null,null,null,null,false]
[null,null,null,null,null,null,null,null,null,false]
[null,null,null,null,null,null,null,null,null,false]
[null,null,null,null,null,null,null,null,null,false]
[null,null,null,null,null,null,null,null,null,false]
[null,null,null,null,null,null,null,null,null,false]
[null,null,null,null,null,null,null,null,null,false]
[null,null,null,null,null,null,null,null,null,false]
[null,null,null,null,null,null,null,null,null,false]
[null,null,null,null,null,null,null,null,null,false]
[null,null,null,null,null,null,null,null,null,false]
[null,null,null,null,null,null,null,null,null,false]
[null,null,null,null,null,null,null,null,null,false]
[null,null,null,null,null,null,null,null,null,false]
[null,null,null,null,null,null,null,null,null,false]
[null,null,null,null,null,null,null,null,null,false]
[null,null,null,null,null,null,null,null,null,false]
[null,null,null,null,null,null,null,null,null,false]
[null,null,null,null,null,null,null,null,null,false]
[null,null,null,null,null,null,null,null,null,false]
[null,null,null,null,null,null,null,null,null,false]
[null,null,null,null,null,null,null,null,null,false]
[null,null,null,null,null,null,null,null,null,false]
[null,null,null,null,null,null,null,null,null,false]
[null,null,null,null,null,null,null,null,null,false]
[null,null,null,null,null,null,null,null,null,false]
[null,null,null,null,null,null,null,null,null,false]
[null,null,null,null,null,null,null,null,null,false]
[null,null,null,null,null,null,null,null,null,false]
[null,null,null,null,null,null,null,null,null,false]
[null,null,null,null,null,null,null,null,null,false]
[null,null,null,null,null,null,null,null,null,false]
[null,null,null,null,null,null,null,null,null,false]
[null,null,null,null,null,null,null,null,null,false]
[null,null,null,null,null,null,null,null,null,false]
[null,null,null,null,null,null,null,null,null,false]
[null,null,null,null,null,null,null,null,null,false]
[null,null,null,null,null,null,null,null,null,false]
[null,null,null,null,null,null,null,null,null,false]
[null,null,null,null,null,null,null,null,null,false]
[null,null,null,null,null,null,null,null,null,false]
[null,null,null,null,null,null,null,null,null,false]
[null,null,null,null,null,null,null,null,null,false]
[null,null,null,null,null,null,null,null,null,false]
[null,null,null,null,null,null,null,null,null,false]
[null,null,null,null,null,null,null,null,null,false]
[null,null,null,null,null,null,null,null,null,false]
[null,null,null,null,null,null,null,null,null,false]
[null,null,null,null,null,null,null,null,null,false]
[null,null,null,null,null,null,null,null,null,false]
[null,null,null,null,null,null,null,null,null,false]
[null,null,null,null,null,null,null,null,null,false]
[null,null,null,null,null,null,null,null,null,false]
[null,null,null,null,null,null,null,null,null,false]
[null,null,null,null,null,null,null,null,null,false]
[null,null,null,null,null,null,null,null,null,false]
[null,null,null,null,null,null,null,null,null,false]
[null,null,null,null,null,null,null,null,null,false]
[null,null,null,null,null,null,null,null,null,false]
[null,null,null,null,null,null,null,null,null,false]
[null,null,null,null,null,null,null,null,null,false]
[null,null,null,null,null,null,null,null,null,false]
[null,null,null,null,null,null,null,null,null,false]
[null,null,null,null,null,null,null,null,null,false]
[null,null,null,null,null,null,null,null,null,false]
[null,null,null,null,null,null,null,null,null,false]
[null,null,null,null,null,null,null,null,null,false]
[null,null,null,null,null,null,null,null,null,false]
[null,null,null,null,null,null,null,null,null,false]
[null,null,null,null,null,null,null,null,null,false]
[null,null,null,null,null,null,null,null,null,false]
[null,null,null,null,null,null,null,null,null,false]
[null,null,null,null,null,null,null,null,null,false]
[null,null,null,null,null,null,null,null,null,false]
[null,null,null,null,null,null,null,null,null,false]
[null,null,null,null,null,null,null,null,null,false]
[null,null,null,null,null,null,null,null,null,false]
[null,null,null,null,null,null,null,null,null,false]
[null,null,null,null,null,null,null,null,null,false]
[null,null,null,null,null,null,null,null,null,false]
[null,null,null,null,null,null,null,null,null,false]
[null,null,null,null,null,null,null,null,null,false]
[null,null,null,null,null,null,null,null,null,false]
[null,null,null,null,null,null,null,null,null,false]
[null,null,null,null,null,null,null,null,null,false]
[null,null,null,null,null,null,null,null,null,false]
[null,null,null,null,null,null,null,null,null,false]
[null,null,null,null,null,null,null,null,null,false]
[null,null,null,null,null,null,null,null,null,false]
[null,null,null,null,null,null,null,null,null,false]
[null,null,null,null,null,null,null,null,null,false]
[null,null,null,null,null,null,null,null,null,false]
[null,null,null,null,null,null,null,null,null,false]
[null,null,null,null,null,null,null,null,null,false]
[null,null,null,null,null,null,null,null,null,false]
[null,null,null,null,null,null,null,null,null,false]
[null,null,null,null,null,null,null,null,null,false]
[null,null,null,null,null,null,null,null,null,false]
[null,null,null,null,null,null,null,null,null,false]
[null,null,null,null,null,null,null,null,null,false]
[null,null,null,null,null,null,null,null,null,false]
[null,null,null,null,null,null,null,null,null,false]
[null,null,null,null,null,null,null,null,null,false]
[null,null,null,null,null,null,null,null,null,false]
[null,null,null,null,null,null,null,null,null,false]
[null,null,null,null,null,null,null,null,null,false]
[null,null,null,null,null,null,null,null,null,false]
[null,null,null,null,null,null,null,null,null,false]
[null,null,null,null,null,null,null,null,null,false]
[null,null,null,null,null,null,null,null,null,false]
[null,null,null,null,null,null,null,null,null,false]
[null,null,null,null,null,null,null,null,null,false]
[null,null,null,null,null,null,null,null,null,false]
[null,null,null,null,null,null,null,null,null,false]
[null,null,null,null,null,null,null,null,null,false]
[null,null,null,null,null,null,null,null,null,false]
[null,null,null,null,null,null,null,null,null,false]
[null,null,null,null,null,null,null,null,null,false]
[null,null,null,null,null,null,null,null,null,false]
[null,null,null,null,null,null,null,null,null,false]
[null,null,null,null,null,null,null,null,null,false]
[null,null,null,null,null,null,null,null,null,false]
[null,null,null,null,null,null,null,null,null,false]
[null,null,null,null,null,null,null,null,null,false]
[null,null,null,null,null,null,null,null,null,false]
[null,null,null,null,null,null,null,null,null,false]
[null,null,null,null,null,null,null,null,null,false]
[null,null,null,null,null,null,null,null,null,false]
[null,null,null,null,null,null,null,null,null,false]
[null,null,null,null,null,null,null,null,null,false]
[null,null,null,null,null,null,null,null,null,false]
[null,null,null,null,null,null,null,null,null,false]
[null,null,null,null,null,null,null,null,null,false]
[null,null,null,null,null,null,null,null,null,false]
[null,null,null,null,null,null,null,null,null,false]
[null,null,null,null,null,null,null,null,null,false]
[null,null,null,null,null,null,null,null,null,false]
[null,null,null,null,null,null,null,null,null,false]
[null,null,null,null,null,null,null,null,null,false]
[null,null,null,null,null,null,null,null,null,false]
[null,null,null,null,null,null,null,null,null,false]
[null,null,null,null,null,null,null,null,null,false]
[null,null,null,null,null,null,null,null,null,false]
[null,null,null,null,null,null,null,null,null,false]
[null,null,null,null,null,null,null,null,null,false]
[null,null,null,null,null,null,null,null,null,false]
[null,null,null,null,null,null,null,null,null,false]
[null,null,null,null,null,null,null,null,null,false]
[null,null,null,null,null,null,null,null,null,false]
[null,null,null,null,null,null,null,null,null,false]
[null,null,null,null,null,null,null,null,null,false]
[null,null,null,null,null,null,null,null,null,false]
[null,null,null,null,null,null,null,null,null,false]
[null,null,null,null,null,null,null,null,null,false]
[null,null,null,null,null,null,null,null,null,false]
[null,null,null,null,null,null,null,null,null,false]
[null,null,null,null,null,null,null,null,null,false]
[null,null,null,null,null,null,null,null,null,false]
[null,null,null,null,null,null,null,null,null,false]
[null,null,null,null,null,null,null,null,null,false]
[null,null,null,null,null,null,null,null,null,false]
[null,null,null,null,null,null,null,null,null,false]
[null,null,null,null,null,null,null,null,null,false]
[null,null,null,null,null,null,null,null,null,false]
[null,null,null,null,null,null,null,null,null,false]
[null,null,null,null,null,null,null,null,null,false]
[null,null,null,null,null,null,null,null,null,false]
[null,null,null,null,null,null,null,null,null,false]
[null,null,null,null,null,null,null,null,null,false]
[null,null,null,null,null,null,null,null,null,false]
[null,null,null,null,null,null,null,null,null,false]
[null,null,null,null,null,null,null,null,null,false]
[null,null,null,null,null,null,null,null,null,false]
[null,null,null,null,null,null,null,null,null,false]
[null,null,null,null,null,null,null,null,null,false]
[null,null,null,null,null,null,null,null,null,false]
[null,null,null,null,null,null,null,null,null,false]
[null,null,null,null,null,null,null,null,null,false]
[null,null,null,null,null,null,null,null,null,false]
[null,null,null,null,null,null,null,null,null,false]
[null,null,null,null,null,null,null,null,null,false]
[null,null,null,null,null,null,null,null,null,false]
[null,null,null,null,null,null,null,null,null,false]
[null,null,null,null,null,null,null,null,null,false]
[null,null,null,null,null,null,null,null,null,false]
[null,null,null,null,null,null,null,null,null,false]
[null,null,null,null,null,null,null,null,null,false]
[null,null,null,null,null,null,null,null,null,false]
[null,null,null,null,null,null,null,null,null,false]
[null,null,null,null,null,null,null,null,null,false]
[null,null,null,null,null,null,null,null,null,false]
[null,null,null,null,null,null,null,null,null,false]
[null,null,null,null,null,null,null,null,null,false]
[null,null,null,null,null,null,null,null,null,false]
[null,null,null,null,null,null,null,null,null,false]
[null,null,null,null,null,null,null,null,null,false]
[null,null,null,null,null,null,null,null,null,false]
[null,null,null,null,null,null,null,null,null,false]
[null,null,null,null,null,null,null,null,null,false]
[null,null,null,null,null,null,null,null,null,false]
[null,null,null,null,null,null,null,null,null,false]
[null,null,null,null,null,null,null,null,null,false]
[null,null,null,null,null,null,null,null,null,false]
[null,null,null,null,null,null,null,null,null,false]
[null,null,null,null,null,null,null,null,null,false]
[null,null,null,null,null,null,null,null,null,false]
[null,null,null,null,null,null,null,null,null,false]
[null,null,null,null,null,null,null,null,null,false]
[null,null,null,null,null,null,null,null,null,false]
[null,null,null,null,null,null,null,null,null,false]
[null,null,null,null,null,null,null,null,null,false]
[null,null,null,null,null,null,null,null,null,false]
[null,null,null,null,null,null,null,null,null,false]
[null,null,null,null,null,null,null,null,null,false]
[null,null,null,null,null,null,null,null,null,false]
[null,null,null,null,null,null,null,null,null,false]
[null,null,null,null,null,null,null,null,null,false]
[null,null,null,null,null,null,null,null,null,false]
[null,null,null,null,null,null,null,null,null,false]
[null,null,null,null,null,null,null,null,null,false]
[null,null,null,null,null,null,null,null,null,false]
[null,null,null,null,null,null,null,null,null,false]
[null,null,null,null,null,null,null,null,null,false]
[null,null,null,null,null,null,null,null,null,false]
[null,null,null,null,null,null,null,null,null,false]
[null,null,null,null,null,null,null,null,null,false]
[null,null,null,null,null,null,null,null,null,false]
[null,null,null,null,null,null,null,null,null,false]
[null,null,null,null,null,null,null,null,null,false]
[null,null,null,null,null,null,null,null,null,false]
[null,null,null,null,null,null,null,null,null,false]
[null,null,null,null,null,null,null,null,null,false]
[null,null,null,null,null,null,null,null,null,false]
[null,null,null,null,null,null,null,null,null,false]
[null,null,null,null,null,null,null,null,null,false]
[null,null,null,null,null,null,null,null,null,false]
[null,null,null,null,null,null,null,null,null,false]
[null,null,null,null,null,null,null,null,null,false]
[null,null,null,null,null,null,null,null,null,false]
[null,null,null,null,null,null,null,null,null,false]
[null,null,null,null,null,null,null,null,null,false]
[null,null,null,null,null,null,null,null,null,false]
[null,null,null,null,null,null,null,null,null,false]
[null,null,null,null,null,null,null,null,null,false]
[null,null,null,null,null,null,null,null,null,false]
[null,null,null,null,null,null,null,null,null,false]
[null,null,null,null,null,null,null,null,null,false]
[null,null,null,null,null,null,null,null,null,false]
[null,null,null,null,null,null,null,null,null,false]
[null,null,null,null,null,null,null,null,null,false]
[null,null,null,null,null,null,null,null,null,false]
[null,null,null,null,null,null,null,null,null,false]
[null,null,null,null,null,null,null,null,null,false]
[null,null,null,null,null,null,null,null,null,false]
[null,null,null,null,null,null,null,null,null,false]
[null,null,null,null,null,null,null,null,null,false]
[null,null,null,null,null,null,null,null,null,false]
[null,null,null,null,null,null,null,null,null,false]
[null,null,null,null,null,null,null,null,null,false]
[null,null,null,null,null,null,null,null,null,false]
[null,null,null,null,null,null,null,null,null,false]
[null,null,null,null,null,null,null,null,null,false]
[null,null,null,null,null,null,null,null,null,false]
[null,null,null,null,null,null,null,null,null,false]
[null,null,null,null,null,null,null,null,null,false]
[null,null,null,null,null,null,null,null,null,false]
[null,null,null,null,null,null,null,null,null,false]
[null,null,null,null,null,null,null,null,null,false]
[null,null,null,null,null,null,null,null,null,false]
[null,null,null,null,null,null,null,null,null,false]
[null,null,null,null,null,null,null,null,null,false]
[null,null,null,null,null,null,null,null,null,false]
[null,null,null,null,null,null,null,null,null,false]
[null,null,null,null,null,null,null,null,null,false]
[null,null,null,null,null,null,null,null,null,false]
[null,null,null,null,null,null,null,null,null,false]
[null,null,null,null,null,null,null,null,null,false]
[null,null,null,null,null,null,null,null,null,false]
[null,null,null,null,null,null,null,null,null,false]
[null,null,null,null,null,null,null,null,null,false]
[null,null,null,null,null,null,null,null,null,false]
[null,null,null,null,null,null,null,null,null,false]
[null,null,null,null,null,null,null,null,null,false]
[null,null,null,null,null,null,null,null,null,false]
[null,null,null,null,null,null,null,null,null,false]
[null,null,null,null,null,null,null,null,null,false]
[null,null,null,null,null,null,null,null,null,false]
[null,null,null,null,null,null,null,null,null,false]
[null,null,null,null,null,null,null,null,null,false]
[null,null,null,null,null,null,null,null,null,false]
[null,null,null,null,null,null,null,null,null,false]
[null,null,null,null,null,null,null,null,null,false]
[null,null,null,null,null,null,null,null,null,false]
[null,null,null,null,null,null,null,null,null,false]
[null,null,null,null,null,null,null,null,null,false]
[null,null,null,null,null,null,null,null,null,false]
[null,null,null,null,null,null,null,null,null,false]
[null,null,null,null,null,null,null,null,null,false]
[null,null,null,null,null,null,null,null,null,false]
[null,null,null,null,null,null,null,null,null,false]
[null,null,null,null,null,null,null,null,null,false]
[null,null,null,null,null,null,null,null,null,false]
[null,null,null,null,null,null,null,null,null,false]
[null,null,null,null,null,null,null,null,null,false]
[null,null,null,null,null,null,null,null,null,false]
[null,null,null,null,null,null,null,null,null,false]
[null,null,null,null,null,null,null,null,null,false]
[null,null,null,null,null,null,null,null,null,false]
[null,null,null,null,null,null,null,null,null,false]
[null,null,null,null,null,null,null,null,null,false]
[null,null,null,null,null,null,null,null,null,false]
[null,null,null,null,null,null,null,null,null,false]
[null,null,null,null,null,null,null,null,null,false]
[null,null,null,null,null,null,null,null,null,false]
[null,null,null,null,null,null,null,null,null,false]
[null,null,null,null,null,null,null,null,null,false]
[null,null,null,null,null,null,null,null,null,false]
[null,null,null,null,null,null,null,null,null,false]
[null,null,null,null,null,null,null,null,null,false]
[null,null,null,null,null,null,null,null,null,false]
[null,null,null,null,null,null,null,null,null,false]
[null,null,null,null,null,null,null,null,null,false]
[null,null,null,null,null,null,null,null,null,false]
[null,null,null,null,null,null,null,null,null,false]
[null,null,null,null,null,null,null,null,null,false]
[null,null,null,null,null,null,null,null,null,false]
[null,null,null,null,null,null,null,null,null,false]
[null,null,null,null,null,null,null,null,null,false]
[null,null,null,null,null,null,null,null,null,false]
[null,null,null,null,null,null,null,null,null,false]
[null,null,null,null,null,null,null,null,null,false]
[null,null,null,null,null,null,null,null,null,false]
[null,null,null,null,null,null,null,null,null,false]
[null,null,null,null,null,null,null,null,null,false]
[null,null,null,null,null,null,null,null,null,false]
[null,null,null,null,null,null,null,null,null,false]
[null,null,null,null,null,null,null,null,null,false]
[null,null,null,null,null,null,null,null,null,false]
[null,null,null,null,null,null,null,null,null,false]
[null,null,null,null,null,null,null,null,null,false]
[null,null,null,null,null,null,null,null,null,false]
[null,null,null,null,null,null,null,null,null,false]
[null,null,null,null,null,null,null,null,null,false]
[null,null,null,null,null,null,null,null,null,false]
[null,null,null,null,null,null,null,null,null,false]
[null,null,null,null,null,null,null,null,null,false]
[null,null,null,null,null,null,null,null,null,false]
[null,null,null,null,null,null,null,null,null,false]
[null,null,null,null,null,null,null,null,null,false]
[null,null,null,null,null,null,null,null,null,false]
[null,null,null,null,null,null,null,null,null,false]
[null,null,null,null,null,null,null,null,null,false]
[null,null,null,null,null,null,null,null,null,false]
[null,null,null,null,null,null,null,null,null,false]
[null,null,null,null,null,null,null,null,null,false]
[null,null,null,null,null,null,null,null,null,false]
[null,null,null,null,null,null,null,null,null,false]
[null,null,null,null,null,null,null,null,null,false]
[null,null,null,null,null,null,null,null,null,false]
[null,null,null,null,null,null,null,null,null,false]
[null,null,null,null,null,null,null,null,null,false]
[null,null,null,null,null,null,null,null,null,false]
[null,null,null,null,null,null,null,null,null,false]
[null,null,null,null,null,null,null,null,null,false]
[null,null,null,null,null,null,null,null,null,false]
[null,null,null,null,null,null,null,null,null,false]
[null,null,null,null,null,null,null,null,null,false]
[null,null,null,null,null,null,null,null,null,false]
[null,null,null,null,null,null,null,null,null,false]
[null,null,null,null,null,null,null,null,null,false]
[null,null,null,null,null,null,null,null,null,false]
[null,null,null,null,null,null,null,null,null,false]
[null,null,null,null,null,null,null,null,null,false]
[null,null,null,null,null,null,null,null,null,false]
[null,null,null,null,null,null,null,null,null,false]
[null,null,null,null,null,null,null,null,null,false]
[null,null,null,null,null,null,null,null,null,false]
[null,null,null,null,null,null,null,null,null,false]
[null,null,null,null,null,null,null,null,null,false]
[null,null,null,null,null,null,null,null,null,false]
[null,null,null,null,null,null,null,null,null,false]
[null,null,null,null,null,null,null,null,null,false]
[null,null,null,null,null,null,null,null,null,false]
[null,null,null,null,null,null,null,null,null,false]
[null,null,null,null,null,null,null,null,null,false]
[null,null,null,null,null,null,null,null,null,false]
[null,null,null,null,null,null,null,null,null,false]
[null,null,null,null,null,null,null,null,null,false]
[null,null,null,null,null,null,null,null,null,false]
[null,null,null,null,null,null,null,null,null,false]
[null,null,null,null,null,null,null,null,null,false]
[null,null,null,null,null,null,null,null,null,false]
[null,null,null,null,null,null,null,null,null,false]
[null,null,null,null,null,null,null,null,null,false]
[null,null,null,null,null,null,null,null,null,false]
[null,null,null,null,null,null,null,null,null,false]
[null,null,null,null,null,null,null,null,null,false]
[null,null,null,null,null,null,null,null,null,false]
[null,null,null,null,null,null,null,null,null,false]
[null,null,null,null,null,null,null,null,null,false]
[null,null,null,null,null,null,null,null,null,false]
[null,null,null,null,null,null,null,null,null,false]
[null,null,null,null,null,null,null,null,null,false]
[null,null,null,null,null,null,null,null,null,false]
[null,null,null,null,null,null,null,null,null,false]
[null,null,null,null,null,null,null,null,null,false]
[null,null,null,null,null,null,null,null,null,false]
[null,null,null,null,null,null,null,null,null,false]
[null,null,null,null,null,null,null,null,null,false]
[null,null,null,null,null,null,null,null,null,false]
[null,null,null,null,null,null,null,null,null,false]
[null,null,null,null,null,null,null,null,null,false]
[null,null,null,null,null,null,null,null,null,false]
[null,null,null,null,null,null,null,null,null,false]
[null,null,null,null,null,null,null,null,null,false]
[null,null,null,null,null,null,null,null,null,false]
[null,null,null,null,null,null,null,null,null,false]
[null,null,null,null,null,null,null,null,null,false]
[null,null,null,null,null,null,null,null,null,false]
[null,null,null,null,null,null,null,null,null,false]
[null,null,null,null,null,null,null,null,null,false]
[null,null,null,null,null,null,null,null,null,false]
[null,null,null,null,null,null,null,null,null,false]
[null,null,null,null,null,null,null,null,null,false]
[null,null,null,null,null,null,null,null,null,false]
[null,null,null,null,null,null,null,null,null,false]
[null,null,null,null,null,null,null,null,null,false]
[null,null,null,null,null,null,null,null,null,false]
[null,null,null,null,null,null,null,null,null,false]
[null,null,null,null,null,null,null,null,null,false]
[null,null,null,null,null,null,null,null,null,false]
[null,null,null,null,null,null,null,null,null,false]
[null,null,null,null,null,null,null,null,null,false]
[null,null,null,null,null,null,null,null,null,false]
[null,null,null,null,null,null,null,null,null,false]
[null,null,null,null,null,null,null,null,null,false]
[null,null,null,null,null,null,null,null,null,false]
[null,null,null,null,null,null,null,null,null,false]
[null,null,null,null,null,null,null,null,null,false]
[null,null,null,null,null,null,null,null,null,false]
[null,null,null,null,null,null,null,null,null,false]
[null,null,null,null,null,null,null,null,null,false]
[null,null,null,null,null,null,null,null,null,false]
[null,null,null,null,null,null,null,null,null,false]
[null,null,null,null,null,null,null,null,null,false]
[null,null,null,null,null,null,null,null,null,false]
[null,null,null,null,null,null,null,null,null,false]
[null,null,null,null,null,null,null,null,null,false]
[null,null,null,null,null,null,null,null,null,false]
[null,null,null,null,null,null,null,null,null,false]
[null,null,null,null,null,null,null,null,null,false]
[null,null,null,null,null,null,null,null,null,false]
[null,null,null,null,null,null,null,null,null,false]
[null,null,null,null,null,null,null,null,null,false]
[null,null,null,null,null,null,null,null,null,false]
[null,null,null,null,null,null,null,null,null,false]
[null,null,null,null,null,null,null,null,null,false]
[null,null,null,null,null,null,null,null,null,false]
[null,null,null,null,null,null,null,null,null,false]
[null,null,null,null,null,null,null,null,null,false]
[null,null,null,null,null,null,null,null,null,false]
[null,null,null,null,null,null,null,null,null,false]
[null,null,null,null,null,null,null,null,null,false]
[null,null,null,null,null,null,null,null,null,false]
[null,null,null,null,null,null,null,null,null,false]
[null,null,null,null,null,null,null,null,null,false]
[null,null,null,null,null,null,null,null,null,false]
[null,null,null,null,null,null,null,null,null,false]
[null,null,null,null,null,null,null,null,null,false]
[null,null,null,null,null,null,null,null,null,false]
[null,null,null,null,null,null,null,null,null,false]
[null,null,null,null,null,null,null,null,null,false]
[null,null,null,null,null,null,null,null,null,false]
[null,null,null,null,null,null,null,null,null,false]
[null,null,null,null,null,null,null,null,null,false]
[null,null,null,null,null,null,null,null,null,false]
[null,null,null,null,null,null,null,null,null,false]
[null,null,null,null,null,null,null,null,null,false]
[null,null,null,null,null,null,null,null,null,false]
[null,null,null,null,null,null,null,null,null,false]
[null,null,null,null,null,null,null,null,null,false]
[null,null,null,null,null,null,null,null,null,false]
[null,null,null,null,null,null,null,null,null,false]
[null,null,null,null,null,null,null,null,null,false]
[null,null,null,null,null,null,null,null,null,false]
[null,null,null,null,null,null,null,null,null,false]
[null,null,null,null,null,null,null,null,null,false]
[null,null,null,null,null,null,null,null,null,false]
[null,null,null,null,null,null,null,null,null,false]
[null,null,null,null,null,null,null,null,null,false]
[null,null,null,null,null,null,null,null,null,false]
[null,null,null,null,null,null,null,null,null,false]
[null,null,null,null,null,null,null,null,null,false]
[null,null,null,null,null,null,null,null,null,false]
[null,null,null,null,null,null,null,null,null,false]
[null,null,null,null,null,null,null,null,null,false]
[null,null,null,null,null,null,null,null,null,false]
[null,null,null,null,null,null,null,null,null,false]
[null,null,null,null,null,null,null,null,null,false]
[null,null,null,null,null,null,null,null,null,false]
[null,null,null,null,null,null,null,null,null,false]
[null,null,null,null,null,null,null,null,null,false]
[null,null,null,null,null,null,null,null,null,false]
[null,null,null,null,null,null,null,null,null,false]
[null,null,null,null,null,null,null,null,null,false]
[null,null,null,null,null,null,null,null,null,false]
[null,null,null,null,null,null,null,null,null,false]
[null,null,null,null,null,null,null,null,null,false]
[null,null,null,null,null,null,null,null,null,false]
[null,null,null,null,null,null,null,null,null,false]
[null,null,null,null,null,null,null,null,null,false]
[null,null,null,null,null,null,null,null,null,false]
[null,null,null,null,null,null,null,null,null,false]
[null,null,null,null,null,null,null,null,null,false]
[null,null,null,null,null,null,null,null,null,false]
[null,null,null,null,null,null,null,null,null,false]
[null,null,null,null,null,null,null,null,null,false]
[null,null,null,null,null,null,null,null,null,false]
[null,null,null,null,null,null,null,null,null,false]
[null,null,null,null,null,null,null,null,null,false]
[null,null,null,null,null,null,null,null,null,false]
[null,null,null,null,null,null,null,null,null,false]
[null,null,null,null,null,null,null,null,null,false]
[null,null,null,null,null,null,null,null,null,false]
[null,null,null,null,null,null,null,null,null,false]
[null,null,null,null,null,null,null,null,null,false]
[null,null,null,null,null,null,null,null,null,false]
[null,null,null,null,null,null,null,null,null,false]
[null,null,null,null,null,null,null,null,null,false]
[null,null,null,null,null,null,null,null,null,false]
[null,null,null,null,null,null,null,null,null,false]
[null,null,null,null,null,null,null,null,null,false]
[null,null,null,null,null,null,null,null,null,false]
[null,null,null,null,null,null,null,null,null,false]
[null,null,null,null,null,null,null,null,null,false]
[null,null,null,null,null,null,null,null,null,false]
[null,null,null,null,null,null,null,null,null,false]
[null,null,null,null,null,null,null,null,null,false]
[null,null,null,null,null,null,null,null,null,false]
[null,null,null,null,null,null,null,null,null,false]
[null,null,null,null,null,null,null,null,null,false]
[null,null,null,null,null,null,null,null,null,false]
[null,null,null,null,null,null,null,null,null,false]
[null,null,null,null,null,null,null,null,null,false]
[null,null,null,null,null,null,null,null,null,false]
[null,null,null,null,null,null,null,null,null,false]
[null,null,null,null,null,null,null,null,null,false]
[null,null,null,null,null,null,null,null,null,false]
[null,null,null,null,null,null,null,null,null,false]
[null,null,null,null,null,null,null,null,null,false]
[null,null,null,null,null,null,null,null,null,false]
[null,null,null,null,null,null,null,null,null,false]
[null,null,null,null,null,null,null,null,null,false]
[null,null,null,null,null,null,null,null,null,false]
[null,null,null,null,null,null,null,null,null,false]
[null,null,null,null,null,null,null,null,null,false]
[null,null,null,null,null,null,null,null,null,false]
[null,null,null,null,null,null,null,null,null,false]
[null,null,null,null,null,null,null,null,null,false]
[null,null,null,null,null,null,null,null,null,false]
[null,null,null,null,null,null,null,null,null,false]
[null,null,null,null,null,null,null,null,null,false]
[null,null,null,null,null,null,null,null,null,false]
[null,null,null,null,null,null,null,null,null,false]
[null,null,null,null,null,null,null,null,null,false]
[null,null,null,null,null,null,null,null,null,false]
[null,null,null,null,null,null,null,null,null,false]
[null,null,null,null,null,null,null,null,null,false]
[null,null,null,null,null,null,null,null,null,false]
[null,null,null,null,null,null,null,null,null,false]
[null,null,null,null,null,null,null,null,null,false]
[null,null,null,null,null,null,null,null,null,false]
[null,null,null,null,null,null,null,null,null,false]
[null,null,null,null,null,null,null,null,null,false]
[null,null,null,null,null,null,null,null,null,false]
[null,null,null,null,null,null,null,null,null,false]
[null,null,null,null,null,null,null,null,null,false]
[null,null,null,null,null,null,null,null,null,false]
[null,null,null,null,null,null,null,null,null,false]
[null,null,null,null,null,null,null,null,null,false]
[null,null,null,null,null,null,null,null,null,false]
[null,null,null,null,null,null,null,null,null,false]
[null,null,null,null,null,null,null,null,null,false]
[null,null,null,null,null,null,null,null,null,false]
[null,null,null,null,null,null,null,null,null,false]
[null,null,null,null,null,null,null,null,null,false]
[null,null,null,null,null,null,null,null,null,false]
[null,null,null,null,null,null,null,null,null,false]
[null,null,null,null,null,null,null,null,null,false]
[null,null,null,null,null,null,null,null,null,false]
[null,null,null,null,null,null,null,null,null,false]
[null,null,null,null,null,null,null,null,null,false]
[null,null,null,null,null,null,null,null,null,false]
[null,null,null,null,null,null,null,null,null,false]
[null,null,null,null,null,null,null,null,null,false]
[null,null,null,null,null,null,null,null,null,false]
[null,null,null,null,null,null,null,null,null,false]
[null,null,null,null,null,null,null,null,null,false]
[null,null,null,null,null,null,null,null,null,false]
[null,null,null,null,null,null,null,null,null,false]
[null,null,null,null,null,null,null,null,null,false]
[null,null,null,null,null,null,null,null,null,false]
[null,null,null,null,null,null,null,null,null,false]
[null,null,null,null,null,null,null,null,null,false]
[null,null,null,null,null,null,null,null,null,false]
[null,null,null,null,null,null,null,null,null,false]
[null,null,null,null,null,null,null,null,null,false]
[null,null,null,null,null,null,null,null,null,false]
[null,null,null,null,null,null,null,null,null,false]
[null,null,null,null,null,null,null,null,null,false]
[null,null,null,null,null,null,null,null,null,false]
[null,null,null,null,null,null,null,null,null,false]
[null,null,null,null,null,null,null,null,null,false]
[null,null,null,null,null,null,null,null,null,false]
[null,null,null,null,null,null,null,null,null,false]
[null,null,null,null,null,null,null,null,null,false]
[null,null,null,null,null,null,null,null,null,false]
[null,null,null,null,null,null,null,null,null,false]
[null,null,null,null,null,null,null,null,null,false]
[null,null,null,null,null,null,null,null,null,false]
[null,null,null,null,null,null,null,null,null,false]
[null,null,null,null,null,null,null,null,null,false]
[null,null,null,null,null,null,null,null,null,false]
[null,null,null,null,null,null,null,null,null,false]
[null,null,null,null,null,null,null,null,null,false]
[null,null,null,null,null,null,null,null,null,false]
[null,null,null,null,null,null,null,null,null,false]
[null,null,null,null,null,null,null,null,null,false]
[null,null,null,null,null,null,null,null,null,false]
[null,null,null,null,null,null,null,null,null,false]
[null,null,null,null,null,null,null,null,null,false]
[null,null,null,null,null,null,null,null,null,false]
[null,null,null,null,null,null,null,null,null,false]
[null,null,null,null,null,null,null,null,null,false]
[null,null,null,null,null,null,null,null,null,false]
[null,null,null,null,null,null,null,null,null,false]
[null,null,null,null,null,null,null,null,null,false]
[null,null,null,null,null,null,null,null,null,false]
[null,null,null,null,null,null,null,null,null,false]
[null,null,null,null,null,null,null,null,null,false]
[null,null,null,null,null,null,null,null,null,false]
[null,null,null,null,null,null,null,null,null,false]
[null,null,null,null,null,null,null,null,null,false]
[null,null,null,null,null,null,null,null,null,false]
[null,null,null,null,null,null,null,null,null,false]
[null,null,null,null,null,null,null,null,null,false]
[null,null,null,null,null,null,null,null,null,false]
[null,null,null,null,null,null,null,null,null,false]
[null,null,null,null,null,null,null,null,null,false]
[null,null,null,null,null,null,null,null,null,false]
[null,null,null,null,null,null,null,null,null,false]
[null,null,null,null,null,null,null,null,null,false]
[null,null,null,null,null,null,null,null,null,false]
[null,null,null,null,null,null,null,null,null,false]
[null,null,null,null,null,null,null,null,null,false]
[null,null,null,null,null,null,null,null,null,false]
[null,null,null,null,null,null,null,null,null,false]
[null,null,null,null,null,null,null,null,null,false]
[null,null,null,null,null,null,null,null,null,false]
[null,null,null,null,null,null,null,null,null,false]
[null,null,null,null,null,null,null,null,null,false]
[null,null,null,null,null,null,null,null,null,false]
[null,null,null,null,null,null,null,null,null,false]
[null,null,null,null,null,null,null,null,null,false]
[null,null,null,null,null,null,null,null,null,false]
[null,null,null,null,null,null,null,null,null,false]
[null,null,null,null,null,null,null,null,null,false]
[null,null,null,null,null,null,null,null,null,false]
[null,null,null,null,null,null,null,null,null,false]
[null,null,null,null,null,null,null,null,null,false]
[null,null,null,null,null,null,null,null,null,false]
[null,null,null,null,null,null,null,null,null,false]
[null,null,null,null,null,null,null,null,null,false]
[null,null,null,null,null,null,null,null,null,false]
[null,null,null,null,null,null,null,null,null,false]
[null,null,null,null,null,null,null,null,null,false]
[null,null,null,null,null,null,null,null,null,false]
[null,null,null,null,null,null,null,null,null,false]
[null,null,null,null,null,null,null,null,null,false]
[null,null,null,null,null,null,null,null,null,false]
[null,null,null,null,null,null,null,null,null,false]
[null,null,null,null,null,null,null,null,null,false]
[null,null,null,null,null,null,null,null,null,false]
[null,null,null,null,null,null,null,null,null,false]
[null,null,null,null,null,null,null,null,null,false]
[null,null,null,null,null,null,null,null,null,false]
[null,null,null,null,null,null,null,null,null,false]
[null,null,null,null,null,null,null,null,null,false]
[null,null,null,null,null,null,null,null,null,false]
[null,null,null,null,null,null,null,null,null,false]
[null,null,null,null,null,null,null,null,null,false]
[null,null,null,null,null,null,null,null,null,false]
[null,null,null,null,null,null,null,null,null,false]
[null,null,null,null,null,null,null,null,null,false]
[null,null,null,null,null,null,null,null,null,false]
[null,null,null,null,null,null,null,null,null,false]
[null,null,null,null,null,null,null,null,null,false]
[null,null,null,null,null,null,null,null,null,false]
[null,null,null,null,null,null,null,null,null,false]
[null,null,null,null,null,null,null,null,null,false]
[null,null,null,null,null,null,null,null,null,false]
[null,null,null,null,null,null,null,null,null,false]
[null,null,null,null,null,null,null,null,null,false]
[null,null,null,null,null,null,null,null,null,false]
[null,null,null,null,null,null,null,null,null,false]
[null,null,null,null,null,null,null,null,null,false]
[null,null,null,null,null,null,null,null,null,false]
[null,null,null,null,null,null,null,null,null,false]
[null,null,null,null,null,null,null,null,null,false]
[null,null,null,null,null,null,null,null,null,false]
[null,null,null,null,null,null,null,null,null,false]
[null,null,null,null,null,null,null,null,null,false]
[null,null,null,null,null,null,null,null,null,false]
[null,null,null,null,null,null,null,null,null,false]
[null,null,null,null,null,null,null,null,null,false]
[null,null,null,null,null,null,null,null,null,false]
[null,null,null,null,null,null,null,null,null,false]
[null,null,null,null,null,null,null,null,null,false]
[null,null,null,null,null,null,null,null,null,false]
[null,null,null,null,null,null,null,null,null,false]
[null,null,null,null,null,null,null,null,null,false]
[null,null,null,null,null,null,null,null,null,false]
[null,null,null,null,null,null,null,null,null,false]
[null,null,null,null,null,null,null,null,null,false]
[null,null,null,null,null,null,null,null,null,false]
[null,null,null,null,null,null,null,null,null,false]
[null,null,null,null,null,null,null,null,null,false]
[null,null,null,null,null,null,null,null,null,false]
[null,null,null,null,null,null,null,null,null,false]
[null,null,null,null,null,null,null,null,null,false]
[null,null,null,null,null,null,null,null,null,false]
[null,null,null,null,null,null,null,null,null,false]
[null,null,null,null,null,null,null,null,null,false]
[null,null,null,null,null,null,null,null,null,false]
[null,null,null,null,null,null,null,null,null,false]
[null,null,null,null,null,null,null,null,null,false]
[null,null,null,null,null,null,null,null,null,false]
[null,null,null,null,null,null,null,null,null,false]
[null,null,null,null,null,null,null,null,null,false]
[null,null,null,null,null,null,null,null,null,false]
[null,null,null,null,null,null,null,null,null,false]
[null,null,null,null,null,null,null,null,null,false]
[null,null,null,null,null,null,null,null,null,false]
[null,null,null,null,null,null,null,null,null,false]
[null,null,null,null,null,null,null,null,null,false]
[null,null,null,null,null,null,null,null,null,false]
[null,null,null,null,null,null,null,null,null,false]
[null,null,null,null,null,null,null,null,null,false]
[null,null,null,null,null,null,null,null,null,false]
[null,null,null,null,null,null,null,null,null,false]
[null,null,null,null,null,null,null,null,null,false]
[null,null,null,null,null,null,null,null,null,false]
[null,null,null,null,null,null,null,null,null,false]
[null,null,null,null,null,null,null,null,null,false]
[null,null,null,null,null,null,null,null,null,false]
[null,null,null,null,null,null,null,null,null,false]
[null,null,null,null,null,null,null,null,null,false]
[null,null,null,null,null,null,null,null,null,false]
[null,null,null,null,null,null,null,null,null,false]
[null,null,null,null,null,null,null,null,null,false]
[null,null,null,null,null,null,null,null,null,false]
[null,null,null,null,null,null,null,null,null,false]
[null,null,null,null,null,null,null,null,null,false]
[null,null,null,null,null,null,null,null,null,false]
[null,null,null,null,null,null,null,null,null,false]
[null,null,null,null,null,null,null,null,null,false]
[null,null,null,null,null,null,null,null,null,false]
[null,null,null,null,null,null,null,null,null,false]
[null,null,null,null,null,null,null,null,null,false]
[null,null,null,null,null,null,null,null,null,false]
[null,null,null,null,null,null,null,null,null,false]
[null,null,null,null,null,null,null,null,null,false]
[null,null,null,null,null,null,null,null,null,false]
[null,null,null,null,null,null,null,null,null,false]
[null,null,null,null,null,null,null,null,null,false]
[null,null,null,null,null,null,null,null,null,false]
[null,null,null,null,null,null,null,null,null,false]
[null,null,null,null,null,null,null,null,null,false]
[null,null,null,null,null,null,null,null,null,false]
[null,null,null,null,null,null,null,null,null,false]
[null,null,null,null,null,null,null,null,null,false]
[null,null,null,null,null,null,null,null,null,false]
[null,null,null,null,null,null,null,null,null,false]
[null,null,null,null,null,null,null,null,null,false]
[null,null,null,null,null,null,null,null,null,false]
[null,null,null,null,null,null,null,null,null,false]
[null,null,null,null,null,null,null,null,null,false]
[null,null,null,null,null,null,null,null,null,false]
[null,null,null,null,null,null,null,null,null,false]
[null,null,null,null,null,null,null,null,null,false]
[null,null,null,null,null,null,null,null,null,false]
[null,null,null,null,null,null,null,null,null,false]
[null,null,null,null,null,null,null,null,null,false]
[null,null,null,null,null,null,null,null,null,false]
[null,null,null,null,null,null,null,null,null,false]
[null,null,null,null,null,null,null,null,null,false]
[null,null,null,null,null,null,null,null,null,false]
[null,null,null,null,null,null,null,null,null,false]
[null,null,null,null,null,null,null,null,null,false]
[null,null,null,null,null,null,null,null,null,false]
[null,null,null,null,null,null,null,null,null,false]
[null,null,null,null,null,null,null,null,null,false]
[null,null,null,null,null,null,null,null,null,false]
[null,null,null,null,null,null,null,null,null,false]
[null,null,null,null,null,null,null,null,null,false]
[null,null,null,null,null,null,null,null,null,false]
[null,null,null,null,null,null,null,null,null,false]
[null,null,null,null,null,null,null,null,null,false]
[null,null,null,null,null,null,null,null,null,false]
[null,null,null,null,null,null,null,null,null,false]
[null,null,null,null,null,null,null,null,null,false]
[null,null,null,null,null,null,null,null,null,false]
[null,null,null,null,null,null,null,null,null,false]
[null,null,null,null,null,null,null,null,null,false]
[null,null,null,null,null,null,null,null,null,false]
[null,null,null,null,null,null,null,null,null,false]
[null,null,null,null,null,null,null,null,null,false]
[null,null,null,null,null,null,null,null,null,false]
[null,null,null,null,null,null,null,null,null,false]
[null,null,null,null,null,null,null,null,null,false]
[null,null,null,null,null,null,null,null,null,false]
[null,null,null,null,null,null,null,null,null,false]
[null,null,null,null,null,null,null,null,null,false]
[null,null,null,null,null,null,null,null,null,false]
[null,null,null,null,null,null,null,null,null,false]
[null,null,null,null,null,null,null,null,null,false]
[null,null,null,null,null,null,null,null,null,false]
[null,null,null,null,null,null,null,null,null,false]
[null,null,null,null,null,null,null,null,null,false]
[null,null,null,null,null,null,null,null,null,false]
[null,null,null,null,null,null,null,null,null,false]
[null,null,null,null,null,null,null,null,null,false]
[null,null,null,null,null,null,null,null,null,false]
[null,null,null,null,null,null,null,null,null,false]
[null,null,null,null,null,null,null,null,null,false]
[null,null,null,null,null,null,null,null,null,false]
[null,null,null,null,null,null,null,null,null,false]
[null,null,null,null,null,null,null,null,null,false]
[null,null,null,null,null,null,null,null,null,false]
[null,null,null,null,null,null,null,null,null,false]
[null,null,null,null,null,null,null,null,null,false]
[null,null,null,null,null,null,null,null,null,false]
[null,null,null,null,null,null,null,null,null,false]
[null,null,null,null,null,null,null,null,null,false]
[null,null,null,null,null,null,null,null,null,false]
[null,null,null,null,null,null,null,null,null,false]
[null,null,null,null,null,null,null,null,null,false]
[null,null,null,null,null,null,null,null,null,false]
[null,null,null,null,null,null,null,null,null,false]
[null,null,null,null,null,null,null,null,null,false]
[null,null,null,null,null,null,null,null,null,false]
[null,null,null,null,null,null,null,null,null,false]
[null,null,null,null,null,null,null,null,null,false]
[null,null,null,null,null,null,null,null,null,false]
[null,null,null,null,null,null,null,null,null,false]
[null,null,null,null,null,null,null,null,null,false]
[null,null,null,null,null,null,null,null,null,false]
[null,null,null,null,null,null,null,null,null,false]
[null,null,null,null,null,null,null,null,null,false]
[null,null,null,null,null,null,null,null,null,false]
[null,null,null,null,null,null,null,null,null,false]
[null,null,null,null,null,null,null,null,null,false]
[null,null,null,null,null,null,null,null,null,false]
[null,null,null,null,null,null,null,null,null,false]
[null,null,null,null,null,null,null,null,null,false]
[null,null,null,null,null,null,null,null,null,false]
[null,null,null,null,null,null,null,null,null,false]
[null,null,null,null,null,null,null,null,null,false]
[null,null,null,null,null,null,null,null,null,false]
[null,null,null,null,null,null,null,null,null,false]
[null,null,null,null,null,null,null,null,null,false]
[null,null,null,null,null,null,null,null,null,false]
[null,null,null,null,null,null,null,null,null,false]
[null,null,null,null,null,null,null,null,null,false]
[null,null,null,null,null,null,null,null,null,false]
[null,null,null,null,null,null,null,null,null,false]
[null,null,null,null,null,null,null,null,null,false]
[null,null,null,null,null,null,null,null,null,false]
[null,null,null,null,null,null,null,null,null,false]
[null,null,null,null,null,null,null,null,null,false]
[null,null,null,null,null,null,null,null,null,false]
[null,null,null,null,null,null,null,null,null,false]
[null,null,null,null,null,null,null,null,null,false]
[null,null,null,null,null,null,null,null,null,false]
[null,null,null,null,null,null,null,null,null,false]
[null,null,null,null,null,null,null,null,null,false]
[null,null,null,null,null,null,null,null,null,false]
[null,null,null,null,null,null,null,null,null,false]
[null,null,null,null,null,null,null,null,null,false]
[null,null,null,null,null,null,null,null,null,false]
[null,null,null,null,null,null,null,null,null,false]
[null,null,null,null,null,null,null,null,null,false]
[null,null,null,null,null,null,null,null,null,false]
[null,null,null,null,null,null,null,null,null,false]
[null,null,null,null,null,null,null,null,null,false]
[null,null,null,null,null,null,null,null,null,false]
[null,null,null,null,null,null,null,null,null,false]
[null,null,null,null,null,null,null,null,null,false]
[null,null,null,null,null,null,null,null,null,false]
[null,null,null,null,null,null,null,null,null,false]
[null,null,null,null,null,null,null,null,null,false]
[null,null,null,null,null,null,null,null,null,false]
[null,null,null,null,null,null,null,null,null,false]
[null,null,null,null,null,null,null,null,null,false]
[null,null,null,null,null,null,null,null,null,false]
[null,null,null,null,null,null,null,null,null,false]
[null,null,null,null,null,null,null,null,null,false]
[null,null,null,null,null,null,null,null,null,false]
[null,null,null,null,null,null,null,null,null,false]
[null,null,null,null,null,null,null,null,null,false]
[null,null,null,null,null,null,null,null,null,false]
[null,null,null,null,null,null,null,null,null,false]
[null,null,null,null,null,null,null,null,null,false]
[null,null,null,null,null,null,null,null,null,false]
[null,null,null,null,null,null,null,null,null,false]
[null,null,null,null,null,null,null,null,null,false]
[null,null,null,null,null,null,null,null,null,false]
[null,null,null,null,null,null,null,null,null,false]
[null,null,null,null,null,null,null,null,null,false]
[null,null,null,null,null,null,null,null,null,false]
[null,null,null,null,null,null,null,null,null,false]
[null,null,null,null,null,null,null,null,null,false]
[null,null,null,null,null,null,null,null,null,false]
[null,null,null,null,null,null,null,null,null,false]
[null,null,null,null,null,null,null,null,null,false]
[null,null,null,null,null,null,null,null,null,false]
[null,null,null,null,null,null,null,null,null,false]
[null,null,null,null,null,null,null,null,null,false]
[null,null,null,null,null,null,null,null,null,false]
[null,null,null,null,null,null,null,null,null,false]
[null,null,null,null,null,null,null,null,null,false]
[null,null,null,null,null,null,null,null,null,false]
[null,null,null,null,null,null,null,null,null,false]
[null,null,null,null,null,null,null,null,null,false]
[null,null,null,null,null,null,null,null,null,false]
[null,null,null,null,null,null,null,null,null,false]
[null,null,null,null,null,null,null,null,null,false]
[null,null,null,null,null,null,null,null,null,false]
[null,null,null,null,null,null,null,null,null,false]
[null,null,null,null,null,null,null,null,null,false]
[null,null,null,null,null,null,null,null,null,false]
[null,null,null,null,null,null,null,null,null,false]
[null,null,null,null,null,null,null,null,null,false]
[null,null,null,null,null,null,null,null,null,false]
[null,null,null,null,null,null,null,null,null,false]
[null,null,null,null,null,null,null,null,null,false]
[null,null,null,null,null,null,null,null,null,false]
[null,null,null,null,null,null,null,null,null,false]
[null,null,null,null,null,null,null,null,null,false]
[null,null,null,null,null,null,null,null,null,false]
[null,null,null,null,null,null,null,null,null,false]
[null,null,null,null,null,null,null,null,null,false]
[null,null,null,null,null,null,null,null,null,false]
[null,null,null,null,null,null,null,null,null,false]
[null,null,null,null,null,null,null,null,null,false]
[null,null,null,null,null,null,null,null,null,false]
[null,null,null,null,null,null,null,null,null,false]
[null,null,null,null,null,null,null,null,null,false]
[null,null,null,null,null,null,null,null,null,false]
[null,null,null,null,null,null,null,null,null,false]
[null,null,null,null,null,null,null,null,null,false]
[null,null,null,null,null,null,null,null,null,false]
[null,null,null,null,null,null,null,null,null,false]
[null,null,null,null,null,null,null,null,null,false]
[null,null,null,null,null,null,null,null,null,false]
[null,null,null,null,null,null,null,null,null,false]
[null,null,null,null,null,null,null,null,null,false]
[null,null,null,null,null,null,null,null,null,false]
[null,null,null,null,null,null,null,null,null,false]
[null,null,null,null,null,null,null,null,null,false]
[null,null,null,null,null,null,null,null,null,false]
[null,null,null,null,null,null,null,null,null,false]
[null,null,null,null,null,null,null,null,null,false]
[null,null,null,null,null,null,null,null,null,false]
[null,null,null,null,null,null,null,null,null,false]
[null,null,null,null,null,null,null,null,null,false]
[null,null,null,null,null,null,null,null,null,false]
[null,null,null,null,null,null,null,null,null,false]
[null,null,null,null,null,null,null,null,null,false]
[null,null,null,null,null,null,null,null,null,false]
[null,null,null,null,null,null,null,null,null,false]
[null,null,null,null,null,null,null,null,null,false]
[null,null,null,null,null,null,null,null,null,false]
[null,null,null,null,null,null,null,null,null,false]
[null,null,null,null,null,null,null,null,null,false]
[null,null,null,null,null,null,null,null,null,false]
[null,null,null,null,null,null,null,null,null,false]
[null,null,null,null,null,null,null,null,null,false]
[null,null,null,null,null,null,null,null,null,false]
[null,null,null,null,null,null,null,null,null,false]
[null,null,null,null,null,null,null,null,null,false]
[null,null,null,null,null,null,null,null,null,false]
[null,null,null,null,null,null,null,null,null,false]
[null,null,null,null,null,null,null,null,null,false]
[null,null,null,null,null,null,null,null,null,false]
[null,null,null,null,null,null,null,null,null,false]
[null,null,null,null,null,null,null,null,null,false]
[null,null,null,null,null,null,null,null,null,false]
[null,null,null,null,null,null,null,null,null,false]
[null,null,null,null,null,null,null,null,null,false]
[null,null,null,null,null,null,null,null,null,false]
[null,null,null,null,null,null,null,null,null,false]
[null,null,null,null,null,null,null,null,null,false]
[null,null,null,null,null,null,null,null,null,false]
[null,null,null,null,null,null,null,null,null,false]
[null,null,null,null,null,null,null,null,null,false]
[null,null,null,null,null,null,null,null,null,false]
[null,null,null,null,null,null,null,null,null,false]
[null,null,null,null,null,null,null,null,null,false]
[null,null,null,null,null,null,null,null,null,false]
[null,null,null,null,null,null,null,null,null,false]
[null,null,null,null,null,null,null,null,null,false]
[null,null,null,null,null,null,null,null,null,false]
[null,null,null,null,null,null,null,null,null,false]
[null,null,null,null,null,null,null,null,null,false]
[null,null,null,null,null,null,null,null,null,false]
[null,null,null,null,null,null,null,null,null,false]
[null,null,null,null,null,null,null,null,null,false]
[null,null,null,null,null,null,null,null,null,false]
[null,null,null,null,null,null,null,null,null,false]
[null,null,null,null,null,null,null,null,null,false]
[null,null,null,null,null,null,null,null,null,false]
[null,null,null,null,null,null,null,null,null,false]
[null,null,null,null,null,null,null,null,null,false]
[null,null,null,null,null,null,null,null,null,false]
[null,null,null,null,null,null,null,null,null,false]
[null,null,null,null,null,null,null,null,null,false]
[null,null,null,null,null,null,null,null,null,false]
[null,null,null,null,null,null,null,null,null,false]
[null,null,null,null,null,null,null,null,null,false]
[null,null,null,null,null,null,null,null,null,false]
[null,null,null,null,null,null,null,null,null,false]
[null,null,null,null,null,null,null,null,null,false]
[null,null,null,null,null,null,null,null,null,false]
[null,null,null,null,null,null,null,null,null,false]
[null,null,null,null,null,null,null,null,null,false]
[null,null,null,null,null,null,null,null,null,false]
[null,null,null,null,null,null,null,null,null,false]
[null,null,null,null,null,null,null,null,null,false]
[null,null,null,null,null,null,null,null,null,false]
[null,null,null,null,null,null,null,null,null,false]
[null,null,null,null,null,null,null,null,null,false]
[null,null,null,null,null,null,null,null,null,false]
[null,null,null,null,null,null,null,null,null,false]
[null,null,null,null,null,null,null,null,null,false]
[null,null,null,null,null,null,null,null,null,false]
[null,null,null,null,null,null,null,null,null,false]
[null,null,null,null,null,null,null,null,null,false]
[null,null,null,null,null,null,null,null,null,false]
[null,null,null,null,null,null,null,null,null,false]
[null,null,null,null,null,null,null,null,null,false]
[null,null,null,null,null,null,null,null,null,false]
[null,null,null,null,null,null,null,null,null,false]
[null,null,null,null,null,null,null,null,null,false]
[null,null,null,null,null,null,null,null,null,false]
[null,null,null,null,null,null,null,null,null,false]
[null,null,null,null,null,null,null,null,null,false]
[null,null,null,null,null,null,null,null,null,false]
[null,null,null,null,null,null,null,null,null,false]
[null,null,null,null,null,null,null,null,null,false]
[null,null,null,null,null,null,null,null,null,false]
[null,null,null,null,null,null,null,null,null,false]
[null,null,null,null,null,null,null,null,null,false]
[null,null,null,null,null,null,null,null,null,false]
[null,null,null,null,null,null,null,null,null,false]
[null,null,null,null,null,null,null,null,null,false]
[null,null,null,null,null,null,null,null,null,false]
[null,null,null,null,null,null,null,null,null,false]
[null,null,null,null,null,null,null,null,null,false]
[null,null,null,null,null,null,null,null,null,false]
[null,null,null,null,null,null,null,null,null,false]
[null,null,null,null,null,null,null,null,null,false]
[null,null,null,null,null,null,null,null,null,false]
[null,null,null,null,null,null,null,null,null,false]
[null,null,null,null,null,null,null,null,null,false]
[null,null,null,null,null,null,null,null,null,false]
[null,null,null,null,null,null,null,null,null,false]
[null,null,null,null,null,null,null,null,null,false]
[null,null,null,null,null,null,null,null,null,false]
[null,null,null,null,null,null,null,null,null,false]
[null,null,null,null,null,null,null,null,null,false]
[null,null,null,null,null,null,null,null,null,false]
[null,null,null,null,null,null,null,null,null,false]
[null,null,null,null,null,null,null,null,null,false]
[null,null,null,null,null,null,null,null,null,false]
[null,null,null,null,null,null,null,null,null,false]
[null,null,null,null,null,null,null,null,null,false]
[null,null,null,null,null,null,null,null,null,false]
[null,null,null,null,null,null,null,null,null,false]
[null,null,null,null,null,null,null,null,null,false]
[null,null,null,null,null,null,null,null,null,false]
[null,null,null,null,null,null,null,null,null,false]
[null,null,null,null,null,null,null,null,null,false]
[null,null,null,null,null,null,null,null,null,false]
[null,null,null,null,null,null,null,null,null,false]
[null,null,null,null,null,null,null,null,null,false]
[null,null,null,null,null,null,null,null,null,false]
[null,null,null,null,null,null,null,null,null,false]
[null,null,null,null,null,null,null,null,null,false]
[null,null,null,null,null,null,null,null,null,false]
[null,null,null,null,null,null,null,null,null,false]
[null,null,null,null,null,null,null,null,null,false]
[null,null,null,null,null,null,null,null,null,false]
[null,null,null,null,null,null,null,null,null,false]
[null,null,null,null,null,null,null,null,null,false]
[null,null,null,null,null,null,null,null,null,false]
[null,null,null,null,null,null,null,null,null,false]
[null,null,null,null,null,null,null,null,null,false]
[null,null,null,null,null,null,null,null,null,false]
[null,null,null,null,null,null,null,null,null,false]
[null,null,null,null,null,null,null,null,null,false]
[null,null,null,null,null,null,null,null,null,false]
[null,null,null,null,null,null,null,null,null,false]
[null,null,null,null,null,null,null,null,null,false]
[null,null,null,null,null,null,null,null,null,false]
[null,null,null,null,null,null,null,null,null,false]
[null,null,null,null,null,null,null,null,null,false]
[null,null,null,null,null,null,null,null,null,false]
[null,null,null,null,null,null,null,null,null,false]
[null,null,null,null,null,null,null,null,null,false]
[null,null,null,null,null,null,null,null,null,false]
[null,null,null,null,null,null,null,null,null,false]
[null,null,null,null,null,null,null,null,null,false]
[null,null,null,null,null,null,null,null,null,false]
[null,null,null,null,null,null,null,null,null,false]
[null,null,null,null,null,null,null,null,null,false]
[null,null,null,null,null,null,null,null,null,false]
[null,null,null,null,null,null,null,null,null,false]
[null,null,null,null,null,null,null,null,null,false]
[null,null,null,null,null,null,null,null,null,false]
[null,null,null,null,null,null,null,null,null,false]
[null,null,null,null,null,null,null,null,null,false]
[null,null,null,null,null,null,null,null,null,false]
[null,null,null,null,null,null,null,null,null,false]
[null,null,null,null,null,null,null,null,null,false]
[null,null,null,null,null,null,null,null,null,false]
[null,null,null,null,null,null,null,null,null,false]
[null,null,null,null,null,null,null,null,null,false]
[null,null,null,null,null,null,null,null,null,false]
[null,null,null,null,null,null,null,null,null,false]
[null,null,null,null,null,null,null,null,null,false]
[null,null,null,null,null,null,null,null,null,false]
[null,null,null,null,null,null,null,null,null,false]
[null,null,null,null,null,null,null,null,null,false]
[null,null,null,null,null,null,null,null,null,false]
[null,null,null,null,null,null,null,null,null,false]
[null,null,null,null,null,null,null,null,null,false]
[null,null,null,null,null,null,null,null,null,false]
[null,null,null,null,null,null,null,null,null,false]
[null,null,null,null,null,null,null,null,null,false]
[null,null,null,null,null,null,null,null,null,false]
[null,null,null,null,null,null,null,null,null,false]
[null,null,null,null,null,null,null,null,null,false]
[null,null,null,null,null,null,null,null,null,false]
[null,null,null,null,null,null,null,null,null,false]
[null,null,null,null,null,null,null,null,null,false]
[null,null,null,null,null,null,null,null,null,false]
[null,null,null,null,null,null,null,null,null,false]
[null,null,null,null,null,null,null,null,null,false]
[null,null,null,null,null,null,null,null,null,false]
[null,null,null,null,null,null,null,null,null,false]
[null,null,null,null,null,null,null,null,null,false]
[null,null,null,null,null,null,null,null,null,false]
[null,null,null,null,null,null,null,null,null,false]
[null,null,null,null,null,null,null,null,null,false]
[null,null,null,null,null,null,null,null,null,false]
[null,null,null,null,null,null,null,null,null,false]
[null,null,null,null,null,null,null,null,null,false]
[null,null,null,null,null,null,null,null,null,false]
[null,null,null,null,null,null,null,null,null,false]
[null,null,null,null,null,null,null,null,null,false]
[null,null,null,null,null,null,null,null,null,false]
[null,null,null,null,null,null,null,null,null,false]
[null,null,null,null,null,null,null,null,null,false]
[null,null,null,null,null,null,null,null,null,false]
[null,null,null,null,null,null,null,null,null,false]
[null,null,null,null,null,null,null,null,null,false]
[null,null,null,null,null,null,null,null,null,false]
[null,null,null,null,null,null,null,null,null,false]
[null,null,null,null,null,null,null,null,null,false]
[null,null,null,null,null,null,null,null,null,false]
[null,null,null,null,null,null,null,null,null,false]
[null,null,null,null,null,null,null,null,null,false]
[null,null,null,null,null,null,null,null,null,false]
[null,null,null,null,null,null,null,null,null,false]
[null,null,null,null,null,null,null,null,null,false]
[null,null,null,null,null,null,null,null,null,false]
[null,null,null,null,null,null,null,null,null,false]
[null,null,null,null,null,null,null,null,null,false]
[null,null,null,null,null,null,null,null,null,false]
[null,null,null,null,null,null,null,null,null,false]
[null,null,null,null,null,null,null,null,null,false]
[null,null,null,null,null,null,null,null,null,false]
[null,null,null,null,null,null,null,null,null,false]
[null,null,null,null,null,null,null,null,null,false]
[null,null,null,null,null,null,null,null,null,false]
[null,null,null,null,null,null,null,null,null,false]
[null,null,null,null,null,null,null,null,null,false]
[null,null,null,null,null,null,null,null,null,false]
[null,null,null,null,null,null,null,null,null,false]
[null,null,null,null,null,null,null,null,null,false]
[null,null,null,null,null,null,null,null,null,false]
[null,null,null,null,null,null,null,null,null,false]
[null,null,null,null,null,null,null,null,null,false]
[null,null,null,null,null,null,null,null,null,false]
[null,null,null,null,null,null,null,null,null,false]
[null,null,null,null,null,null,null,null,null,false]
[null,null,null,null,null,null,null,null,null,false]
[null,null,null,null,null,null,null,null,null,false]
[null,null,null,null,null,null,null,null,null,false]
[null,null,null,null,null,null,null,null,null,false]
[null,null,null,null,null,null,null,null,null,false]
[null,null,null,null,null,null,null,null,null,false]
[null,null,null,null,null,null,null,null,null,false]
[null,null,null,null,null,null,null,null,null,false]
[null,null,null,null,null,null,null,null,null,false]
[null,null,null,null,null,null,null,null,null,false]
[null,null,null,null,null,null,null,null,null,false]
[null,null,null,null,null,null,null,null,null,false]
[null,null,null,null,null,null,null,null,null,false]
[null,null,null,null,null,null,null,null,null,false]
[null,null,null,null,null,null,null,null,null,false]
[null,null,null,null,null,null,null,null,null,false]
[null,null,null,null,null,null,null,null,null,false]
[null,null,null,null,null,null,null,null,null,false]
[null,null,null,null,null,null,null,null,null,false]
[null,null,null,null,null,null,null,null,null,false]
[null,null,null,null,null,null,null,null,null,false]
[null,null,null,null,null,null,null,null,null,false]
[null,null,null,null,null,null,null,null,null,false]
[null,null,null,null,null,null,null,null,null,false]
[null,null,null,null,null,null,null,null,null,false]
[null,null,null,null,null,null,null,null,null,false]
[null,null,null,null,null,null,null,null,null,false]
[null,null,null,null,null,null,null,null,null,false]
[null,null,null,null,null,null,null,null,null,false]
[null,null,null,null,null,null,null,null,null,false]
[null,null,null,null,null,null,null,null,null,false]
[null,null,null,null,null,null,null,null,null,false]
[null,null,null,null,null,null,null,null,null,false]
[null,null,null,null,null,null,null,null,null,false]
[null,null,null,null,null,null,null,null,null,false]
[null,null,null,null,null,null,null,null,null,false]
[null,null,null,null,null,null,null,null,null,false]
[null,null,null,null,null,null,null,null,null,false]
[null,null,null,null,null,null,null,null,null,false]
[null,null,null,null,null,null,null,null,null,false]
[null,null,null,null,null,null,null,null,null,false]
[null,null,null,null,null,null,null,null,null,false]
[null,null,null,null,null,null,null,null,null,false]
[null,null,null,null,null,null,null,null,null,false]
[null,null,null,null,null,null,null,null,null,false]
[null,null,null,null,null,null,null,null,null,false]
[null,null,null,null,null,null,null,null,null,false]
[null,null,null,null,null,null,null,null,null,false]
[null,null,null,null,null,null,null,null,null,false]
[null,null,null,null,null,null,null,null,null,false]
[null,null,null,null,null,null,null,null,null,false]
[null,null,null,null,null,null,null,null,null,false]
[null,null,null,null,null,null,null,null,null,false]
[null,null,null,null,null,null,null,null,null,false]
[null,null,null,null,null,null,null,null,null,false]
[null,null,null,null,null,null,null,null,null,false]
[null,null,null,null,null,null,null,null,null,false]
[null,null,null,null,null,null,null,null,null,false]
[null,null,null,null,null,null,null,null,null,false]
[null,null,null,null,null,null,null,null,null,false]
[null,null,null,null,null,null,null,null,null,false]
[null,null,null,null,null,null,null,null,null,false]
[null,null,null,null,null,null,null,null,null,false]
[null,null,null,null,null,null,null,null,null,false]
[null,null,null,null,null,null,null,null,null,false]
[null,null,null,null,null,null,null,null,null,false]
[null,null,null,null,null,null,null,null,null,false]
[null,null,null,null,null,null,null,null,null,false]
[null,null,null,null,null,null,null,null,null,false]
[null,null,null,null,null,null,null,null,null,false]
[null,null,null,null,null,null,null,null,null,false]
[null,null,null,null,null,null,null,null,null,false]
[null,null,null,null,null,null,null,null,null,false]
[null,null,null,null,null,null,null,null,null,false]
[null,null,null,null,null,null,null,null,null,false]
[null,null,null,null,null,null,null,null,null,false]
[null,null,null,null,null,null,null,null,null,false]
[null,null,null,null,null,null,null,null,null,false]
[null,null,null,null,null,null,null,null,null,false]
[null,null,null,null,null,null,null,null,null,false]
[null,null,null,null,null,null,null,null,null,false]
[null,null,null,null,null,null,null,null,null,false]
[null,null,null,null,null,null,null,null,null,false]
[null,null,null,null,null,null,null,null,null,false]
[null,null,null,null,null,null,null,null,null,false]
[null,null,null,null,null,null,null,null,null,false]
[null,null,null,null,null,null,null,null,null,false]
[null,null,null,null,null,null,null,null,null,false]
[null,null,null,null,null,null,null,null,null,false]
[null,null,null,null,null,null,null,null,null,false]
[null,null,null,null,null,null,null,null,null,false]
[null,null,null,null,null,null,null,null,null,false]
[null,null,null,null,null,null,null,null,null,false]
[null,null,null,null,null,null,null,null,null,false]
[null,null,null,null,null,null,null,null,null,false]
[null,null,null,null,null,null,null,null,null,false]
[null,null,null,null,null,null,null,null,null,false]
[null,null,null,null,null,null,null,null,null,false]
[null,null,null,null,null,null,null,null,null,false]
[null,null,null,null,null,null,null,null,null,false]
[null,null,null,null,null,null,null,null,null,false]
[null,null,null,null,null,null,null,null,null,false]
[null,null,null,null,null,null,null,null,null,false]
[null,null,null,null,null,null,null,null,null,false]
[null,null,null,null,null,null,null,null,null,false]
[null,null,null,null,null,null,null,null,null,false]
[null,null,null,null,null,null,null,null,null,false]
[null,null,null,null,null,null,null,null,null,false]
[null,null,null,null,null,null,null,null,null,false]
[null,null,null,null,null,null,null,null,null,false]
[null,null,null,null,null,null,null,null,null,false]
[null,null,null,null,null,null,null,null,null,false]
[null,null,null,null,null,null,null,null,null,false]
[null,null,null,null,null,null,null,null,null,false]
[null,null,null,null,null,null,null,null,null,false]
[null,null,null,null,null,null,null,null,null,false]
[null,null,null,null,null,null,null,null,null,false]
[null,null,null,null,null,null,null,null,null,false]
[null,null,null,null,null,null,null,null,null,false]
[null,null,null,null,null,null,null,null,null,false]
[null,null,null,null,null,null,null,null,null,false]
[null,null,null,null,null,null,null,null,null,false]
[null,null,null,null,null,null,null,null,null,false]
[null,null,null,null,null,null,null,null,null,false]
[null,null,null,null,null,null,null,null,null,false]
[null,null,null,null,null,null,null,null,null,false]
[null,null,null,null,null,null,null,null,null,false]
[null,null,null,null,null,null,null,null,null,false]
[null,null,null,null,null,null,null,null,null,false]
[null,null,null,null,null,null,null,null,null,false]
[null,null,null,null,null,null,null,null,null,false]
[null,null,null,null,null,null,null,null,null,false]
[null,null,null,null,null,null,null,null,null,false]
[null,null,null,null,null,null,null,null,null,false]
[null,null,null,null,null,null,null,null,null,false]
[null,null,null,null,null,null,null,null,null,false]
[null,null,null,null,null,null,null,null,null,false]
[null,null,null,null,null,null,null,null,null,false]
[null,null,null,null,null,null,null,null,null,false]
[null,null,null,null,null,null,null,null,null,false]
[null,null,null,null,null,null,null,null,null,false]
[null,null,null,null,null,null,null,null,null,false]
[null,null,null,null,null,null,null,null,null,false]
[null,null,null,null,null,null,null,null,null,false]
[null,null,null,null,null,null,null,null,null,false]
[null,null,null,null,null,null,null,null,null,false]
[null,null,null,null,null,null,null,null,null,false]
[null,null,null,null,null,null,null,null,null,false]
[null,null,null,null,null,null,null,null,null,false]
[null,null,null,null,null,null,null,null,null,false]
[null,null,null,null,null,null,null,null,null,false]
[null,null,null,null,null,null,null,null,null,false]
[null,null,null,null,null,null,null,null,null,false]
[null,null,null,null,null,null,null,null,null,false]
[null,null,null,null,null,null,null,null,null,false]
[null,null,null,null,null,null,null,null,null,false]
[null,null,null,null,null,null,null,null,null,false]
[null,null,null,null,null,null,null,null,null,false]
[null,null,null,null,null,null,null,null,null,false]
[null,null,null,null,null,null,null,null,null,false]
[null,null,null,null,null,null,null,null,null,false]
[null,null,null,null,null,null,null,null,null,false]
[null,null,null,null,null,null,null,null,null,false]
[null,null,null,null,null,null,null,null,null,false]
[null,null,null,null,null,null,null,null,null,false]
[null,null,null,null,null,null,null,null,null,false]
[null,null,null,null,null,null,null,null,null,false]
[null,null,null,null,null,null,null,null,null,false]
[null,null,null,null,null,null,null,null,null,false]
[null,null,null,null,null,null,null,null,null,false]
[null,null,null,null,null,null,null,null,null,false]
[null,null,null,null,null,null,null,null,null,false]
[null,null,null,null,null,null,null,null,null,false]
[null,null,null,null,null,null,null,null,null,false]
[null,null,null,null,null,null,null,null,null,false]
[null,null,null,null,null,null,null,null,null,false]
[null,null,null,null,null,null,null,null,null,false]
[null,null,null,null,null,null,null,null,null,false]
[null,null,null,null,null,null,null,null,null,false]
[null,null,null,null,null,null,null,null,null,false]
[null,null,null,null,null,null,null,null,null,false]
[null,null,null,null,null,null,null,null,null,false]
[null,null,null,null,null,null,null,null,null,false]
[null,null,null,null,null,null,null,null,null,false]
[null,null,null,null,null,null,null,null,null,false]
[null,null,null,null,null,null,null,null,null,false]
[null,null,null,null,null,null,null,null,null,false]
[null,null,null,null,null,null,null,null,null,false]
[null,null,null,null,null,null,null,null,null,false]
[null,null,null,null,null,null,null,null,null,false]
[null,null,null,null,null,null,null,null,null,false]
[null,null,null,null,null,null,null,null,null,false]
[null,null,null,null,null,null,null,null,null,false]
[null,null,null,null,null,null,null,null,null,false]
[null,null,null,null,null,null,null,null,null,false]
[null,null,null,null,null,null,null,null,null,false]
[null,null,null,null,null,null,null,null,null,false]
[null,null,null,null,null,null,null,null,null,false]
[null,null,null,null,null,null,null,null,null,false]
[null,null,null,null,null,null,null,null,null,false]
[null,null,null,null,null,null,null,null,null,false]
[null,null,null,null,null,null,null,null,null,false]
[null,null,null,null,null,null,null,null,null,false]
[null,null,null,null,null,null,null,null,null,false]
[null,null,null,null,null,null,null,null,null,false]
[null,null,null,null,null,null,null,null,null,false]
[null,null,null,null,null,null,null,null,null,false]
[null,null,null,null,null,null,null,null,null,false]
[null,null,null,null,null,null,null,null,null,false]
[null,null,null,null,null,null,null,null,null,false]
[null,null,null,null,null,null,null,null,null,false]
[null,null,null,null,null,null,null,null,null,false]
[null,null,null,null,null,null,null,null,null,false]
[null,null,null,null,null,null,null,null,null,false]
[null,null,null,null,null,null,null,null,null,false]
[null,null,null,null,null,null,null,null,null,false]
[null,null,null,null,null,null,null,null,null,false]
[null,null,null,null,null,null,null,null,null,false]
[null,null,null,null,null,null,null,null,null,false]
[null,null,null,null,null,null,null,null,null,false]
[null,null,null,null,null,null,null,null,null,false]
[null,null,null,null,null,null,null,null,null,false]
[null,null,null,null,null,null,null,null,null,false]
[null,null,null,null,null,null,null,null,null,false]
[null,null,null,null,null,null,null,null,null,false]
[null,null,null,null,null,null,null,null,null,false]
[null,null,null,null,null,null,null,null,null,false]
[null,null,null,null,null,null,null,null,null,false]
[null,null,null,null,null,null,null,null,null,false]
[null,null,null,null,null,null,null,null,null,false]
[null,null,null,null,null,null,null,null,null,false]
[null,null,null,null,null,null,null,null,null,false]
[null,null,null,null,null,null,null,null,null,false]
[null,null,null,null,null,null,null,null,null,false]
[null,null,null,null,null,null,null,null,null,false]
[null,null,null,null,null,null,null,null,null,false]
[null,null,null,null,null,null,null,null,null,false]
[null,null,null,null,null,null,null,null,null,false]
[null,null,null,null,null,null,null,null,null,false]
[null,null,null,null,null,null,null,null,null,false]
[null,null,null,null,null,null,null,null,null,false]
[null,null,null,null,null,null,null,null,null,false]
[null,null,null,null,null,null,null,null,null,false]
[null,null,null,null,null,null,null,null,null,false]
[null,null,null,null,null,null,null,null,null,false]
[null,null,null,null,null,null,null,null,null,false]
[null,null,null,null,null,null,null,null,null,false]
[null,null,null,null,null,null,null,null,null,false]
[null,null,null,null,null,null,null,null,null,false]
[null,null,null,null,null,null,null,null,null,false]
[null,null,null,null,null,null,null,null,null,false]
[null,null,null,null,null,null,null,null,null,false]
[null,null,null,null,null,null,null,null,null,false]
[null,null,null,null,null,null,null,null,null,false]
[null,null,null,null,null,null,null,null,null,false]
[null,null,null,null,null,null,null,null,null,false]
[null,null,null,null,null,null,null,null,null,false]
[null,null,null,null,null,null,null,null,null,false]
[null,null,null,null,null,null,null,null,null,false]
[null,null,null,null,null,null,null,null,null,false]
[null,null,null,null,null,null,null,null,null,false]
[null,null,null,null,null,null,null,null,null,false]
[null,null,null,null,null,null,null,null,null,false]
[null,null,null,null,null,null,null,null,null,false]
[null,null,null,null,null,null,null,null,null,false]
[null,null,null,null,null,null,null,null,null,false]
[null,null,null,null,null,null,null,null,null,false]
[null,null,null,null,null,null,null,null,null,false]
[null,null,null,null,null,null,null,null,null,false]
[null,null,null,null,null,null,null,null,null,false]
[null,null,null,null,null,null,null,null,null,false]
[null,null,null,null,null,null,null,null,null,false]
[null,null,null,null,null,null,null,null,null,false]
[null,null,null,null,null,null,null,null,null,false]
[null,null,null,null,null,null,null,null,null,false]
[null,null,null,null,null,null,null,null,null,false]
[null,null,null,null,null,null,null,null,null,false]
[null,null,null,null,null,null,null,null,null,false]
[null,null,null,null,null,null,null,null,null,false]
[null,null,null,null,null,null,null,null,null,false]
[null,null,null,null,null,null,null,null,null,false]
[null,null,null,null,null,null,null,null,null,false]
[null,null,null,null,null,null,null,null,null,false]
[null,null,null,null,null,null,null,null,null,false]
[null,null,null,null,null,null,null,null,null,false]
[null,null,null,null,null,null,null,null,null,false]
[null,null,null,null,null,null,null,null,null,false]
[null,null,null,null,null,null,null,null,null,false]
[null,null,null,null,null,null,null,null,null,false]
[null,null,null,null,null,null,null,null,null,false]
[null,null,null,null,null,null,null,null,null,false]
[null,null,null,null,null,null,null,null,null,false]
[null,null,null,null,null,null,null,null,null,false]
[null,null,null,null,null,null,null,null,null,false]
[null,null,null,null,null,null,null,null,null,false]
[null,null,null,null,null,null,null,null,null,false]
[null,null,null,null,null,null,null,null,null,false]
[null,null,null,null,null,null,null,null,null,false]
[null,null,null,null,null,null,null,null,null,false]
[null,null,null,null,null,null,null,null,null,false]
[null,null,null,null,null,null,null,null,null,false]
[null,null,null,null,null,null,null,null,null,false]
[null,null,null,null,null,null,null,null,null,false]
[null,null,null,null,null,null,null,null,null,false]
[null,null,null,null,null,null,null,null,null,false]
[null,null,null,null,null,null,null,null,null,false]
[null,null,null,null,null,null,null,null,null,false]
[null,null,null,null,null,null,null,null,null,false]
[null,null,null,null,null,null,null,null,null,false]
[null,null,null,null,null,null,null,null,null,false]
[null,null,null,null,null,null,null,null,null,false]
[null,null,null,null,null,null,null,null,null,false]
[null,null,null,null,null,null,null,null,null,false]
[null,null,null,null,null,null,null,null,null,false]
[null,null,null,null,null,null,null,null,null,false]
[null,null,null,null,null,null,null,null,null,false]
[null,null,null,null,null,null,null,null,null,false]
[null,null,null,null,null,null,null,null,null,false]
[null,null,null,null,null,null,null,null,null,false]
[null,null,null,null,null,null,null,null,null,false]
[null,null,null,null,null,null,null,null,null,false]
[null,null,null,null,null,null,null,null,null,false]
[null,null,null,null,null,null,null,null,null,false]
[null,null,null,null,null,null,null,null,null,false]
[null,null,null,null,null,null,null,null,null,false]
[null,null,null,null,null,null,null,null,null,false]
[null,null,null,null,null,null,null,null,null,false]
[null,null,null,null,null,null,null,null,null,false]
[null,null,null,null,null,null,null,null,null,false]
[null,null,null,null,null,null,null,null,null,false]
[null,null,null,null,null,null,null,null,null,false]
[null,null,null,null,null,null,null,null,null,false]
[null,null,null,null,null,null,null,null,null,false]
[null,null,null,null,null,null,null,null,null,false]
[null,null,null,null,null,null,null,null,null,false]
[null,null,null,null,null,null,null,null,null,false]
[null,null,null,null,null,null,null,null,null,false]
[null,null,null,null,null,null,null,null,null,false]
[null,null,null,null,null,null,null,null,null,false]
[null,null,null,null,null,null,null,null,null,false]
[null,null,null,null,null,null,null,null,null,false]
[null,null,null,null,null,null,null,null,null,false]
[null,null,null,null,null,null,null,null,null,false]
[null,null,null,null,null,null,null,null,null,false]
[null,null,null,null,null,null,null,null,null,false]
[null,null,null,null,null,null,null,null,null,false]
[null,null,null,null,null,null,null,null,null,false]
[null,null,null,null,null,null,null,null,null,false]
[null,null,null,null,null,null,null,null,null,false]
[null,null,null,null,null,null,null,null,null,false]
[null,null,null,null,null,null,null,null,null,false]
[null,null,null,null,null,null,null,null,null,false]
[null,null,null,null,null,null,null,null,null,false]
[null,null,null,null,null,null,null,null,null,false]
[null,null,null,null,null,null,null,null,null,false]
[null,null,null,null,null,null,null,null,null,false]
[null,null,null,null,null,null,null,null,null,false]
[null,null,null,null,null,null,null,null,null,false]
[null,null,null,null,null,null,null,null,null,false]
[null,null,null,null,null,null,null,null,null,false]
[null,null,null,null,null,null,null,null,null,false]
[null,null,null,null,null,null,null,null,null,false]
[null,null,null,null,null,null,null,null,null,false]
[null,null,null,null,null,null,null,null,null,false]
[null,null,null,null,null,null,null,null,null,false]
[null,null,null,null,null,null,null,null,null,false]
[null,null,null,null,null,null,null,null,null,false]
[null,null,null,null,null,null,null,null,null,false]
[null,null,null,null,null,null,null,null,null,false]
[null,null,null,null,null,null,null,null,null,false]
[null,null,null,null,null,null,null,null,null,false]
[null,null,null,null,null,null,null,null,null,false]
[null,null,null,null,null,null,null,null,null,false]
[null,null,null,null,null,null,null,null,null,false]
[null,null,null,null,null,null,null,null,null,false]
[null,null,null,null,null,null,null,null,null,false]
[null,null,null,null,null,null,null,null,null,false]
[null,null,null,null,null,null,null,null,null,false]
[null,null,null,null,null,null,null,null,null,false]
[null,null,null,null,null,null,null,null,null,false]
[null,null,null,null,null,null,null,null,null,false]
[null,null,null,null,null,null,null,null,null,false]
[null,null,null,null,null,null,null,null,null,false]
[null,null,null,null,null,null,null,null,null,false]
[null,null,null,null,null,null,null,null,null,false]
[null,null,null,null,null,null,null,null,null,false]
[null,null,null,null,null,null,null,null,null,false]
[null,null,null,null,null,null,null,null,null,false]
[null,null,null,null,null,null,null,null,null,false]
[null,null,null,null,null,null,null,null,null,false]
[null,null,null,null,null,null,null,null,null,false]
[null,null,null,null,null,null,null,null,null,false]
[null,null,null,null,null,null,null,null,null,false]
[null,null,null,null,null,null,null,null,null,false]
[null,null,null,null,null,null,null,null,null,false]
[null,null,null,null,null,null,null,null,null,false]
[null,null,null,null,null,null,null,null,null,false]
[null,null,null,null,null,null,null,null,null,false]
[null,null,null,null,null,null,null,null,null,false]
[null,null,null,null,null,null,null,null,null,false]
[null,null,null,null,null,null,null,null,null,false]
[null,null,null,null,null,null,null,null,null,false]
[null,null,null,null,null,null,null,null,null,false]
[null,null,null,null,null,null,null,null,null,false]
[null,null,null,null,null,null,null,null,null,false]
[null,null,null,null,null,null,null,null,null,false]
[null,null,null,null,null,null,null,null,null,false]
[null,null,null,null,null,null,null,null,null,false]
[null,null,null,null,null,null,null,null,null,false]
[null,null,null,null,null,null,null,null,null,false]
[null,null,null,null,null,null,null,null,null,false]
[null,null,null,null,null,null,null,null,null,false]
[null,null,null,null,null,null,null,null,null,false]
[null,null,null,null,null,null,null,null,null,false]
[null,null,null,null,null,null,null,null,null,false]
[null,null,null,null,null,null,null,null,null,false]
[null,null,null,null,null,null,null,null,null,false]
[null,null,null,null,null,null,null,null,null,false]
[null,null,null,null,null,null,null,null,null,false]
[null,null,null,null,null,null,null,null,null,false]
[null,null,null,null,null,null,null,null,null,false]
[null,null,null,null,null,null,null,null,null,false]
[null,null,null,null,null,null,null,null,null,false]
[null,null,null,null,null,null,null,null,null,false]
[null,null,null,null,null,null,null,null,null,false]
[null,null,null,null,null,null,null,null,null,false]
[null,null,null,null,null,null,null,null,null,false]
[null,null,null,null,null,null,null,null,null,false]
[null,null,null,null,null,null,null,null,null,false]
[null,null,null,null,null,null,null,null,null,false]
[null,null,null,null,null,null,null,null,null,false]
[null,null,null,null,null,null,null,null,null,false]
[null,null,null,null,null,null,null,null,null,false]
[null,null,null,null,null,null,null,null,null,false]
[null,null,null,null,null,null,null,null,null,false]
[null,null,null,null,null,null,null,null,null,false]
[null,null,null,null,null,null,null,null,null,false]
[null,null,null,null,null,null,null,null,null,false]
[null,null,null,null,null,null,null,null,null,false]
[null,null,null,null,null,null,null,null,null,false]
[null,null,null,null,null,null,null,null,null,false]
[null,null,null,null,null,null,null,null,null,false]
[null,null,null,null,null,null,null,null,null,false]
[null,null,null,null,null,null,null,null,null,false]
[null,null,null,null,null,null,null,null,null,false]
[null,null,null,null,null,null,null,null,null,false]
[null,null,null,null,null,null,null,null,null,false]
[null,null,null,null,null,null,null,null,null,false]
[null,null,null,null,null,null,null,null,null,false]
[null,null,null,null,null,null,null,null,null,false]
[null,null,null,null,null,null,null,null,null,false]
[null,null,null,null,null,null,null,null,null,false]
[null,null,null,null,null,null,null,null,null,false]
[null,null,null,null,null,null,null,null,null,false]
[null,null,null,null,null,null,null,null,null,false]
[null,null,null,null,null,null,null,null,null,false]
[null,null,null,null,null,null,null,null,null,false]
[null,null,null,null,null,null,null,null,null,false]
[null,null,null,null,null,null,null,null,null,false]
[null,null,null,null,null,null,null,null,null,false]
[null,null,null,null,null,null,null,null,null,false]
[null,null,null,null,null,null,null,null,null,false]
[null,null,null,null,null,null,null,null,null,false]
[null,null,null,null,null,null,null,null,null,false]
[null,null,null,null,null,null,null,null,null,false]
[null,null,null,null,null,null,null,null,null,false]
[null,null,null,null,null,null,null,null,null,false]
[null,null,null,null,null,null,null,null,null,false]
[null,null,null,null,null,null,null,null,null,false]
[null,null,null,null,null,null,null,null,null,false]
[null,null,null,null,null,null,null,null,null,false]
[null,null,null,null,null,null,null,null,null,false]
[null,null,null,null,null,null,null,null,null,false]
[null,null,null,null,null,null,null,null,null,false]
[null,null,null,null,null,null,null,null,null,false]
[null,null,null,null,null,null,null,null,null,false]
[null,null,null,null,null,null,null,null,null,false]
[null,null,null,null,null,null,null,null,null,false]
[null,null,null,null,null,null,null,null,null,false]
[null,null,null,null,null,null,null,null,null,false]
[null,null,null,null,null,null,null,null,null,false]
[null,null,null,null,null,null,null,null,null,false]
[null,null,null,null,null,null,null,null,null,false]
[null,null,null,null,null,null,null,null,null,false]
[null,null,null,null,null,null,null,null,null,false]
[null,null,null,null,null,null,null,null,null,false]
[null,null,null,null,null,null,null,null,null,false]
[null,null,null,null,null,null,null,null,null,false]
[null,null,null,null,null,null,null,null,null,false]
[null,null,null,null,null,null,null,null,null,false]
[null,null,null,null,null,null,null,null,null,false]
[null,null,null,null,null,null,null,null,null,false]
[null,null,null,null,null,null,null,null,null,false]
[null,null,null,null,null,null,null,null,null,false]
[null,null,null,null,null,null,null,null,null,false]
[null,null,null,null,null,null,null,null,null,false]
[null,null,null,null,null,null,null,null,null,false]
[null,null,null,null,null,null,null,null,null,false]
[null,null,null,null,null,null,null,null,null,false]
[null,null,null,null,null,null,null,null,null,false]
[null,null,null,null,null,null,null,null,null,false]
[null,null,null,null,null,null,null,null,null,false]
[null,null,null,null,null,null,null,null,null,false]
[null,null,null,null,null,null,null,null,null,false]
[null,null,null,null,null,null,null,null,null,false]
[null,null,null,null,null,null,null,null,null,false]
[null,null,null,null,null,null,null,null,null,false]
[null,null,null,null,null,null,null,null,null,false]
[null,null,null,null,null,null,null,null,null,false]
[null,null,null,null,null,null,null,null,null,false]
[null,null,null,null,null,null,null,null,null,false]
[null,null,null,null,null,null,null,null,null,false]
[null,null,null,null,null,null,null,null,null,false]
[null,null,null,null,null,null,null,null,null,false]
[null,null,null,null,null,null,null,null,null,false]
[null,null,null,null,null,null,null,null,null,false]
[null,null,null,null,null,null,null,null,null,false]
[null,null,null,null,null,null,null,null,null,false]
[null,null,null,null,null,null,null,null,null,false]
[null,null,null,null,null,null,null,null,null,false]
[null,null,null,null,null,null,null,null,null,false]
[null,null,null,null,null,null,null,null,null,false]
[null,null,null,null,null,null,null,null,null,false]
[null,null,null,null,null,null,null,null,null,false]
[null,null,null,null,null,null,null,null,null,false]
[null,null,null,null,null,null,null,null,null,false]
[null,null,null,null,null,null,null,null,null,false]
[null,null,null,null,null,null,null,null,null,false]
[null,null,null,null,null,null,null,null,null,false]
[null,null,null,null,null,null,null,null,null,false]
[null,null,null,null,null,null,null,null,null,false]
[null,null,null,null,null,null,null,null,null,false]
[null,null,null,null,null,null,null,null,null,false]
[null,null,null,null,null,null,null,null,null,false]
[null,null,null,null,null,null,null,null,null,false]
[null,null,null,null,null,null,null,null,null,false]
[null,null,null,null,null,null,null,null,null,false]
[null,null,null,null,null,null,null,null,null,false]
[null,null,null,null,null,null,null,null,null,false]
[null,null,null,null,null,null,null,null,null,false]
[null,null,null,null,null,null,null,null,null,false]
[null,null,null,null,null,null,null,null,null,false]
[null,null,null,null,null,null,null,null,null,false]
[null,null,null,null,null,null,null,null,null,false]
[null,null,null,null,null,null,null,null,null,false]
[null,null,null,null,null,null,null,null,null,false]
[null,null,null,null,null,null,null,null,null,false]
[null,null,null,null,null,null,null,null,null,false]
[null,null,null,null,null,null,null,null,null,false]
[null,null,null,null,null,null,null,null,null,false]
[null,null,null,null,null,null,null,null,null,false]
[null,null,null,null,null,null,null,null,null,false]
[null,null,null,null,null,null,null,null,null,false]
[null,null,null,null,null,null,null,null,null,false]
[null,null,null,null,null,null,null,null,null,false]
[null,null,null,null,null,null,null,null,null,false]
[null,null,null,null,null,null,null,null,null,false]
[null,null,null,null,null,null,null,null,null,false]
[null,null,null,null,null,null,null,null,null,false]
[null,null,null,null,null,null,null,null,null,false]
[null,null,null,null,null,null,null,null,null,false]
[null,null,null,null,null,null,null,null,null,false]
[null,null,null,null,null,null,null,null,null,false]
[null,null,null,null,null,null,null,null,null,false]
[null,null,null,null,null,null,null,null,null,false]
[null,null,null,null,null,null,null,null,null,false]
[null,null,null,null,null,null,null,null,null,false]
[null,null,null,null,null,null,null,null,null,false]
[null,null,null,null,null,null,null,null,null,false]
[null,null,null,null,null,null,null,null,null,false]
[null,null,null,null,null,null,null,null,null,false]
[null,null,null,null,null,null,null,null,null,false]
[null,null,null,null,null,null,null,null,null,false]
[null,null,null,null,null,null,null,null,null,false]
[null,null,null,null,null,null,null,null,null,false]
[null,null,null,null,null,null,null,null,null,false]
[null,null,null,null,null,null,null,null,null,false]
[null,null,null,null,null,null,null,null,null,false]
[null,null,null,null,null,null,null,null,null,false]
[null,null,null,null,null,null,null,null,null,false]
[null,null,null,null,null,null,null,null,null,false]
[null,null,null,null,null,null,null,null,null,false]
[null,null,null,null,null,null,null,null,null,false]
[null,null,null,null,null,null,null,null,null,false]
[null,null,null,null,null,null,null,null,null,false]
[null,null,null,null,null,null,null,null,null,false]
[null,null,null,null,null,null,null,null,null,false]
[null,null,null,null,null,null,null,null,null,false]
[null,null,null,null,null,null,null,null,null,false]
[null,null,null,null,null,null,null,null,null,false]
[null,null,null,null,null,null,null,null,null,false]
[null,null,null,null,null,null,null,null,null,false]
[null,null,null,null,null,null,null,null,null,false]
[null,null,null,null,null,null,null,null,null,false]
[null,null,null,null,null,null,null,null,null,false]
[null,null,null,null,null,null,null,null,null,false]
[null,null,null,null,null,null,null,null,null,false]
[null,null,null,null,null,null,null,null,null,false]
[null,null,null,null,null,null,null,null,null,false]
[null,null,null,null,null,null,null,null,null,false]
[null,null,null,null,null,null,null,null,null,false]
[null,null,null,null,null,null,null,null,null,false]
[null,null,null,null,null,null,null,null,null,false]
[null,null,null,null,null,null,null,null,null,false]
[null,null,null,null,null,null,null,null,null,false]
[null,null,null,null,null,null,null,null,null,false]
[null,null,null,null,null,null,null,null,null,false]
[null,null,null,null,null,null,null,null,null,false]
[null,null,null,null,null,null,null,null,null,false]
[null,null,null,null,null,null,null,null,null,false]
[null,null,null,null,null,null,null,null,null,false]
[null,null,null,null,null,null,null,null,null,false]
[null,null,null,null,null,null,null,null,null,false]
[null,null,null,null,null,null,null,null,null,false]
[null,null,null,null,null,null,null,null,null,false]
[null,null,null,null,null,null,null,null,null,false]
[null,null,null,null,null,null,null,null,null,false]
[null,null,null,null,null,null,null,null,null,false]
[null,null,null,null,null,null,null,null,null,false]
[null,null,null,null,null,null,null,null,null,false]
[null,null,null,null,null,null,null,null,null,false]
[null,null,null,null,null,null,null,null,null,false]
[null,null,null,null,null,null,null,null,null,false]
[null,null,null,null,null,null,null,null,null,false]
[null,null,null,null,null,null,null,null,null,false]
[null,null,null,null,null,null,null,null,null,false]
[null,null,null,null,null,null,null,null,null,false]
[null,null,null,null,null,null,null,null,null,false]
[null,null,null,null,null,null,null,null,null,false]
[null,null,null,null,null,null,null,null,null,false]
[null,null,null,null,null,null,null,null,null,false]
[null,null,null,null,null,null,null,null,null,false]
[null,null,null,null,null,null,null,null,null,false]
[null,null,null,null,null,null,null,null,null,false]
[null,null,null,null,null,null,null,null,null,false]
[null,null,null,null,null,null,null,null,null,false]
[null,null,null,null,null,null,null,null,null,false]
[null,null,null,null,null,null,null,null,null,false]
[null,null,null,null,null,null,null,null,null,false]
[null,null,null,null,null,null,null,null,null,false]
[null,null,null,null,null,null,null,null,null,false]
[null,null,null,null,null,null,null,null,null,false]
[null,null,null,null,null,null,null,null,null,false]
[null,null,null,null,null,null,null,null,null,false]
[null,null,null,null,null,null,null,null,null,false]
[null,null,null,null,null,null,null,null,null,false]
[null,null,null,null,null,null,null,null,null,false]
[null,null,null,null,null,null,null,null,null,false]
[null,null,null,null,null,null,null,null,null,false]
[null,null,null,null,null,null,null,null,null,false]
[null,null,null,null,null,null,null,null,null,false]
[null,null,null,null,null,null,null,null,null,false]
[null,null,null,null,null,null,null,null,null,false]
[null,null,null,null,null,null,null,null,null,false]
[null,null,null,null,null,null,null,null,null,false]
[null,null,null,null,null,null,null,null,null,false]
[null,null,null,null,null,null,null,null,null,false]
[null,null,null,null,null,null,null,null,null,false]
[null,null,null,null,null,null,null,null,null,false]
[null,null,null,null,null,null,null,null,null,false]
[null,null,null,null,null,null,null,null,null,false]
[null,null,null,null,null,null,null,null,null,false]
[null,null,null,null,null,null,null,null,null,false]
[null,null,null,null,null,null,null,null,null,false]
[null,null,null,null,null,null,null,null,null,false]
[null,null,null,null,null,null,null,null,null,false]
[null,null,null,null,null,null,null,null,null,false]
[null,null,null,null,null,null,null,null,null,false]
[null,null,null,null,null,null,null,null,null,false]
[null,null,null,null,null,null,null,null,null,false]
[null,null,null,null,null,null,null,null,null,false]
[null,null,null,null,null,null,null,null,null,false]
[null,null,null,null,null,null,null,null,null,false]
[null,null,null,null,null,null,null,null,null,false]
[null,null,null,null,null,null,null,null,null,false]
[null,null,null,null,null,null,null,null,null,false]
[null,null,null,null,null,null,null,null,null,false]
[null,null,null,null,null,null,null,null,null,false]
[null,null,null,null,null,null,null,null,null,false]
[null,null,null,null,null,null,null,null,null,false]
[null,null,null,null,null,null,null,null,null,false]
[null,null,null,null,null,null,null,null,null,false]
[null,null,null,null,null,null,null,null,null,false]
[null,null,null,null,null,null,null,null,null,false]
[null,null,null,null,null,null,null,null,null,false]
[null,null,null,null,null,null,null,null,null,false]
[null,null,null,null,null,null,null,null,null,false]
[null,null,null,null,null,null,null,null,null,false]
[null,null,null,null,null,null,null,null,null,false]
[null,null,null,null,null,null,null,null,null,false]
[null,null,null,null,null,null,null,null,null,false]
[null,null,null,null,null,null,null,null,null,false]
[null,null,null,null,null,null,null,null,null,false]
[null,null,null,null,null,null,null,null,null,false]
[null,null,null,null,null,null,null,null,null,false]
[null,null,null,null,null,null,null,null,null,false]
[null,null,null,null,null,null,null,null,null,false]
[null,null,null,null,null,null,null,null,null,false]
[null,null,null,null,null,null,null,null,null,false]
[null,null,null,null,null,null,null,null,null,false]
[null,null,null,null,null,null,null,null,null,false]
[null,null,null,null,null,null,null,null,null,false]
[null,null,null,null,null,null,null,null,null,false]
[null,null,null,null,null,null,null,null,null,false]
[null,null,null,null,null,null,null,null,null,false]
[null,null,null,null,null,null,null,null,null,false]
[null,null,null,null,null,null,null,null,null,false]
[null,null,null,null,null,null,null,null,null,false]
[null,null,null,null,null,null,null,null,null,false]
[null,null,null,null,null,null,null,null,null,false]
[null,null,null,null,null,null,null,null,null,false]
[null,null,null,null,null,null,null,null,null,false]
[null,null,null,null,null,null,null,null,null,false]
[null,null,null,null,null,null,null,null,null,false]
[null,null,null,null,null,null,null,null,null,false]
[null,null,null,null,null,null,null,null,null,false]
[null,null,null,null,null,null,null,null,null,false]
[null,null,null,null,null,null,null,null,null,false]
[null,null,null,null,null,null,null,null,null,false]
[null,null,null,null,null,null,null,null,null,false]
[null,null,null,null,null,null,null,null,null,false]
[null,null,null,null,null,null,null,null,null,false]
[null,null,null,null,null,null,null,null,null,false]
[null,null,null,null,null,null,null,null,null,false]
[null,null,null,null,null,null,null,null,null,false]
[null,null,null,null,null,null,null,null,null,false]
[null,null,null,null,null,null,null,null,null,false]
[null,null,null,null,null,null,null,null,null,false]
[null,null,null,null,null,null,null,null,null,false]
[null,null,null,null,null,null,null,null,null,false]
[null,null,null,null,null,null,null,null,null,false]
[null,null,null,null,null,null,null,null,null,false]
[null,null,null,null,null,null,null,null,null,false]
[null,null,null,null,null,null,null,null,null,false]
[null,null,null,null,null,null,null,null,null,false]
[null,null,null,null,null,null,null,null,null,false]
[null,null,null,null,null,null,null,null,null,false]
[null,null,null,null,null,null,null,null,null,false]
[null,null,null,null,null,null,null,null,null,false]
[null,null,null,null,null,null,null,null,null,false]
[null,null,null,null,null,null,null,null,null,false]
[null,null,null,null,null,null,null,null,null,false]
[null,null,null,null,null,null,null,null,null,false]
[null,null,null,null,null,null,null,null,null,false]
[null,null,null,null,null,null,null,null,null,false]
[null,null,null,null,null,null,null,null,null,false]
[null,null,null,null,null,null,null,null,null,false]
[null,null,null,null,null,null,null,null,null,false]
[null,null,null,null,null,null,null,null,null,false]
[null,null,null,null,null,null,null,null,null,false]
[null,null,null,null,null,null,null,null,null,false]
[null,null,null,null,null,null,null,null,null,false]
[null,null,null,null,null,null,null,null,null,false]
[null,null,null,null,null,null,null,null,null,false]
[null,null,null,null,null,null,null,null,null,false]
[null,null,null,null,null,null,null,null,null,false]
[null,null,null,null,null,null,null,null,null,false]
[null,null,null,null,null,null,null,null,null,false]
[null,null,null,null,null,null,null,null,null,false]
[null,null,null,null,null,null,null,null,null,false]
[null,null,null,null,null,null,null,null,null,false]
[null,null,null,null,null,null,null,null,null,false]
[null,null,null,null,null,null,null,null,null,false]
[null,null,null,null,null,null,null,null,null,false]
[null,null,null,null,null,null,null,null,null,false]
[null,null,null,null,null,null,null,null,null,false]
[null,null,null,null,null,null,null,null,null,false]
[null,null,null,null,null,null,null,null,null,false]
[null,null,null,null,null,null,null,null,null,false]
[null,null,null,null,null,null,null,null,null,false]
[null,null,null,null,null,null,null,null,null,false]
[null,null,null,null,null,null,null,null,null,false]
[null,null,null,null,null,null,null,null,null,false]
[null,null,null,null,null,null,null,null,null,false]
[null,null,null,null,null,null,null,null,null,false]
[null,null,null,null,null,null,null,null,null,false]
[null,null,null,null,null,null,null,null,null,false]
[null,null,null,null,null,null,null,null,null,false]
[null,null,null,null,null,null,null,null,null,false]
[null,null,null,null,null,null,null,null,null,false]
[null,null,null,null,null,null,null,null,null,false]
[null,null,null,null,null,null,null,null,null,false]
[null,null,null,null,null,null,null,null,null,false]
[null,null,null,null,null,null,null,null,null,false]
[null,null,null,null,null,null,null,null,null,false]
[null,null,null,null,null,null,null,null,null,false]
[null,null,null,null,null,null,null,null,null,false]
[null,null,null,null,null,null,null,null,null,false]
[null,null,null,null,null,null,null,null,null,false]
[null,null,null,null,null,null,null,null,null,false]
[null,null,null,null,null,null,null,null,null,false]
[null,null,null,null,null,null,null,null,null,false]
[null,null,null,null,null,null,null,null,null,false]
[null,null,null,null,null,null,null,null,null,false]
[null,null,null,null,null,null,null,null,null,false]
[null,null,null,null,null,null,null,null,null,false]
[null,null,null,null,null,null,null,null,null,false]
[null,null,null,null,null,null,null,null,null,false]
[null,null,null,null,null,null,null,null,null,false]
[null,null,null,null,null,null,null,null,null,false]
[null,null,null,null,null,null,null,null,null,false]
[null,null,null,null,null,null,null,null,null,false]
[null,null,null,null,null,null,null,null,null,false]
[null,null,null,null,null,null,null,null,null,false]
[null,null,null,null,null,null,null,null,null,false]
[null,null,null,null,null,null,null,null,null,false]
[null,null,null,null,null,null,null,null,null,false]
[null,null,null,null,null,null,null,null,null,false]
[null,null,null,null,null,null,null,null,null,false]
[null,null,null,null,null,null,null,null,null,false]
[null,null,null,null,null,null,null,null,null,false]
[null,null,null,null,null,null,null,null,null,false]
[null,null,null,null,null,null,null,null,null,false]
[null,null,null,null,null,null,null,null,null,false]
[null,null,null,null,null,null,null,null,null,false]
[null,null,null,null,null,null,null,null,null,false]
[null,null,null,null,null,null,null,null,null,false]
[null,null,null,null,null,null,null,null,null,false]
[null,null,null,null,null,null,null,null,null,false]
[null,null,null,null,null,null,null,null,null,false]
[null,null,null,null,null,null,null,null,null,false]
[null,null,null,null,null,null,null,null,null,false]
[null,null,null,null,null,null,null,null,null,false]
[null,null,null,null,null,null,null,null,null,false]
[null,null,null,null,null,null,null,null,null,false]
[null,null,null,null,null,null,null,null,null,false]
[null,null,null,null,null,null,null,null,null,false]
[null,null,null,null,null,null,null,null,null,false]
[null,null,null,null,null,null,null,null,null,false]
[null,null,null,null,null,null,null,null,null,false]
[null,null,null,null,null,null,null,null,null,false]
[null,null,null,null,null,null,null,null,null,false]
[null,null,null,null,null,null,null,null,null,false]
[null,null,null,null,null,null,null,null,null,false]
[null,null,null,null,null,null,null,null,null,false]
[null,null,null,null,null,null,null,null,null,false]
[null,null,null,null,null,null,null,null,null,false]
[null,null,null,null,null,null,null,null,null,false]
[null,null,null,null,null,null,null,null,null,false]
[null,null,null,null,null,null,null,null,null,false]
[null,null,null,null,null,null,null,null,null,false]
[null,null,null,null,null,null,null,null,null,false]
[null,null,null,null,null,null,null,null,null,false]
[null,null,null,null,null,null,null,null,null,false]
[null,null,null,null,null,null,null,null,null,false]
[null,null,null,null,null,null,null,null,null,false]
[null,null,null,null,null,null,null,null,null,false]
[null,null,null,null,null,null,null,null,null,false]
[null,null,null,null,null,null,null,null,null,false]
[null,null,null,null,null,null,null,null,null,false]
[null,null,null,null,null,null,null,null,null,false]
[null,null,null,null,null,null,null,null,null,false]
[null,null,null,null,null,null,null,null,null,false]
[null,null,null,null,null,null,null,null,null,false]
[null,null,null,null,null,null,null,null,null,false]
[null,null,null,null,null,null,null,null,null,false]
[null,null,null,null,null,null,null,null,null,false]
[null,null,null,null,null,null,null,null,null,false]
[null,null,null,null,null,null,null,null,null,false]
[null,null,null,null,null,null,null,null,null,false]
[null,null,null,null,null,null,null,null,null,false]
[null,null,null,null,null,null,null,null,null,false]
[null,null,null,null,null,null,null,null,null,false]
[null,null,null,null,null,null,null,null,null,false]
[null,null,null,null,null,null,null,null,null,false]
[null,null,null,null,null,null,null,null,null,false]
[null,null,null,null,null,null,null,null,null,false]
[null,null,null,null,null,null,null,null,null,false]
[null,null,null,null,null,null,null,null,null,false]
[null,null,null,null,null,null,null,null,null,false]
[null,null,null,null,null,null,null,null,null,false]
[null,null,null,null,null,null,null,null,null,false]
[null,null,null,null,null,null,null,null,null,false]
[null,null,null,null,null,null,null,null,null,false]
[null,null,null,null,null,null,null,null,null,false]
[null,null,null,null,null,null,null,null,null,false]
[null,null,null,null,null,null,null,null,null,false]
[null,null,null,null,null,null,null,null,null,false]
[null,null,null,null,null,null,null,null,null,false]
[null,null,null,null,null,null,null,null,null,false]
[null,null,null,null,null,null,null,null,null,false]
[null,null,null,null,null,null,null,null,null,false]
[null,null,null,null,null,null,null,null,null,false]
[null,null,null,null,null,null,null,null,null,false]
[null,null,null,null,null,null,null,null,null,false]
[null,null,null,null,null,null,null,null,null,false]
[null,null,null,null,null,null,null,null,null,false]
[null,null,null,null,null,null,null,null,null,false]
[null,null,null,null,null,null,null,null,null,false]
[null,null,null,null,null,null,null,null,null,false]
[null,null,null,null,null,null,null,null,null,false]
[null,null,null,null,null,null,null,null,null,false]
[null,null,null,null,null,null,null,null,null,false]
[null,null,null,null,null,null,null,null,null,false]
[null,null,null,null,null,null,null,null,null,false]
[null,null,null,null,null,null,null,null,null,false]
[null,null,null,null,null,null,null,null,null,false]
[null,null,null,null,null,null,null,null,null,false]
[null,null,null,null,null,null,null,null,null,false]
[null,null,null,null,null,null,null,null,null,false]
[null,null,null,null,null,null,null,null,null,false]
[null,null,null,null,null,null,null,null,null,false]
[null,null,null,null,null,null,null,null,null,false]
[null,null,null,null,null,null,null,null,null,false]
[null,null,null,null,null,null,null,null,null,false]
[null,null,null,null,null,null,null,null,null,false]
[null,null,null,null,null,null,null,null,null,false]
[null,null,null,null,null,null,null,null,null,false]
[null,null,null,null,null,null,null,null,null,false]
[null,null,null,null,null,null,null,null,null,false]
[null,null,null,null,null,null,null,null,null,false]
[null,null,null,null,null,null,null,null,null,false]
[null,null,null,null,null,null,null,null,null,false]
[null,null,null,null,null,null,null,null,null,false]
[null,null,null,null,null,null,null,null,null,false]
[null,null,null,null,null,null,null,null,null,false]
[null,null,null,null,null,null,null,null,null,false]
[null,null,null,null,null,null,null,null,null,false]
[null,null,null,null,null,null,null,null,null,false]
[null,null,null,null,null,null,null,null,null,false]
[null,null,null,null,null,null,null,null,null,false]
[null,null,null,null,null,null,null,null,null,false]
[null,null,null,null,null,null,null,null,null,false]
[null,null,null,null,null,null,null,null,null,false]
[null,null,null,null,null,null,null,null,null,false]
[null,null,null,null,null,null,null,null,null,false]
[null,null,null,null,null,null,null,null,null,false]
[null,null,null,null,null,null,null,null,null,false]
[null,null,null,null,null,null,null,null,null,false]
[null,null,null,null,null,null,null,null,null,false]
[null,null,null,null,null,null,null,null,null,false]
[null,null,null,null,null,null,null,null,null,false]
[null,null,null,null,null,null,null,null,null,false]
[null,null,null,null,null,null,null,null,null,false]
[null,null,null,null,null,null,null,null,null,false]
[null,null,null,null,null,null,null,null,null,false]
[null,null,null,null,null,null,null,null,null,false]
[null,null,null,null,null,null,null,null,null,false]
[null,null,null,null,null,null,null,null,null,false]
[null,null,null,null,null,null,null,null,null,false]
[null,null,null,null,null,null,null,null,null,false]
[null,null,null,null,null,null,null,null,null,false]
[null,null,null,null,null,null,null,null,null,false]
[null,null,null,null,null,null,null,null,null,false]
[null,null,null,null,null,null,null,null,null,false]
[null,null,null,null,null,null,null,null,null,false]
[null,null,null,null,null,null,null,null,null,false]
[null,null,null,null,null,null,null,null,null,false]
[null,null,null,null,null,null,null,null,null,false]
[null,null,null,null,null,null,null,null,null,false]
[null,null,null,null,null,null,null,null,null,false]
[null,null,null,null,null,null,null,null,null,false]
[null,null,null,null,null,null,null,null,null,false]
[null,null,null,null,null,null,null,null,null,false]
[null,null,null,null,null,null,null,null,null,false]
[null,null,null,null,null,null,null,null,null,false]
[null,null,null,null,null,null,null,null,null,false]
[null,null,null,null,null,null,null,null,null,false]
[null,null,null,null,null,null,null,null,null,false]
[null,null,null,null,null,null,null,null,null,false]
[null,null,null,null,null,null,null,null,null,false]
[null,null,null,null,null,null,null,null,null,false]
[null,null,null,null,null,null,null,null,null,false]
[null,null,null,null,null,null,null,null,null,false]
[null,null,null,null,null,null,null,null,null,false]
[null,null,null,null,null,null,null,null,null,false]
[null,null,null,null,null,null,null,null,null,false]
[null,null,null,null,null,null,null,null,null,false]
[null,null,null,null,null,null,null,null,null,false]
[null,null,null,null,null,null,null,null,null,false]
[null,null,null,null,null,null,null,null,null,false]
[null,null,null,null,null,null,null,null,null,false]
[null,null,null,null,null,null,null,null,null,false]
[null,null,null,null,null,null,null,null,null,false]
[null,null,null,null,null,null,null,null,null,false]
[null,null,null,null,null,null,null,null,null,false]
[null,null,null,null,null,null,null,null,null,false]
[null,null,null,null,null,null,null,null,null,false]
[null,null,null,null,null,null,null,null,null,false]
[null,null,null,null,null,null,null,null,null,false]
[null,null,null,null,null,null,null,null,null,false]
[null,null,null,null,null,null,null,null,null,false]
[null,null,null,null,null,null,null,null,null,false]
[null,null,null,null,null,null,null,null,null,false]
[null,null,null,null,null,null,null,null,null,false]
[null,null,null,null,null,null,null,null,null,false]
[null,null,null,null,null,null,null,null,null,false]
[null,null,null,null,null,null,null,null,null,false]
[null,null,null,null,null,null,null,null,null,false]
[null,null,null,null,null,null,null,null,null,false]
[null,null,null,null,null,null,null,null,null,false]
[null,null,null,null,null,null,null,null,null,false]
[null,null,null,null,null,null,null,null,null,false]
[null,null,null,null,null,null,null,null,null,false]
[null,null,null,null,null,null,null,null,null,false]
[null,null,null,null,null,null,null,null,null,false]
[null,null,null,null,null,null,null,null,null,false]
[null,null,null,null,null,null,null,null,null,false]
[null,null,null,null,null,null,null,null,null,false]
[null,null,null,null,null,null,null,null,null,false]
[null,null,null,null,null,null,null,null,null,false]
[null,null,null,null,null,null,null,null,null,false]
[null,null,null,null,null,null,null,null,null,false]
[null,null,null,null,null,null,null,null,null,false]
[null,null,null,null,null,null,null,null,null,false]
[null,null,null,null,null,null,null,null,null,false]
[null,null,null,null,null,null,null,null,null,false]
[null,null,null,null,null,null,null,null,null,false]
[null,null,null,null,null,null,null,null,null,false]
[null,null,null,null,null,null,null,null,null,false]
[null,null,null,null,null,null,null,null,null,false]
[null,null,null,null,null,null,null,null,null,false]
[null,null,null,null,null,null,null,null,null,false]
[null,null,null,null,null,null,null,null,null,false]
[null,null,null,null,null,null,null,null,null,false]
[null,null,null,null,null,null,null,null,null,false]
[null,null,null,null,null,null,null,null,null,false]
[null,null,null,null,null,null,null,null,null,false]
[null,null,null,null,null,null,null,null,null,false]
[null,null,null,null,null,null,null,null,null,false]
[null,null,null,null,null,null,null,null,null,false]
[null,null,null,null,null,null,null,null,null,false]
[null,null,null,null,null,null,null,null,null,false]
[null,null,null,null,null,null,null,null,null,false]
[null,null,null,null,null,null,null,null,null,false]
[null,null,null,null,null,null,null,null,null,false]
[null,null,null,null,null,null,null,null,null,false]
[null,null,null,null,null,null,null,null,null,false]
[null,null,null,null,null,null,null,null,null,false]
[null,null,null,null,null,null,null,null,null,false]
[null,null,null,null,null,null,null,null,null,false]
[null,null,null,null,null,null,null,null,null,false]
[null,null,null,null,null,null,null,null,null,false]
[null,null,null,null,null,null,null,null,null,false]
[null,null,null,null,null,null,null,null,null,false]
[null,null,null,null,null,null,null,null,null,false]
[null,null,null,null,null,null,null,null,null,false]
[null,null,null,null,null,null,null,null,null,false]
[null,null,null,null,null,null,null,null,null,false]
[null,null,null,null,null,null,null,null,null,false]
[null,null,null,null,null,null,null,null,null,false]
[null,null,null,null,null,null,null,null,null,false]
[null,null,null,null,null,null,null,null,null,false]
[null,null,null,null,null,null,null,null,null,false]
[null,null,null,null,null,null,null,null,null,false]
[null,null,null,null,null,null,null,null,null,false]
[null,null,null,null,null,null,null,null,null,false]
[null,null,null,null,null,null,null,null,null,false]
[null,null,null,null,null,null,null,null,null,false]
[null,null,null,null,null,null,null,null,null,false]
[null,null,null,null,null,null,null,null,null,false]
[null,null,null,null,null,null,null,null,null,false]
[null,null,null,null,null,null,null,null,null,false]
[null,null,null,null,null,null,null,null,null,false]
[null,null,null,null,null,null,null,null,null,false]
[null,null,null,null,null,null,null,null,null,false]
[null,null,null,null,null,null,null,null,null,false]
[null,null,null,null,null,null,null,null,null,false]
[null,null,null,null,null,null,null,null,null,false]
[null,null,null,null,null,null,null,null,null,false]
[null,null,null,null,null,null,null,null,null,false]
[null,null,null,null,null,null,null,null,null,false]
[null,null,null,null,null,null,null,null,null,false]
[null,null,null,null,null,null,null,null,null,false]
[null,null,null,null,null,null,null,null,null,false]
[null,null,null,null,null,null,null,null,null,false]
[null,null,null,null,null,null,null,null,null,false]
[null,null,null,null,null,null,null,null,null,false]
[null,null,null,null,null,null,null,null,null,false]
[null,null,null,null,null,null,null,null,null,false]
[null,null,null,null,null,null,null,null,null,false]
[null,null,null,null,null,null,null,null,null,false]
[null,null,null,null,null,null,null,null,null,false]
[null,null,null,null,null,null,null,null,null,false]
[null,null,null,null,null,null,null,null,null,false]
[null,null,null,null,null,null,null,null,null,false]
[null,null,null,null,null,null,null,null,null,false]
[null,null,null,null,null,null,null,null,null,false]
[null,null,null,null,null,null,null,null,null,false]
[null,null,null,null,null,null,null,null,null,false]
[null,null,null,null,null,null,null,null,null,false]
[null,null,null,null,null,null,null,null,null,false]
[null,null,null,null,null,null,null,null,null,false]
[null,null,null,null,null,null,null,null,null,false]
[null,null,null,null,null,null,null,null,null,false]
[null,null,null,null,null,null,null,null,null,false]
[null,null,null,null,null,null,null,null,null,false]
[null,null,null,null,null,null,null,null,null,false]
[null,null,null,null,null,null,null,null,null,false]
[null,null,null,null,null,null,null,null,null,false]
[null,null,null,null,null,null,null,null,null,false]
[null,null,null,null,null,null,null,null,null,false]
[null,null,null,null,null,null,null,null,null,false]
[null,null,null,null,null,null,null,null,null,false]
[null,null,null,null,null,null,null,null,null,false]
[null,null,null,null,null,null,null,null,null,false]
[null,null,null,null,null,null,null,null,null,false]
[null,null,null,null,null,null,null,null,null,false]
[null,null,null,null,null,null,null,null,null,false]
[null,null,null,null,null,null,null,null,null,false]
[null,null,null,null,null,null,null,null,null,false]
[null,null,null,null,null,null,null,null,null,false]
[null,null,null,null,null,null,null,null,null,false]
[null,null,null,null,null,null,null,null,null,false]
[null,null,null,null,null,null,null,null,null,false]
[null,null,null,null,null,null,null,null,null,false]
[null,null,null,null,null,null,null,null,null,false]
[null,null,null,null,null,null,null,null,null,false]
[null,null,null,null,null,null,null,null,null,false]
[null,null,null,null,null,null,null,null,null,false]
[null,null,null,null,null,null,null,null,null,false]
[null,null,null,null,null,null,null,null,null,false]
[null,null,null,null,null,null,null,null,null,false]
[null,null,null,null,null,null,null,null,null,false]
[null,null,null,null,null,null,null,null,null,false]
[null,null,null,null,null,null,null,null,null,false]
[null,null,null,null,null,null,null,null,null,false]
[null,null,null,null,null,null,null,null,null,false]
[null,null,null,null,null,null,null,null,null,false]
[null,null,null,null,null,null,null,null,null,false]
[null,null,null,null,null,null,null,null,null,false]
[null,null,null,null,null,null,null,null,null,false]
[null,null,null,null,null,null,null,null,null,false]
[null,null,null,null,null,null,null,null,null,false]
[null,null,null,null,null,null,null,null,null,false]
[null,null,null,null,null,null,null,null,null,false]
[null,null,null,null,null,null,null,null,null,false]
[null,null,null,null,null,null,null,null,null,false]
[null,null,null,null,null,null,null,null,null,false]
[null,null,null,null,null,null,null,null,null,false]
[null,null,null,null,null,null,null,null,null,false]
[null,null,null,null,null,null,null,null,null,false]
[null,null,null,null,null,null,null,null,null,false]
[null,null,null,null,null,null,null,null,null,false]
[null,null,null,null,null,null,null,null,null,false]
[null,null,null,null,null,null,null,null,null,false]
[null,null,null,null,null,null,null,null,null,false]
[null,null,null,null,null,null,null,null,null,false]
[null,null,null,null,null,null,null,null,null,false]
[null,null,null,null,null,null,null,null,null,false]
[null,null,null,null,null,null,null,null,null,false]
[null,null,null,null,null,null,null,null,null,false]
[null,null,null,null,null,null,null,null,null,false]
[null,null,null,null,null,null,null,null,null,false]
[null,null,null,null,null,null,null,null,null,false]
[null,null,null,null,null,null,null,null,null,false]
[null,null,null,null,null,null,null,null,null,false]
[null,null,null,null,null,null,null,null,null,false]
[null,null,null,null,null,null,null,null,null,false]
[null,null,null,null,null,null,null,null,null,false]
[null,null,null,null,null,null,null,null,null,false]
[null,null,null,null,null,null,null,null,null,false]
[null,null,null,null,null,null,null,null,null,false]
[null,null,null,null,null,null,null,null,null,false]
[null,null,null,null,null,null,null,null,null,false]
[null,null,null,null,null,null,null,null,null,false]
[null,null,null,null,null,null,null,null,null,false]
[null,null,null,null,null,null,null,null,null,false]
[null,null,null,null,null,null,null,null,null,false]
[null,null,null,null,null,null,null,null,null,false]
[null,null,null,null,null,null,null,null,null,false]
[null,null,null,null,null,null,null,null,null,false]
[null,null,null,null,null,null,null,null,null,false]
[null,null,null,null,null,null,null,null,null,false]
[null,null,null,null,null,null,null,null,null,false]
[null,null,null,null,null,null,null,null,null,false]
[null,null,null,null,null,null,null,null,null,false]
[null,null,null,null,null,null,null,null,null,false]
[null,null,null,null,null,null,null,null,null,false]
[null,null,null,null,null,null,null,null,null,false]
[null,null,null,null,null,null,null,null,null,false]
[null,null,null,null,null,null,null,null,null,false]
[null,null,null,null,null,null,null,null,null,false]
[null,null,null,null,null,null,null,null,null,false]
[null,null,null,null,null,null,null,null,null,false]
[null,null,null,null,null,null,null,null,null,false]
[null,null,null,null,null,null,null,null,null,false]
[null,null,null,null,null,null,null,null,null,false]
[null,null,null,null,null,null,null,null,null,false]
[null,null,null,null,null,null,null,null,null,false]
[null,null,null,null,null,null,null,null,null,false]
[null,null,null,null,null,null,null,null,null,false]
[null,null,null,null,null,null,null,null,null,false]
[null,null,null,null,null,null,null,null,null,false]
[null,null,null,null,null,null,null,null,null,false]
[null,null,null,null,null,null,null,null,null,false]
[null,null,null,null,null,null,null,null,null,false]
[null,null,null,null,null,null,null,null,null,false]
[null,null,null,null,null,null,null,null,null,false]
[null,null,null,null,null,null,null,null,null,false]
[null,null,null,null,null,null,null,null,null,false]
[null,null,null,null,null,null,null,null,null,false]
[null,null,null,null,null,null,null,null,null,false]
[null,null,null,null,null,null,null,null,null,false]
[null,null,null,null,null,null,null,null,null,false]
[null,null,null,null,null,null,null,null,null,false]
[null,null,null,null,null,null,null,null,null,false]
[null,null,null,null,null,null,null,null,null,false]
[null,null,null,null,null,null,null,null,null,false]
[null,null,null,null,null,null,null,null,null,false]
[null,null,null,null,null,null,null,null,null,false]
[null,null,null,null,null,null,null,null,null,false]
[null,null,null,null,null,null,null,null,null,false]
[null,null,null,null,null,null,null,null,null,false]
[null,null,null,null,null,null,null,null,null,false]
[null,null,null,null,null,null,null,null,null,false]
[null,null,null,null,null,null,null,null,null,false]
[null,null,null,null,null,null,null,null,null,false]
[null,null,null,null,null,null,null,null,null,false]
[null,null,null,null,null,null,null,null,null,false]
[null,null,null,null,null,null,null,null,null,false]
[null,null,null,null,null,null,null,null,null,false]
[null,null,null,null,null,null,null,null,null,false]
[null,null,null,null,null,null,null,null,null,false]
[null,null,null,null,null,null,null,null,null,false]
[null,null,null,null,null,null,null,null,null,false]
[null,null,null,null,null,null,null,null,null,false]
[null,null,null,null,null,null,null,null,null,false]
[null,null,null,null,null,null,null,null,null,false]
[null,null,null,null,null,null,null,null,null,false]
[null,null,null,null,null,null,null,null,null,false]
[null,null,null,null,null,null,null,null,null,false]
[null,null,null,null,null,null,null,null,null,false]
[null,null,null,null,null,null,null,null,null,false]
[null,null,null,null,null,null,null,null,null,false]
[null,null,null,null,null,null,null,null,null,false]
[null,null,null,null,null,null,null,null,null,false]
[null,null,null,null,null,null,null,null,null,false]
[null,null,null,null,null,null,null,null,null,false]
[null,null,null,null,null,null,null,null,null,false]
[null,null,null,null,null,null,null,null,null,false]
[null,null,null,null,null,null,null,null,null,false]
[null,null,null,null,null,null,null,null,null,false]
[null,null,null,null,null,null,null,null,null,false]
[null,null,null,null,null,null,null,null,null,false]
[null,null,null,null,null,null,null,null,null,false]
[null,null,null,null,null,null,null,null,null,false]
[null,null,null,null,null,null,null,null,null,false]
[null,null,null,null,null,null,null,null,null,false]
[null,null,null,null,null,null,null,null,null,false]
[null,null,null,null,null,null,null,null,null,false]
[null,null,null,null,null,null,null,null,null,false]
[null,null,null,null,null,null,null,null,null,false]
[null,null,null,null,null,null,null,null,null,false]
[null,null,null,null,null,null,null,null,null,false]
[null,null,null,null,null,null,null,null,null,false]
[null,null,null,null,null,null,null,null,null,false]
[null,null,null,null,null,null,null,null,null,false]
[null,null,null,null,null,null,null,null,null,false]
[null,null,null,null,null,null,null,null,null,false]
[null,null,null,null,null,null,null,null,null,false]
[null,null,null,null,null,null,null,null,null,false]
[null,null,null,null,null,null,null,null,null,false]
[null,null,null,null,null,null,null,null,null,false]
[null,null,null,null,null,null,null,null,null,false]
[null,null,null,null,null,null,null,null,null,false]
[null,null,null,null,null,null,null,null,null,false]
[null,null,null,null,null,null,null,null,null,false]
[null,null,null,null,null,null,null,null,null,false]
[null,null,null,null,null,null,null,null,null,false]
[null,null,null,null,null,null,null,null,null,false]
[null,null,null,null,null,null,null,null,null,false]
[null,null,null,null,null,null,null,null,null,false]
[null,null,null,null,null,null,null,null,null,false]
[null,null,null,null,null,null,null,null,null,false]
[null,null,null,null,null,null,null,null,null,false]
[null,null,null,null,null,null,null,null,null,false]
[null,null,null,null,null,null,null,null,null,false]
[null,null,null,null,null,null,null,null,null,false]
[null,null,null,null,null,null,null,null,null,false]
[null,null,null,null,null,null,null,null,null,false]
[null,null,null,null,null,null,null,null,null,false]
[null,null,null,null,null,null,null,null,null,false]
[null,null,null,null,null,null,null,null,null,false]
[null,null,null,null,null,null,null,null,null,false]
[null,null,null,null,null,null,null,null,null,false]
[null,null,null,null,null,null,null,null,null,false]
[null,null,null,null,null,null,null,null,null,false]
[null,null,null,null,null,null,null,null,null,false]
[null,null,null,null,null,null,null,null,null,false]
[null,null,null,null,null,null,null,null,null,false]
[null,null,null,null,null,null,null,null,null,false]
[null,null,null,null,null,null,null,null,null,false]
[null,null,null,null,null,null,null,null,null,false]
[null,null,null,null,null,null,null,null,null,false]
[null,null,null,null,null,null,null,null,null,false]
[null,null,null,null,null,null,null,null,null,false]
[null,null,null,null,null,null,null,null,null,false]
[null,null,null,null,null,null,null,null,null,false]
[null,null,null,null,null,null,null,null,null,false]
[null,null,null,null,null,null,null,null,null,false]
[null,null,null,null,null,null,null,null,null,false]
[null,null,null,null,null,null,null,null,null,false]
[null,null,null,null,null,null,null,null,null,false]
[null,null,null,null,null,null,null,null,null,false]
[null,null,null,null,null,null,null,null,null,false]
[null,null,null,null,null,null,null,null,null,false]
[null,null,null,null,null,null,null,null,null,false]
[null,null,null,null,null,null,null,null,null,false]
[null,null,null,null,null,null,null,null,null,false]
[null,null,null,null,null,null,null,null,null,false]
[null,null,null,null,null,null,null,null,null,false]
[null,null,null,null,null,null,null,null,null,false]
[null,null,null,null,null,null,null,null,null,false]
[null,null,null,null,null,null,null,null,null,false]
[null,null,null,null,null,null,null,null,null,false]
[null,null,null,null,null,null,null,null,null,false]
[null,null,null,null,null,null,null,null,null,false]
[null,null,null,null,null,null,null,null,null,false]
[null,null,null,null,null,null,null,null,null,false]
[null,null,null,null,null,null,null,null,null,false]
[null,null,null,null,null,null,null,null,null,false]
[null,null,null,null,null,null,null,null,null,false]
[null,null,null,null,null,null,null,null,null,false]
[null,null,null,null,null,null,null,null,null,false]
[null,null,null,null,null,null,null,null,null,false]
[null,null,null,null,null,null,null,null,null,false]
[null,null,null,null,null,null,null,null,null,false]
[null,null,null,null,null,null,null,null,null,false]
[null,null,null,null,null,null,null,null,null,false]
[null,null,null,null,null,null,null,null,null,false]
[null,null,null,null,null,null,null,null,null,false]
[null,null,null,null,null,null,null,null,null,false]
[null,null,null,null,null,null,null,null,null,false]
[null,null,null,null,null,null,null,null,null,false]
[null,null,null,null,null,null,null,null,null,false]
[null,null,null,null,null,null,null,null,null,false]
[null,null,null,null,null,null,null,null,null,false]
[null,null,null,null,null,null,null,null,null,false]
[null,null,null,null,null,null,null,null,null,false]
[null,null,null,null,null,null,null,null,null,false]
[null,null,null,null,null,null,null,null,null,false]
[null,null,null,null,null,null,null,null,null,false]
[null,null,null,null,null,null,null,null,null,false]
[null,null,null,null,null,null,null,null,null,false]
[null,null,null,null,null,null,null,null,null,false]
[null,null,null,null,null,null,null,null,null,false]
[null,null,null,null,null,null,null,null,null,false]
[null,null,null,null,null,null,null,null,null,false]
[null,null,null,null,null,null,null,null,null,false]
[null,null,null,null,null,null,null,null,null,false]
[null,null,null,null,null,null,null,null,null,false]
[null,null,null,null,null,null,null,null,null,false]
[null,null,null,null,null,null,null,null,null,false]
[null,null,null,null,null,null,null,null,null,false]
[null,null,null,null,null,null,null,null,null,false]
[null,null,null,null,null,null,null,null,null,false]
[null,null,null,null,null,null,null,null,null,false]
[null,null,null,null,null,null,null,null,null,false]
[null,null,null,null,null,null,null,null,null,false]
[null,null,null,null,null,null,null,null,null,false]
[null,null,null,null,null,null,null,null,null,false]
[null,null,null,null,null,null,null,null,null,false]
[null,null,null,null,null,null,null,null,null,false]
[null,null,null,null,null,null,null,null,null,false]
[null,null,null,null,null,null,null,null,null,false]
[null,null,null,null,null,null,null,null,null,false]
[null,null,null,null,null,null,null,null,null,false]
[null,null,null,null,null,null,null,null,null,false]
[null,null,null,null,null,null,null,null,null,false]
[null,null,null,null,null,null,null,null,null,false]
[null,null,null,null,null,null,null,null,null,false]
[null,null,null,null,null,null,null,null,null,false]
[null,null,null,null,null,null,null,null,null,false]
[null,null,null,null,null,null,null,null,null,false]
[null,null,null,null,null,null,null,null,null,false]
[null,null,null,null,null,null,null,null,null,false]
[null,null,null,null,null,null,null,null,null,false]
[null,null,null,null,null,null,null,null,null,false]
[null,null,null,null,null,null,null,null,null,false]
[null,null,null,null,null,null,null,null,null,false]
[null,null,null,null,null,null,null,null,null,false]
[null,null,null,null,null,null,null,null,null,false]
[null,null,null,null,null,null,null,null,null,false]
[null,null,null,null,null,null,null,null,null,false]
[null,null,null,null,null,null,null,null,null,false]
[null,null,null,null,null,null,null,null,null,false]
[null,null,null,null,null,null,null,null,null,false]
[null,null,null,null,null,null,null,null,null,false]
[null,null,null,null,null,null,null,null,null,false]
[null,null,null,null,null,null,null,null,null,false]
[null,null,null,null,null,null,null,null,null,false]
[null,null,null,null,null,null,null,null,null,false]
[null,null,null,null,null,null,null,null,null,false]
[null,null,null,null,null,null,null,null,null,false]
[null,null,null,null,null,null,null,null,null,false]
[null,null,null,null,null,null,null,null,null,false]
[null,null,null,null,null,null,null,null,null,false]
[null,null,null,null,null,null,null,null,null,false]
[null,null,null,null,null,null,null,null,null,false]
[null,null,null,null,null,null,null,null,null,false]
[null,null,null,null,null,null,null,null,null,false]
[null,null,null,null,null,null,null,null,null,false]
[null,null,null,null,null,null,null,null,null,false]
[null,null,null,null,null,null,null,null,null,false]
[null,null,null,null,null,null,null,null,null,false]
[null,null,null,null,null,null,null,null,null,false]
[null,null,null,null,null,null,null,null,null,false]
[null,null,null,null,null,null,null,null,null,false]
[null,null,null,null,null,null,null,null,null,false]
[null,null,null,null,null,null,null,null,null,false]
[null,null,null,null,null,null,null,null,null,false]
[null,null,null,null,null,null,null,null,null,false]
[null,null,null,null,null,null,null,null,null,false]
[null,null,null,null,null,null,null,null,null,false]
[null,null,null,null,null,null,null,null,null,false]
[null,null,null,null,null,null,null,null,null,false]
[null,null,null,null,null,null,null,null,null,false]
[null,null,null,null,null,null,null,null,null,false]
[null,null,null,null,null,null,null,null,null,false]
[null,null,null,null,null,null,null,null,null,false]
[null,null,null,null,null,null,null,null,null,false]
[null,null,null,null,null,null,null,null,null,false]
[null,null,null,null,null,null,null,null,null,false]
[null,null,null,null,null,null,null,null,null,false]
[null,null,null,null,null,null,null,null,null,false]
[null,null,null,null,null,null,null,null,null,false]
[null,null,null,null,null,null,null,null,null,false]
[null,null,null,null,null,null,null,null,null,false]
[null,null,null,null,null,null,null,null,null,false]
[null,null,null,null,null,null,null,null,null,false]
[null,null,null,null,null,null,null,null,null,false]
[null,null,null,null,null,null,null,null,null,false]
[null,null,null,null,null,null,null,null,null,false]
[null,null,null,null,null,null,null,null,null,false]
[null,null,null,null,null,null,null,null,null,false]
[null,null,null,null,null,null,null,null,null,false]
[null,null,null,null,null,null,null,null,null,false]
[null,null,null,null,null,null,null,null,null,false]
[null,null,null,null,null,null,null,null,null,false]
[null,null,null,null,null,null,null,null,null,false]
[null,null,null,null,null,null,null,null,null,false]
[null,null,null,null,null,null,null,null,null,false]
[null,null,null,null,null,null,null,null,null,false]
[null,null,null,null,null,null,null,null,null,false]
[null,null,null,null,null,null,null,null,null,false]
[null,null,null,null,null,null,null,null,null,false]
[null,null,null,null,null,null,null,null,null,false]
[null,null,null,null,null,null,null,null,null,false]
[null,null,null,null,null,null,null,null,null,false]
[null,null,null,null,null,null,null,null,null,false]
[null,null,null,null,null,null,null,null,null,false]
[null,null,null,null,null,null,null,null,null,false]
[null,null,null,null,null,null,null,null,null,false]
[null,null,null,null,null,null,null,null,null,false]
[null,null,null,null,null,null,null,null,null,false]
[null,null,null,null,null,null,null,null,null,false]
[null,null,null,null,null,null,null,null,null,false]
[null,null,null,null,null,null,null,null,null,false]
[null,null,null,null,null,null,null,null,null,false]
[null,null,null,null,null,null,null,null,null,false]
[null,null,null,null,null,null,null,null,null,false]
[null,null,null,null,null,null,null,null,null,false]
[null,null,null,null,null,null,null,null,null,false]
[null,null,null,null,null,null,null,null,null,false]
[null,null,null,null,null,null,null,null,null,false]
[null,null,null,null,null,null,null,null,null,false]
[null,null,null,null,null,null,null,null,null,false]
[null,null,null,null,null,null,null,null,null,false]
[null,null,null,null,null,null,null,null,null,false]
[null,null,null,null,null,null,null,null,null,false]
[null,null,null,null,null,null,null,null,null,false]
[null,null,null,null,null,null,null,null,null,false]
[null,null,null,null,null,null,null,null,null,false]
[null,null,null,null,null,null,null,null,null,false]
[null,null,null,null,null,null,null,null,null,false]
[null,null,null,null,null,null,null,null,null,false]
[null,null,null,null,null,null,null,null,null,false]
[null,null,null,null,null,null,null,null,null,false]
[null,null,null,null,null,null,null,null,null,false]
[null,null,null,null,null,null,null,null,null,false]
[null,null,null,null,null,null,null,null,null,false]
[null,null,null,null,null,null,null,null,null,false]
[null,null,null,null,null,null,null,null,null,false]
[null,null,null,null,null,null,null,null,null,false]
[null,null,null,null,null,null,null,null,null,false]
[null,null,null,null,null,null,null,null,null,false]
[null,null,null,null,null,null,null,null,null,false]
[null,null,null,null,null,null,null,null,null,false]
[null,null,null,null,null,null,null,null,null,false]
[null,null,null,null,null,null,null,null,null,false]
[null,null,null,null,null,null,null,null,null,false]
[null,null,null,null,null,null,null,null,null,false]
[null,null,null,null,null,null,null,null,null,false]
[null,null,null,null,null,null,null,null,null,false]
[null,null,null,null,null,null,null,null,null,false]
[null,null,null,null,null,null,null,null,null,false]
[null,null,null,null,null,null,null,null,null,false]
[null,null,null,null,null,null,null,null,null,false]
[null,null,null,null,null,null,null,null,null,false]
[null,null,null,null,null,null,null,null,null,false]
[null,null,null,null,null,null,null,null,null,false]
[null,null,null,null,null,null,null,null,null,false]
[null,null,null,null,null,null,null,null,null,false]
[null,null,null,null,null,null,null,null,null,false]
[null,null,null,null,null,null,null,null,null,false]
[null,null,null,null,null,null,null,null,null,false]
[null,null,null,null,null,null,null,null,null,false]
[null,null,null,null,null,null,null,null,null,false]
[null,null,null,null,null,null,null,null,null,false]
[null,null,null,null,null,null,null,null,null,false]
[null,null,null,null,null,null,null,null,null,false]
[null,null,null,null,null,null,null,null,null,false]
[null,null,null,null,null,null,null,null,null,false]
[null,null,null,null,null,null,null,null,null,false]
[null,null,null,null,null,null,null,null,null,false]
[null,null,null,null,null,null,null,null,null,false]
[null,null,null,null,null,null,null,null,null,false]
[null,null,null,null,null,null,null,null,null,false]
[null,null,null,null,null,null,null,null,null,false]
[null,null,null,null,null,null,null,null,null,false]
[null,null,null,null,null,null,null,null,null,false]
[null,null,null,null,null,null,null,null,null,false]
[null,null,null,null,null,null,null,null,null,false]
[null,null,null,null,null,null,null,null,null,false]
[null,null,null,null,null,null,null,null,null,false]
[null,null,null,null,null,null,null,null,null,false]
[null,null,null,null,null,null,null,null,null,false]
[null,null,null,null,null,null,null,null,null,false]
[null,null,null,null,null,null,null,null,null,false]
[null,null,null,null,null,null,null,null,null,false]
[null,null,null,null,null,null,null,null,null,false]
[null,null,null,null,null,null,null,null,null,false]
[null,null,null,null,null,null,null,null,null,false]
[null,null,null,null,null,null,null,null,null,false]
[null,null,null,null,null,null,null,null,null,false]
[null,null,null,null,null,null,null,null,null,false]
[null,null,null,null,null,null,null,null,null,false]
[null,null,null,null,null,null,null,null,null,false]
[null,null,null,null,null,null,null,null,null,false]
[null,null,null,null,null,null,null,null,null,false]
[null,null,null,null,null,null,null,null,null,false]
[null,null,null,null,null,null,null,null,null,false]
[null,null,null,null,null,null,null,null,null,false]
[null,null,null,null,null,null,null,null,null,false]
[null,null,null,null,null,null,null,null,null,false]
[null,null,null,null,null,null,null,null,null,false]
[null,null,null,null,null,null,null,null,null,false]
[null,null,null,null,null,null,null,null,null,false]
[null,null,null,null,null,null,null,null,null,false]
[null,null,null,null,null,null,null,null,null,false]
[null,null,null,null,null,null,null,null,null,false]
[null,null,null,null,null,null,null,null,null,false]
[null,null,null,null,null,null,null,null,null,false]
[null,null,null,null,null,null,null,null,null,false]
[null,null,null,null,null,null,null,null,null,false]
[null,null,null,null,null,null,null,null,null,false]
[null,null,null,null,null,null,null,null,null,false]
[null,null,null,null,null,null,null,null,null,false]
[null,null,null,null,null,null,null,null,null,false]
[null,null,null,null,null,null,null,null,null,false]
[null,null,null,null,null,null,null,null,null,false]
[null,null,null,null,null,null,null,null,null,false]
[null,null,null,null,null,null,null,null,null,false]
[null,null,null,null,null,null,null,null,null,false]
[null,null,null,null,null,null,null,null,null,false]
[null,null,null,null,null,null,null,null,null,false]
[null,null,null,null,null,null,null,null,null,false]
[null,null,null,null,null,null,null,null,null,false]
[null,null,null,null,null,null,null,null,null,false]
[null,null,null,null,null,null,null,null,null,false]
[null,null,null,null,null,null,null,null,null,false]
[null,null,null,null,null,null,null,null,null,false]
[null,null,null,null,null,null,null,null,null,false]
[null,null,null,null,null,null,null,null,null,false]
[null,null,null,null,null,null,null,null,null,false]
[null,null,null,null,null,null,null,null,null,false]
[null,null,null,null,null,null,null,null,null,false]
[null,null,null,null,null,null,null,null,null,false]
[null,null,null,null,null,null,null,null,null,false]
[null,null,null,null,null,null,null,null,null,false]
[null,null,null,null,null,null,null,null,null,false]
[null,null,null,null,null,null,null,null,null,false]
[null,null,null,null,null,null,null,null,null,false]
[null,null,null,null,null,null,null,null,null,false]
[null,null,null,null,null,null,null,null,null,false]
[null,null,null,null,null,null,null,null,null,false]
[null,null,null,null,null,null,null,null,null,false]
[null,null,null,null,null,null,null,null,null,false]
[null,null,null,null,null,null,null,null,null,false]
[null,null,null,null,null,null,null,null,null,false]
[null,null,null,null,null,null,null,null,null,false]
[null,null,null,null,null,null,null,null,null,false]
[null,null,null,null,null,null,null,null,null,false]
[null,null,null,null,null,null,null,null,null,false]
[null,null,null,null,null,null,null,null,null,false]
[null,null,null,null,null,null,null,null,null,false]
[null,null,null,null,null,null,null,null,null,false]
[null,null,null,null,null,null,null,null,null,false]
[null,null,null,null,null,null,null,null,null,false]
[null,null,null,null,null,null,null,null,null,false]
[null,null,null,null,null,null,null,null,null,false]
[null,null,null,null,null,null,null,null,null,false]
[null,null,null,null,null,null,null,null,null,false]
[null,null,null,null,null,null,null,null,null,false]
[null,null,null,null,null,null,null,null,null,false]
[null,null,null,null,null,null,null,null,null,false]
[null,null,null,null,null,null,null,null,null,false]
[null,null,null,null,null,null,null,null,null,false]
[null,null,null,null,null,null,null,null,null,false]
[null,null,null,null,null,null,null,null,null,false]
[null,null,null,null,null,null,null,null,null,false]
[null,null,null,null,null,null,null,null,null,false]
[null,null,null,null,null,null,null,null,null,false]
[null,null,null,null,null,null,null,null,null,false]
[null,null,null,null,null,null,null,null,null,false]
[null,null,null,null,null,null,null,null,null,false]
[null,null,null,null,null,null,null,null,null,false]
[null,null,null,null,null,null,null,null,null,false]
[null,null,null,null,null,null,null,null,null,false]
[null,null,null,null,null,null,null,null,null,false]
[null,null,null,null,null,null,null,null,null,false]
[null,null,null,null,null,null,null,null,null,false]
[null,null,null,null,null,null,null,null,null,false]
[null,null,null,null,null,null,null,null,null,false]
[null,null,null,null,null,null,null,null,null,false]
[null,null,null,null,null,null,null,null,null,false]
[null,null,null,null,null,null,null,null,null,false]
[null,null,null,null,null,null,null,null,null,false]
[null,null,null,null,null,null,null,null,null,false]
[null,null,null,null,null,null,null,null,null,false]
[null,null,null,null,null,null,null,null,null,false]
[null,null,null,null,null,null,null,null,null,false]
[null,null,null,null,null,null,null,null,null,false]
[null,null,null,null,null,null,null,null,null,false]
[null,null,null,null,null,null,null,null,null,false]
[null,null,null,null,null,null,null,null,null,false]
[null,null,null,null,null,null,null,null,null,false]
[null,null,null,null,null,null,null,null,null,false]
[null,null,null,null,null,null,null,null,null,false]
[null,null,null,null,null,null,null,null,null,false]
[null,null,null,null,null,null,null,null,null,false]
[null,null,null,null,null,null,null,null,null,false]
[null,null,null,null,null,null,null,null,null,false]
[null,null,null,null,null,null,null,null,null,false]
[null,null,null,null,null,null,null,null,null,false]
[null,null,null,null,null,null,null,null,null,false]
[null,null,null,null,null,null,null,null,null,false]
[null,null,null,null,null,null,null,null,null,false]
[null,null,null,null,null,null,null,null,null,false]
[null,null,null,null,null,null,null,null,null,false]
[null,null,null,null,null,null,null,null,null,false]
[null,null,null,null,null,null,null,null,null,false]
[null,null,null,null,null,null,null,null,null,false]
[null,null,null,null,null,null,null,null,null,false]
[null,null,null,null,null,null,null,null,null,false]
[null,null,null,null,null,null,null,null,null,false]
[null,null,null,null,null,null,null,null,null,false]
[null,null,null,null,null,null,null,null,null,false]
[null,null,null,null,null,null,null,null,null,false]
[null,null,null,null,null,null,null,null,null,false]
[null,null,null,null,null,null,null,null,null,false]
[null,null,null,null,null,null,null,null,null,false]
[null,null,null,null,null,null,null,null,null,false]
[null,null,null,null,null,null,null,null,null,false]
[null,null,null,null,null,null,null,null,null,false]
[null,null,null,null,null,null,null,null,null,false]
[null,null,null,null,null,null,null,null,null,false]
[null,null,null,null,null,null,null,null,null,false]
[null,null,null,null,null,null,null,null,null,false]
[null,null,null,null,null,null,null,null,null,false]
[null,null,null,null,null,null,null,null,null,false]
[null,null,null,null,null,null,null,null,null,false]
[null,null,null,null,null,null,null,null,null,false]
[null,null,null,null,null,null,null,null,null,false]
[null,null,null,null,null,null,null,null,null,false]
[null,null,null,null,null,null,null,null,null,false]
[null,null,null,null,null,null,null,null,null,false]
[null,null,null,null,null,null,null,null,null,false]
[null,null,null,null,null,null,null,null,null,false]
[null,null,null,null,null,null,null,null,null,false]
[null,null,null,null,null,null,null,null,null,false]
[null,null,null,null,null,null,null,null,null,false]
[null,null,null,null,null,null,null,null,null,false]
[null,null,null,null,null,null,null,null,null,false]
[null,null,null,null,null,null,null,null,null,false]
[null,null,null,null,null,null,null,null,null,false]
[null,null,null,null,null,null,null,null,null,false]
[null,null,null,null,null,null,null,null,null,false]
[null,null,null,null,null,null,null,null,null,false]
[null,null,null,null,null,null,null,null,null,false]
[null,null,null,null,null,null,null,null,null,false]
[null,null,null,null,null,null,null,null,null,false]
[null,null,null,null,null,null,null,null,null,false]
[null,null,null,null,null,null,null,null,null,false]
[null,null,null,null,null,null,null,null,null,false]
[null,null,null,null,null,null,null,null,null,false]
[null,null,null,null,null,null,null,null,null,false]
[null,null,null,null,null,null,null,null,null,false]
[null,null,null,null,null,null,null,null,null,false]
[null,null,null,null,null,null,null,null,null,false]
[null,null,null,null,null,null,null,null,null,false]
[null,null,null,null,null,null,null,null,null,false]
[null,null,null,null,null,null,null,null,null,false]
[null,null,null,null,null,null,null,null,null,false]
[null,null,null,null,null,null,null,null,null,false]
[null,null,null,null,null,null,null,null,null,false]
[null,null,null,null,null,null,null,null,null,false]
[null,null,null,null,null,null,null,null,null,false]
[null,null,null,null,null,null,null,null,null,false]
[null,null,null,null,null,null,null,null,null,false]
[null,null,null,null,null,null,null,null,null,false]
[null,null,null,null,null,null,null,null,null,false]
[null,null,null,null,null,null,null,null,null,false]
[null,null,null,null,null,null,null,null,null,false]
[null,null,null,null,null,null,null,null,null,false]
[null,null,null,null,null,null,null,null,null,false]
[null,null,null,null,null,null,null,null,null,false]
[null,null,null,null,null,null,null,null,null,false]
[null,null,null,null,null,null,null,null,null,false]
[null,null,null,null,null,null,null,null,null,false]
[null,null,null,null,null,null,null,null,null,false]
[null,null,null,null,null,null,null,null,null,false]
[null,null,null,null,null,null,null,null,null,false]
[null,null,null,null,null,null,null,null,null,false]
[null,null,null,null,null,null,null,null,null,false]
[null,null,null,null,null,null,null,null,null,false]
[null,null,null,null,null,null,null,null,null,false]
[null,null,null,null,null,null,null,null,null,false]
[null,null,null,null,null,null,null,null,null,false]
[null,null,null,null,null,null,null,null,null,false]
[null,null,null,null,null,null,null,null,null,false]
[null,null,null,null,null,null,null,null,null,false]
[null,null,null,null,null,null,null,null,null,false]
[null,null,null,null,null,null,null,null,null,false]
[null,null,null,null,null,null,null,null,null,false]
[null,null,null,null,null,null,null,null,null,false]
[null,null,null,null,null,null,null,null,null,false]
[null,null,null,null,null,null,null,null,null,false]
[null,null,null,null,null,null,null,null,null,false]
[null,null,null,null,null,null,null,null,null,false]
[null,null,null,null,null,null,null,null,null,false]
[null,null,null,null,null,null,null,null,null,false]
[null,null,null,null,null,null,null,null,null,false]
[null,null,null,null,null,null,null,null,null,false]
[null,null,null,null,null,null,null,null,null,false]
[null,null,null,null,null,null,null,null,null,false]
[null,null,null,null,null,null,null,null,null,false]
[null,null,null,null,null,null,null,null,null,false]
[null,null,null,null,null,null,null,null,null,false]
[null,null,null,null,null,null,null,null,null,false]
[null,null,null,null,null,null,null,null,null,false]
[null,null,null,null,null,null,null,null,null,false]
[null,null,null,null,null,null,null,null,null,false]
[null,null,null,null,null,null,null,null,null,false]
[null,null,null,null,null,null,null,null,null,false]
[null,null,null,null,null,null,null,null,null,false]
[null,null,null,null,null,null,null,null,null,false]
[null,null,null,null,null,null,null,null,null,false]
[null,null,null,null,null,null,null,null,null,false]
[null,null,null,null,null,null,null,null,null,false]
[null,null,null,null,null,null,null,null,null,false]
[null,null,null,null,null,null,null,null,null,false]
[null,null,null,null,null,null,null,null,null,false]
[null,null,null,null,null,null,null,null,null,false]
[null,null,null,null,null,null,null,null,null,false]
[null,null,null,null,null,null,null,null,null,false]
[null,null,null,null,null,null,null,null,null,false]
[null,null,null,null,null,null,null,null,null,false]
[null,null,null,null,null,null,null,null,null,false]
[null,null,null,null,null,null,null,null,null,false]
[null,null,null,null,null,null,null,null,null,false]
[null,null,null,null,null,null,null,null,null,false]
[null,null,null,null,null,null,null,null,null,false]
[null,null,null,null,null,null,null,null,null,false]
[null,null,null,null,null,null,null,null,null,false]
[null,null,null,null,null,null,null,null,null,false]
[null,null,null,null,null,null,null,null,null,false]
[null,null,null,null,null,null,null,null,null,false]
[null,null,null,null,null,null,null,null,null,false]
[null,null,null,null,null,null,null,null,null,false]
[null,null,null,null,null,null,null,null,null,false]
[null,null,null,null,null,null,null,null,null,false]
[null,null,null,null,null,null,null,null,null,false]
[null,null,null,null,null,null,null,null,null,false]
[null,null,null,null,null,null,null,null,null,false]
[null,null,null,null,null,null,null,null,null,false]
[null,null,null,null,null,null,null,null,null,false]
[null,null,null,null,null,null,null,null,null,false]
[null,null,null,null,null,null,null,null,null,false]
[null,null,null,null,null,null,null,null,null,false]
[null,null,null,null,null,null,null,null,null,false]
[null,null,null,null,null,null,null,null,null,false]
[null,null,null,null,null,null,null,null,null,false]
[null,null,null,null,null,null,null,null,null,false]
[null,null,null,null,null,null,null,null,null,false]
[null,null,null,null,null,null,null,null,null,false]
[null,null,null,null,null,null,null,null,null,false]
[null,null,null,null,null,null,null,null,null,false]
[null,null,null,null,null,null,null,null,null,false]
[null,null,null,null,null,null,null,null,null,false]
[null,null,null,null,null,null,null,null,null,false]
[null,null,null,null,null,null,null,null,null,false]
[null,null,null,null,null,null,null,null,null,false]
[null,null,null,null,null,null,null,null,null,false]
[null,null,null,null,null,null,null,null,null,false]
[null,null,null,null,null,null,null,null,null,false]
[null,null,null,null,null,null,null,null,null,false]
[null,null,null,null,null,null,null,null,null,false]
[null,null,null,null,null,null,null,null,null,false]
[null,null,null,null,null,null,null,null,null,false]
[null,null,null,null,null,null,null,null,null,false]
[null,null,null,null,null,null,null,null,null,false]
[null,null,null,null,null,null,null,null,null,false]
[null,null,null,null,null,null,null,null,null,false]
[null,null,null,null,null,null,null,null,null,false]
[null,null,null,null,null,null,null,null,null,false]
[null,null,null,null,null,null,null,null,null,false]
[null,null,null,null,null,null,null,null,null,false]
[null,null,null,null,null,null,null,null,null,false]
[null,null,null,null,null,null,null,null,null,false]
[null,null,null,null,null,null,null,null,null,false]
[null,null,null,null,null,null,null,null,null,false]
[null,null,null,null,null,null,null,null,null,false]
[null,null,null,null,null,null,null,null,null,false]
[null,null,null,null,null,null,null,null,null,false]
[null,null,null,null,null,null,null,null,null,false]
[null,null,null,null,null,null,null,null,null,false]
[null,null,null,null,null,null,null,null,null,false]
[null,null,null,null,null,null,null,null,null,false]
[null,null,null,null,null,null,null,null,null,false]
[null,null,null,null,null,null,null,null,null,false]
[null,null,null,null,null,null,null,null,null,false]
[null,null,null,null,null,null,null,null,null,false]
[null,null,null,null,null,null,null,null,null,false]
[null,null,null,null,null,null,null,null,null,false]
[null,null,null,null,null,null,null,null,null,false]
[null,null,null,null,null,null,null,null,null,false]
[null,null,null,null,null,null,null,null,null,false]
[null,null,null,null,null,null,null,null,null,false]
[null,null,null,null,null,null,null,null,null,false]
[null,null,null,null,null,null,null,null,null,false]
[null,null,null,null,null,null,null,null,null,false]
[null,null,null,null,null,null,null,null,null,false]
[null,null,null,null,null,null,null,null,null,false]
[null,null,null,null,null,null,null,null,null,false]
[null,null,null,null,null,null,null,null,null,false]
[null,null,null,null,null,null,null,null,null,false]
[null,null,null,null,null,null,null,null,null,false]
[null,null,null,null,null,null,null,null,null,false]
[null,null,null,null,null,null,null,null,null,false]
[null,null,null,null,null,null,null,null,null,false]
[null,null,null,null,null,null,null,null,null,false]
[null,null,null,null,null,null,null,null,null,false]
[null,null,null,null,null,null,null,null,null,false]
[null,null,null,null,null,null,null,null,null,false]
[null,null,null,null,null,null,null,null,null,false]
[null,null,null,null,null,null,null,null,null,false]
[null,null,null,null,null,null,null,null,null,false]
[null,null,null,null,null,null,null,null,null,false]
[null,null,null,null,null,null,null,null,null,false]
[null,null,null,null,null,null,null,null,null,false]
[null,null,null,null,null,null,null,null,null,false]
[null,null,null,null,null,null,null,null,null,false]
[null,null,null,null,null,null,null,null,null,false]
[null,null,null,null,null,null,null,null,null,false]
[null,null,null,null,null,null,null,null,null,false]
[null,null,null,null,null,null,null,null,null,false]
[null,null,null,null,null,null,null,null,null,false]
[null,null,null,null,null,null,null,null,null,false]
[null,null,null,null,null,null,null,null,null,false]
[null,null,null,null,null,null,null,null,null,false]
[null,null,null,null,null,null,null,null,null,false]
[null,null,null,null,null,null,null,null,null,false]
[null,null,null,null,null,null,null,null,null,false]
[null,null,null,null,null,null,null,null,null,false]
[null,null,null,null,null,null,null,null,null,false]
[null,null,null,null,null,null,null,null,null,false]
[null,null,null,null,null,null,null,null,null,false]
[null,null,null,null,null,null,null,null,null,false]
[null,null,null,null,null,null,null,null,null,false]
[null,null,null,null,null,null,null,null,null,false]
[null,null,null,null,null,null,null,null,null,false]
[null,null,null,null,null,null,null,null,null,false]
[null,null,null,null,null,null,null,null,null,false]
[null,null,null,null,null,null,null,null,null,false]
[null,null,null,null,null,null,null,null,null,false]
[null,null,null,null,null,null,null,null,null,false]
[null,null,null,null,null,null,null,null,null,false]
[null,null,null,null,null,null,null,null,null,false]
[null,null,null,null,null,null,null,null,null,false]
[null,null,null,null,null,null,null,null,null,false]
[null,null,null,null,null,null,null,null,null,false]
[null,null,null,null,null,null,null,null,null,false]
[null,null,null,null,null,null,null,null,null,false]
[null,null,null,null,null,null,null,null,null,false]
[null,null,null,null,null,null,null,null,null,false]
[null,null,null,null,null,null,null,null,null,false]
[null,null,null,null,null,null,null,null,null,false]
[null,null,null,null,null,null,null,null,null,false]
[null,null,null,null,null,null,null,null,null,false]
[null,null,null,null,null,null,null,null,null,false]
[null,null,null,null,null,null,null,null,null,false]
[null,null,null,null,null,null,null,null,null,false]
[null,null,null,null,null,null,null,null,null,false]
[null,null,null,null,null,null,null,null,null,false]
[null,null,null,null,null,null,null,null,null,false]
[null,null,null,null,null,null,null,null,null,false]
[null,null,null,null,null,null,null,null,null,false]
[null,null,null,null,null,null,null,null,null,false]
[null,null,null,null,null,null,null,null,null,false]
[null,null,null,null,null,null,null,null,null,false]
[null,null,null,null,null,null,null,null,null,false]
[null,null,null,null,null,null,null,null,null,false]
[null,null,null,null,null,null,null,null,null,false]
[null,null,null,null,null,null,null,null,null,false]
[null,null,null,null,null,null,null,null,null,false]
[null,null,null,null,null,null,null,null,null,false]
[null,null,null,null,null,null,null,null,null,false]
[null,null,null,null,null,null,null,null,null,false]
[null,null,null,null,null,null,null,null,null,false]
[null,null,null,null,null,null,null,null,null,false]
[null,null,null,null,null,null,null,null,null,false]
[null,null,null,null,null,null,null,null,null,false]
[null,null,null,null,null,null,null,null,null,false]
[null,null,null,null,null,null,null,null,null,false]
[null,null,null,null,null,null,null,null,null,false]
[null,null,null,null,null,null,null,null,null,false]
[null,null,null,null,null,null,null,null,null,false]
[null,null,null,null,null,null,null,null,null,false]
[null,null,null,null,null,null,null,null,null,false]
[null,null,null,null,null,null,null,null,null,false]
[null,null,null,null,null,null,null,null,null,false]
[null,null,null,null,null,null,null,null,null,false]
[null,null,null,null,null,null,null,null,null,false]
[null,null,null,null,null,null,null,null,null,false]
[null,null,null,null,null,null,null,null,null,false]
[null,null,null,null,null,null,null,null,null,false]
[null,null,null,null,null,null,null,null,null,false]
[null,null,null,null,null,null,null,null,null,false]
[null,null,null,null,null,null,null,null,null,false]
[null,null,null,null,null,null,null,null,null,false]
[null,null,null,null,null,null,null,null,null,false]
[null,null,null,null,null,null,null,null,null,false]
[null,null,null,null,null,null,null,null,null,false]
[null,null,null,null,null,null,null,null,null,false]
[null,null,null,null,null,null,null,null,null,false]
[null,null,null,null,null,null,null,null,null,false]
[null,null,null,null,null,null,null,null,null,false]
[null,null,null,null,null,null,null,null,null,false]
[null,null,null,null,null,null,null,null,null,false]
[null,null,null,null,null,null,null,null,null,false]
[null,null,null,null,null,null,null,null,null,false]
[null,null,null,null,null,null,null,null,null,false]
[null,null,null,null,null,null,null,null,null,false]
[null,null,null,null,null,null,null,null,null,false]
[null,null,null,null,null,null,null,null,null,false]
[null,null,null,null,null,null,null,null,null,false]
[null,null,null,null,null,null,null,null,null,false]
[null,null,null,null,null,null,null,null,null,false]
[null,null,null,null,null,null,null,null,null,false]
[null,null,null,null,null,null,null,null,null,false]
[null,null,null,null,null,null,null,null,null,false]
[null,null,null,null,null,null,null,null,null,false]
[null,null,null,null,null,null,null,null,null,false]
[null,null,null,null,null,null,null,null,null,false]
[null,null,null,null,null,null,null,null,null,false]
[null,null,null,null,null,null,null,null,null,false]
[null,null,null,null,null,null,null,null,null,false]
[null,null,null,null,null,null,null,null,null,false]
[null,null,null,null,null,null,null,null,null,false]
[null,null,null,null,null,null,null,null,null,false]
[null,null,null,null,null,null,null,null,null,false]
[null,null,null,null,null,null,null,null,null,false]
[null,null,null,null,null,null,null,null,null,false]
[null,null,null,null,null,null,null,null,null,false]
[null,null,null,null,null,null,null,null,null,false]
[null,null,null,null,null,null,null,null,null,false]
[null,null,null,null,null,null,null,null,null,false]
[null,null,null,null,null,null,null,null,null,false]
[null,null,null,null,null,null,null,null,null,false]
[null,null,null,null,null,null,null,null,null,false]
[null,null,null,null,null,null,null,null,null,false]
[null,null,null,null,null,null,null,null,null,false]
[null,null,null,null,null,null,null,null,null,false]
[null,null,null,null,null,null,null,null,null,false]
[null,null,null,null,null,null,null,null,null,false]
[null,null,null,null,null,null,null,null,null,false]
[null,null,null,null,null,null,null,null,null,false]
[null,null,null,null,null,null,null,null,null,false]
[null,null,null,null,null,null,null,null,null,false]
[null,null,null,null,null,null,null,null,null,false]
[null,null,null,null,null,null,null,null,null,false]
[null,null,null,null,null,null,null,null,null,false]
[null,null,null,null,null,null,null,null,null,false]
[null,null,null,null,null,null,null,null,null,false]
[null,null,null,null,null,null,null,null,null,false]
[null,null,null,null,null,null,null,null,null,false]
[null,null,null,null,null,null,null,null,null,false]
[null,null,null,null,null,null,null,null,null,false]
[null,null,null,null,null,null,null,null,null,false]
[null,null,null,null,null,null,null,null,null,false]
[null,null,null,null,null,null,null,null,null,false]
[null,null,null,null,null,null,null,null,null,false]
[null,null,null,null,null,null,null,null,null,false]
[null,null,null,null,null,null,null,null,null,false]
[null,null,null,null,null,null,null,null,null,false]
[null,null,null,null,null,null,null,null,null,false]
[null,null,null,null,null,null,null,null,null,false]
[null,null,null,null,null,null,null,null,null,false]
[null,null,null,null,null,null,null,null,null,false]
[null,null,null,null,null,null,null,null,null,false]
[null,null,null,null,null,null,null,null,null,false]
[null,null,null,null,null,null,null,null,null,false]
[null,null,null,null,null,null,null,null,null,false]
[null,null,null,null,null,null,null,null,null,false]
[null,null,null,null,null,null,null,null,null,false]
[null,null,null,null,null,null,null,null,null,false]
[null,null,null,null,null,null,null,null,null,false]
[null,null,null,null,null,null,null,null,null,false]
[null,null,null,null,null,null,null,null,null,false]
[null,null,null,null,null,null,null,null,null,false]
[null,null,null,null,null,null,null,null,null,false]
[null,null,null,null,null,null,null,null,null,false]
[null,null,null,null,null,null,null,null,null,false]
[null,null,null,null,null,null,null,null,null,false]
[null,null,null,null,null,null,null,null,null,false]
[null,null,null,null,null,null,null,null,null,false]
[null,null,null,null,null,null,null,null,null,false]
[null,null,null,null,null,null,null,null,null,false]
[null,null,null,null,null,null,null,null,null,false]
[null,null,null,null,null,null,null,null,null,false]
[null,null,null,null,null,null,null,null,null,false]
[null,null,null,null,null,null,null,null,null,false]
[null,null,null,null,null,null,null,null,null,false]
[null,null,null,null,null,null,null,null,null,false]
[null,null,null,null,null,null,null,null,null,false]
[null,null,null,null,null,null,null,null,null,false]
[null,null,null,null,null,null,null,null,null,false]
[null,null,null,null,null,null,null,null,null,false]
[null,null,null,null,null,null,null,null,null,false]
[null,null,null,null,null,null,null,null,null,false]
[null,null,null,null,null,null,null,null,null,false]
[null,null,null,null,null,null,null,null,null,false]
[null,null,null,null,null,null,null,null,null,false]
[null,null,null,null,null,null,null,null,null,false]
[null,null,null,null,null,null,null,null,null,false]
[null,null,null,null,null,null,null,null,null,false]
[null,null,null,null,null,null,null,null,null,false]
[null,null,null,null,null,null,null,null,null,false]
[null,null,null,null,null,null,null,null,null,false]
[null,null,null,null,null,null,null,null,null,false]
[null,null,null,null,null,null,null,null,null,false]
[null,null,null,null,null,null,null,null,null,false]
[null,null,null,null,null,null,null,null,null,false]
[null,null,null,null,null,null,null,null,null,false]
[null,null,null,null,null,null,null,null,null,false]
[null,null,null,null,null,null,null,null,null,false]
[null,null,null,null,null,null,null,null,null,false]
[null,null,null,null,null,null,null,null,null,false]
[null,null,null,null,null,null,null,null,null,false]
[null,null,null,null,null,null,null,null,null,false]
[null,null,null,null,null,null,null,null,null,false]
[null,null,null,null,null,null,null,null,null,false]
[null,null,null,null,null,null,null,null,null,false]
[null,null,null,null,null,null,null,null,null,false]
[null,null,null,null,null,null,null,null,null,false]
[null,null,null,null,null,null,null,null,null,false]
[null,null,null,null,null,null,null,null,null,false]
[null,null,null,null,null,null,null,null,null,false]
[null,null,null,null,null,null,null,null,null,false]
[null,null,null,null,null,null,null,null,null,false]
[null,null,null,null,null,null,null,null,null,false]
[null,null,null,null,null,null,null,null,null,false]
[null,null,null,null,null,null,null,null,null,false]
[null,null,null,null,null,null,null,null,null,false]
[null,null,null,null,null,null,null,null,null,false]
[null,null,null,null,null,null,null,null,null,false]
[null,null,null,null,null,null,null,null,null,false]
[null,null,null,null,null,null,null,null,null,false]
[null,null,null,null,null,null,null,null,null,false]
[null,null,null,null,null,null,null,null,null,false]
[null,null,null,null,null,null,null,null,null,false]
[null,null,null,null,null,null,null,null,null,false]
[null,null,null,null,null,null,null,null,null,false]
[null,null,null,null,null,null,null,null,null,false]
[null,null,null,null,null,null,null,null,null,false]
[null,null,null,null,null,null,null,null,null,false]
[null,null,null,null,null,null,null,null,null,false]
[null,null,null,null,null,null,null,null,null,false]
[null,null,null,null,null,null,null,null,null,false]
[null,null,null,null,null,null,null,null,null,false]
[null,null,null,null,null,null,null,null,null,false]
[null,null,null,null,null,null,null,null,null,false]
[null,null,null,null,null,null,null,null,null,false]
[null,null,null,null,null,null,null,null,null,false]
[null,null,null,null,null,null,null,null,null,false]
[null,null,null,null,null,null,null,null,null,false]
[null,null,null,null,null,null,null,null,null,false]
[null,null,null,null,null,null,null,null,null,false]
[null,null,null,null,null,null,null,null,null,false]
[null,null,null,null,null,null,null,null,null,false]
[null,null,null,null,null,null,null,null,null,false]
[null,null,null,null,null,null,null,null,null,false]
[null,null,null,null,null,null,null,null,null,false]
[null,null,null,null,null,null,null,null,null,false]
[null,null,null,null,null,null,null,null,null,false]
[null,null,null,null,null,null,null,null,null,false]
[null,null,null,null,null,null,null,null,null,false]
[null,null,null,null,null,null,null,null,null,false]
[null,null,null,null,null,null,null,null,null,false]
[null,null,null,null,null,null,null,null,null,false]
[null,null,null,null,null,null,null,null,null,false]
[null,null,null,null,null,null,null,null,null,false]
[null,null,null,null,null,null,null,null,null,false]
[null,null,null,null,null,null,null,null,null,false]
[null,null,null,null,null,null,null,null,null,false]
[null,null,null,null,null,null,null,null,null,false]
[null,null,null,null,null,null,null,null,null,false]
[null,null,null,null,null,null,null,null,null,false]
[null,null,null,null,null,null,null,null,null,false]
[null,null,null,null,null,null,null,null,null,false]
[null,null,null,null,null,null,null,null,null,false]
[null,null,null,null,null,null,null,null,null,false]
[null,null,null,null,null,null,null,null,null,false]
[null,null,null,null,null,null,null,null,null,false]
[null,null,null,null,null,null,null,null,null,false]
[null,null,null,null,null,null,null,null,null,false]
[null,null,null,null,null,null,null,null,null,false]
[null,null,null,null,null,null,null,null,null,false]
[null,null,null,null,null,null,null,null,null,false]
[null,null,null,null,null,null,null,null,null,false]
[null,null,null,null,null,null,null,null,null,false]
[null,null,null,null,null,null,null,null,null,false]
[null,null,null,null,null,null,null,null,null,false]
[null,null,null,null,null,null,null,null,null,false]
[null,null,null,null,null,null,null,null,null,false]
[null,null,null,null,null,null,null,null,null,false]
[null,null,null,null,null,null,null,null,null,false]
[null,null,null,null,null,null,null,null,null,false]
[null,null,null,null,null,null,null,null,null,false]
[null,null,null,null,null,null,null,null,null,false]
[null,null,null,null,null,null,null,null,null,false]
[null,null,null,null,null,null,null,null,null,false]
[null,null,null,null,null,null,null,null,null,false]
[null,null,null,null,null,null,null,null,null,false]
[null,null,null,null,null,null,null,null,null,false]
[null,null,null,null,null,null,null,null,null,false]
[null,null,null,null,null,null,null,null,null,false]
[null,null,null,null,null,null,null,null,null,false]
[null,null,null,null,null,null,null,null,null,false]
[null,null,null,null,null,null,null,null,null,false]
[null,null,null,null,null,null,null,null,null,false]
[null,null,null,null,null,null,null,null,null,false]
[null,null,null,null,null,null,null,null,null,false]
[null,null,null,null,null,null,null,null,null,false]
[null,null,null,null,null,null,null,null,null,false]
[null,null,null,null,null,null,null,null,null,false]
[null,null,null,null,null,null,null,null,null,false]
[null,null,null,null,null,null,null,null,null,false]
[null,null,null,null,null,null,null,null,null,false]
[null,null,null,null,null,null,null,null,null,false]
[null,null,null,null,null,null,null,null,null,false]
[null,null,null,null,null,null,null,null,null,false]
[null,null,null,null,null,null,null,null,null,false]
[null,null,null,null,null,null,null,null,null,false]
[null,null,null,null,null,null,null,null,null,false]
[null,null,null,null,null,null,null,null,null,false]
[null,null,null,null,null,null,null,null,null,false]
[null,null,null,null,null,null,null,null,null,false]
[null,null,null,null,null,null,null,null,null,false]
[null,null,null,null,null,null,null,null,null,false]
[null,null,null,null,null,null,null,null,null,false]
[null,null,null,null,null,null,null,null,null,false]
[null,null,null,null,null,null,null,null,null,false]
[null,null,null,null,null,null,null,null,null,false]
[null,null,null,null,null,null,null,null,null,false]
[null,null,null,null,null,null,null,null,null,false]
[null,null,null,null,null,null,null,null,null,false]
[null,null,null,null,null,null,null,null,null,false]
[null,null,null,null,null,null,null,null,null,false]
[null,null,null,null,null,null,null,null,null,false]
[null,null,null,null,null,null,null,null,null,false]
[null,null,null,null,null,null,null,null,null,false]
[null,null,null,null,null,null,null,null,null,false]
[null,null,null,null,null,null,null,null,null,false]
[null,null,null,null,null,null,null,null,null,false]
[null,null,null,null,null,null,null,null,null,false]
[null,null,null,null,null,null,null,null,null,false]
[null,null,null,null,null,null,null,null,null,false]
[null,null,null,null,null,null,null,null,null,false]
[null,null,null,null,null,null,null,null,null,false]
[null,null,null,null,null,null,null,null,null,false]
[null,null,null,null,null,null,null,null,null,false]
[null,null,null,null,null,null,null,null,null,false]
[null,null,null,null,null,null,null,null,null,false]
[null,null,null,null,null,null,null,null,null,false]
[null,null,null,null,null,null,null,null,null,false]
[null,null,null,null,null,null,null,null,null,false]
[null,null,null,null,null,null,null,null,null,false]
[null,null,null,null,null,null,null,null,null,false]
[null,null,null,null,null,null,null,null,null,false]
[null,null,null,null,null,null,null,null,null,false]
[null,null,null,null,null,null,null,null,null,false]
[null,null,null,null,null,null,null,null,null,false]
[null,null,null,null,null,null,null,null,null,false]
[null,null,null,null,null,null,null,null,null,false]
[null,null,null,null,null,null,null,null,null,false]
[null,null,null,null,null,null,null,null,null,false]
[null,null,null,null,null,null,null,null,null,false]
[null,null,null,null,null,null,null,null,null,false]
[null,null,null,null,null,null,null,null,null,false]
[null,null,null,null,null,null,null,null,null,false]
[null,null,null,null,null,null,null,null,null,false]
[null,null,null,null,null,null,null,null,null,false]
[null,null,null,null,null,null,null,null,null,false]
[null,null,null,null,null,null,null,null,null,false]
[null,null,null,null,null,null,null,null,null,false]
[null,null,null,null,null,null,null,null,null,false]
[null,null,null,null,null,null,null,null,null,false]
[null,null,null,null,null,null,null,null,null,false]
[null,null,null,null,null,null,null,null,null,false]
[null,null,null,null,null,null,null,null,null,false]
[null,null,null,null,null,null,null,null,null,false]
[null,null,null,null,null,null,null,null,null,false]
[null,null,null,null,null,null,null,null,null,false]
[null,null,null,null,null,null,null,null,null,false]
[null,null,null,null,null,null,null,null,null,false]
[null,null,null,null,null,null,null,null,null,false]
[null,null,null,null,null,null,null,null,null,false]
[null,null,null,null,null,null,null,null,null,false]
[null,null,null,null,null,null,null,null,null,false]
[null,null,null,null,null,null,null,null,null,false]
[null,null,null,null,null,null,null,null,null,false]
[null,null,null,null,null,null,null,null,null,false]
[null,null,null,null,null,null,null,null,null,false]
[null,null,null,null,null,null,null,null,null,false]
[null,null,null,null,null,null,null,null,null,false]
[null,null,null,null,null,null,null,null,null,false]
[null,null,null,null,null,null,null,null,null,false]
[null,null,null,null,null,null,null,null,null,false]
[null,null,null,null,null,null,null,null,null,false]
[null,null,null,null,null,null,null,null,null,false]
[null,null,null,null,null,null,null,null,null,false]
[null,null,null,null,null,null,null,null,null,false]
[null,null,null,null,null,null,null,null,null,false]
[null,null,null,null,null,null,null,null,null,false]
[null,null,null,null,null,null,null,null,null,false]
[null,null,null,null,null,null,null,null,null,false]
[null,null,null,null,null,null,null,null,null,false]
[null,null,null,null,null,null,null,null,null,false]
[null,null,null,null,null,null,null,null,null,false]
[null,null,null,null,null,null,null,null,null,false]
[null,null,null,null,null,null,null,null,null,false]
[null,null,null,null,null,null,null,null,null,false]
[null,null,null,null,null,null,null,null,null,false]
[null,null,null,null,null,null,null,null,null,false]
[null,null,null,null,null,null,null,null,null,false]
[null,null,null,null,null,null,null,null,null,false]
[null,null,null,null,null,null,null,null,null,false]
[null,null,null,null,null,null,null,null,null,false]
[null,null,null,null,null,null,null,null,null,false]
[null,null,null,null,null,null,null,null,null,false]
[null,null,null,null,null,null,null,null,null,false]
[null,null,null,null,null,null,null,null,null,false]
[null,null,null,null,null,null,null,null,null,false]
[null,null,null,null,null,null,null,null,null,false]
[null,null,null,null,null,null,null,null,null,false]
[null,null,null,null,null,null,null,null,null,false]
[null,null,null,null,null,null,null,null,null,false]
[null,null,null,null,null,null,null,null,null,false]
[null,null,null,null,null,null,null,null,null,false]
[null,null,null,null,null,null,null,null,null,false]
[null,null,null,null,null,null,null,null,null,false]
[null,null,null,null,null,null,null,null,null,false]
[null,null,null,null,null,null,null,null,null,false]
[null,null,null,null,null,null,null,null,null,false]
[null,null,null,null,null,null,null,null,null,false]
[null,null,null,null,null,null,null,null,null,false]
[null,null,null,null,null,null,null,null,null,false]
[null,null,null,null,null,null,null,null,null,false]
[null,null,null,null,null,null,null,null,null,false]
[null,null,null,null,null,null,null,null,null,false]
[null,null,null,null,null,null,null,null,null,false]
[null,null,null,null,null,null,null,null,null,false]
[null,null,null,null,null,null,null,null,null,false]
[null,null,null,null,null,null,null,null,null,false]
[null,null,null,null,null,null,null,null,null,false]
[null,null,null,null,null,null,null,null,null,false]
[null,null,null,null,null,null,null,null,null,false]
[null,null,null,null,null,null,null,null,null,false]
[null,null,null,null,null,null,null,null,null,false]
[null,null,null,null,null,null,null,null,null,false]
[null,null,null,null,null,null,null,null,null,false]
[null,null,null,null,null,null,null,null,null,false]
[null,null,null,null,null,null,null,null,null,false]
[null,null,null,null,null,null,null,null,null,false]
[null,null,null,null,null,null,null,null,null,false]
[null,null,null,null,null,null,null,null,null,false]
[null,null,null,null,null,null,null,null,null,false]
[null,null,null,null,null,null,null,null,null,false]
[null,null,null,null,null,null,null,null,null,false]
[null,null,null,null,null,null,null,null,null,false]
[null,null,null,null,null,null,null,null,null,false]
[null,null,null,null,null,null,null,null,null,false]
[null,null,null,null,null,null,null,null,null,false]
[null,null,null,null,null,null,null,null,null,false]
[null,null,null,null,null,null,null,null,null,false]
[null,null,null,null,null,null,null,null,null,false]
[null,null,null,null,null,null,null,null,null,false]
[null,null,null,null,null,null,null,null,null,false]
[null,null,null,null,null,null,null,null,null,false]
[null,null,null,null,null,null,null,null,null,false]
[null,null,null,null,null,null,null,null,null,false]
[null,null,null,null,null,null,null,null,null,false]
[null,null,null,null,null,null,null,null,null,false]
[null,null,null,null,null,null,null,null,null,false]
[null,null,null,null,null,null,null,null,null,false]
[null,null,null,null,null,null,null,null,null,false]
[null,null,null,null,null,null,null,null,null,false]
[null,null,null,null,null,null,null,null,null,false]
[null,null,null,null,null,null,null,null,null,false]
[null,null,null,null,null,null,null,null,null,false]
[null,null,null,null,null,null,null,null,null,false]
[null,null,null,null,null,null,null,null,null,false]
[null,null,null,null,null,null,null,null,null,false]
[null,null,null,null,null,null,null,null,null,false]
[null,null,null,null,null,null,null,null,null,false]
[null,null,null,null,null,null,null,null,null,false]
[null,null,null,null,null,null,null,null,null,false]
[null,null,null,null,null,null,null,null,null,false]
[null,null,null,null,null,null,null,null,null,false]
[null,null,null,null,null,null,null,null,null,false]
[null,null,null,null,null,null,null,null,null,false]
[null,null,null,null,null,null,null,null,null,false]
[null,null,null,null,null,null,null,null,null,false]
[null,null,null,null,null,null,null,null,null,false]
[null,null,null,null,null,null,null,null,null,false]
[null,null,null,null,null,null,null,null,null,false]
[null,null,null,null,null,null,null,null,null,false]
[null,null,null,null,null,null,null,null,null,false]
[null,null,null,null,null,null,null,null,null,false]
[null,null,null,null,null,null,null,null,null,false]
[null,null,null,null,null,null,null,null,null,false]
[null,null,null,null,null,null,null,null,null,false]
[null,null,null,null,null,null,null,null,null,false]
[null,null,null,null,null,null,null,null,null,false]
[null,null,null,null,null,null,null,null,null,false]
[null,null,null,null,null,null,null,null,null,false]
[null,null,null,null,null,null,null,null,null,false]
[null,null,null,null,null,null,null,null,null,false]
[null,null,null,null,null,null,null,null,null,false]
[null,null,null,null,null,null,null,null,null,false]
[null,null,null,null,null,null,null,null,null,false]
[null,null,null,null,null,null,null,null,null,false]
[null,null,null,null,null,null,null,null,null,false]
[null,null,null,null,null,null,null,null,null,false]
[null,null,null,null,null,null,null,null,null,false]
[null,null,null,null,null,null,null,null,null,false]
[null,null,null,null,null,null,null,null,null,false]
[null,null,null,null,null,null,null,null,null,false]
[null,null,null,null,null,null,null,null,null,false]
[null,null,null,null,null,null,null,null,null,false]
[null,null,null,null,null,null,null,null,null,false]
[null,null,null,null,null,null,null,null,null,false]
[null,null,null,null,null,null,null,null,null,false]
[null,null,null,null,null,null,null,null,null,false]
[null,null,null,null,null,null,null,null,null,false]
[null,null,null,null,null,null,null,null,null,false]
[null,null,null,null,null,null,null,null,null,false]
[null,null,null,null,null,null,null,null,null,false]
[null,null,null,null,null,null,null,null,null,false]
[null,null,null,null,null,null,null,null,null,false]
[null,null,null,null,null,null,null,null,null,false]
[null,null,null,null,null,null,null,null,null,false]
[null,null,null,null,null,null,null,null,null,false]
[null,null,null,null,null,null,null,null,null,false]
[null,null,null,null,null,null,null,null,null,false]
[null,null,null,null,null,null,null,null,null,false]
[null,null,null,null,null,null,null,null,null,false]
[null,null,null,null,null,null,null,null,null,false]
[null,null,null,null,null,null,null,null,null,false]
[null,null,null,null,null,null,null,null,null,false]
[null,null,null,null,null,null,null,null,null,false]
[null,null,null,null,null,null,null,null,null,false]
[null,null,null,null,null,null,null,null,null,false]
[null,null,null,null,null,null,null,null,null,false]
[null,null,null,null,null,null,null,null,null,false]
[null,null,null,null,null,null,null,null,null,false]
[null,null,null,null,null,null,null,null,null,false]
[null,null,null,null,null,null,null,null,null,false]
[null,null,null,null,null,null,null,null,null,false]
[null,null,null,null,null,null,null,null,null,false]
[null,null,null,null,null,null,null,null,null,false]
[null,null,null,null,null,null,null,null,null,false]
[null,null,null,null,null,null,null,null,null,false]
[null,null,null,null,null,null,null,null,null,false]
[null,null,null,null,null,null,null,null,null,false]
[null,null,null,null,null,null,null,null,null,false]
[null,null,null,null,null,null,null,null,null,false]
[null,null,null,null,null,null,null,null,null,false]
[null,null,null,null,null,null,null,null,null,false]
[null,null,null,null,null,null,null,null,null,false]
[null,null,null,null,null,null,null,null,null,false]
[null,null,null,null,null,null,null,null,null,false]
[null,null,null,null,null,null,null,null,null,false]
[null,null,null,null,null,null,null,null,null,false]
[null,null,null,null,null,null,null,null,null,false]
[null,null,null,null,null,null,null,null,null,false]
[null,null,null,null,null,null,null,null,null,false]
[null,null,null,null,null,null,null,null,null,false]
[null,null,null,null,null,null,null,null,null,false]
[null,null,null,null,null,null,null,null,null,false]
[null,null,null,null,null,null,null,null,null,false]
[null,null,null,null,null,null,null,null,null,false]
[null,null,null,null,null,null,null,null,null,false]
[null,null,null,null,null,null,null,null,null,false]
[null,null,null,null,null,null,null,null,null,false]
[null,null,null,null,null,null,null,null,null,false]
[null,null,null,null,null,null,null,null,null,false]
[null,null,null,null,null,null,null,null,null,false]
[null,null,null,null,null,null,null,null,null,false]
[null,null,null,null,null,null,null,null,null,false]
[null,null,null,null,null,null,null,null,null,false]
[null,null,null,null,null,null,null,null,null,false]
[null,null,null,null,null,null,null,null,null,false]
[null,null,null,null,null,null,null,null,null,false]
[null,null,null,null,null,null,null,null,null,false]
[null,null,null,null,null,null,null,null,null,false]
[null,null,null,null,null,null,null,null,null,false]
[null,null,null,null,null,null,null,null,null,false]
[null,null,null,null,null,null,null,null,null,false]
[null,null,null,null,null,null,null,null,null,false]
[null,null,null,null,null,null,null,null,null,false]
[null,null,null,null,null,null,null,null,null,false]
[null,null,null,null,null,null,null,null,null,false]
[null,null,null,null,null,null,null,null,null,false]
[null,null,null,null,null,null,null,null,null,false]
[null,null,null,null,null,null,null,null,null,false]
[null,null,null,null,null,null,null,null,null,false]
[null,null,null,null,null,null,null,null,null,false]
[null,null,null,null,null,null,null,null,null,false]
[null,null,null,null,null,null,null,null,null,false]
[null,null,null,null,null,null,null,null,null,false]
[null,null,null,null,null,null,null,null,null,false]
[null,null,null,null,null,null,null,null,null,false]
[null,null,null,null,null,null,null,null,null,false]
[null,null,null,null,null,null,null,null,null,false]
[null,null,null,null,null,null,null,null,null,false]
[null,null,null,null,null,null,null,null,null,false]
[null,null,null,null,null,null,null,null,null,false]
[null,null,null,null,null,null,null,null,null,false]
[null,null,null,null,null,null,null,null,null,false]
[null,null,null,null,null,null,null,null,null,false]
[null,null,null,null,null,null,null,null,null,false]
[null,null,null,null,null,null,null,null,null,false]
[null,null,null,null,null,null,null,null,null,false]
[null,null,null,null,null,null,null,null,null,false]
[null,null,null,null,null,null,null,null,null,false]
[null,null,null,null,null,null,null,null,null,false]
[null,null,null,null,null,null,null,null,null,false]
[null,null,null,null,null,null,null,null,null,false]
[null,null,null,null,null,null,null,null,null,false]
[null,null,null,null,null,null,null,null,null,false]
[null,null,null,null,null,null,null,null,null,false]
[null,null,null,null,null,null,null,null,null,false]
[null,null,null,null,null,null,null,null,null,false]
[null,null,null,null,null,null,null,null,null,false]
[null,null,null,null,null,null,null,null,null,false]
[null,null,null,null,null,null,null,null,null,false]
[null,null,null,null,null,null,null,null,null,false]
[null,null,null,null,null,null,null,null,null,false]
[null,null,null,null,null,null,null,null,null,false]
[null,null,null,null,null,null,null,null,null,false]
[null,null,null,null,null,null,null,null,null,false]
[null,null,null,null,null,null,null,null,null,false]
[null,null,null,null,null,null,null,null,null,false]
[null,null,null,null,null,null,null,null,null,false]
[null,null,null,null,null,null,null,null,null,false]
[null,null,null,null,null,null,null,null,null,false]
[null,null,null,null,null,null,null,null,null,false]
[null,null,null,null,null,null,null,null,null,false]
[null,null,null,null,null,null,null,null,null,false]
[null,null,null,null,null,null,null,null,null,false]
[null,null,null,null,null,null,null,null,null,false]
[null,null,null,null,null,null,null,null,null,false]
[null,null,null,null,null,null,null,null,null,false]
[null,null,null,null,null,null,null,null,null,false]
[null,null,null,null,null,null,null,null,null,false]
[null,null,null,null,null,null,null,null,null,false]
[null,null,null,null,null,null,null,null,null,false]
[null,null,null,null,null,null,null,null,null,false]
[null,null,null,null,null,null,null,null,null,false]
[null,null,null,null,null,null,null,null,null,false]
[null,null,null,null,null,null,null,null,null,false]
[null,null,null,null,null,null,null,null,null,false]
[null,null,null,null,null,null,null,null,null,false]
[null,null,null,null,null,null,null,null,null,false]
[null,null,null,null,null,null,null,null,null,false]
[null,null,null,null,null,null,null,null,null,false]
[null,null,null,null,null,null,null,null,null,false]
[null,null,null,null,null,null,null,null,null,false]
[null,null,null,null,null,null,null,null,null,false]
[null,null,null,null,null,null,null,null,null,false]
[null,null,null,null,null,null,null,null,null,false]
[null,null,null,null,null,null,null,null,null,false]
[null,null,null,null,null,null,null,null,null,false]
[null,null,null,null,null,null,null,null,null,false]
[null,null,null,null,null,null,null,null,null,false]
[null,null,null,null,null,null,null,null,null,false]
[null,null,null,null,null,null,null,null,null,false]
[null,null,null,null,null,null,null,null,null,false]
[null,null,null,null,null,null,null,null,null,false]
[null,null,null,null,null,null,null,null,null,false]
[null,null,null,null,null,null,null,null,null,false]
[null,null,null,null,null,null,null,null,null,false]
[null,null,null,null,null,null,null,null,null,false]
[null,null,null,null,null,null,null,null,null,false]
[null,null,null,null,null,null,null,null,null,false]
[null,null,null,null,null,null,null,null,null,false]
[null,null,null,null,null,null,null,null,null,false]
[null,null,null,null,null,null,null,null,null,false]
[null,null,null,null,null,null,null,null,null,false]
[null,null,null,null,null,null,null,null,null,false]
[null,null,null,null,null,null,null,null,null,false]
[null,null,null,null,null,null,null,null,null,false]
[null,null,null,null,null,null,null,null,null,false]
[null,null,null,null,null,null,null,null,null,false]
[null,null,null,null,null,null,null,null,null,false]
[null,null,null,null,null,null,null,null,null,false]
[null,null,null,null,null,null,null,null,null,false]
[null,null,null,null,null,null,null,null,null,false]
[null,null,null,null,null,null,null,null,null,false]
[null,null,null,null,null,null,null,null,null,false]
[null,null,null,null,null,null,null,null,null,false]
[null,null,null,null,null,null,null,null,null,false]
[null,null,null,null,null,null,null,null,null,false]
[null,null,null,null,null,null,null,null,null,false]
[null,null,null,null,null,null,null,null,null,false]
[null,null,null,null,null,null,null,null,null,false]
[null,null,null,null,null,null,null,null,null,false]
[null,null,null,null,null,null,null,null,null,false]
[null,null,null,null,null,null,null,null,null,false]
[null,null,null,null,null,null,null,null,null,false]
[null,null,null,null,null,null,null,null,null,false]
[null,null,null,null,null,null,null,null,null,false]
[null,null,null,null,null,null,null,null,null,false]
[null,null,null,null,null,null,null,null,null,false]
[null,null,null,null,null,null,null,null,null,false]
[null,null,null,null,null,null,null,null,null,false]
[null,null,null,null,null,null,null,null,null,false]
[null,null,null,null,null,null,null,null,null,false]
[null,null,null,null,null,null,null,null,null,false]
[null,null,null,null,null,null,null,null,null,false]
[null,null,null,null,null,null,null,null,null,false]
[null,null,null,null,null,null,null,null,null,false]
[null,null,null,null,null,null,null,null,null,false]
[null,null,null,null,null,null,null,null,null,false]
[null,null,null,null,null,null,null,null,null,false]
[null,null,null,null,null,null,null,null,null,false]
[null,null,null,null,null,null,null,null,null,false]
[null,null,null,null,null,null,null,null,null,false]
[null,null,null,null,null,null,null,null,null,false]
[null,null,null,null,null,null,null,null,null,false]
[null,null,null,null,null,null,null,null,null,false]
[null,null,null,null,null,null,null,null,null,false]
[null,null,null,null,null,null,null,null,null,false]
[null,null,null,null,null,null,null,null,null,false]
[null,null,null,null,null,null,null,null,null,false]
[null,null,null,null,null,null,null,null,null,false]
[null,null,null,null,null,null,null,null,null,false]
[null,null,null,null,null,null,null,null,null,false]
[null,null,null,null,null,null,null,null,null,false]
[null,null,null,null,null,null,null,null,null,false]
[null,null,null,null,null,null,null,null,null,false]
[null,null,null,null,null,null,null,null,null,false]
[null,null,null,null,null,null,null,null,null,false]
[null,null,null,null,null,null,null,null,null,false]
[null,null,null,null,null,null,null,null,null,false]
[null,null,null,null,null,null,null,null,null,false]
[null,null,null,null,null,null,null,null,null,false]
[null,null,null,null,null,null,null,null,null,false]
[null,null,null,null,null,null,null,null,null,false]
[null,null,null,null,null,null,null,null,null,false]
[null,null,null,null,null,null,null,null,null,false]
[null,null,null,null,null,null,null,null,null,false]
[null,null,null,null,null,null,null,null,null,false]
[null,null,null,null,null,null,null,null,null,false]
[null,null,null,null,null,null,null,null,null,false]
[null,null,null,null,null,null,null,null,null,false]
[null,null,null,null,null,null,null,null,null,false]
[null,null,null,null,null,null,null,null,null,false]
[null,null,null,null,null,null,null,null,null,false]
[null,null,null,null,null,null,null,null,null,false]
[null,null,null,null,null,null,null,null,null,false]
[null,null,null,null,null,null,null,null,null,false]
[null,null,null,null,null,null,null,null,null,false]
[null,null,null,null,null,null,null,null,null,false]
[null,null,null,null,null,null,null,null,null,false]
[null,null,null,null,null,null,null,null,null,false]
[null,null,null,null,null,null,null,null,null,false]
[null,null,null,null,null,null,null,null,null,false]
[null,null,null,null,null,null,null,null,null,false]
[null,null,null,null,null,null,null,null,null,false]
[null,null,null,null,null,null,null,null,null,false]
[null,null,null,null,null,null,null,null,null,false]
[null,null,null,null,null,null,null,null,null,false]
[null,null,null,null,null,null,null,null,null,false]
[null,null,null,null,null,null,null,null,null,false]
[null,null,null,null,null,null,null,null,null,false]
[null,null,null,null,null,null,null,null,null,false]
[null,null,null,null,null,null,null,null,null,false]
[null,null,null,null,null,null,null,null,null,false]
[null,null,null,null,null,null,null,null,null,false]
[null,null,null,null,null,null,null,null,null,false]
[null,null,null,null,null,null,null,null,null,false]
[null,null,null,null,null,null,null,null,null,false]
[null,null,null,null,null,null,null,null,null,false]
[null,null,null,null,null,null,null,null,null,false]
[null,null,null,null,null,null,null,null,null,false]
[null,null,null,null,null,null,null,null,null,false]
[null,null,null,null,null,null,null,null,null,false]
[null,null,null,null,null,null,null,null,null,false]
[null,null,null,null,null,null,null,null,null,false]
[null,null,null,null,null,null,null,null,null,false]
[null,null,null,null,null,null,null,null,null,false]
[null,null,null,null,null,null,null,null,null,false]
[null,null,null,null,null,null,null,null,null,false]
[null,null,null,null,null,null,null,null,null,false]
[null,null,null,null,null,null,null,null,null,false]
[null,null,null,null,null,null,null,null,null,false]
[null,null,null,null,null,null,null,null,null,false]
[null,null,null,null,null,null,null,null,null,false]
[null,null,null,null,null,null,null,null,null,false]
[null,null,null,null,null,null,null,null,null,false]
[null,null,null,null,null,null,null,null,null,false]
[null,null,null,null,null,null,null,null,null,false]
[null,null,null,null,null,null,null,null,null,false]
[null,null,null,null,null,null,null,null,null,false]
[null,null,null,null,null,null,null,null,null,false]
[null,null,null,null,null,null,null,null,null,false]
[null,null,null,null,null,null,null,null,null,false]
[null,null,null,null,null,null,null,null,null,false]
[null,null,null,null,null,null,null,null,null,false]
[null,null,null,null,null,null,null,null,null,false]
[null,null,null,null,null,null,null,null,null,false]
[null,null,null,null,null,null,null,null,null,false]
[null,null,null,null,null,null,null,null,null,false]
[null,null,null,null,null,null,null,null,null,false]
[null,null,null,null,null,null,null,null,null,false]
[null,null,null,null,null,null,null,null,null,false]
[null,null,null,null,null,null,null,null,null,false]
[null,null,null,null,null,null,null,null,null,false]
[null,null,null,null,null,null,null,null,null,false]
[null,null,null,null,null,null,null,null,null,false]
[null,null,null,null,null,null,null,null,null,false]
[null,null,null,null,null,null,null,null,null,false]
[null,null,null,null,null,null,null,null,null,false]
[null,null,null,null,null,null,null,null,null,false]
[null,null,null,null,null,null,null,null,null,false]
[null,null,null,null,null,null,null,null,null,false]
[null,null,null,null,null,null,null,null,null,false]
[null,null,null,null,null,null,null,null,null,false]
[null,null,null,null,null,null,null,null,null,false]
[null,null,null,null,null,null,null,null,null,false]
[null,null,null,null,null,null,null,null,null,false]
[null,null,null,null,null,null,null,null,null,false]
[null,null,null,null,null,null,null,null,null,false]
[null,null,null,null,null,null,null,null,null,false]
[null,null,null,null,null,null,null,null,null,false]
[null,null,null,null,null,null,null,null,null,false]
[null,null,null,null,null,null,null,null,null,false]
[null,null,null,null,null,null,null,null,null,false]
[null,null,null,null,null,null,null,null,null,false]
[null,null,null,null,null,null,null,null,null,false]
[null,null,null,null,null,null,null,null,null,false]
[null,null,null,null,null,null,null,null,null,false]
[null,null,null,null,null,null,null,null,null,false]
[null,null,null,null,null,null,null,null,null,false]
[null,null,null,null,null,null,null,null,null,false]
[null,null,null,null,null,null,null,null,null,false]
[null,null,null,null,null,null,null,null,null,false]
[null,null,null,null,null,null,null,null,null,false]
[null,null,null,null,null,null,null,null,null,false]
[null,null,null,null,null,null,null,null,null,false]
[null,null,null,null,null,null,null,null,null,false]
[null,null,null,null,null,null,null,null,null,false]
[null,null,null,null,null,null,null,null,null,false]
[null,null,null,null,null,null,null,null,null,false]
[null,null,null,null,null,null,null,null,null,false]
[null,null,null,null,null,null,null,null,null,false]
[null,null,null,null,null,null,null,null,null,false]
[null,null,null,null,null,null,null,null,null,false]
[null,null,null,null,null,null,null,null,null,false]
[null,null,null,null,null,null,null,null,null,false]
[null,null,null,null,null,null,null,null,null,false]
[null,null,null,null,null,null,null,null,null,false]
[null,null,null,null,null,null,null,null,null,false]
[null,null,null,null,null,null,null,null,null,false]
[null,null,null,null,null,null,null,null,null,false]
[null,null,null,null,null,null,null,null,null,false]
[null,null,null,null,null,null,null,null,null,false]
[null,null,null,null,null,null,null,null,null,false]
[null,null,null,null,null,null,null,null,null,false]
[null,null,null,null,null,null,null,null,null,false]
[null,null,null,null,null,null,null,null,null,false]
[null,null,null,null,null,null,null,null,null,false]
[null,null,null,null,null,null,null,null,null,false]
[null,null,null,null,null,null,null,null,null,false]
[null,null,null,null,null,null,null,null,null,false]
[null,null,null,null,null,null,null,null,null,false]
[null,null,null,null,null,null,null,null,null,false]
[null,null,null,null,null,null,null,null,null,false]
[null,null,null,null,null,null,null,null,null,false]
[null,null,null,null,null,null,null,null,null,false]
[null,null,null,null,null,null,null,null,null,false]
[null,null,null,null,null,null,null,null,null,false]
[null,null,null,null,null,null,null,null,null,false]
[null,null,null,null,null,null,null,null,null,false]
[null,null,null,null,null,null,null,null,null,false]
[null,null,null,null,null,null,null,null,null,false]
[null,null,null,null,null,null,null,null,null,false]
[null,null,null,null,null,null,null,null,null,false]
[null,null,null,null,null,null,null,null,null,false]
[null,null,null,null,null,null,null,null,null,false]
[null,null,null,null,null,null,null,null,null,false]
[null,null,null,null,null,null,null,null,null,false]
[null,null,null,null,null,null,null,null,null,false]
[null,null,null,null,null,null,null,null,null,false]
[null,null,null,null,null,null,null,null,null,false]
[null,null,null,null,null,null,null,null,null,false]
[null,null,null,null,null,null,null,null,null,false]
[null,null,null,null,null,null,null,null,null,false]
[null,null,null,null,null,null,null,null,null,false]
[null,null,null,null,null,null,null,null,null,false]
[null,null,null,null,null,null,null,null,null,false]
[null,null,null,null,null,null,null,null,null,false]
[null,null,null,null,null,null,null,null,null,false]
[null,null,null,null,null,null,null,null,null,false]
[null,null,null,null,null,null,null,null,null,false]
[null,null,null,null,null,null,null,null,null,false]
[null,null,null,null,null,null,null,null,null,false]
[null,null,null,null,null,null,null,null,null,false]
[null,null,null,null,null,null,null,null,null,false]
[null,null,null,null,null,null,null,null,null,false]
[null,null,null,null,null,null,null,null,null,false]
[null,null,null,null,null,null,null,null,null,false]
[null,null,null,null,null,null,null,null,null,false]
[null,null,null,null,null,null,null,null,null,false]
[null,null,null,null,null,null,null,null,null,false]
[null,null,null,null,null,null,null,null,null,false]
[null,null,null,null,null,null,null,null,null,false]
[null,null,null,null,null,null,null,null,null,false]
[null,null,null,null,null,null,null,null,null,false]
[null,null,null,null,null,null,null,null,null,false]
[null,null,null,null,null,null,null,null,null,false]
[null,null,null,null,null,null,null,null,null,false]
[null,null,null,null,null,null,null,null,null,false]
[null,null,null,null,null,null,null,null,null,false]
[null,null,null,null,null,null,null,null,null,false]
[null,null,null,null,null,null,null,null,null,false]
[null,null,null,null,null,null,null,null,null,false]
[null,null,null,null,null,null,null,null,null,false]
[null,null,null,null,null,null,null,null,null,false]
[null,null,null,null,null,null,null,null,null,false]
[null,null,null,null,null,null,null,null,null,false]
[null,null,null,null,null,null,null,null,null,false]
[null,null,null,null,null,null,null,null,null,false]
[null,null,null,null,null,null,null,null,null,false]
[null,null,null,null,null,null,null,null,null,false]
[null,null,null,null,null,null,null,null,null,false]
[null,null,null,null,null,null,null,null,null,false]
[null,null,null,null,null,null,null,null,null,false]
[null,null,null,null,null,null,null,null,null,false]
[null,null,null,null,null,null,null,null,null,false]
[null,null,null,null,null,null,null,null,null,false]
[null,null,null,null,null,null,null,null,null,false]
[null,null,null,null,null,null,null,null,null,false]
[null,null,null,null,null,null,null,null,null,false]
[null,null,null,null,null,null,null,null,null,false]
[null,null,null,null,null,null,null,null,null,false]
[null,null,null,null,null,null,null,null,null,false]
[null,null,null,null,null,null,null,null,null,false]
[null,null,null,null,null,null,null,null,null,false]
[null,null,null,null,null,null,null,null,null,false]
[null,null,null,null,null,null,null,null,null,false]
[null,null,null,null,null,null,null,null,null,false]
[null,null,null,null,null,null,null,null,null,false]
[null,null,null,null,null,null,null,null,null,false]
[null,null,null,null,null,null,null,null,null,false]
[null,null,null,null,null,null,null,null,null,false]
[null,null,null,null,null,null,null,null,null,false]
[null,null,null,null,null,null,null,null,null,false]
[null,null,null,null,null,null,null,null,null,false]
[null,null,null,null,null,null,null,null,null,false]
[null,null,null,null,null,null,null,null,null,false]
[null,null,null,null,null,null,null,null,null,false]
[null,null,null,null,null,null,null,null,null,false]
[null,null,null,null,null,null,null,null,null,false]
[null,null,null,null,null,null,null,null,null,false]
[null,null,null,null,null,null,null,null,null,false]
[null,null,null,null,null,null,null,null,null,false]
[null,null,null,null,null,null,null,null,null,false]
[null,null,null,null,null,null,null,null,null,false]
[null,null,null,null,null,null,null,null,null,false]
[null,null,null,null,null,null,null,null,null,false]
[null,null,null,null,null,null,null,null,null,false]
[null,null,null,null,null,null,null,null,null,false]
[null,null,null,null,null,null,null,null,null,false]
[null,null,null,null,null,null,null,null,null,false]
[null,null,null,null,null,null,null,null,null,false]
[null,null,null,null,null,null,null,null,null,false]
[null,null,null,null,null,null,null,null,null,false]
[null,null,null,null,null,null,null,null,null,false]
[null,null,null,null,null,null,null,null,null,false]
[null,null,null,null,null,null,null,null,null,false]
[null,null,null,null,null,null,null,null,null,false]
[null,null,null,null,null,null,null,null,null,false]
[null,null,null,null,null,null,null,null,null,false]
[null,null,null,null,null,null,null,null,null,false]
[null,null,null,null,null,null,null,null,null,false]
[null,null,null,null,null,null,null,null,null,false]
[null,null,null,null,null,null,null,null,null,false]
[null,null,null,null,null,null,null,null,null,false]
[null,null,null,null,null,null,null,null,null,false]
[null,null,null,null,null,null,null,null,null,false]
[null,null,null,null,null,null,null,null,null,false]
[null,null,null,null,null,null,null,null,null,false]
[null,null,null,null,null,null,null,null,null,false]
[null,null,null,null,null,null,null,null,null,false]
[null,null,null,null,null,null,null,null,null,false]
[null,null,null,null,null,null,null,null,null,false]
[null,null,null,null,null,null,null,null,null,false]
[null,null,null,null,null,null,null,null,null,false]
[null,null,null,null,null,null,null,null,null,false]
[null,null,null,null,null,null,null,null,null,false]
[null,null,null,null,null,null,null,null,null,false]
[null,null,null,null,null,null,null,null,null,false]
[null,null,null,null,null,null,null,null,null,false]
[null,null,null,null,null,null,null,null,null,false]
[null,null,null,null,null,null,null,null,null,false]
[null,null,null,null,null,null,null,null,null,false]
[null,null,null,null,null,null,null,null,null,false]
[null,null,null,null,null,null,null,null,null,false]
[null,null,null,null,null,null,null,null,null,false]
[null,null,null,null,null,null,null,null,null,false]
[null,null,null,null,null,null,null,null,null,false]
[null,null,null,null,null,null,null,null,null,false]
[null,null,null,null,null,null,null,null,null,false]
[null,null,null,null,null,null,null,null,null,false]
[null,null,null,null,null,null,null,null,null,false]
[null,null,null,null,null,null,null,null,null,false]
[null,null,null,null,null,null,null,null,null,false]
[null,null,null,null,null,null,null,null,null,false]
[null,null,null,null,null,null,null,null,null,false]
[null,null,null,null,null,null,null,null,null,false]
[null,null,null,null,null,null,null,null,null,false]
[null,null,null,null,null,null,null,null,null,false]
[null,null,null,null,null,null,null,null,null,false]
[null,null,null,null,null,null,null,null,null,false]
[null,null,null,null,null,null,null,null,null,false]
[null,null,null,null,null,null,null,null,null,false]
[null,null,null,null,null,null,null,null,null,false]
[null,null,null,null,null,null,null,null,null,false]
[null,null,null,null,null,null,null,null,null,false]
[null,null,null,null,null,null,null,null,null,false]
[null,null,null,null,null,null,null,null,null,false]
[null,null,null,null,null,null,null,null,null,false]
[null,null,null,null,null,null,null,null,null,false]
[null,null,null,null,null,null,null,null,null,false]
[null,null,null,null,null,null,null,null,null,false]
[null,null,null,null,null,null,null,null,null,false]
[null,null,null,null,null,null,null,null,null,false]
[null,null,null,null,null,null,null,null,null,false]
[null,null,null,null,null,null,null,null,null,false]
[null,null,null,null,null,null,null,null,null,false]
[null,null,null,null,null,null,null,null,null,false]
[null,null,null,null,null,null,null,null,null,false]
[null,null,null,null,null,null,null,null,null,false]
[null,null,null,null,null,null,null,null,null,false]
[null,null,null,null,null,null,null,null,null,false]
[null,null,null,null,null,null,null,null,null,false]
[null,null,null,null,null,null,null,null,null,false]
[null,null,null,null,null,null,null,null,null,false]
[null,null,null,null,null,null,null,null,null,false]
[null,null,null,null,null,null,null,null,null,false]
[null,null,null,null,null,null,null,null,null,false]
[null,null,null,null,null,null,null,null,null,false]
[null,null,null,null,null,null,null,null,null,false]
[null,null,null,null,null,null,null,null,null,false]
[null,null,null,null,null,null,null,null,null,false]
[null,null,null,null,null,null,null,null,null,false]
[null,null,null,null,null,null,null,null,null,false]
[null,null,null,null,null,null,null,null,null,false]
[null,null,null,null,null,null,null,null,null,false]
[null,null,null,null,null,null,null,null,null,false]
[null,null,null,null,null,null,null,null,null,false]
[null,null,null,null,null,null,null,null,null,false]
[null,null,null,null,null,null,null,null,null,false]
[null,null,null,null,null,null,null,null,null,false]
[null,null,null,null,null,null,null,null,null,false]
[null,null,null,null,null,null,null,null,null,false]
[null,null,null,null,null,null,null,null,null,false]
[null,null,null,null,null,null,null,null,null,false]
[null,null,null,null,null,null,null,null,null,false]
[null,null,null,null,null,null,null,null,null,false]
[null,null,null,null,null,null,null,null,null,false]
[null,null,null,null,null,null,null,null,null,false]
[null,null,null,null,null,null,null,null,null,false]
[null,null,null,null,null,null,null,null,null,false]
[null,null,null,null,null,null,null,null,null,false]
[null,null,null,null,null,null,null,null,null,false]
[null,null,null,null,null,null,null,null,null,false]
[null,null,null,null,null,null,null,null,null,false]
[null,null,null,null,null,null,null,null,null,false]
[null,null,null,null,null,null,null,null,null,false]
[null,null,null,null,null,null,null,null,null,false]
[null,null,null,null,null,null,null,null,null,false]
[null,null,null,null,null,null,null,null,null,false]
[null,null,null,null,null,null,null,null,null,false]
[null,null,null,null,null,null,null,null,null,false]
[null,null,null,null,null,null,null,null,null,false]
[null,null,null,null,null,null,null,null,null,false]
[null,null,null,null,null,null,null,null,null,false]
[null,null,null,null,null,null,null,null,null,false]
[null,null,null,null,null,null,null,null,null,false]
[null,null,null,null,null,null,null,null,null,false]
[null,null,null,null,null,null,null,null,null,false]
[null,null,null,null,null,null,null,null,null,false]
[null,null,null,null,null,null,null,null,null,false]
[null,null,null,null,null,null,null,null,null,false]
[null,null,null,null,null,null,null,null,null,false]
[null,null,null,null,null,null,null,null,null,false]
[null,null,null,null,null,null,null,null,null,false]
[null,null,null,null,null,null,null,null,null,false]
[null,null,null,null,null,null,null,null,null,false]
[null,null,null,null,null,null,null,null,null,false]
[null,null,null,null,null,null,null,null,null,false]
[null,null,null,null,null,null,null,null,null,false]
[null,null,null,null,null,null,null,null,null,false]
[null,null,null,null,null,null,null,null,null,false]
[null,null,null,null,null,null,null,null,null,false]
[null,null,null,null,null,null,null,null,null,false]
[null,null,null,null,null,null,null,null,null,false]
[null,null,null,null,null,null,null,null,null,false]
[null,null,null,null,null,null,null,null,null,false]
[null,null,null,null,null,null,null,null,null,false]
[null,null,null,null,null,null,null,null,null,false]
[null,null,null,null,null,null,null,null,null,false]
[null,null,null,null,null,null,null,null,null,false]
[null,null,null,null,null,null,null,null,null,false]
[null,null,null,null,null,null,null,null,null,false]
[null,null,null,null,null,null,null,null,null,false]
[null,null,null,null,null,null,null,null,null,false]
[null,null,null,null,null,null,null,null,null,false]
[null,null,null,null,null,null,null,null,null,false]
[null,null,null,null,null,null,null,null,null,false]
[null,null,null,null,null,null,null,null,null,false]
[null,null,null,null,null,null,null,null,null,false]
[null,null,null,null,null,null,null,null,null,false]
[null,null,null,null,null,null,null,null,null,false]
[null,null,null,null,null,null,null,null,null,false]
[null,null,null,null,null,null,null,null,null,false]
[null,null,null,null,null,null,null,null,null,false]
[null,null,null,null,null,null,null,null,null,false]
[null,null,null,null,null,null,null,null,null,false]
[null,null,null,null,null,null,null,null,null,false]
[null,null,null,null,null,null,null,null,null,false]
[null,null,null,null,null,null,null,null,null,false]
[null,null,null,null,null,null,null,null,null,false]
[null,null,null,null,null,null,null,null,null,false]
[null,null,null,null,null,null,null,null,null,false]
[null,null,null,null,null,null,null,null,null,false]
[null,null,null,null,null,null,null,null,null,false]
[null,null,null,null,null,null,null,null,null,false]
[null,null,null,null,null,null,null,null,null,false]
[null,null,null,null,null,null,null,null,null,false]
[null,null,null,null,null,null,null,null,null,false]
[null,null,null,null,null,null,null,null,null,false]
[null,null,null,null,null,null,null,null,null,false]
[null,null,null,null,null,null,null,null,null,false]
[null,null,null,null,null,null,null,null,null,false]
[null,null,null,null,null,null,null,null,null,false]
[null,null,null,null,null,null,null,null,null,false]

{"sheet":"客戶","index":3,"n_rows":5,"n_cols":3,"rows_kept":5,"cut":false,"hidden":false,"merged":[]}
["電話","電話2","地址"]
["TEL1"]
["TEL2"]
["TEL3"]
["現貨"]

{"sheet":"SEND","index":4,"n_rows":6,"n_cols":3,"rows_kept":6,"cut":false,"hidden":false,"merged":[]}
[]
["訂單日期","(全部)"]
["客戶電話","(多重項目)"]
[]
["ITEM","訂購數量","總金額"]
["總計"]

{"sheet":"訂貨","index":5,"n_rows":5,"n_cols":3,"rows_kept":5,"cut":false,"hidden":false,"merged":[]}
["訂單日期","(全部)"]
["狀態","(多重項目)"]
[]
["ITEM","加總 - 數量","總收入"]
["總計"]

{"sheet":"庫存計算","index":6,"n_rows":525,"n_cols":6,"rows_kept":525,"cut":false,"hidden":false,"merged":[]}
["貨源","編號","產品","單價","入貨價","已售數量"]
[{"$f":"表格2[[#This Row],[貨源]]","v":0},{"$f":"表格2[[#This Row],[編號]]","v":"A0001"},{"$f":"表格2[[#This Row],[產品]]","v":"三合一-粉100-"},{"$f":"表格2[[#This Row],[單價]]","v":139},{"$f":"表格2[[#This Row],[入貨價]]","v":0},{"$f":"SUMIF(資料庫!D:D,庫存計算!C2,資料庫!E:E)","v":0}]
[{"$f":"表格2[[#This Row],[貨源]]","v":0},{"$f":"表格2[[#This Row],[編號]]","v":"A0001"},{"$f":"表格2[[#This Row],[產品]]","v":"三合一-粉160-"},{"$f":"表格2[[#This Row],[單價]]","v":139},{"$f":"表格2[[#This Row],[入貨價]]","v":0},{"$f":"SUMIF(資料庫!D:D,庫存計算!C3,資料庫!E:E)","v":0}]
[{"$f":"表格2[[#This Row],[貨源]]","v":0},{"$f":"表格2[[#This Row],[編號]]","v":"A0001"},{"$f":"表格2[[#This Row],[產品]]","v":"三合一-粉80-"},{"$f":"表格2[[#This Row],[單價]]","v":139},{"$f":"表格2[[#This Row],[入貨價]]","v":0},{"$f":"SUMIF(資料庫!D:D,庫存計算!C4,資料庫!E:E)","v":0}]
[{"$f":"表格2[[#This Row],[貨源]]","v":0},{"$f":"表格2[[#This Row],[編號]]","v":"A0001"},{"$f":"表格2[[#This Row],[產品]]","v":"三合一-粉90-"},{"$f":"表格2[[#This Row],[單價]]","v":139},{"$f":"表格2[[#This Row],[入貨價]]","v":0},{"$f":"SUMIF(資料庫!D:D,庫存計算!C5,資料庫!E:E)","v":0}]
[{"$f":"表格2[[#This Row],[貨源]]","v":0},{"$f":"表格2[[#This Row],[編號]]","v":"A0001"},{"$f":"表格2[[#This Row],[產品]]","v":"三合一-橙100-"},{"$f":"表格2[[#This Row],[單價]]","v":139},{"$f":"表格2[[#This Row],[入貨價]]","v":0},{"$f":"SUMIF(資料庫!D:D,庫存計算!C6,資料庫!E:E)","v":0}]
[{"$f":"表格2[[#This Row],[貨源]]","v":0},{"$f":"表格2[[#This Row],[編號]]","v":"A0001"},{"$f":"表格2[[#This Row],[產品]]","v":"三合一-橙110-"},{"$f":"表格2[[#This Row],[單價]]","v":139},{"$f":"表格2[[#This Row],[入貨價]]","v":0},{"$f":"SUMIF(資料庫!D:D,庫存計算!C7,資料庫!E:E)","v":0}]
[{"$f":"表格2[[#This Row],[貨源]]","v":0},{"$f":"表格2[[#This Row],[編號]]","v":"A0001"},{"$f":"表格2[[#This Row],[產品]]","v":"三合一-橙90-"},{"$f":"表格2[[#This Row],[單價]]","v":139},{"$f":"表格2[[#This Row],[入貨價]]","v":0},{"$f":"SUMIF(資料庫!D:D,庫存計算!C8,資料庫!E:E)","v":0}]
[{"$f":"表格2[[#This Row],[貨源]]","v":0},{"$f":"表格2[[#This Row],[編號]]","v":"A0001"},{"$f":"表格2[[#This Row],[產品]]","v":"三合一-藍100-"},{"$f":"表格2[[#This Row],[單價]]","v":139},{"$f":"表格2[[#This Row],[入貨價]]","v":0},{"$f":"SUMIF(資料庫!D:D,庫存計算!C9,資料庫!E:E)","v":0}]
[{"$f":"表格2[[#This Row],[貨源]]","v":0},{"$f":"表格2[[#This Row],[編號]]","v":"A0001"},{"$f":"表格2[[#This Row],[產品]]","v":"三合一-藍160-"},{"$f":"表格2[[#This Row],[單價]]","v":139},{"$f":"表格2[[#This Row],[入貨價]]","v":0},{"$f":"SUMIF(資料庫!D:D,庫存計算!C10,資料庫!E:E)","v":0}]
[{"$f":"表格2[[#This Row],[貨源]]","v":0},{"$f":"表格2[[#This Row],[編號]]","v":"A0001"},{"$f":"表格2[[#This Row],[產品]]","v":"三合一-藍80-"},{"$f":"表格2[[#This Row],[單價]]","v":139},{"$f":"表格2[[#This Row],[入貨價]]","v":0},{"$f":"SUMIF(資料庫!D:D,庫存計算!C11,資料庫!E:E)","v":0}]
[{"$f":"表格2[[#This Row],[貨源]]","v":0},{"$f":"表格2[[#This Row],[編號]]","v":"A0001"},{"$f":"表格2[[#This Row],[產品]]","v":"三合一-藍90-"},{"$f":"表格2[[#This Row],[單價]]","v":139},{"$f":"表格2[[#This Row],[入貨價]]","v":0},{"$f":"SUMIF(資料庫!D:D,庫存計算!C12,資料庫!E:E)","v":0}]
[{"$f":"表格2[[#This Row],[貨源]]","v":0},{"$f":"表格2[[#This Row],[編號]]","v":"A0002"},{"$f":"表格2[[#This Row],[產品]]","v":"小兵-18-24-"},{"$f":"表格2[[#This Row],[單價]]","v":38},{"$f":"表格2[[#This Row],[入貨價]]","v":0},{"$f":"SUMIF(資料庫!D:D,庫存計算!C13,資料庫!E:E)","v":0}]
[{"$f":"表格2[[#This Row],[貨源]]","v":0},{"$f":"表格2[[#This Row],[編號]]","v":"A0003"},{"$f":"表格2[[#This Row],[產品]]","v":"小魔怪-100-"},{"$f":"表格2[[#This Row],[單價]]","v":85},{"$f":"表格2[[#This Row],[入貨價]]","v":0},{"$f":"SUMIF(資料庫!D:D,庫存計算!C14,資料庫!E:E)","v":0}]
[{"$f":"表格2[[#This Row],[貨源]]","v":0},{"$f":"表格2[[#This Row],[編號]]","v":"A0003"},{"$f":"表格2[[#This Row],[產品]]","v":"小魔怪-120-"},{"$f":"表格2[[#This Row],[單價]]","v":85},{"$f":"表格2[[#This Row],[入貨價]]","v":0},{"$f":"SUMIF(資料庫!D:D,庫存計算!C15,資料庫!E:E)","v":0}]
[{"$f":"表格2[[#This Row],[貨源]]","v":0},{"$f":"表格2[[#This Row],[編號]]","v":"A0004"},{"$f":"表格2[[#This Row],[產品]]","v":"毛衛衣-MELODY80-"},{"$f":"表格2[[#This Row],[單價]]","v":69},{"$f":"表格2[[#This Row],[入貨價]]","v":0},{"$f":"SUMIF(資料庫!D:D,庫存計算!C16,資料庫!E:E)","v":0}]
[{"$f":"表格2[[#This Row],[貨源]]","v":0},{"$f":"表格2[[#This Row],[編號]]","v":"A0004"},{"$f":"表格2[[#This Row],[產品]]","v":"毛衛衣-MELODY90-"},{"$f":"表格2[[#This Row],[單價]]","v":0},{"$f":"表格2[[#This Row],[入貨價]]","v":0},{"$f":"SUMIF(資料庫!D:D,庫存計算!C17,資料庫!E:E)","v":0}]
[{"$f":"表格2[[#This Row],[貨源]]","v":0},{"$f":"表格2[[#This Row],[編號]]","v":"A0005"},{"$f":"表格2[[#This Row],[產品]]","v":"水怪滿印set-90-"},{"$f":"表格2[[#This Row],[單價]]","v":75},{"$f":"表格2[[#This Row],[入貨價]]","v":0},{"$f":"SUMIF(資料庫!D:D,庫存計算!C18,資料庫!E:E)","v":0}]
[{"$f":"表格2[[#This Row],[貨源]]","v":0},{"$f":"表格2[[#This Row],[編號]]","v":"A0006"},{"$f":"表格2[[#This Row],[產品]]","v":"印章--"},{"$f":"表格2[[#This Row],[單價]]","v":65},{"$f":"表格2[[#This Row],[入貨價]]","v":0},{"$f":"SUMIF(資料庫!D:D,庫存計算!C19,資料庫!E:E)","v":0}]
[{"$f":"表格2[[#This Row],[貨源]]","v":0},{"$f":"表格2[[#This Row],[編號]]","v":"A0007"},{"$f":"表格2[[#This Row],[產品]]","v":"吊帶褲-水110-"},{"$f":"表格2[[#This Row],[單價]]","v":79},{"$f":"表格2[[#This Row],[入貨價]]","v":0},{"$f":"SUMIF(資料庫!D:D,庫存計算!C20,資料庫!E:E)","v":0}]
[{"$f":"表格2[[#This Row],[貨源]]","v":0},{"$f":"表格2[[#This Row],[編號]]","v":"A0007"},{"$f":"表格2[[#This Row],[產品]]","v":"吊帶褲-水90-"},{"$f":"表格2[[#This Row],[單價]]","v":79},{"$f":"表格2[[#This Row],[入貨價]]","v":0},{"$f":"SUMIF(資料庫!D:D,庫存計算!C21,資料庫!E:E)","v":0}]
[{"$f":"表格2[[#This Row],[貨源]]","v":0},{"$f":"表格2[[#This Row],[編號]]","v":"A0007"},{"$f":"表格2[[#This Row],[產品]]","v":"吊帶褲-HT90-"},{"$f":"表格2[[#This Row],[單價]]","v":79},{"$f":"表格2[[#This Row],[入貨價]]","v":0},{"$f":"SUMIF(資料庫!D:D,庫存計算!C22,資料庫!E:E)","v":0}]
[{"$f":"表格2[[#This Row],[貨源]]","v":0},{"$f":"表格2[[#This Row],[編號]]","v":"A0008"},{"$f":"表格2[[#This Row],[產品]]","v":"安撫巾-水-"},{"$f":"表格2[[#This Row],[單價]]","v":0},{"$f":"表格2[[#This Row],[入貨價]]","v":0},{"$f":"SUMIF(資料庫!D:D,庫存計算!C23,資料庫!E:E)","v":0}]
[{"$f":"表格2[[#This Row],[貨源]]","v":0},{"$f":"表格2[[#This Row],[編號]]","v":"A0008"},{"$f":"表格2[[#This Row],[產品]]","v":"安撫巾-玉-"},{"$f":"表格2[[#This Row],[單價]]","v":0},{"$f":"表格2[[#This Row],[入貨價]]","v":0},{"$f":"SUMIF(資料庫!D:D,庫存計算!C24,資料庫!E:E)","v":0}]
[{"$f":"表格2[[#This Row],[貨源]]","v":0},{"$f":"表格2[[#This Row],[編號]]","v":"A0008"},{"$f":"表格2[[#This Row],[產品]]","v":"安撫巾-KU-"},{"$f":"表格2[[#This Row],[單價]]","v":0},{"$f":"表格2[[#This Row],[入貨價]]","v":0},{"$f":"SUMIF(資料庫!D:D,庫存計算!C25,資料庫!E:E)","v":0}]
[{"$f":"表格2[[#This Row],[貨源]]","v":0},{"$f":"表格2[[#This Row],[編號]]","v":"A0009"},{"$f":"表格2[[#This Row],[產品]]","v":"冷衫-白90-"},{"$f":"表格2[[#This Row],[單價]]","v":0},{"$f":"表格2[[#This Row],[入貨價]]","v":0},{"$f":"SUMIF(資料庫!D:D,庫存計算!C26,資料庫!E:E)","v":0}]
[{"$f":"表格2[[#This Row],[貨源]]","v":0},{"$f":"表格2[[#This Row],[編號]]","v":"A0009"},{"$f":"表格2[[#This Row],[產品]]","v":"冷衫-粉90-"},{"$f":"表格2[[#This Row],[單價]]","v":0},{"$f":"表格2[[#This Row],[入貨價]]","v":0},{"$f":"SUMIF(資料庫!D:D,庫存計算!C27,資料庫!E:E)","v":0}]
[{"$f":"表格2[[#This Row],[貨源]]","v":0},{"$f":"表格2[[#This Row],[編號]]","v":"A0010"},{"$f":"表格2[[#This Row],[產品]]","v":"冷衫-白-90-"},{"$f":"表格2[[#This Row],[單價]]","v":0},{"$f":"表格2[[#This Row],[入貨價]]","v":0},{"$f":"SUMIF(資料庫!D:D,庫存計算!C28,資料庫!E:E)","v":0}]
[{"$f":"表格2[[#This Row],[貨源]]","v":0},{"$f":"表格2[[#This Row],[編號]]","v":"A0011"},{"$f":"表格2[[#This Row],[產品]]","v":"冷衫-啡-90-"},{"$f":"表格2[[#This Row],[單價]]","v":0},{"$f":"表格2[[#This Row],[入貨價]]","v":0},{"$f":"SUMIF(資料庫!D:D,庫存計算!C29,資料庫!E:E)","v":0}]
[{"$f":"表格2[[#This Row],[貨源]]","v":0},{"$f":"表格2[[#This Row],[編號]]","v":"A0012"},{"$f":"表格2[[#This Row],[產品]]","v":"和服-粉90-"},{"$f":"表格2[[#This Row],[單價]]","v":0},{"$f":"表格2[[#This Row],[入貨價]]","v":0},{"$f":"SUMIF(資料庫!D:D,庫存計算!C30,資料庫!E:E)","v":0}]
[{"$f":"表格2[[#This Row],[貨源]]","v":0},{"$f":"表格2[[#This Row],[編號]]","v":"A0013"},{"$f":"表格2[[#This Row],[產品]]","v":"姓名貼--"},{"$f":"表格2[[#This Row],[單價]]","v":0},{"$f":"表格2[[#This Row],[入貨價]]","v":0},{"$f":"SUMIF(資料庫!D:D,庫存計算!C31,資料庫!E:E)","v":0}]
[{"$f":"表格2[[#This Row],[貨源]]","v":0},{"$f":"表格2[[#This Row],[編號]]","v":"A0014"},{"$f":"表格2[[#This Row],[產品]]","v":"知母時--"},{"$f":"表格2[[#This Row],[單價]]","v":0},{"$f":"表格2[[#This Row],[入貨價]]","v":0},{"$f":"SUMIF(資料庫!D:D,庫存計算!C32,資料庫!E:E)","v":0}]
[{"$f":"表格2[[#This Row],[貨源]]","v":0},{"$f":"表格2[[#This Row],[編號]]","v":"A0015"},{"$f":"表格2[[#This Row],[產品]]","v":"花邊冷衫-白90-"},{"$f":"表格2[[#This Row],[單價]]","v":0},{"$f":"表格2[[#This Row],[入貨價]]","v":0},{"$f":"SUMIF(資料庫!D:D,庫存計算!C33,資料庫!E:E)","v":0}]
[{"$f":"表格2[[#This Row],[貨源]]","v":0},{"$f":"表格2[[#This Row],[編號]]","v":"A0015"},{"$f":"表格2[[#This Row],[產品]]","v":"花邊冷衫-粉100-"},{"$f":"表格2[[#This Row],[單價]]","v":0},{"$f":"表格2[[#This Row],[入貨價]]","v":0},{"$f":"SUMIF(資料庫!D:D,庫存計算!C34,資料庫!E:E)","v":0}]
[{"$f":"表格2[[#This Row],[貨源]]","v":0},{"$f":"表格2[[#This Row],[編號]]","v":"A0015"},{"$f":"表格2[[#This Row],[產品]]","v":"花邊冷衫-粉90-"},{"$f":"表格2[[#This Row],[單價]]","v":0},{"$f":"表格2[[#This Row],[入貨價]]","v":0},{"$f":"SUMIF(資料庫!D:D,庫存計算!C35,資料庫!E:E)","v":0}]
[{"$f":"表格2[[#This Row],[貨源]]","v":0},{"$f":"表格2[[#This Row],[編號]]","v":"A0016"},{"$f":"表格2[[#This Row],[產品]]","v":"星月亮水手-衛衣-灰90-"},{"$f":"表格2[[#This Row],[單價]]","v":0},{"$f":"表格2[[#This Row],[入貨價]]","v":0},{"$f":"SUMIF(資料庫!D:D,庫存計算!C36,資料庫!E:E)","v":0}]
[{"$f":"表格2[[#This Row],[貨源]]","v":0},{"$f":"表格2[[#This Row],[編號]]","v":"A0016"},{"$f":"表格2[[#This Row],[產品]]","v":"星月亮水手-衛衣-藍90-"},{"$f":"表格2[[#This Row],[單價]]","v":0},{"$f":"表格2[[#This Row],[入貨價]]","v":0},{"$f":"SUMIF(資料庫!D:D,庫存計算!C37,資料庫!E:E)","v":0}]
[{"$f":"表格2[[#This Row],[貨源]]","v":0},{"$f":"表格2[[#This Row],[編號]]","v":"A0017"},{"$f":"表格2[[#This Row],[產品]]","v":"星月亮水手-PAT-藍100-"},{"$f":"表格2[[#This Row],[單價]]","v":0},{"$f":"表格2[[#This Row],[入貨價]]","v":0},{"$f":"SUMIF(資料庫!D:D,庫存計算!C38,資料庫!E:E)","v":0}]
[{"$f":"表格2[[#This Row],[貨源]]","v":0},{"$f":"表格2[[#This Row],[編號]]","v":"A0018"},{"$f":"表格2[[#This Row],[產品]]","v":"秋褲2條裝-A-90-"},{"$f":"表格2[[#This Row],[單價]]","v":0},{"$f":"表格2[[#This Row],[入貨價]]","v":0},{"$f":"SUMIF(資料庫!D:D,庫存計算!C39,資料庫!E:E)","v":0}]
[{"$f":"表格2[[#This Row],[貨源]]","v":0},{"$f":"表格2[[#This Row],[編號]]","v":"A0019"},{"$f":"表格2[[#This Row],[產品]]","v":"面包超人袋--"},{"$f":"表格2[[#This Row],[單價]]","v":0},{"$f":"表格2[[#This Row],[入貨價]]","v":0},{"$f":"SUMIF(資料庫!D:D,庫存計算!C40,資料庫!E:E)","v":0}]
[{"$f":"表格2[[#This Row],[貨源]]","v":0},{"$f":"表格2[[#This Row],[編號]]","v":"A0020"},{"$f":"表格2[[#This Row],[產品]]","v":"唐老鴨背包--"},{"$f":"表格2[[#This Row],[單價]]","v":0},{"$f":"表格2[[#This Row],[入貨價]]","v":0},{"$f":"SUMIF(資料庫!D:D,庫存計算!C41,資料庫!E:E)","v":0}]
[{"$f":"表格2[[#This Row],[貨源]]","v":0},{"$f":"表格2[[#This Row],[編號]]","v":"A0021"},{"$f":"表格2[[#This Row],[產品]]","v":"唐老鴨連身-66-"},{"$f":"表格2[[#This Row],[單價]]","v":0},{"$f":"表格2[[#This Row],[入貨價]]","v":0},{"$f":"SUMIF(資料庫!D:D,庫存計算!C42,資料庫!E:E)","v":0}]
[{"$f":"表格2[[#This Row],[貨源]]","v":0},{"$f":"表格2[[#This Row],[編號]]","v":"A0021"},{"$f":"表格2[[#This Row],[產品]]","v":"唐老鴨連身-73-"},{"$f":"表格2[[#This Row],[單價]]","v":0},{"$f":"表格2[[#This Row],[入貨價]]","v":0},{"$f":"SUMIF(資料庫!D:D,庫存計算!C43,資料庫!E:E)","v":0}]
[{"$f":"表格2[[#This Row],[貨源]]","v":0},{"$f":"表格2[[#This Row],[編號]]","v":"A0021"},{"$f":"表格2[[#This Row],[產品]]","v":"唐老鴨連身-80-"},{"$f":"表格2[[#This Row],[單價]]","v":0},{"$f":"表格2[[#This Row],[入貨價]]","v":0},{"$f":"SUMIF(資料庫!D:D,庫存計算!C44,資料庫!E:E)","v":0}]
[{"$f":"表格2[[#This Row],[貨源]]","v":0},{"$f":"表格2[[#This Row],[編號]]","v":"A0021"},{"$f":"表格2[[#This Row],[產品]]","v":"唐老鴨連身-90-"},{"$f":"表格2[[#This Row],[單價]]","v":0},{"$f":"表格2[[#This Row],[入貨價]]","v":0},{"$f":"SUMIF(資料庫!D:D,庫存計算!C45,資料庫!E:E)","v":0}]
[{"$f":"表格2[[#This Row],[貨源]]","v":0},{"$f":"表格2[[#This Row],[編號]]","v":"A0021"},{"$f":"表格2[[#This Row],[產品]]","v":"唐老鴨連身-100-"},{"$f":"表格2[[#This Row],[單價]]","v":0},{"$f":"表格2[[#This Row],[入貨價]]","v":0},{"$f":"SUMIF(資料庫!D:D,庫存計算!C46,資料庫!E:E)","v":0}]
[{"$f":"表格2[[#This Row],[貨源]]","v":0},{"$f":"表格2[[#This Row],[編號]]","v":"A0022"},{"$f":"表格2[[#This Row],[產品]]","v":"現-牛仔花花裙-90-"},{"$f":"表格2[[#This Row],[單價]]","v":0},{"$f":"表格2[[#This Row],[入貨價]]","v":0},{"$f":"SUMIF(資料庫!D:D,庫存計算!C47,資料庫!E:E)","v":0}]
[{"$f":"表格2[[#This Row],[貨源]]","v":0},{"$f":"表格2[[#This Row],[編號]]","v":"A0023"},{"$f":"表格2[[#This Row],[產品]]","v":"現-淺藍史迪仔aloha-3-6-"},{"$f":"表格2[[#This Row],[單價]]","v":0},{"$f":"表格2[[#This Row],[入貨價]]","v":0},{"$f":"SUMIF(資料庫!D:D,庫存計算!C48,資料庫!E:E)","v":0}]
[{"$f":"表格2[[#This Row],[貨源]]","v":0},{"$f":"表格2[[#This Row],[編號]]","v":"A0024"},{"$f":"表格2[[#This Row],[產品]]","v":"現-綠龍長袖-90--"},{"$f":"表格2[[#This Row],[單價]]","v":0},{"$f":"表格2[[#This Row],[入貨價]]","v":0},{"$f":"SUMIF(資料庫!D:D,庫存計算!C49,資料庫!E:E)","v":0}]
[{"$f":"表格2[[#This Row],[貨源]]","v":0},{"$f":"表格2[[#This Row],[編號]]","v":"A0025"},{"$f":"表格2[[#This Row],[產品]]","v":"現-george-滿印littlemonkey-白-95-"},{"$f":"表格2[[#This Row],[單價]]","v":0},{"$f":"表格2[[#This Row],[入貨價]]","v":0},{"$f":"SUMIF(資料庫!D:D,庫存計算!C50,資料庫!E:E)","v":0}]
[{"$f":"表格2[[#This Row],[貨源]]","v":0},{"$f":"表格2[[#This Row],[編號]]","v":"A0026"},{"$f":"表格2[[#This Row],[產品]]","v":"單眼仔-包80-"},{"$f":"表格2[[#This Row],[單價]]","v":0},{"$f":"表格2[[#This Row],[入貨價]]","v":0},{"$f":"SUMIF(資料庫!D:D,庫存計算!C51,資料庫!E:E)","v":0}]
[{"$f":"表格2[[#This Row],[貨源]]","v":0},{"$f":"表格2[[#This Row],[編號]]","v":"A0026"},{"$f":"表格2[[#This Row],[產品]]","v":"單眼仔-衛100-"},{"$f":"表格2[[#This Row],[單價]]","v":0},{"$f":"表格2[[#This Row],[入貨價]]","v":0},{"$f":"SUMIF(資料庫!D:D,庫存計算!C52,資料庫!E:E)","v":0}]
[{"$f":"表格2[[#This Row],[貨源]]","v":0},{"$f":"表格2[[#This Row],[編號]]","v":"A0026"},{"$f":"表格2[[#This Row],[產品]]","v":"單眼仔-衛130-"},{"$f":"表格2[[#This Row],[單價]]","v":0},{"$f":"表格2[[#This Row],[入貨價]]","v":0},{"$f":"SUMIF(資料庫!D:D,庫存計算!C53,資料庫!E:E)","v":0}]
[{"$f":"表格2[[#This Row],[貨源]]","v":0},{"$f":"表格2[[#This Row],[編號]]","v":"A0027"},{"$f":"表格2[[#This Row],[產品]]","v":"間條連身-青90-"},{"$f":"表格2[[#This Row],[單價]]","v":0},{"$f":"表格2[[#This Row],[入貨價]]","v":0},{"$f":"SUMIF(資料庫!D:D,庫存計算!C54,資料庫!E:E)","v":0}]
[{"$f":"表格2[[#This Row],[貨源]]","v":0},{"$f":"表格2[[#This Row],[編號]]","v":"A0027"},{"$f":"表格2[[#This Row],[產品]]","v":"間條連身-MELODY90-"},{"$f":"表格2[[#This Row],[單價]]","v":0},{"$f":"表格2[[#This Row],[入貨價]]","v":0},{"$f":"SUMIF(資料庫!D:D,庫存計算!C55,資料庫!E:E)","v":0}]
[{"$f":"表格2[[#This Row],[貨源]]","v":0},{"$f":"表格2[[#This Row],[編號]]","v":"A0028"},{"$f":"表格2[[#This Row],[產品]]","v":"獅子外套-90-"},{"$f":"表格2[[#This Row],[單價]]","v":0},{"$f":"表格2[[#This Row],[入貨價]]","v":0},{"$f":"SUMIF(資料庫!D:D,庫存計算!C56,資料庫!E:E)","v":0}]
[{"$f":"表格2[[#This Row],[貨源]]","v":0},{"$f":"表格2[[#This Row],[編號]]","v":"A0028"},{"$f":"表格2[[#This Row],[產品]]","v":"獅子外套-100-"},{"$f":"表格2[[#This Row],[單價]]","v":0},{"$f":"表格2[[#This Row],[入貨價]]","v":0},{"$f":"SUMIF(資料庫!D:D,庫存計算!C57,資料庫!E:E)","v":0}]
[{"$f":"表格2[[#This Row],[貨源]]","v":0},{"$f":"表格2[[#This Row],[編號]]","v":"A0029"},{"$f":"表格2[[#This Row],[產品]]","v":"獅子褲-90-"},{"$f":"表格2[[#This Row],[單價]]","v":0},{"$f":"表格2[[#This Row],[入貨價]]","v":0},{"$f":"SUMIF(資料庫!D:D,庫存計算!C58,資料庫!E:E)","v":0}]
[{"$f":"表格2[[#This Row],[貨源]]","v":0},{"$f":"表格2[[#This Row],[編號]]","v":"A0029"},{"$f":"表格2[[#This Row],[產品]]","v":"獅子褲-100-"},{"$f":"表格2[[#This Row],[單價]]","v":0},{"$f":"表格2[[#This Row],[入貨價]]","v":0},{"$f":"SUMIF(資料庫!D:D,庫存計算!C59,資料庫!E:E)","v":0}]
[{"$f":"表格2[[#This Row],[貨源]]","v":0},{"$f":"表格2[[#This Row],[編號]]","v":"A0030"},{"$f":"表格2[[#This Row],[產品]]","v":"睡衣SET B-90-"},{"$f":"表格2[[#This Row],[單價]]","v":0},{"$f":"表格2[[#This Row],[入貨價]]","v":0},{"$f":"SUMIF(資料庫!D:D,庫存計算!C60,資料庫!E:E)","v":0}]
[{"$f":"表格2[[#This Row],[貨源]]","v":0},{"$f":"表格2[[#This Row],[編號]]","v":"A0031"},{"$f":"表格2[[#This Row],[產品]]","v":"碎花衫-100-"},{"$f":"表格2[[#This Row],[單價]]","v":0},{"$f":"表格2[[#This Row],[入貨價]]","v":0},{"$f":"SUMIF(資料庫!D:D,庫存計算!C61,資料庫!E:E)","v":0}]
[{"$f":"表格2[[#This Row],[貨源]]","v":0},{"$f":"表格2[[#This Row],[編號]]","v":"A0032"},{"$f":"表格2[[#This Row],[產品]]","v":"聖誕老人連身-70-"},{"$f":"表格2[[#This Row],[單價]]","v":0},{"$f":"表格2[[#This Row],[入貨價]]","v":0},{"$f":"SUMIF(資料庫!D:D,庫存計算!C62,資料庫!E:E)","v":0}]
[{"$f":"表格2[[#This Row],[貨源]]","v":0},{"$f":"表格2[[#This Row],[編號]]","v":"A0033"},{"$f":"表格2[[#This Row],[產品]]","v":"聖誕老人裙-100-"},{"$f":"表格2[[#This Row],[單價]]","v":0},{"$f":"表格2[[#This Row],[入貨價]]","v":0},{"$f":"SUMIF(資料庫!D:D,庫存計算!C63,資料庫!E:E)","v":0}]
[{"$f":"表格2[[#This Row],[貨源]]","v":0},{"$f":"表格2[[#This Row],[編號]]","v":"A0034"},{"$f":"表格2[[#This Row],[產品]]","v":"聖誕鹿-80-"},{"$f":"表格2[[#This Row],[單價]]","v":0},{"$f":"表格2[[#This Row],[入貨價]]","v":0},{"$f":"SUMIF(資料庫!D:D,庫存計算!C64,資料庫!E:E)","v":0}]
[{"$f":"表格2[[#This Row],[貨源]]","v":0},{"$f":"表格2[[#This Row],[編號]]","v":"A0034"},{"$f":"表格2[[#This Row],[產品]]","v":"聖誕鹿-90-"},{"$f":"表格2[[#This Row],[單價]]","v":0},{"$f":"表格2[[#This Row],[入貨價]]","v":0},{"$f":"SUMIF(資料庫!D:D,庫存計算!C65,資料庫!E:E)","v":0}]
[{"$f":"表格2[[#This Row],[貨源]]","v":0},{"$f":"表格2[[#This Row],[編號]]","v":"A0034"},{"$f":"表格2[[#This Row],[產品]]","v":"聖誕鹿-100-"},{"$f":"表格2[[#This Row],[單價]]","v":0},{"$f":"表格2[[#This Row],[入貨價]]","v":0},{"$f":"SUMIF(資料庫!D:D,庫存計算!C66,資料庫!E:E)","v":0}]
[{"$f":"表格2[[#This Row],[貨源]]","v":0},{"$f":"表格2[[#This Row],[編號]]","v":"A0034"},{"$f":"表格2[[#This Row],[產品]]","v":"聖誕鹿-120-"},{"$f":"表格2[[#This Row],[單價]]","v":0},{"$f":"表格2[[#This Row],[入貨價]]","v":0},{"$f":"SUMIF(資料庫!D:D,庫存計算!C67,資料庫!E:E)","v":0}]
[{"$f":"表格2[[#This Row],[貨源]]","v":0},{"$f":"表格2[[#This Row],[編號]]","v":"A0035"},{"$f":"表格2[[#This Row],[產品]]","v":"聖誕樹-80-"},{"$f":"表格2[[#This Row],[單價]]","v":0},{"$f":"表格2[[#This Row],[入貨價]]","v":0},{"$f":"SUMIF(資料庫!D:D,庫存計算!C68,資料庫!E:E)","v":0}]
[{"$f":"表格2[[#This Row],[貨源]]","v":0},{"$f":"表格2[[#This Row],[編號]]","v":"A0035"},{"$f":"表格2[[#This Row],[產品]]","v":"聖誕樹-90-"},{"$f":"表格2[[#This Row],[單價]]","v":0},{"$f":"表格2[[#This Row],[入貨價]]","v":0},{"$f":"SUMIF(資料庫!D:D,庫存計算!C69,資料庫!E:E)","v":0}]
[{"$f":"表格2[[#This Row],[貨源]]","v":0},{"$f":"表格2[[#This Row],[編號]]","v":"A0035"},{"$f":"表格2[[#This Row],[產品]]","v":"聖誕樹-100-"},{"$f":"表格2[[#This Row],[單價]]","v":0},{"$f":"表格2[[#This Row],[入貨價]]","v":0},{"$f":"SUMIF(資料庫!D:D,庫存計算!C70,資料庫!E:E)","v":0}]
[{"$f":"表格2[[#This Row],[貨源]]","v":0},{"$f":"表格2[[#This Row],[編號]]","v":"A0036"},{"$f":"表格2[[#This Row],[產品]]","v":"滿印熊-衛-白100-"},{"$f":"表格2[[#This Row],[單價]]","v":0},{"$f":"表格2[[#This Row],[入貨價]]","v":0},{"$f":"SUMIF(資料庫!D:D,庫存計算!C71,資料庫!E:E)","v":0}]
[{"$f":"表格2[[#This Row],[貨源]]","v":0},{"$f":"表格2[[#This Row],[編號]]","v":"A0037"},{"$f":"表格2[[#This Row],[產品]]","v":"滿印熊-PAT-白100-"},{"$f":"表格2[[#This Row],[單價]]","v":0},{"$f":"表格2[[#This Row],[入貨價]]","v":0},{"$f":"SUMIF(資料庫!D:D,庫存計算!C72,資料庫!E:E)","v":0}]
[{"$f":"表格2[[#This Row],[貨源]]","v":0},{"$f":"表格2[[#This Row],[編號]]","v":"A0037"},{"$f":"表格2[[#This Row],[產品]]","v":"滿印熊-PAT-啡80-"},{"$f":"表格2[[#This Row],[單價]]","v":0},{"$f":"表格2[[#This Row],[入貨價]]","v":0},{"$f":"SUMIF(資料庫!D:D,庫存計算!C73,資料庫!E:E)","v":0}]
[{"$f":"表格2[[#This Row],[貨源]]","v":0},{"$f":"表格2[[#This Row],[編號]]","v":"A0038"},{"$f":"表格2[[#This Row],[產品]]","v":"福袋B-110-"},{"$f":"表格2[[#This Row],[單價]]","v":0},{"$f":"表格2[[#This Row],[入貨價]]","v":0},{"$f":"SUMIF(資料庫!D:D,庫存計算!C74,資料庫!E:E)","v":0}]
[{"$f":"表格2[[#This Row],[貨源]]","v":0},{"$f":"表格2[[#This Row],[編號]]","v":"A0038"},{"$f":"表格2[[#This Row],[產品]]","v":"福袋D-90-"},{"$f":"表格2[[#This Row],[單價]]","v":0},{"$f":"表格2[[#This Row],[入貨價]]","v":0},{"$f":"SUMIF(資料庫!D:D,庫存計算!C75,資料庫!E:E)","v":0}]
[{"$f":"表格2[[#This Row],[貨源]]","v":0},{"$f":"表格2[[#This Row],[編號]]","v":"A0038"},{"$f":"表格2[[#This Row],[產品]]","v":"福袋D-140-"},{"$f":"表格2[[#This Row],[單價]]","v":0},{"$f":"表格2[[#This Row],[入貨價]]","v":0},{"$f":"SUMIF(資料庫!D:D,庫存計算!C76,資料庫!E:E)","v":0}]
[{"$f":"表格2[[#This Row],[貨源]]","v":0},{"$f":"表格2[[#This Row],[編號]]","v":"A0039"},{"$f":"表格2[[#This Row],[產品]]","v":"綠仙子SET-90-"},{"$f":"表格2[[#This Row],[單價]]","v":0},{"$f":"表格2[[#This Row],[入貨價]]","v":0},{"$f":"SUMIF(資料庫!D:D,庫存計算!C77,資料庫!E:E)","v":0}]
[{"$f":"表格2[[#This Row],[貨源]]","v":0},{"$f":"表格2[[#This Row],[編號]]","v":"A0040"},{"$f":"表格2[[#This Row],[產品]]","v":"豬仔-包70-"},{"$f":"表格2[[#This Row],[單價]]","v":0},{"$f":"表格2[[#This Row],[入貨價]]","v":0},{"$f":"SUMIF(資料庫!D:D,庫存計算!C78,資料庫!E:E)","v":0}]
[{"$f":"表格2[[#This Row],[貨源]]","v":0},{"$f":"表格2[[#This Row],[編號]]","v":"A0040"},{"$f":"表格2[[#This Row],[產品]]","v":"豬仔-衛90-"},{"$f":"表格2[[#This Row],[單價]]","v":0},{"$f":"表格2[[#This Row],[入貨價]]","v":0},{"$f":"SUMIF(資料庫!D:D,庫存計算!C79,資料庫!E:E)","v":0}]
[{"$f":"表格2[[#This Row],[貨源]]","v":0},{"$f":"表格2[[#This Row],[編號]]","v":"A0041"},{"$f":"表格2[[#This Row],[產品]]","v":"豬仔連身-80-"},{"$f":"表格2[[#This Row],[單價]]","v":0},{"$f":"表格2[[#This Row],[入貨價]]","v":0},{"$f":"SUMIF(資料庫!D:D,庫存計算!C80,資料庫!E:E)","v":0}]
[{"$f":"表格2[[#This Row],[貨源]]","v":0},{"$f":"表格2[[#This Row],[編號]]","v":"A0041"},{"$f":"表格2[[#This Row],[產品]]","v":"豬仔連身-90-"},{"$f":"表格2[[#This Row],[單價]]","v":0},{"$f":"表格2[[#This Row],[入貨價]]","v":0},{"$f":"SUMIF(資料庫!D:D,庫存計算!C81,資料庫!E:E)","v":0}]
[{"$f":"表格2[[#This Row],[貨源]]","v":0},{"$f":"表格2[[#This Row],[編號]]","v":"A0042"},{"$f":"表格2[[#This Row],[產品]]","v":"褲-啡100-"},{"$f":"表格2[[#This Row],[單價]]","v":0},{"$f":"表格2[[#This Row],[入貨價]]","v":0},{"$f":"SUMIF(資料庫!D:D,庫存計算!C82,資料庫!E:E)","v":0}]
[{"$f":"表格2[[#This Row],[貨源]]","v":0},{"$f":"表格2[[#This Row],[編號]]","v":"A0043"},{"$f":"表格2[[#This Row],[產品]]","v":"頸巾-兔-"},{"$f":"表格2[[#This Row],[單價]]","v":0},{"$f":"表格2[[#This Row],[入貨價]]","v":0},{"$f":"SUMIF(資料庫!D:D,庫存計算!C83,資料庫!E:E)","v":0}]
[{"$f":"表格2[[#This Row],[貨源]]","v":0},{"$f":"表格2[[#This Row],[編號]]","v":"A0043"},{"$f":"表格2[[#This Row],[產品]]","v":"頸巾-熊-"},{"$f":"表格2[[#This Row],[單價]]","v":0},{"$f":"表格2[[#This Row],[入貨價]]","v":0},{"$f":"SUMIF(資料庫!D:D,庫存計算!C84,資料庫!E:E)","v":0}]
[{"$f":"表格2[[#This Row],[貨源]]","v":0},{"$f":"表格2[[#This Row],[編號]]","v":"A0044"},{"$f":"表格2[[#This Row],[產品]]","v":"點點筆--"},{"$f":"表格2[[#This Row],[單價]]","v":0},{"$f":"表格2[[#This Row],[入貨價]]","v":0},{"$f":"SUMIF(資料庫!D:D,庫存計算!C85,資料庫!E:E)","v":0}]
[{"$f":"表格2[[#This Row],[貨源]]","v":0},{"$f":"表格2[[#This Row],[編號]]","v":"A0045"},{"$f":"表格2[[#This Row],[產品]]","v":"蠟筆--"},{"$f":"表格2[[#This Row],[單價]]","v":0},{"$f":"表格2[[#This Row],[入貨價]]","v":0},{"$f":"SUMIF(資料庫!D:D,庫存計算!C86,資料庫!E:E)","v":0}]
[{"$f":"表格2[[#This Row],[貨源]]","v":0},{"$f":"表格2[[#This Row],[編號]]","v":"A0046"},{"$f":"表格2[[#This Row],[產品]]","v":"bb 防曬lotion--"},{"$f":"表格2[[#This Row],[單價]]","v":0},{"$f":"表格2[[#This Row],[入貨價]]","v":0},{"$f":"SUMIF(資料庫!D:D,庫存計算!C87,資料庫!E:E)","v":0}]
[{"$f":"表格2[[#This Row],[貨源]]","v":0},{"$f":"表格2[[#This Row],[編號]]","v":"A0047"},{"$f":"表格2[[#This Row],[產品]]","v":"BEAR BEAR 冷衫-100-"},{"$f":"表格2[[#This Row],[單價]]","v":0},{"$f":"表格2[[#This Row],[入貨價]]","v":0},{"$f":"SUMIF(資料庫!D:D,庫存計算!C88,資料庫!E:E)","v":0}]
[{"$f":"表格2[[#This Row],[貨源]]","v":0},{"$f":"表格2[[#This Row],[編號]]","v":"A0047"},{"$f":"表格2[[#This Row],[產品]]","v":"BEAR BEAR 冷衫-110-"},{"$f":"表格2[[#This Row],[單價]]","v":0},{"$f":"表格2[[#This Row],[入貨價]]","v":0},{"$f":"SUMIF(資料庫!D:D,庫存計算!C89,資料庫!E:E)","v":0}]
[{"$f":"表格2[[#This Row],[貨源]]","v":0},{"$f":"表格2[[#This Row],[編號]]","v":"A0048"},{"$f":"表格2[[#This Row],[產品]]","v":"BEAR BEAR 直間-110-"},{"$f":"表格2[[#This Row],[單價]]","v":0},{"$f":"表格2[[#This Row],[入貨價]]","v":0},{"$f":"SUMIF(資料庫!D:D,庫存計算!C90,資料庫!E:E)","v":0}]
[{"$f":"表格2[[#This Row],[貨源]]","v":0},{"$f":"表格2[[#This Row],[編號]]","v":"A0049"},{"$f":"表格2[[#This Row],[產品]]","v":"BEAR BEAR 風嬲-110-"},{"$f":"表格2[[#This Row],[單價]]","v":0},{"$f":"表格2[[#This Row],[入貨價]]","v":0},{"$f":"SUMIF(資料庫!D:D,庫存計算!C91,資料庫!E:E)","v":0}]
[{"$f":"表格2[[#This Row],[貨源]]","v":0},{"$f":"表格2[[#This Row],[編號]]","v":"A0049"},{"$f":"表格2[[#This Row],[產品]]","v":"BEAR BEAR 風嬲-120-"},{"$f":"表格2[[#This Row],[單價]]","v":0},{"$f":"表格2[[#This Row],[入貨價]]","v":0},{"$f":"SUMIF(資料庫!D:D,庫存計算!C92,資料庫!E:E)","v":0}]
[{"$f":"表格2[[#This Row],[貨源]]","v":0},{"$f":"表格2[[#This Row],[編號]]","v":"A0050"},{"$f":"表格2[[#This Row],[產品]]","v":"CARE BEAR 毛毛衛衣-白90-"},{"$f":"表格2[[#This Row],[單價]]","v":0},{"$f":"表格2[[#This Row],[入貨價]]","v":0},{"$f":"SUMIF(資料庫!D:D,庫存計算!C93,資料庫!E:E)","v":0}]
[{"$f":"表格2[[#This Row],[貨源]]","v":0},{"$f":"表格2[[#This Row],[編號]]","v":"A0051"},{"$f":"表格2[[#This Row],[產品]]","v":"CARE BEAR 家居親子裝-粉90-"},{"$f":"表格2[[#This Row],[單價]]","v":0},{"$f":"表格2[[#This Row],[入貨價]]","v":0},{"$f":"SUMIF(資料庫!D:D,庫存計算!C94,資料庫!E:E)","v":0}]
[{"$f":"表格2[[#This Row],[貨源]]","v":0},{"$f":"表格2[[#This Row],[編號]]","v":"A0051"},{"$f":"表格2[[#This Row],[產品]]","v":"CARE BEAR 家居親子裝-粉L-"},{"$f":"表格2[[#This Row],[單價]]","v":0},{"$f":"表格2[[#This Row],[入貨價]]","v":0},{"$f":"SUMIF(資料庫!D:D,庫存計算!C95,資料庫!E:E)","v":0}]
[{"$f":"表格2[[#This Row],[貨源]]","v":0},{"$f":"表格2[[#This Row],[編號]]","v":"A0052"},{"$f":"表格2[[#This Row],[產品]]","v":"CARE BEAR C1-藍100-"},{"$f":"表格2[[#This Row],[單價]]","v":0},{"$f":"表格2[[#This Row],[入貨價]]","v":0},{"$f":"SUMIF(資料庫!D:D,庫存計算!C96,資料庫!E:E)","v":0}]
[{"$f":"表格2[[#This Row],[貨源]]","v":0},{"$f":"表格2[[#This Row],[編號]]","v":"A0053"},{"$f":"表格2[[#This Row],[產品]]","v":"CART衛衣有帽-110-"},{"$f":"表格2[[#This Row],[單價]]","v":0},{"$f":"表格2[[#This Row],[入貨價]]","v":0},{"$f":"SUMIF(資料庫!D:D,庫存計算!C97,資料庫!E:E)","v":0}]
[{"$f":"表格2[[#This Row],[貨源]]","v":0},{"$f":"表格2[[#This Row],[編號]]","v":"A0053"},{"$f":"表格2[[#This Row],[產品]]","v":"CART衛衣有帽-藍L-"},{"$f":"表格2[[#This Row],[單價]]","v":0},{"$f":"表格2[[#This Row],[入貨價]]","v":0},{"$f":"SUMIF(資料庫!D:D,庫存計算!C98,資料庫!E:E)","v":0}]
[{"$f":"表格2[[#This Row],[貨源]]","v":0},{"$f":"表格2[[#This Row],[編號]]","v":"A0053"},{"$f":"表格2[[#This Row],[產品]]","v":"CART衛衣有帽-藍S-"},{"$f":"表格2[[#This Row],[單價]]","v":0},{"$f":"表格2[[#This Row],[入貨價]]","v":0},{"$f":"SUMIF(資料庫!D:D,庫存計算!C99,資料庫!E:E)","v":0}]
[{"$f":"表格2[[#This Row],[貨源]]","v":0},{"$f":"表格2[[#This Row],[編號]]","v":"A0054"},{"$f":"表格2[[#This Row],[產品]]","v":"cool kids 舒緩膏--"},{"$f":"表格2[[#This Row],[單價]]","v":0},{"$f":"表格2[[#This Row],[入貨價]]","v":0},{"$f":"SUMIF(資料庫!D:D,庫存計算!C100,資料庫!E:E)","v":0}]
[{"$f":"表格2[[#This Row],[貨源]]","v":0},{"$f":"表格2[[#This Row],[編號]]","v":"A0055"},{"$f":"表格2[[#This Row],[產品]]","v":"DTD車帶--"},{"$f":"表格2[[#This Row],[單價]]","v":0},{"$f":"表格2[[#This Row],[入貨價]]","v":0},{"$f":"SUMIF(資料庫!D:D,庫存計算!C101,資料庫!E:E)","v":0}]
[{"$f":"表格2[[#This Row],[貨源]]","v":0},{"$f":"表格2[[#This Row],[編號]]","v":"A0056"},{"$f":"表格2[[#This Row],[產品]]","v":"GAP 連身灰-90-"},{"$f":"表格2[[#This Row],[單價]]","v":0},{"$f":"表格2[[#This Row],[入貨價]]","v":0},{"$f":"SUMIF(資料庫!D:D,庫存計算!C102,資料庫!E:E)","v":0}]
[{"$f":"表格2[[#This Row],[貨源]]","v":0},{"$f":"表格2[[#This Row],[編號]]","v":"A0056"},{"$f":"表格2[[#This Row],[產品]]","v":"GAP 連身灰-100-"},{"$f":"表格2[[#This Row],[單價]]","v":0},{"$f":"表格2[[#This Row],[入貨價]]","v":0},{"$f":"SUMIF(資料庫!D:D,庫存計算!C103,資料庫!E:E)","v":0}]
[{"$f":"表格2[[#This Row],[貨源]]","v":0},{"$f":"表格2[[#This Row],[編號]]","v":"A0056"},{"$f":"表格2[[#This Row],[產品]]","v":"GAP 連身米-80-"},{"$f":"表格2[[#This Row],[單價]]","v":0},{"$f":"表格2[[#This Row],[入貨價]]","v":0},{"$f":"SUMIF(資料庫!D:D,庫存計算!C104,資料庫!E:E)","v":0}]
[{"$f":"表格2[[#This Row],[貨源]]","v":0},{"$f":"表格2[[#This Row],[編號]]","v":"A0056"},{"$f":"表格2[[#This Row],[產品]]","v":"GAP 連身米-90-"},{"$f":"表格2[[#This Row],[單價]]","v":0},{"$f":"表格2[[#This Row],[入貨價]]","v":0},{"$f":"SUMIF(資料庫!D:D,庫存計算!C105,資料庫!E:E)","v":0}]
[{"$f":"表格2[[#This Row],[貨源]]","v":0},{"$f":"表格2[[#This Row],[編號]]","v":"A0056"},{"$f":"表格2[[#This Row],[產品]]","v":"GAP 連身米-100-"},{"$f":"表格2[[#This Row],[單價]]","v":0},{"$f":"表格2[[#This Row],[入貨價]]","v":0},{"$f":"SUMIF(資料庫!D:D,庫存計算!C106,資料庫!E:E)","v":0}]
[{"$f":"表格2[[#This Row],[貨源]]","v":0},{"$f":"表格2[[#This Row],[編號]]","v":"A0056"},{"$f":"表格2[[#This Row],[產品]]","v":"GAP 連身紅-90-"},{"$f":"表格2[[#This Row],[單價]]","v":0},{"$f":"表格2[[#This Row],[入貨價]]","v":0},{"$f":"SUMIF(資料庫!D:D,庫存計算!C107,資料庫!E:E)","v":0}]
[{"$f":"表格2[[#This Row],[貨源]]","v":0},{"$f":"表格2[[#This Row],[編號]]","v":"A0056"},{"$f":"表格2[[#This Row],[產品]]","v":"GAP 連身紅-100-"},{"$f":"表格2[[#This Row],[單價]]","v":0},{"$f":"表格2[[#This Row],[入貨價]]","v":0},{"$f":"SUMIF(資料庫!D:D,庫存計算!C108,資料庫!E:E)","v":0}]
[{"$f":"表格2[[#This Row],[貨源]]","v":0},{"$f":"表格2[[#This Row],[編號]]","v":"A0056"},{"$f":"表格2[[#This Row],[產品]]","v":"GAP 連身棒球-80-"},{"$f":"表格2[[#This Row],[單價]]","v":0},{"$f":"表格2[[#This Row],[入貨價]]","v":0},{"$f":"SUMIF(資料庫!D:D,庫存計算!C109,資料庫!E:E)","v":0}]
[{"$f":"表格2[[#This Row],[貨源]]","v":0},{"$f":"表格2[[#This Row],[編號]]","v":"A0056"},{"$f":"表格2[[#This Row],[產品]]","v":"GAP 連身棒球-90-"},{"$f":"表格2[[#This Row],[單價]]","v":0},{"$f":"表格2[[#This Row],[入貨價]]","v":0},{"$f":"SUMIF(資料庫!D:D,庫存計算!C110,資料庫!E:E)","v":0}]
[{"$f":"表格2[[#This Row],[貨源]]","v":0},{"$f":"表格2[[#This Row],[編號]]","v":"A0057"},{"$f":"表格2[[#This Row],[產品]]","v":"H2-18-24-"},{"$f":"表格2[[#This Row],[單價]]","v":0},{"$f":"表格2[[#This Row],[入貨價]]","v":0},{"$f":"SUMIF(資料庫!D:D,庫存計算!C111,資料庫!E:E)","v":0}]
[{"$f":"表格2[[#This Row],[貨源]]","v":0},{"$f":"表格2[[#This Row],[編號]]","v":"A0058"},{"$f":"表格2[[#This Row],[產品]]","v":"H3-2-3-"},{"$f":"表格2[[#This Row],[單價]]","v":0},{"$f":"表格2[[#This Row],[入貨價]]","v":0},{"$f":"SUMIF(資料庫!D:D,庫存計算!C112,資料庫!E:E)","v":0}]
[{"$f":"表格2[[#This Row],[貨源]]","v":0},{"$f":"表格2[[#This Row],[編號]]","v":"A0059"},{"$f":"表格2[[#This Row],[產品]]","v":"H4-2-3-"},{"$f":"表格2[[#This Row],[單價]]","v":0},{"$f":"表格2[[#This Row],[入貨價]]","v":0},{"$f":"SUMIF(資料庫!D:D,庫存計算!C113,資料庫!E:E)","v":0}]
[{"$f":"表格2[[#This Row],[貨源]]","v":0},{"$f":"表格2[[#This Row],[編號]]","v":"A0059"},{"$f":"表格2[[#This Row],[產品]]","v":"H4-18-24-"},{"$f":"表格2[[#This Row],[單價]]","v":0},{"$f":"表格2[[#This Row],[入貨價]]","v":0},{"$f":"SUMIF(資料庫!D:D,庫存計算!C114,資料庫!E:E)","v":0}]
[{"$f":"表格2[[#This Row],[貨源]]","v":0},{"$f":"表格2[[#This Row],[編號]]","v":"A0060"},{"$f":"表格2[[#This Row],[產品]]","v":"H5-100-"},{"$f":"表格2[[#This Row],[單價]]","v":0},{"$f":"表格2[[#This Row],[入貨價]]","v":0},{"$f":"SUMIF(資料庫!D:D,庫存計算!C115,資料庫!E:E)","v":0}]
[{"$f":"表格2[[#This Row],[貨源]]","v":0},{"$f":"表格2[[#This Row],[編號]]","v":"A0061"},{"$f":"表格2[[#This Row],[產品]]","v":"h7-6-12-"},{"$f":"表格2[[#This Row],[單價]]","v":0},{"$f":"表格2[[#This Row],[入貨價]]","v":0},{"$f":"SUMIF(資料庫!D:D,庫存計算!C116,資料庫!E:E)","v":0}]
[{"$f":"表格2[[#This Row],[貨源]]","v":0},{"$f":"表格2[[#This Row],[編號]]","v":"A0062"},{"$f":"表格2[[#This Row],[產品]]","v":"H8-0-6-"},{"$f":"表格2[[#This Row],[單價]]","v":0},{"$f":"表格2[[#This Row],[入貨價]]","v":0},{"$f":"SUMIF(資料庫!D:D,庫存計算!C117,資料庫!E:E)","v":0}]
[{"$f":"表格2[[#This Row],[貨源]]","v":0},{"$f":"表格2[[#This Row],[編號]]","v":"A0063"},{"$f":"表格2[[#This Row],[產品]]","v":"konny 咩帶-灰米-"},{"$f":"表格2[[#This Row],[單價]]","v":0},{"$f":"表格2[[#This Row],[入貨價]]","v":0},{"$f":"SUMIF(資料庫!D:D,庫存計算!C118,資料庫!E:E)","v":0}]
[{"$f":"表格2[[#This Row],[貨源]]","v":0},{"$f":"表格2[[#This Row],[編號]]","v":"A0064"},{"$f":"表格2[[#This Row],[產品]]","v":"konny口水肩-4-"},{"$f":"表格2[[#This Row],[單價]]","v":0},{"$f":"表格2[[#This Row],[入貨價]]","v":0},{"$f":"SUMIF(資料庫!D:D,庫存計算!C119,資料庫!E:E)","v":0}]
[{"$f":"表格2[[#This Row],[貨源]]","v":0},{"$f":"表格2[[#This Row],[編號]]","v":"A0065"},{"$f":"表格2[[#This Row],[產品]]","v":"konny碗-綠-"},{"$f":"表格2[[#This Row],[單價]]","v":0},{"$f":"表格2[[#This Row],[入貨價]]","v":0},{"$f":"SUMIF(資料庫!D:D,庫存計算!C120,資料庫!E:E)","v":0}]
[{"$f":"表格2[[#This Row],[貨源]]","v":0},{"$f":"表格2[[#This Row],[編號]]","v":"A0065"},{"$f":"表格2[[#This Row],[產品]]","v":"konny碗-燕-"},{"$f":"表格2[[#This Row],[單價]]","v":0},{"$f":"表格2[[#This Row],[入貨價]]","v":0},{"$f":"SUMIF(資料庫!D:D,庫存計算!C121,資料庫!E:E)","v":0}]
[{"$f":"表格2[[#This Row],[貨源]]","v":0},{"$f":"表格2[[#This Row],[編號]]","v":"A0065"},{"$f":"表格2[[#This Row],[產品]]","v":"konny碗-藍-"},{"$f":"表格2[[#This Row],[單價]]","v":0},{"$f":"表格2[[#This Row],[入貨價]]","v":0},{"$f":"SUMIF(資料庫!D:D,庫存計算!C122,資料庫!E:E)","v":0}]
[{"$f":"表格2[[#This Row],[貨源]]","v":0},{"$f":"表格2[[#This Row],[編號]]","v":"A0066"},{"$f":"表格2[[#This Row],[產品]]","v":"lee 衛衣-灰白130-"},{"$f":"表格2[[#This Row],[單價]]","v":0},{"$f":"表格2[[#This Row],[入貨價]]","v":0},{"$f":"SUMIF(資料庫!D:D,庫存計算!C123,資料庫!E:E)","v":0}]
[{"$f":"表格2[[#This Row],[貨源]]","v":0},{"$f":"表格2[[#This Row],[編號]]","v":"A0066"},{"$f":"表格2[[#This Row],[產品]]","v":"lee 衛衣-灰藍90-"},{"$f":"表格2[[#This Row],[單價]]","v":0},{"$f":"表格2[[#This Row],[入貨價]]","v":0},{"$f":"SUMIF(資料庫!D:D,庫存計算!C124,資料庫!E:E)","v":0}]
[{"$f":"表格2[[#This Row],[貨源]]","v":0},{"$f":"表格2[[#This Row],[編號]]","v":"A0067"},{"$f":"表格2[[#This Row],[產品]]","v":"LEE吊帶褲-灰100-"},{"$f":"表格2[[#This Row],[單價]]","v":0},{"$f":"表格2[[#This Row],[入貨價]]","v":0},{"$f":"SUMIF(資料庫!D:D,庫存計算!C125,資料庫!E:E)","v":0}]
[{"$f":"表格2[[#This Row],[貨源]]","v":0},{"$f":"表格2[[#This Row],[編號]]","v":"A0068"},{"$f":"表格2[[#This Row],[產品]]","v":"Linabell 粉外套-110-"},{"$f":"表格2[[#This Row],[單價]]","v":0},{"$f":"表格2[[#This Row],[入貨價]]","v":0},{"$f":"SUMIF(資料庫!D:D,庫存計算!C126,資料庫!E:E)","v":0}]
[{"$f":"表格2[[#This Row],[貨源]]","v":0},{"$f":"表格2[[#This Row],[編號]]","v":"A0068"},{"$f":"表格2[[#This Row],[產品]]","v":"Linabell 粉外套-120-"},{"$f":"表格2[[#This Row],[單價]]","v":0},{"$f":"表格2[[#This Row],[入貨價]]","v":0},{"$f":"SUMIF(資料庫!D:D,庫存計算!C127,資料庫!E:E)","v":0}]
[{"$f":"表格2[[#This Row],[貨源]]","v":0},{"$f":"表格2[[#This Row],[編號]]","v":"A0069"},{"$f":"表格2[[#This Row],[產品]]","v":"MELODY紅白衛衣-80-"},{"$f":"表格2[[#This Row],[單價]]","v":0},{"$f":"表格2[[#This Row],[入貨價]]","v":0},{"$f":"SUMIF(資料庫!D:D,庫存計算!C128,資料庫!E:E)","v":0}]
[{"$f":"表格2[[#This Row],[貨源]]","v":0},{"$f":"表格2[[#This Row],[編號]]","v":"A0069"},{"$f":"表格2[[#This Row],[產品]]","v":"MELODY紅白衛衣-90-"},{"$f":"表格2[[#This Row],[單價]]","v":0},{"$f":"表格2[[#This Row],[入貨價]]","v":0},{"$f":"SUMIF(資料庫!D:D,庫存計算!C129,資料庫!E:E)","v":0}]
[{"$f":"表格2[[#This Row],[貨源]]","v":0},{"$f":"表格2[[#This Row],[編號]]","v":"A0070"},{"$f":"表格2[[#This Row],[產品]]","v":"MIFFY 外套-白100-"},{"$f":"表格2[[#This Row],[單價]]","v":0},{"$f":"表格2[[#This Row],[入貨價]]","v":0},{"$f":"SUMIF(資料庫!D:D,庫存計算!C130,資料庫!E:E)","v":0}]
[{"$f":"表格2[[#This Row],[貨源]]","v":0},{"$f":"表格2[[#This Row],[編號]]","v":"A0071"},{"$f":"表格2[[#This Row],[產品]]","v":"miffy 拖鞋-白37-"},{"$f":"表格2[[#This Row],[單價]]","v":0},{"$f":"表格2[[#This Row],[入貨價]]","v":0},{"$f":"SUMIF(資料庫!D:D,庫存計算!C131,資料庫!E:E)","v":0}]
[{"$f":"表格2[[#This Row],[貨源]]","v":0},{"$f":"表格2[[#This Row],[編號]]","v":"A0072"},{"$f":"表格2[[#This Row],[產品]]","v":"miffy 書包--"},{"$f":"表格2[[#This Row],[單價]]","v":0},{"$f":"表格2[[#This Row],[入貨價]]","v":0},{"$f":"SUMIF(資料庫!D:D,庫存計算!C132,資料庫!E:E)","v":0}]
[{"$f":"表格2[[#This Row],[貨源]]","v":0},{"$f":"表格2[[#This Row],[編號]]","v":"A0073"},{"$f":"表格2[[#This Row],[產品]]","v":"MIFFY A-粉80-"},{"$f":"表格2[[#This Row],[單價]]","v":0},{"$f":"表格2[[#This Row],[入貨價]]","v":0},{"$f":"SUMIF(資料庫!D:D,庫存計算!C133,資料庫!E:E)","v":0}]
[{"$f":"表格2[[#This Row],[貨源]]","v":0},{"$f":"表格2[[#This Row],[編號]]","v":"A0073"},{"$f":"表格2[[#This Row],[產品]]","v":"MIFFY A-藍80-"},{"$f":"表格2[[#This Row],[單價]]","v":0},{"$f":"表格2[[#This Row],[入貨價]]","v":0},{"$f":"SUMIF(資料庫!D:D,庫存計算!C134,資料庫!E:E)","v":0}]
[{"$f":"表格2[[#This Row],[貨源]]","v":0},{"$f":"表格2[[#This Row],[編號]]","v":"A0074"},{"$f":"表格2[[#This Row],[產品]]","v":"MIFFY3件套(1長1短1褲)-粉80-"},{"$f":"表格2[[#This Row],[單價]]","v":0},{"$f":"表格2[[#This Row],[入貨價]]","v":0},{"$f":"SUMIF(資料庫!D:D,庫存計算!C135,資料庫!E:E)","v":0}]
[{"$f":"表格2[[#This Row],[貨源]]","v":0},{"$f":"表格2[[#This Row],[編號]]","v":"A0074"},{"$f":"表格2[[#This Row],[產品]]","v":"MIFFY3件套(1長1短1褲)-黃90-"},{"$f":"表格2[[#This Row],[單價]]","v":0},{"$f":"表格2[[#This Row],[入貨價]]","v":0},{"$f":"SUMIF(資料庫!D:D,庫存計算!C136,資料庫!E:E)","v":0}]
[{"$f":"表格2[[#This Row],[貨源]]","v":0},{"$f":"表格2[[#This Row],[編號]]","v":"A0075"},{"$f":"表格2[[#This Row],[產品]]","v":"MIFFY冷衫-灰80-"},{"$f":"表格2[[#This Row],[單價]]","v":0},{"$f":"表格2[[#This Row],[入貨價]]","v":0},{"$f":"SUMIF(資料庫!D:D,庫存計算!C137,資料庫!E:E)","v":0}]
[{"$f":"表格2[[#This Row],[貨源]]","v":0},{"$f":"表格2[[#This Row],[編號]]","v":"A0075"},{"$f":"表格2[[#This Row],[產品]]","v":"MIFFY冷衫-杏80-"},{"$f":"表格2[[#This Row],[單價]]","v":0},{"$f":"表格2[[#This Row],[入貨價]]","v":0},{"$f":"SUMIF(資料庫!D:D,庫存計算!C138,資料庫!E:E)","v":0}]
[{"$f":"表格2[[#This Row],[貨源]]","v":0},{"$f":"表格2[[#This Row],[編號]]","v":"A0076"},{"$f":"表格2[[#This Row],[產品]]","v":"MIFFY杯套-藍--"},{"$f":"表格2[[#This Row],[單價]]","v":0},{"$f":"表格2[[#This Row],[入貨價]]","v":0},{"$f":"SUMIF(資料庫!D:D,庫存計算!C139,資料庫!E:E)","v":0}]
[{"$f":"表格2[[#This Row],[貨源]]","v":0},{"$f":"表格2[[#This Row],[編號]]","v":"A0077"},{"$f":"表格2[[#This Row],[產品]]","v":"MIFFY家居服SET-粉80-"},{"$f":"表格2[[#This Row],[單價]]","v":0},{"$f":"表格2[[#This Row],[入貨價]]","v":0},{"$f":"SUMIF(資料庫!D:D,庫存計算!C140,資料庫!E:E)","v":0}]
[{"$f":"表格2[[#This Row],[貨源]]","v":0},{"$f":"表格2[[#This Row],[編號]]","v":"A0077"},{"$f":"表格2[[#This Row],[產品]]","v":"MIFFY家居服SET-藍90-"},{"$f":"表格2[[#This Row],[單價]]","v":0},{"$f":"表格2[[#This Row],[入貨價]]","v":0},{"$f":"SUMIF(資料庫!D:D,庫存計算!C141,資料庫!E:E)","v":0}]
[{"$f":"表格2[[#This Row],[貨源]]","v":0},{"$f":"表格2[[#This Row],[編號]]","v":"A0078"},{"$f":"表格2[[#This Row],[產品]]","v":"MIFFY滿印-白90-"},{"$f":"表格2[[#This Row],[單價]]","v":0},{"$f":"表格2[[#This Row],[入貨價]]","v":0},{"$f":"SUMIF(資料庫!D:D,庫存計算!C142,資料庫!E:E)","v":0}]
[{"$f":"表格2[[#This Row],[貨源]]","v":0},{"$f":"表格2[[#This Row],[編號]]","v":"A0078"},{"$f":"表格2[[#This Row],[產品]]","v":"MIFFY滿印-粉90-"},{"$f":"表格2[[#This Row],[單價]]","v":0},{"$f":"表格2[[#This Row],[入貨價]]","v":0},{"$f":"SUMIF(資料庫!D:D,庫存計算!C143,資料庫!E:E)","v":0}]
[{"$f":"表格2[[#This Row],[貨源]]","v":0},{"$f":"表格2[[#This Row],[編號]]","v":"A0079"},{"$f":"表格2[[#This Row],[產品]]","v":"MIFFYB-白90-"},{"$f":"表格2[[#This Row],[單價]]","v":0},{"$f":"表格2[[#This Row],[入貨價]]","v":0},{"$f":"SUMIF(資料庫!D:D,庫存計算!C144,資料庫!E:E)","v":0}]
[{"$f":"表格2[[#This Row],[貨源]]","v":0},{"$f":"表格2[[#This Row],[編號]]","v":"A0079"},{"$f":"表格2[[#This Row],[產品]]","v":"MIFFYB-粉90-"},{"$f":"表格2[[#This Row],[單價]]","v":0},{"$f":"表格2[[#This Row],[入貨價]]","v":0},{"$f":"SUMIF(資料庫!D:D,庫存計算!C145,資料庫!E:E)","v":0}]
[{"$f":"表格2[[#This Row],[貨源]]","v":0},{"$f":"表格2[[#This Row],[編號]]","v":"A0080"},{"$f":"表格2[[#This Row],[產品]]","v":"MLB-5外套-黑-"},{"$f":"表格2[[#This Row],[單價]]","v":0},{"$f":"表格2[[#This Row],[入貨價]]","v":0},{"$f":"SUMIF(資料庫!D:D,庫存計算!C146,資料庫!E:E)","v":0}]
[{"$f":"表格2[[#This Row],[貨源]]","v":0},{"$f":"表格2[[#This Row],[編號]]","v":"A0081"},{"$f":"表格2[[#This Row],[產品]]","v":"NF 被-啡-"},{"$f":"表格2[[#This Row],[單價]]","v":0},{"$f":"表格2[[#This Row],[入貨價]]","v":0},{"$f":"SUMIF(資料庫!D:D,庫存計算!C147,資料庫!E:E)","v":0}]
[{"$f":"表格2[[#This Row],[貨源]]","v":0},{"$f":"表格2[[#This Row],[編號]]","v":"A0081"},{"$f":"表格2[[#This Row],[產品]]","v":"NF 被-黑-"},{"$f":"表格2[[#This Row],[單價]]","v":0},{"$f":"表格2[[#This Row],[入貨價]]","v":0},{"$f":"SUMIF(資料庫!D:D,庫存計算!C148,資料庫!E:E)","v":0}]
[{"$f":"表格2[[#This Row],[貨源]]","v":0},{"$f":"表格2[[#This Row],[編號]]","v":"A0082"},{"$f":"表格2[[#This Row],[產品]]","v":"NF 熊仔外套-白100-"},{"$f":"表格2[[#This Row],[單價]]","v":0},{"$f":"表格2[[#This Row],[入貨價]]","v":0},{"$f":"SUMIF(資料庫!D:D,庫存計算!C149,資料庫!E:E)","v":0}]
[{"$f":"表格2[[#This Row],[貨源]]","v":0},{"$f":"表格2[[#This Row],[編號]]","v":"A0082"},{"$f":"表格2[[#This Row],[產品]]","v":"NF 熊仔外套-白110-"},{"$f":"表格2[[#This Row],[單價]]","v":0},{"$f":"表格2[[#This Row],[入貨價]]","v":0},{"$f":"SUMIF(資料庫!D:D,庫存計算!C150,資料庫!E:E)","v":0}]
[{"$f":"表格2[[#This Row],[貨源]]","v":0},{"$f":"表格2[[#This Row],[編號]]","v":"A0082"},{"$f":"表格2[[#This Row],[產品]]","v":"NF 熊仔外套-白90-"},{"$f":"表格2[[#This Row],[單價]]","v":0},{"$f":"表格2[[#This Row],[入貨價]]","v":0},{"$f":"SUMIF(資料庫!D:D,庫存計算!C151,資料庫!E:E)","v":0}]
[{"$f":"表格2[[#This Row],[貨源]]","v":0},{"$f":"表格2[[#This Row],[編號]]","v":"A0082"},{"$f":"表格2[[#This Row],[產品]]","v":"NF 熊仔外套-粉100-"},{"$f":"表格2[[#This Row],[單價]]","v":0},{"$f":"表格2[[#This Row],[入貨價]]","v":0},{"$f":"SUMIF(資料庫!D:D,庫存計算!C152,資料庫!E:E)","v":0}]
[{"$f":"表格2[[#This Row],[貨源]]","v":0},{"$f":"表格2[[#This Row],[編號]]","v":"A0082"},{"$f":"表格2[[#This Row],[產品]]","v":"NF 熊仔外套-粉90-"},{"$f":"表格2[[#This Row],[單價]]","v":0},{"$f":"表格2[[#This Row],[入貨價]]","v":0},{"$f":"SUMIF(資料庫!D:D,庫存計算!C153,資料庫!E:E)","v":0}]
[{"$f":"表格2[[#This Row],[貨源]]","v":0},{"$f":"表格2[[#This Row],[編號]]","v":"A0082"},{"$f":"表格2[[#This Row],[產品]]","v":"NF 熊仔外套-啡110-"},{"$f":"表格2[[#This Row],[單價]]","v":0},{"$f":"表格2[[#This Row],[入貨價]]","v":0},{"$f":"SUMIF(資料庫!D:D,庫存計算!C154,資料庫!E:E)","v":0}]
[{"$f":"表格2[[#This Row],[貨源]]","v":0},{"$f":"表格2[[#This Row],[編號]]","v":"A0082"},{"$f":"表格2[[#This Row],[產品]]","v":"NF 熊仔外套-啡130-"},{"$f":"表格2[[#This Row],[單價]]","v":0},{"$f":"表格2[[#This Row],[入貨價]]","v":0},{"$f":"SUMIF(資料庫!D:D,庫存計算!C155,資料庫!E:E)","v":0}]
[{"$f":"表格2[[#This Row],[貨源]]","v":0},{"$f":"表格2[[#This Row],[編號]]","v":"A0082"},{"$f":"表格2[[#This Row],[產品]]","v":"NF 熊仔外套-啡90-"},{"$f":"表格2[[#This Row],[單價]]","v":0},{"$f":"表格2[[#This Row],[入貨價]]","v":0},{"$f":"SUMIF(資料庫!D:D,庫存計算!C156,資料庫!E:E)","v":0}]
[{"$f":"表格2[[#This Row],[貨源]]","v":0},{"$f":"表格2[[#This Row],[編號]]","v":"A0083"},{"$f":"表格2[[#This Row],[產品]]","v":"NF 熊仔爬服-粉100-"},{"$f":"表格2[[#This Row],[單價]]","v":0},{"$f":"表格2[[#This Row],[入貨價]]","v":0},{"$f":"SUMIF(資料庫!D:D,庫存計算!C157,資料庫!E:E)","v":0}]
[{"$f":"表格2[[#This Row],[貨源]]","v":0},{"$f":"表格2[[#This Row],[編號]]","v":"A0084"},{"$f":"表格2[[#This Row],[產品]]","v":"nf legging褲-白80-"},{"$f":"表格2[[#This Row],[單價]]","v":0},{"$f":"表格2[[#This Row],[入貨價]]","v":0},{"$f":"SUMIF(資料庫!D:D,庫存計算!C158,資料庫!E:E)","v":0}]
[{"$f":"表格2[[#This Row],[貨源]]","v":0},{"$f":"表格2[[#This Row],[編號]]","v":"A0084"},{"$f":"表格2[[#This Row],[產品]]","v":"nf legging褲-黑100-"},{"$f":"表格2[[#This Row],[單價]]","v":0},{"$f":"表格2[[#This Row],[入貨價]]","v":0},{"$f":"SUMIF(資料庫!D:D,庫存計算!C159,資料庫!E:E)","v":0}]
[{"$f":"表格2[[#This Row],[貨源]]","v":0},{"$f":"表格2[[#This Row],[編號]]","v":"A0084"},{"$f":"表格2[[#This Row],[產品]]","v":"nf legging褲-黑130-"},{"$f":"表格2[[#This Row],[單價]]","v":0},{"$f":"表格2[[#This Row],[入貨價]]","v":0},{"$f":"SUMIF(資料庫!D:D,庫存計算!C160,資料庫!E:E)","v":0}]
[{"$f":"表格2[[#This Row],[貨源]]","v":0},{"$f":"表格2[[#This Row],[編號]]","v":"A0085"},{"$f":"表格2[[#This Row],[產品]]","v":"NF雙面棉外套-米杏100-"},{"$f":"表格2[[#This Row],[單價]]","v":0},{"$f":"表格2[[#This Row],[入貨價]]","v":0},{"$f":"SUMIF(資料庫!D:D,庫存計算!C161,資料庫!E:E)","v":0}]
[{"$f":"表格2[[#This Row],[貨源]]","v":0},{"$f":"表格2[[#This Row],[編號]]","v":"A0085"},{"$f":"表格2[[#This Row],[產品]]","v":"NF雙面棉外套-米杏L-"},{"$f":"表格2[[#This Row],[單價]]","v":0},{"$f":"表格2[[#This Row],[入貨價]]","v":0},{"$f":"SUMIF(資料庫!D:D,庫存計算!C162,資料庫!E:E)","v":0}]
[{"$f":"表格2[[#This Row],[貨源]]","v":0},{"$f":"表格2[[#This Row],[編號]]","v":"A0085"},{"$f":"表格2[[#This Row],[產品]]","v":"NF雙面棉外套-杏M-"},{"$f":"表格2[[#This Row],[單價]]","v":0},{"$f":"表格2[[#This Row],[入貨價]]","v":0},{"$f":"SUMIF(資料庫!D:D,庫存計算!C163,資料庫!E:E)","v":0}]
[{"$f":"表格2[[#This Row],[貨源]]","v":0},{"$f":"表格2[[#This Row],[編號]]","v":"A0085"},{"$f":"表格2[[#This Row],[產品]]","v":"NF雙面棉外套-粉100-"},{"$f":"表格2[[#This Row],[單價]]","v":0},{"$f":"表格2[[#This Row],[入貨價]]","v":0},{"$f":"SUMIF(資料庫!D:D,庫存計算!C164,資料庫!E:E)","v":0}]
[{"$f":"表格2[[#This Row],[貨源]]","v":0},{"$f":"表格2[[#This Row],[編號]]","v":"A0085"},{"$f":"表格2[[#This Row],[產品]]","v":"NF雙面棉外套-粉M-"},{"$f":"表格2[[#This Row],[單價]]","v":0},{"$f":"表格2[[#This Row],[入貨價]]","v":0},{"$f":"SUMIF(資料庫!D:D,庫存計算!C165,資料庫!E:E)","v":0}]
[{"$f":"表格2[[#This Row],[貨源]]","v":0},{"$f":"表格2[[#This Row],[編號]]","v":"A0085"},{"$f":"表格2[[#This Row],[產品]]","v":"NF雙面棉外套-綠100-"},{"$f":"表格2[[#This Row],[單價]]","v":0},{"$f":"表格2[[#This Row],[入貨價]]","v":0},{"$f":"SUMIF(資料庫!D:D,庫存計算!C166,資料庫!E:E)","v":0}]
[{"$f":"表格2[[#This Row],[貨源]]","v":0},{"$f":"表格2[[#This Row],[編號]]","v":"A0085"},{"$f":"表格2[[#This Row],[產品]]","v":"NF雙面棉外套-綠110-"},{"$f":"表格2[[#This Row],[單價]]","v":0},{"$f":"表格2[[#This Row],[入貨價]]","v":0},{"$f":"SUMIF(資料庫!D:D,庫存計算!C167,資料庫!E:E)","v":0}]
[{"$f":"表格2[[#This Row],[貨源]]","v":0},{"$f":"表格2[[#This Row],[編號]]","v":"A0085"},{"$f":"表格2[[#This Row],[產品]]","v":"NF雙面棉外套-綠90-"},{"$f":"表格2[[#This Row],[單價]]","v":0},{"$f":"表格2[[#This Row],[入貨價]]","v":0},{"$f":"SUMIF(資料庫!D:D,庫存計算!C168,資料庫!E:E)","v":0}]
[{"$f":"表格2[[#This Row],[貨源]]","v":0},{"$f":"表格2[[#This Row],[編號]]","v":"A0085"},{"$f":"表格2[[#This Row],[產品]]","v":"NF雙面棉外套-綠L-"},{"$f":"表格2[[#This Row],[單價]]","v":0},{"$f":"表格2[[#This Row],[入貨價]]","v":0},{"$f":"SUMIF(資料庫!D:D,庫存計算!C169,資料庫!E:E)","v":0}]
[{"$f":"表格2[[#This Row],[貨源]]","v":0},{"$f":"表格2[[#This Row],[編號]]","v":"A0086"},{"$f":"表格2[[#This Row],[產品]]","v":"POLO背心-白110-"},{"$f":"表格2[[#This Row],[單價]]","v":0},{"$f":"表格2[[#This Row],[入貨價]]","v":0},{"$f":"SUMIF(資料庫!D:D,庫存計算!C170,資料庫!E:E)","v":0}]
[{"$f":"表格2[[#This Row],[貨源]]","v":0},{"$f":"表格2[[#This Row],[編號]]","v":"A0086"},{"$f":"表格2[[#This Row],[產品]]","v":"POLO背心-白90-"},{"$f":"表格2[[#This Row],[單價]]","v":0},{"$f":"表格2[[#This Row],[入貨價]]","v":0},{"$f":"SUMIF(資料庫!D:D,庫存計算!C171,資料庫!E:E)","v":0}]
[{"$f":"表格2[[#This Row],[貨源]]","v":0},{"$f":"表格2[[#This Row],[編號]]","v":"A0086"},{"$f":"表格2[[#This Row],[產品]]","v":"POLO背心-深藍110-"},{"$f":"表格2[[#This Row],[單價]]","v":0},{"$f":"表格2[[#This Row],[入貨價]]","v":0},{"$f":"SUMIF(資料庫!D:D,庫存計算!C172,資料庫!E:E)","v":0}]
[{"$f":"表格2[[#This Row],[貨源]]","v":0},{"$f":"表格2[[#This Row],[編號]]","v":"A0087"},{"$f":"表格2[[#This Row],[產品]]","v":"POLO純色連身裙-卡其100-"},{"$f":"表格2[[#This Row],[單價]]","v":0},{"$f":"表格2[[#This Row],[入貨價]]","v":0},{"$f":"SUMIF(資料庫!D:D,庫存計算!C173,資料庫!E:E)","v":0}]
[{"$f":"表格2[[#This Row],[貨源]]","v":0},{"$f":"表格2[[#This Row],[編號]]","v":"A0087"},{"$f":"表格2[[#This Row],[產品]]","v":"POLO純色連身裙-卡其90-"},{"$f":"表格2[[#This Row],[單價]]","v":0},{"$f":"表格2[[#This Row],[入貨價]]","v":0},{"$f":"SUMIF(資料庫!D:D,庫存計算!C174,資料庫!E:E)","v":0}]
[{"$f":"表格2[[#This Row],[貨源]]","v":0},{"$f":"表格2[[#This Row],[編號]]","v":"A0087"},{"$f":"表格2[[#This Row],[產品]]","v":"POLO純色連身裙-藍100-"},{"$f":"表格2[[#This Row],[單價]]","v":0},{"$f":"表格2[[#This Row],[入貨價]]","v":0},{"$f":"SUMIF(資料庫!D:D,庫存計算!C175,資料庫!E:E)","v":0}]
[{"$f":"表格2[[#This Row],[貨源]]","v":0},{"$f":"表格2[[#This Row],[編號]]","v":"A0087"},{"$f":"表格2[[#This Row],[產品]]","v":"POLO純色連身裙-藍110-"},{"$f":"表格2[[#This Row],[單價]]","v":0},{"$f":"表格2[[#This Row],[入貨價]]","v":0},{"$f":"SUMIF(資料庫!D:D,庫存計算!C176,資料庫!E:E)","v":0}]
[{"$f":"表格2[[#This Row],[貨源]]","v":0},{"$f":"表格2[[#This Row],[編號]]","v":"A0088"},{"$f":"表格2[[#This Row],[產品]]","v":"POLO條紋衫-90-"},{"$f":"表格2[[#This Row],[單價]]","v":0},{"$f":"表格2[[#This Row],[入貨價]]","v":0},{"$f":"SUMIF(資料庫!D:D,庫存計算!C177,資料庫!E:E)","v":0}]
[{"$f":"表格2[[#This Row],[貨源]]","v":0},{"$f":"表格2[[#This Row],[編號]]","v":"A0089"},{"$f":"表格2[[#This Row],[產品]]","v":"POLO條紋裙-90-"},{"$f":"表格2[[#This Row],[單價]]","v":0},{"$f":"表格2[[#This Row],[入貨價]]","v":0},{"$f":"SUMIF(資料庫!D:D,庫存計算!C178,資料庫!E:E)","v":0}]
[{"$f":"表格2[[#This Row],[貨源]]","v":0},{"$f":"表格2[[#This Row],[編號]]","v":"A0089"},{"$f":"表格2[[#This Row],[產品]]","v":"POLO條紋裙-100-"},{"$f":"表格2[[#This Row],[單價]]","v":0},{"$f":"表格2[[#This Row],[入貨價]]","v":0},{"$f":"SUMIF(資料庫!D:D,庫存計算!C179,資料庫!E:E)","v":0}]
[{"$f":"表格2[[#This Row],[貨源]]","v":0},{"$f":"表格2[[#This Row],[編號]]","v":"A0090"},{"$f":"表格2[[#This Row],[產品]]","v":"POOH 背包--"},{"$f":"表格2[[#This Row],[單價]]","v":0},{"$f":"表格2[[#This Row],[入貨價]]","v":0},{"$f":"SUMIF(資料庫!D:D,庫存計算!C180,資料庫!E:E)","v":0}]
[{"$f":"表格2[[#This Row],[貨源]]","v":0},{"$f":"表格2[[#This Row],[編號]]","v":"A0091"},{"$f":"表格2[[#This Row],[產品]]","v":"pooh pat-18-24-"},{"$f":"表格2[[#This Row],[單價]]","v":0},{"$f":"表格2[[#This Row],[入貨價]]","v":0},{"$f":"SUMIF(資料庫!D:D,庫存計算!C181,資料庫!E:E)","v":0}]
[{"$f":"表格2[[#This Row],[貨源]]","v":0},{"$f":"表格2[[#This Row],[編號]]","v":"A0092"},{"$f":"表格2[[#This Row],[產品]]","v":"SANRIO 滿印-水90-"},{"$f":"表格2[[#This Row],[單價]]","v":0},{"$f":"表格2[[#This Row],[入貨價]]","v":0},{"$f":"SUMIF(資料庫!D:D,庫存計算!C182,資料庫!E:E)","v":0}]
[{"$f":"表格2[[#This Row],[貨源]]","v":0},{"$f":"表格2[[#This Row],[編號]]","v":"A0092"},{"$f":"表格2[[#This Row],[產品]]","v":"SANRIO 滿印-HT80-"},{"$f":"表格2[[#This Row],[單價]]","v":0},{"$f":"表格2[[#This Row],[入貨價]]","v":0},{"$f":"SUMIF(資料庫!D:D,庫存計算!C183,資料庫!E:E)","v":0}]
[{"$f":"表格2[[#This Row],[貨源]]","v":0},{"$f":"表格2[[#This Row],[編號]]","v":"A0092"},{"$f":"表格2[[#This Row],[產品]]","v":"SANRIO 滿印-HT90-"},{"$f":"表格2[[#This Row],[單價]]","v":0},{"$f":"表格2[[#This Row],[入貨價]]","v":0},{"$f":"SUMIF(資料庫!D:D,庫存計算!C184,資料庫!E:E)","v":0}]
[{"$f":"表格2[[#This Row],[貨源]]","v":0},{"$f":"表格2[[#This Row],[編號]]","v":"S1213"},{"$f":"表格2[[#This Row],[產品]]","v":"-小獅王-拋棄式雙層奶粉袋(12入)-"},{"$f":"表格2[[#This Row],[單價]]","v":38},{"$f":"表格2[[#This Row],[入貨價]]","v":63},{"$f":"SUMIF(資料庫!D:D,庫存計算!C185,資料庫!E:E)","v":0}]
[{"$f":"表格2[[#This Row],[貨源]]","v":0},{"$f":"表格2[[#This Row],[編號]]","v":"S1214"},{"$f":"表格2[[#This Row],[產品]]","v":"-小獅王-溜滑梯專利衛生奶粉盒(菈藍)-"},{"$f":"表格2[[#This Row],[單價]]","v":0},{"$f":"表格2[[#This Row],[入貨價]]","v":138},{"$f":"SUMIF(資料庫!D:D,庫存計算!C186,資料庫!E:E)","v":0}]
[{"$f":"表格2[[#This Row],[貨源]]","v":0},{"$f":"表格2[[#This Row],[編號]]","v":"S1215"},{"$f":"表格2[[#This Row],[產品]]","v":"-小獅王-溜滑梯專利衛生奶粉盒(貝粉)-"},{"$f":"表格2[[#This Row],[單價]]","v":0},{"$f":"表格2[[#This Row],[入貨價]]","v":138},{"$f":"SUMIF(資料庫!D:D,庫存計算!C187,資料庫!E:E)","v":0}]
[{"$f":"表格2[[#This Row],[貨源]]","v":0},{"$f":"表格2[[#This Row],[編號]]","v":"S1218G"},{"$f":"表格2[[#This Row],[產品]]","v":"-小獅王-母乳儲存袋150ml(60入)-粉色-"},{"$f":"表格2[[#This Row],[單價]]","v":88},{"$f":"表格2[[#This Row],[入貨價]]","v":195},{"$f":"SUMIF(資料庫!D:D,庫存計算!C188,資料庫!E:E)","v":0}]
[{"$f":"表格2[[#This Row],[貨源]]","v":0},{"$f":"表格2[[#This Row],[編號]]","v":"S1219G"},{"$f":"表格2[[#This Row],[產品]]","v":"-小獅王-母乳儲存袋200ml(60入)-藍色(綠色)-"},{"$f":"表格2[[#This Row],[單價]]","v":88},{"$f":"表格2[[#This Row],[入貨價]]","v":195},{"$f":"SUMIF(資料庫!D:D,庫存計算!C189,資料庫!E:E)","v":0}]
[{"$f":"表格2[[#This Row],[貨源]]","v":0},{"$f":"表格2[[#This Row],[編號]]","v":"S1220G"},{"$f":"表格2[[#This Row],[產品]]","v":"-小獅王-母乳儲存袋250ml(60入)-紫色-"},{"$f":"表格2[[#This Row],[單價]]","v":88},{"$f":"表格2[[#This Row],[入貨價]]","v":195},{"$f":"SUMIF(資料庫!D:D,庫存計算!C190,資料庫!E:E)","v":0}]
[{"$f":"表格2[[#This Row],[貨源]]","v":0},{"$f":"表格2[[#This Row],[編號]]","v":"S1221F"},{"$f":"表格2[[#This Row],[產品]]","v":"奶粉盒-小獅王-神奇定量奶粉罐-氣泡水(藍)-"},{"$f":"表格2[[#This Row],[單價]]","v":85},{"$f":"表格2[[#This Row],[入貨價]]","v":177},{"$f":"SUMIF(資料庫!D:D,庫存計算!C191,資料庫!E:E)","v":0}]
[{"$f":"表格2[[#This Row],[貨源]]","v":0},{"$f":"表格2[[#This Row],[編號]]","v":"S1221G"},{"$f":"表格2[[#This Row],[產品]]","v":"奶粉盒-小獅王-神奇定量奶粉罐-酪梨(綠)-"},{"$f":"表格2[[#This Row],[單價]]","v":85},{"$f":"表格2[[#This Row],[入貨價]]","v":177},{"$f":"SUMIF(資料庫!D:D,庫存計算!C192,資料庫!E:E)","v":0}]
[{"$f":"表格2[[#This Row],[貨源]]","v":0},{"$f":"表格2[[#This Row],[編號]]","v":"S1221H"},{"$f":"表格2[[#This Row],[產品]]","v":"奶粉盒-小獅王-神奇定量奶粉罐-無花果(粉)-"},{"$f":"表格2[[#This Row],[單價]]","v":85},{"$f":"表格2[[#This Row],[入貨價]]","v":177},{"$f":"SUMIF(資料庫!D:D,庫存計算!C193,資料庫!E:E)","v":0}]
[{"$f":"表格2[[#This Row],[貨源]]","v":0},{"$f":"表格2[[#This Row],[編號]]","v":"S1221K"},{"$f":"表格2[[#This Row],[產品]]","v":"奶粉盒-小獅王-神奇定量奶粉罐-肉桂捲(米)-"},{"$f":"表格2[[#This Row],[單價]]","v":85},{"$f":"表格2[[#This Row],[入貨價]]","v":177},{"$f":"SUMIF(資料庫!D:D,庫存計算!C194,資料庫!E:E)","v":0}]
[{"$f":"表格2[[#This Row],[貨源]]","v":0},{"$f":"表格2[[#This Row],[編號]]","v":"S1332"},{"$f":"表格2[[#This Row],[產品]]","v":"-小獅王-不倒翁牙刷(綠)-"},{"$f":"表格2[[#This Row],[單價]]","v":0},{"$f":"表格2[[#This Row],[入貨價]]","v":49},{"$f":"SUMIF(資料庫!D:D,庫存計算!C195,資料庫!E:E)","v":0}]
[{"$f":"表格2[[#This Row],[貨源]]","v":0},{"$f":"表格2[[#This Row],[編號]]","v":"S1332-1"},{"$f":"表格2[[#This Row],[產品]]","v":"-小獅王-不倒翁牙刷(橘)-"},{"$f":"表格2[[#This Row],[單價]]","v":0},{"$f":"表格2[[#This Row],[入貨價]]","v":49},{"$f":"SUMIF(資料庫!D:D,庫存計算!C196,資料庫!E:E)","v":0}]
[{"$f":"表格2[[#This Row],[貨源]]","v":0},{"$f":"表格2[[#This Row],[編號]]","v":"S1341-0"},{"$f":"表格2[[#This Row],[產品]]","v":"-小獅王-矽膠練習牙刷(天空藍)-"},{"$f":"表格2[[#This Row],[單價]]","v":49},{"$f":"表格2[[#This Row],[入貨價]]","v":83},{"$f":"SUMIF(資料庫!D:D,庫存計算!C197,資料庫!E:E)","v":0}]
[{"$f":"表格2[[#This Row],[貨源]]","v":0},{"$f":"表格2[[#This Row],[編號]]","v":"S1341-1"},{"$f":"表格2[[#This Row],[產品]]","v":"-小獅王-矽膠練習牙刷(淘氣綠)-"},{"$f":"表格2[[#This Row],[單價]]","v":49},{"$f":"表格2[[#This Row],[入貨價]]","v":83},{"$f":"SUMIF(資料庫!D:D,庫存計算!C198,資料庫!E:E)","v":0}]
[{"$f":"表格2[[#This Row],[貨源]]","v":0},{"$f":"表格2[[#This Row],[編號]]","v":"S1341-2"},{"$f":"表格2[[#This Row],[產品]]","v":"-小獅王-矽膠練習牙刷(溫暖橘)-"},{"$f":"表格2[[#This Row],[單價]]","v":49},{"$f":"表格2[[#This Row],[入貨價]]","v":83},{"$f":"SUMIF(資料庫!D:D,庫存計算!C199,資料庫!E:E)","v":0}]
[{"$f":"表格2[[#This Row],[貨源]]","v":0},{"$f":"表格2[[#This Row],[編號]]","v":"S1464F"},{"$f":"表格2[[#This Row],[產品]]","v":"奶樽刷-小獅王-超柔無垢白金矽膠旋轉奶瓶刷(小樹)-綠-"},{"$f":"表格2[[#This Row],[單價]]","v":69},{"$f":"表格2[[#This Row],[入貨價]]","v":174},{"$f":"SUMIF(資料庫!D:D,庫存計算!C200,資料庫!E:E)","v":0}]
[{"$f":"表格2[[#This Row],[貨源]]","v":0},{"$f":"表格2[[#This Row],[編號]]","v":"S1464G"},{"$f":"表格2[[#This Row],[產品]]","v":"奶樽刷-小獅王-超柔無垢白金矽膠旋轉奶瓶刷(小麥)-米-"},{"$f":"表格2[[#This Row],[單價]]","v":69},{"$f":"表格2[[#This Row],[入貨價]]","v":174},{"$f":"SUMIF(資料庫!D:D,庫存計算!C201,資料庫!E:E)","v":0}]
[{"$f":"表格2[[#This Row],[貨源]]","v":0},{"$f":"表格2[[#This Row],[編號]]","v":"S1464H"},{"$f":"表格2[[#This Row],[產品]]","v":"奶樽刷-小獅王-超柔無垢白金矽膠旋轉奶瓶刷(小櫻)-紅-"},{"$f":"表格2[[#This Row],[單價]]","v":69},{"$f":"表格2[[#This Row],[入貨價]]","v":174},{"$f":"SUMIF(資料庫!D:D,庫存計算!C202,資料庫!E:E)","v":0}]
[{"$f":"表格2[[#This Row],[貨源]]","v":0},{"$f":"表格2[[#This Row],[編號]]","v":"S1464K"},{"$f":"表格2[[#This Row],[產品]]","v":"奶樽刷-小獅王-超柔無垢白金矽膠旋轉奶瓶刷(小石)-灰-"},{"$f":"表格2[[#This Row],[單價]]","v":69},{"$f":"表格2[[#This Row],[入貨價]]","v":174},{"$f":"SUMIF(資料庫!D:D,庫存計算!C203,資料庫!E:E)","v":0}]
[{"$f":"表格2[[#This Row],[貨源]]","v":0},{"$f":"表格2[[#This Row],[編號]]","v":"S1465F"},{"$f":"表格2[[#This Row],[產品]]","v":"奶樽刷-小獅王-超柔無垢白金矽膠奶瓶刷(小樹)-綠-"},{"$f":"表格2[[#This Row],[單價]]","v":69},{"$f":"表格2[[#This Row],[入貨價]]","v":170},{"$f":"SUMIF(資料庫!D:D,庫存計算!C204,資料庫!E:E)","v":0}]
[{"$f":"表格2[[#This Row],[貨源]]","v":0},{"$f":"表格2[[#This Row],[編號]]","v":"S1465G"},{"$f":"表格2[[#This Row],[產品]]","v":"奶樽刷-小獅王-超柔無垢白金矽膠奶瓶刷(小麥)-米-"},{"$f":"表格2[[#This Row],[單價]]","v":69},{"$f":"表格2[[#This Row],[入貨價]]","v":170},{"$f":"SUMIF(資料庫!D:D,庫存計算!C205,資料庫!E:E)","v":0}]
[{"$f":"表格2[[#This Row],[貨源]]","v":0},{"$f":"表格2[[#This Row],[編號]]","v":"S1465H"},{"$f":"表格2[[#This Row],[產品]]","v":"奶樽刷-小獅王-超柔無垢白金矽膠奶瓶刷(小櫻)-紅-"},{"$f":"表格2[[#This Row],[單價]]","v":69},{"$f":"表格2[[#This Row],[入貨價]]","v":170},{"$f":"SUMIF(資料庫!D:D,庫存計算!C206,資料庫!E:E)","v":0}]
[{"$f":"表格2[[#This Row],[貨源]]","v":0},{"$f":"表格2[[#This Row],[編號]]","v":"S1465K"},{"$f":"表格2[[#This Row],[產品]]","v":"奶樽刷-小獅王-超柔無垢白金矽膠奶瓶刷(小石)-灰-"},{"$f":"表格2[[#This Row],[單價]]","v":69},{"$f":"表格2[[#This Row],[入貨價]]","v":170},{"$f":"SUMIF(資料庫!D:D,庫存計算!C207,資料庫!E:E)","v":0}]
[{"$f":"表格2[[#This Row],[貨源]]","v":0},{"$f":"表格2[[#This Row],[編號]]","v":"S1466F"},{"$f":"表格2[[#This Row],[產品]]","v":"奶嘴刷-小獅王-超柔無垢白金矽膠奶嘴刷(小樹)-綠-"},{"$f":"表格2[[#This Row],[單價]]","v":49},{"$f":"表格2[[#This Row],[入貨價]]","v":107},{"$f":"SUMIF(資料庫!D:D,庫存計算!C208,資料庫!E:E)","v":0}]
[{"$f":"表格2[[#This Row],[貨源]]","v":0},{"$f":"表格2[[#This Row],[編號]]","v":"S1466G"},{"$f":"表格2[[#This Row],[產品]]","v":"奶嘴刷-小獅王-超柔無垢白金矽膠奶嘴刷(小麥)-米-"},{"$f":"表格2[[#This Row],[單價]]","v":49},{"$f":"表格2[[#This Row],[入貨價]]","v":107},{"$f":"SUMIF(資料庫!D:D,庫存計算!C209,資料庫!E:E)","v":0}]
[{"$f":"表格2[[#This Row],[貨源]]","v":0},{"$f":"表格2[[#This Row],[編號]]","v":"S1466H"},{"$f":"表格2[[#This Row],[產品]]","v":"奶嘴刷-小獅王-超柔無垢白金矽膠奶嘴刷(小櫻)-紅-"},{"$f":"表格2[[#This Row],[單價]]","v":49},{"$f":"表格2[[#This Row],[入貨價]]","v":107},{"$f":"SUMIF(資料庫!D:D,庫存計算!C210,資料庫!E:E)","v":0}]
[{"$f":"表格2[[#This Row],[貨源]]","v":0},{"$f":"表格2[[#This Row],[編號]]","v":"S1466K"},{"$f":"表格2[[#This Row],[產品]]","v":"奶嘴刷-小獅王-超柔無垢白金矽膠奶嘴刷(小石)-灰-"},{"$f":"表格2[[#This Row],[單價]]","v":49},{"$f":"表格2[[#This Row],[入貨價]]","v":107},{"$f":"SUMIF(資料庫!D:D,庫存計算!C211,資料庫!E:E)","v":0}]
[{"$f":"表格2[[#This Row],[貨源]]","v":0},{"$f":"表格2[[#This Row],[編號]]","v":"S1737"},{"$f":"表格2[[#This Row],[產品]]","v":"-小獅王-嬰兒剪刀-"},{"$f":"表格2[[#This Row],[單價]]","v":0},{"$f":"表格2[[#This Row],[入貨價]]","v":49},{"$f":"SUMIF(資料庫!D:D,庫存計算!C212,資料庫!E:E)","v":0}]
[{"$f":"表格2[[#This Row],[貨源]]","v":0},{"$f":"表格2[[#This Row],[編號]]","v":"S1738"},{"$f":"表格2[[#This Row],[產品]]","v":"-小獅王-放大鏡嬰兒剪刀(曲面)-"},{"$f":"表格2[[#This Row],[單價]]","v":0},{"$f":"表格2[[#This Row],[入貨價]]","v":63},{"$f":"SUMIF(資料庫!D:D,庫存計算!C213,資料庫!E:E)","v":0}]
[{"$f":"表格2[[#This Row],[貨源]]","v":0},{"$f":"表格2[[#This Row],[編號]]","v":"S1745"},{"$f":"表格2[[#This Row],[產品]]","v":"-小獅王-辛巴指甲剪-"},{"$f":"表格2[[#This Row],[單價]]","v":0},{"$f":"表格2[[#This Row],[入貨價]]","v":58},{"$f":"SUMIF(資料庫!D:D,庫存計算!C214,資料庫!E:E)","v":0}]
[{"$f":"表格2[[#This Row],[貨源]]","v":0},{"$f":"表格2[[#This Row],[編號]]","v":"S1751"},{"$f":"表格2[[#This Row],[產品]]","v":"-小獅王-蘿蔓夜光奶嘴帶-天藍(香草)-"},{"$f":"表格2[[#This Row],[單價]]","v":49},{"$f":"表格2[[#This Row],[入貨價]]","v":81},{"$f":"SUMIF(資料庫!D:D,庫存計算!C215,資料庫!E:E)","v":0}]
[{"$f":"表格2[[#This Row],[貨源]]","v":0},{"$f":"表格2[[#This Row],[編號]]","v":"S1752"},{"$f":"表格2[[#This Row],[產品]]","v":"-小獅王-蘿蔓夜光奶嘴帶-粉紅(玫瑰)-"},{"$f":"表格2[[#This Row],[單價]]","v":49},{"$f":"表格2[[#This Row],[入貨價]]","v":81},{"$f":"SUMIF(資料庫!D:D,庫存計算!C216,資料庫!E:E)","v":0}]
[{"$f":"表格2[[#This Row],[貨源]]","v":0},{"$f":"表格2[[#This Row],[編號]]","v":"S1753"},{"$f":"表格2[[#This Row],[產品]]","v":"-小獅王-蘿蔓夜光奶嘴帶-咖啡(豔陽)-"},{"$f":"表格2[[#This Row],[單價]]","v":49},{"$f":"表格2[[#This Row],[入貨價]]","v":81},{"$f":"SUMIF(資料庫!D:D,庫存計算!C217,資料庫!E:E)","v":0}]
[{"$f":"表格2[[#This Row],[貨源]]","v":0},{"$f":"表格2[[#This Row],[編號]]","v":"S1754"},{"$f":"表格2[[#This Row],[產品]]","v":"-小獅王-桃樂絲夜光奶嘴帶-藍(許願精靈)-"},{"$f":"表格2[[#This Row],[單價]]","v":49},{"$f":"表格2[[#This Row],[入貨價]]","v":81},{"$f":"SUMIF(資料庫!D:D,庫存計算!C218,資料庫!E:E)","v":0}]
[{"$f":"表格2[[#This Row],[貨源]]","v":0},{"$f":"表格2[[#This Row],[編號]]","v":"S1755"},{"$f":"表格2[[#This Row],[產品]]","v":"-小獅王-桃樂絲夜光奶嘴帶-粉(美夢成真)-"},{"$f":"表格2[[#This Row],[單價]]","v":49},{"$f":"表格2[[#This Row],[入貨價]]","v":81},{"$f":"SUMIF(資料庫!D:D,庫存計算!C219,資料庫!E:E)","v":0}]
[{"$f":"表格2[[#This Row],[貨源]]","v":0},{"$f":"表格2[[#This Row],[編號]]","v":"S1760"},{"$f":"表格2[[#This Row],[產品]]","v":"奶嘴鍊-小獅王-辛巴防塵奶嘴鍊-經典(橘色)-"},{"$f":"表格2[[#This Row],[單價]]","v":45},{"$f":"表格2[[#This Row],[入貨價]]","v":85},{"$f":"SUMIF(資料庫!D:D,庫存計算!C220,資料庫!E:E)","v":0}]
[{"$f":"表格2[[#This Row],[貨源]]","v":0},{"$f":"表格2[[#This Row],[編號]]","v":"S1761"},{"$f":"表格2[[#This Row],[產品]]","v":"奶嘴鍊-小獅王-辛巴防塵奶嘴鍊-香草(藍色)-"},{"$f":"表格2[[#This Row],[單價]]","v":45},{"$f":"表格2[[#This Row],[入貨價]]","v":85},{"$f":"SUMIF(資料庫!D:D,庫存計算!C221,資料庫!E:E)","v":0}]
[{"$f":"表格2[[#This Row],[貨源]]","v":0},{"$f":"表格2[[#This Row],[編號]]","v":"S1762"},{"$f":"表格2[[#This Row],[產品]]","v":"奶嘴鍊-小獅王-辛巴防塵奶嘴鍊-莓果(粉紅)-"},{"$f":"表格2[[#This Row],[單價]]","v":45},{"$f":"表格2[[#This Row],[入貨價]]","v":85},{"$f":"SUMIF(資料庫!D:D,庫存計算!C222,資料庫!E:E)","v":0}]
[{"$f":"表格2[[#This Row],[貨源]]","v":0},{"$f":"表格2[[#This Row],[編號]]","v":"S1763"},{"$f":"表格2[[#This Row],[產品]]","v":"奶嘴鍊-小獅王-辛巴防塵奶嘴鍊-焦糖(咖啡)-"},{"$f":"表格2[[#This Row],[單價]]","v":45},{"$f":"表格2[[#This Row],[入貨價]]","v":85},{"$f":"SUMIF(資料庫!D:D,庫存計算!C223,資料庫!E:E)","v":0}]
[{"$f":"表格2[[#This Row],[貨源]]","v":0},{"$f":"表格2[[#This Row],[編號]]","v":"S18110"},{"$f":"表格2[[#This Row],[產品]]","v":"安撫奶嘴-小獅王-蘿蔓拇指安撫奶嘴-初生(天藍)(香草)-"},{"$f":"表格2[[#This Row],[單價]]","v":45},{"$f":"表格2[[#This Row],[入貨價]]","v":70},{"$f":"SUMIF(資料庫!D:D,庫存計算!C224,資料庫!E:E)","v":0}]
[{"$f":"表格2[[#This Row],[貨源]]","v":0},{"$f":"表格2[[#This Row],[編號]]","v":"S18111"},{"$f":"表格2[[#This Row],[產品]]","v":"安撫奶嘴-小獅王-蘿蔓拇指安撫奶嘴-較大(天藍)(香草)-"},{"$f":"表格2[[#This Row],[單價]]","v":45},{"$f":"表格2[[#This Row],[入貨價]]","v":70},{"$f":"SUMIF(資料庫!D:D,庫存計算!C225,資料庫!E:E)","v":0}]
[{"$f":"表格2[[#This Row],[貨源]]","v":0},{"$f":"表格2[[#This Row],[編號]]","v":"S18120"},{"$f":"表格2[[#This Row],[產品]]","v":"安撫奶嘴-小獅王-蘿蔓拇指安撫奶嘴-初生(粉紅)(玫瑰)-"},{"$f":"表格2[[#This Row],[單價]]","v":45},{"$f":"表格2[[#This Row],[入貨價]]","v":70},{"$f":"SUMIF(資料庫!D:D,庫存計算!C226,資料庫!E:E)","v":0}]
[{"$f":"表格2[[#This Row],[貨源]]","v":0},{"$f":"表格2[[#This Row],[編號]]","v":"S18121"},{"$f":"表格2[[#This Row],[產品]]","v":"安撫奶嘴-小獅王-蘿蔓拇指安撫奶嘴-較大(粉紅)(玫瑰)-"},{"$f":"表格2[[#This Row],[單價]]","v":45},{"$f":"表格2[[#This Row],[入貨價]]","v":70},{"$f":"SUMIF(資料庫!D:D,庫存計算!C227,資料庫!E:E)","v":0}]
[{"$f":"表格2[[#This Row],[貨源]]","v":0},{"$f":"表格2[[#This Row],[編號]]","v":"S18130"},{"$f":"表格2[[#This Row],[產品]]","v":"安撫奶嘴-小獅王-蘿蔓拇指安撫奶嘴-初生(咖啡)(豔陽)-"},{"$f":"表格2[[#This Row],[單價]]","v":45},{"$f":"表格2[[#This Row],[入貨價]]","v":70},{"$f":"SUMIF(資料庫!D:D,庫存計算!C228,資料庫!E:E)","v":0}]
[{"$f":"表格2[[#This Row],[貨源]]","v":0},{"$f":"表格2[[#This Row],[編號]]","v":"S18131"},{"$f":"表格2[[#This Row],[產品]]","v":"安撫奶嘴-小獅王-蘿蔓拇指安撫奶嘴-較大(咖啡)(豔陽)-"},{"$f":"表格2[[#This Row],[單價]]","v":45},{"$f":"表格2[[#This Row],[入貨價]]","v":70},{"$f":"SUMIF(資料庫!D:D,庫存計算!C229,資料庫!E:E)","v":0}]
[{"$f":"表格2[[#This Row],[貨源]]","v":0},{"$f":"表格2[[#This Row],[編號]]","v":"S19010"},{"$f":"表格2[[#This Row],[產品]]","v":"安撫奶嘴-小獅王-小辛巴拇指安撫奶嘴(初生)-"},{"$f":"表格2[[#This Row],[單價]]","v":45},{"$f":"表格2[[#This Row],[入貨價]]","v":70},{"$f":"SUMIF(資料庫!D:D,庫存計算!C230,資料庫!E:E)","v":0}]
[{"$f":"表格2[[#This Row],[貨源]]","v":0},{"$f":"表格2[[#This Row],[編號]]","v":"S19011"},{"$f":"表格2[[#This Row],[產品]]","v":"安撫奶嘴-小獅王-小辛巴拇指安撫奶嘴(較大)-"},{"$f":"表格2[[#This Row],[單價]]","v":45},{"$f":"表格2[[#This Row],[入貨價]]","v":70},{"$f":"SUMIF(資料庫!D:D,庫存計算!C231,資料庫!E:E)","v":0}]
[{"$f":"表格2[[#This Row],[貨源]]","v":0},{"$f":"表格2[[#This Row],[編號]]","v":"S2242"},{"$f":"表格2[[#This Row],[產品]]","v":"-小獅王-奶瓶蔬果洗潔液800ml組合包(一組2入)-"},{"$f":"表格2[[#This Row],[單價]]","v":0},{"$f":"表格2[[#This Row],[入貨價]]","v":299},{"$f":"SUMIF(資料庫!D:D,庫存計算!C232,資料庫!E:E)","v":0}]
[{"$f":"表格2[[#This Row],[貨源]]","v":0},{"$f":"表格2[[#This Row],[編號]]","v":"S2244"},{"$f":"表格2[[#This Row],[產品]]","v":"-小獅王-高分解酵素奶瓶清潔劑800ml-"},{"$f":"表格2[[#This Row],[單價]]","v":0},{"$f":"表格2[[#This Row],[入貨價]]","v":220},{"$f":"SUMIF(資料庫!D:D,庫存計算!C233,資料庫!E:E)","v":0}]
[{"$f":"表格2[[#This Row],[貨源]]","v":0},{"$f":"表格2[[#This Row],[編號]]","v":"S2245"},{"$f":"表格2[[#This Row],[產品]]","v":"-小獅王-高分解酵素奶瓶清潔劑800ml組合包(2入)-"},{"$f":"表格2[[#This Row],[單價]]","v":0},{"$f":"表格2[[#This Row],[入貨價]]","v":410},{"$f":"SUMIF(資料庫!D:D,庫存計算!C234,資料庫!E:E)","v":0}]
[{"$f":"表格2[[#This Row],[貨源]]","v":0},{"$f":"表格2[[#This Row],[編號]]","v":"S3334"},{"$f":"表格2[[#This Row],[產品]]","v":"-小獅王-啵啵軟質湯匙(藍洋洋)-2入-"},{"$f":"表格2[[#This Row],[單價]]","v":45},{"$f":"表格2[[#This Row],[入貨價]]","v":54},{"$f":"SUMIF(資料庫!D:D,庫存計算!C235,資料庫!E:E)","v":0}]
[{"$f":"表格2[[#This Row],[貨源]]","v":0},{"$f":"表格2[[#This Row],[編號]]","v":"S3335"},{"$f":"表格2[[#This Row],[產品]]","v":"-小獅王-啵啵軟質湯匙(啵啵粉)-2入-"},{"$f":"表格2[[#This Row],[單價]]","v":45},{"$f":"表格2[[#This Row],[入貨價]]","v":54},{"$f":"SUMIF(資料庫!D:D,庫存計算!C236,資料庫!E:E)","v":0}]
[{"$f":"表格2[[#This Row],[貨源]]","v":0},{"$f":"表格2[[#This Row],[編號]]","v":"S3351"},{"$f":"表格2[[#This Row],[產品]]","v":"-小獅王-美味漢堡碗-樂活海洋堡(藍色)-"},{"$f":"表格2[[#This Row],[單價]]","v":85},{"$f":"表格2[[#This Row],[入貨價]]","v":134},{"$f":"SUMIF(資料庫!D:D,庫存計算!C237,資料庫!E:E)","v":0}]
[{"$f":"表格2[[#This Row],[貨源]]","v":0},{"$f":"表格2[[#This Row],[編號]]","v":"S3352"},{"$f":"表格2[[#This Row],[產品]]","v":"-小獅王-美味漢堡碗-青檸桔事堡(綠色)-"},{"$f":"表格2[[#This Row],[單價]]","v":85},{"$f":"表格2[[#This Row],[入貨價]]","v":134},{"$f":"SUMIF(資料庫!D:D,庫存計算!C238,資料庫!E:E)","v":0}]
[{"$f":"表格2[[#This Row],[貨源]]","v":0},{"$f":"表格2[[#This Row],[編號]]","v":"S3354"},{"$f":"表格2[[#This Row],[產品]]","v":"-小獅王-美味漢堡碗-粉紅甜心堡(粉紅色)-"},{"$f":"表格2[[#This Row],[單價]]","v":85},{"$f":"表格2[[#This Row],[入貨價]]","v":134},{"$f":"SUMIF(資料庫!D:D,庫存計算!C239,資料庫!E:E)","v":0}]
[{"$f":"表格2[[#This Row],[貨源]]","v":0},{"$f":"表格2[[#This Row],[編號]]","v":"S3355"},{"$f":"表格2[[#This Row],[產品]]","v":"-小獅王-美味漢堡碗-花生好事堡(咖啡色)-"},{"$f":"表格2[[#This Row],[單價]]","v":85},{"$f":"表格2[[#This Row],[入貨價]]","v":134},{"$f":"SUMIF(資料庫!D:D,庫存計算!C240,資料庫!E:E)","v":0}]
[{"$f":"表格2[[#This Row],[貨源]]","v":0},{"$f":"表格2[[#This Row],[編號]]","v":"S3385"},{"$f":"表格2[[#This Row],[產品]]","v":"-小獅王-美味兒童叉匙組-焦糖(咖啡)-"},{"$f":"表格2[[#This Row],[單價]]","v":45},{"$f":"表格2[[#This Row],[入貨價]]","v":58},{"$f":"SUMIF(資料庫!D:D,庫存計算!C241,資料庫!E:E)","v":0}]
[{"$f":"表格2[[#This Row],[貨源]]","v":0},{"$f":"表格2[[#This Row],[編號]]","v":"S3391"},{"$f":"表格2[[#This Row],[產品]]","v":"-小獅王-美味軟糖湯匙組-香草(藍色)-"},{"$f":"表格2[[#This Row],[單價]]","v":45},{"$f":"表格2[[#This Row],[入貨價]]","v":81},{"$f":"SUMIF(資料庫!D:D,庫存計算!C242,資料庫!E:E)","v":0}]
[{"$f":"表格2[[#This Row],[貨源]]","v":0},{"$f":"表格2[[#This Row],[編號]]","v":"S3394"},{"$f":"表格2[[#This Row],[產品]]","v":"-小獅王-美味軟糖湯匙組-莓果(粉色)-"},{"$f":"表格2[[#This Row],[單價]]","v":45},{"$f":"表格2[[#This Row],[入貨價]]","v":81},{"$f":"SUMIF(資料庫!D:D,庫存計算!C243,資料庫!E:E)","v":0}]
[{"$f":"表格2[[#This Row],[貨源]]","v":0},{"$f":"表格2[[#This Row],[編號]]","v":"S3395"},{"$f":"表格2[[#This Row],[產品]]","v":"-小獅王-美味軟糖湯匙組-焦糖(咖啡)-"},{"$f":"表格2[[#This Row],[單價]]","v":45},{"$f":"表格2[[#This Row],[入貨價]]","v":81},{"$f":"SUMIF(資料庫!D:D,庫存計算!C244,資料庫!E:E)","v":0}]
[{"$f":"表格2[[#This Row],[貨源]]","v":0},{"$f":"表格2[[#This Row],[編號]]","v":"S5334"},{"$f":"表格2[[#This Row],[產品]]","v":"-小獅王-透氣棉開襟包屁衣70cm(短袖)-阜灰-"},{"$f":"表格2[[#This Row],[單價]]","v":0},{"$f":"表格2[[#This Row],[入貨價]]","v":""},{"$f":"SUMIF(資料庫!D:D,庫存計算!C245,資料庫!E:E)","v":0}]
[{"$f":"表格2[[#This Row],[貨源]]","v":0},{"$f":"表格2[[#This Row],[編號]]","v":"S606F"},{"$f":"表格2[[#This Row],[產品]]","v":"-UDI  H1智能高效蒸氣烘乾消毒鍋(苜白)-"},{"$f":"表格2[[#This Row],[單價]]","v":0},{"$f":"表格2[[#This Row],[入貨價]]","v":3060},{"$f":"SUMIF(資料庫!D:D,庫存計算!C246,資料庫!E:E)","v":0}]
[{"$f":"表格2[[#This Row],[貨源]]","v":0},{"$f":"表格2[[#This Row],[編號]]","v":"S606G"},{"$f":"表格2[[#This Row],[產品]]","v":"-UDI H1智能高效蒸氣烘乾消毒鍋(栗粉)-"},{"$f":"表格2[[#This Row],[單價]]","v":0},{"$f":"表格2[[#This Row],[入貨價]]","v":3060},{"$f":"SUMIF(資料庫!D:D,庫存計算!C247,資料庫!E:E)","v":0}]
[{"$f":"表格2[[#This Row],[貨源]]","v":0},{"$f":"表格2[[#This Row],[編號]]","v":"S606H"},{"$f":"表格2[[#This Row],[產品]]","v":"-UDI H1智能高效蒸氣烘乾消毒鍋(杏茶)-"},{"$f":"表格2[[#This Row],[單價]]","v":0},{"$f":"表格2[[#This Row],[入貨價]]","v":3060},{"$f":"SUMIF(資料庫!D:D,庫存計算!C248,資料庫!E:E)","v":0}]
[{"$f":"表格2[[#This Row],[貨源]]","v":0},{"$f":"表格2[[#This Row],[編號]]","v":"S8670"},{"$f":"表格2[[#This Row],[產品]]","v":"-小獅王-好樂飲防漏滑蓋替換吸管組(2入)-"},{"$f":"表格2[[#This Row],[單價]]","v":0},{"$f":"表格2[[#This Row],[入貨價]]","v":107},{"$f":"SUMIF(資料庫!D:D,庫存計算!C249,資料庫!E:E)","v":0}]
[{"$f":"表格2[[#This Row],[貨源]]","v":0},{"$f":"表格2[[#This Row],[編號]]","v":"S8671"},{"$f":"表格2[[#This Row],[產品]]","v":"好樂飲-小獅王-好樂飲PPSU防漏滑蓋學習水杯250ml(可可杏)-"},{"$f":"表格2[[#This Row],[單價]]","v":170},{"$f":"表格2[[#This Row],[入貨價]]","v":441},{"$f":"SUMIF(資料庫!D:D,庫存計算!C250,資料庫!E:E)","v":0}]
[{"$f":"表格2[[#This Row],[貨源]]","v":0},{"$f":"表格2[[#This Row],[編號]]","v":"S8672"},{"$f":"表格2[[#This Row],[產品]]","v":"好樂飲-小獅王-好樂飲PPSU防漏滑蓋學習水杯250ml(悠悠粉)-"},{"$f":"表格2[[#This Row],[單價]]","v":170},{"$f":"表格2[[#This Row],[入貨價]]","v":441},{"$f":"SUMIF(資料庫!D:D,庫存計算!C251,資料庫!E:E)","v":0}]
[{"$f":"表格2[[#This Row],[貨源]]","v":0},{"$f":"表格2[[#This Row],[編號]]","v":"S8673"},{"$f":"表格2[[#This Row],[產品]]","v":"好樂飲-小獅王-好樂飲PPSU防漏滑蓋學習水杯250ml(安安藍)-"},{"$f":"表格2[[#This Row],[單價]]","v":170},{"$f":"表格2[[#This Row],[入貨價]]","v":441},{"$f":"SUMIF(資料庫!D:D,庫存計算!C252,資料庫!E:E)","v":0}]
[{"$f":"表格2[[#This Row],[貨源]]","v":0},{"$f":"表格2[[#This Row],[編號]]","v":"S9535-5"},{"$f":"表格2[[#This Row],[產品]]","v":"-小獅王-吸乳器(矽膠軟墊)-"},{"$f":"表格2[[#This Row],[單價]]","v":0},{"$f":"表格2[[#This Row],[入貨價]]","v":200},{"$f":"SUMIF(資料庫!D:D,庫存計算!C253,資料庫!E:E)","v":0}]
[{"$f":"表格2[[#This Row],[貨源]]","v":0},{"$f":"表格2[[#This Row],[編號]]","v":"S9554"},{"$f":"表格2[[#This Row],[產品]]","v":"-小獅王-iFeed極美機超靜音電動吸乳器-"},{"$f":"表格2[[#This Row],[單價]]","v":0},{"$f":"表格2[[#This Row],[入貨價]]","v":2950},{"$f":"SUMIF(資料庫!D:D,庫存計算!C254,資料庫!E:E)","v":0}]
[{"$f":"表格2[[#This Row],[貨源]]","v":0},{"$f":"表格2[[#This Row],[編號]]","v":"S9554-1"},{"$f":"表格2[[#This Row],[產品]]","v":"-小獅王-iFeed極美機電動吸乳器(吸乳喇叭罩)-"},{"$f":"表格2[[#This Row],[單價]]","v":0},{"$f":"表格2[[#This Row],[入貨價]]","v":200},{"$f":"SUMIF(資料庫!D:D,庫存計算!C255,資料庫!E:E)","v":0}]
[{"$f":"表格2[[#This Row],[貨源]]","v":0},{"$f":"表格2[[#This Row],[編號]]","v":"S9733"},{"$f":"表格2[[#This Row],[產品]]","v":"-小獅王-長效薰衣草精油防蚊貼-恐龍圖鑑(16枚)-"},{"$f":"表格2[[#This Row],[單價]]","v":0},{"$f":"表格2[[#This Row],[入貨價]]","v":72},{"$f":"SUMIF(資料庫!D:D,庫存計算!C256,資料庫!E:E)","v":0}]
[{"$f":"表格2[[#This Row],[貨源]]","v":0},{"$f":"表格2[[#This Row],[編號]]","v":"S9734"},{"$f":"表格2[[#This Row],[產品]]","v":"-小獅王-長效薰衣草精油防蚊貼-恐龍圖鑑(32枚)-"},{"$f":"表格2[[#This Row],[單價]]","v":50},{"$f":"表格2[[#This Row],[入貨價]]","v":125},{"$f":"SUMIF(資料庫!D:D,庫存計算!C257,資料庫!E:E)","v":0}]
[{"$f":"表格2[[#This Row],[貨源]]","v":0},{"$f":"表格2[[#This Row],[編號]]","v":"S9817"},{"$f":"表格2[[#This Row],[產品]]","v":"-小獅王-嬰兒防滑浴盆(凱特藍)-"},{"$f":"表格2[[#This Row],[單價]]","v":0},{"$f":"表格2[[#This Row],[入貨價]]","v":480},{"$f":"SUMIF(資料庫!D:D,庫存計算!C258,資料庫!E:E)","v":0}]
[{"$f":"表格2[[#This Row],[貨源]]","v":0},{"$f":"表格2[[#This Row],[編號]]","v":"S9818"},{"$f":"表格2[[#This Row],[產品]]","v":"-小獅王-嬰兒防滑浴盆(麗芙粉)-"},{"$f":"表格2[[#This Row],[單價]]","v":0},{"$f":"表格2[[#This Row],[入貨價]]","v":480},{"$f":"SUMIF(資料庫!D:D,庫存計算!C259,資料庫!E:E)","v":0}]
[{"$f":"表格2[[#This Row],[貨源]]","v":0},{"$f":"表格2[[#This Row],[編號]]","v":"S9819"},{"$f":"表格2[[#This Row],[產品]]","v":"-小獅王-可調式沐浴網-"},{"$f":"表格2[[#This Row],[單價]]","v":0},{"$f":"表格2[[#This Row],[入貨價]]","v":245},{"$f":"SUMIF(資料庫!D:D,庫存計算!C260,資料庫!E:E)","v":0}]
[{"$f":"表格2[[#This Row],[貨源]]","v":0},{"$f":"表格2[[#This Row],[編號]]","v":"S9931-B"},{"$f":"表格2[[#This Row],[產品]]","v":"-小獅王-嬰兒乾溼兩用巾(80抽)藍色包裝-"},{"$f":"表格2[[#This Row],[單價]]","v":0},{"$f":"表格2[[#This Row],[入貨價]]","v":63},{"$f":"SUMIF(資料庫!D:D,庫存計算!C261,資料庫!E:E)","v":0}]
[{"$f":"表格2[[#This Row],[貨源]]","v":0},{"$f":"表格2[[#This Row],[編號]]","v":"S9931-P"},{"$f":"表格2[[#This Row],[產品]]","v":"-小獅王-嬰兒乾溼兩用巾(80抽)粉色包裝-"},{"$f":"表格2[[#This Row],[單價]]","v":0},{"$f":"表格2[[#This Row],[入貨價]]","v":63},{"$f":"SUMIF(資料庫!D:D,庫存計算!C262,資料庫!E:E)","v":0}]
[{"$f":"表格2[[#This Row],[貨源]]","v":0},{"$f":"表格2[[#This Row],[編號]]","v":"S9952"},{"$f":"表格2[[#This Row],[產品]]","v":"-小獅王-智能六段式定溫調乳器(S5 PRO)-"},{"$f":"表格2[[#This Row],[單價]]","v":0},{"$f":"表格2[[#This Row],[入貨價]]","v":3850},{"$f":"SUMIF(資料庫!D:D,庫存計算!C263,資料庫!E:E)","v":0}]
[{"$f":"表格2[[#This Row],[貨源]]","v":0},{"$f":"表格2[[#This Row],[編號]]","v":"S9978"},{"$f":"表格2[[#This Row],[產品]]","v":"-小獅王-薰衣草精油防蚊液組(噴霧型)-"},{"$f":"表格2[[#This Row],[單價]]","v":0},{"$f":"表格2[[#This Row],[入貨價]]","v":214},{"$f":"SUMIF(資料庫!D:D,庫存計算!C264,資料庫!E:E)","v":0}]
[{"$f":"表格2[[#This Row],[貨源]]","v":0},{"$f":"表格2[[#This Row],[編號]]","v":"S9979"},{"$f":"表格2[[#This Row],[產品]]","v":"-小獅王-薰衣草精油防蚊液(噴霧型)60ml-"},{"$f":"表格2[[#This Row],[單價]]","v":0},{"$f":"表格2[[#This Row],[入貨價]]","v":116},{"$f":"SUMIF(資料庫!D:D,庫存計算!C265,資料庫!E:E)","v":0}]
[{"$f":"表格2[[#This Row],[貨源]]","v":0},{"$f":"表格2[[#This Row],[編號]]","v":"S9987"},{"$f":"表格2[[#This Row],[產品]]","v":"-小獅王-長效檸檬草精油防蚊貼(16枚)-"},{"$f":"表格2[[#This Row],[單價]]","v":0},{"$f":"表格2[[#This Row],[入貨價]]","v":72},{"$f":"SUMIF(資料庫!D:D,庫存計算!C266,資料庫!E:E)","v":0}]
[{"$f":"表格2[[#This Row],[貨源]]","v":0},{"$f":"表格2[[#This Row],[編號]]","v":"S9988"},{"$f":"表格2[[#This Row],[產品]]","v":"-小獅王-長效檸檬草精油防蚊貼(32枚)-"},{"$f":"表格2[[#This Row],[單價]]","v":50},{"$f":"表格2[[#This Row],[入貨價]]","v":125},{"$f":"SUMIF(資料庫!D:D,庫存計算!C267,資料庫!E:E)","v":0}]
[{"$f":"表格2[[#This Row],[貨源]]","v":0},{"$f":"表格2[[#This Row],[編號]]","v":"sample004001"},{"$f":"表格2[[#This Row],[產品]]","v":"-小獅王-超柔無垢白金矽膠旋轉奶瓶刷(小麥)-米 (樣品)-"},{"$f":"表格2[[#This Row],[單價]]","v":0},{"$f":"表格2[[#This Row],[入貨價]]","v":""},{"$f":"SUMIF(資料庫!D:D,庫存計算!C268,資料庫!E:E)","v":0}]
[{"$f":"表格2[[#This Row],[貨源]]","v":0},{"$f":"表格2[[#This Row],[編號]]","v":"sample004002"},{"$f":"表格2[[#This Row],[產品]]","v":"-小獅王-超柔無垢白金矽膠奶瓶刷(小石)-灰 (樣品)-"},{"$f":"表格2[[#This Row],[單價]]","v":0},{"$f":"表格2[[#This Row],[入貨價]]","v":""},{"$f":"SUMIF(資料庫!D:D,庫存計算!C269,資料庫!E:E)","v":0}]
[{"$f":"表格2[[#This Row],[貨源]]","v":0},{"$f":"表格2[[#This Row],[編號]]","v":"sample004003"},{"$f":"表格2[[#This Row],[產品]]","v":"-小獅王-智能六段式定溫調乳器(S5 PRO)-"},{"$f":"表格2[[#This Row],[單價]]","v":0},{"$f":"表格2[[#This Row],[入貨價]]","v":""},{"$f":"SUMIF(資料庫!D:D,庫存計算!C270,資料庫!E:E)","v":0}]
[{"$f":"表格2[[#This Row],[貨源]]","v":0},{"$f":"表格2[[#This Row],[編號]]","v":"sample004004"},{"$f":"表格2[[#This Row],[產品]]","v":"-小獅王-UDI H1智能高效蒸氣烘乾消毒鍋(杏茶)-"},{"$f":"表格2[[#This Row],[單價]]","v":0},{"$f":"表格2[[#This Row],[入貨價]]","v":""},{"$f":"SUMIF(資料庫!D:D,庫存計算!C271,資料庫!E:E)","v":0}]
[{"$f":"表格2[[#This Row],[貨源]]","v":0},{"$f":"表格2[[#This Row],[編號]]","v":"sample004005"},{"$f":"表格2[[#This Row],[產品]]","v":"-小獅王-短袖80-"},{"$f":"表格2[[#This Row],[單價]]","v":0},{"$f":"表格2[[#This Row],[入貨價]]","v":""},{"$f":"SUMIF(資料庫!D:D,庫存計算!C272,資料庫!E:E)","v":0}]
[{"$f":"表格2[[#This Row],[貨源]]","v":0},{"$f":"表格2[[#This Row],[編號]]","v":"sample004006"},{"$f":"表格2[[#This Row],[產品]]","v":"-小獅王-無袖80-"},{"$f":"表格2[[#This Row],[單價]]","v":0},{"$f":"表格2[[#This Row],[入貨價]]","v":""},{"$f":"SUMIF(資料庫!D:D,庫存計算!C273,資料庫!E:E)","v":0}]
[{"$f":"表格2[[#This Row],[貨源]]","v":0},{"$f":"表格2[[#This Row],[編號]]","v":"sample004007"},{"$f":"表格2[[#This Row],[產品]]","v":"-小獅王-短袖70-"},{"$f":"表格2[[#This Row],[單價]]","v":0},{"$f":"表格2[[#This Row],[入貨價]]","v":""},{"$f":"SUMIF(資料庫!D:D,庫存計算!C274,資料庫!E:E)","v":0}]
[{"$f":"表格2[[#This Row],[貨源]]","v":0},{"$f":"表格2[[#This Row],[編號]]","v":"sample004008"},{"$f":"表格2[[#This Row],[產品]]","v":"-小獅王-短袖60-"},{"$f":"表格2[[#This Row],[單價]]","v":0},{"$f":"表格2[[#This Row],[入貨價]]","v":""},{"$f":"SUMIF(資料庫!D:D,庫存計算!C275,資料庫!E:E)","v":0}]
[{"$f":"表格2[[#This Row],[貨源]]","v":0},{"$f":"表格2[[#This Row],[編號]]","v":"sample004009"},{"$f":"表格2[[#This Row],[產品]]","v":"-小獅王-無袖70-"},{"$f":"表格2[[#This Row],[單價]]","v":0},{"$f":"表格2[[#This Row],[入貨價]]","v":""},{"$f":"SUMIF(資料庫!D:D,庫存計算!C276,資料庫!E:E)","v":0}]
[{"$f":"表格2[[#This Row],[貨源]]","v":0},{"$f":"表格2[[#This Row],[編號]]","v":"sample004010"},{"$f":"表格2[[#This Row],[產品]]","v":"-小獅王-長袖60-"},{"$f":"表格2[[#This Row],[單價]]","v":0},{"$f":"表格2[[#This Row],[入貨價]]","v":""},{"$f":"SUMIF(資料庫!D:D,庫存計算!C277,資料庫!E:E)","v":0}]
[{"$f":"表格2[[#This Row],[貨源]]","v":0},{"$f":"表格2[[#This Row],[編號]]","v":"SW1351"},{"$f":"表格2[[#This Row],[產品]]","v":"-小獅王-辛巴 Pointy 嬰兒口腔清潔指套 (100入)-"},{"$f":"表格2[[#This Row],[單價]]","v":0},{"$f":"表格2[[#This Row],[入貨價]]","v":201},{"$f":"SUMIF(資料庫!D:D,庫存計算!C278,資料庫!E:E)","v":0}]
[{"$f":"表格2[[#This Row],[貨源]]","v":0},{"$f":"表格2[[#This Row],[編號]]","v":"SW1467"},{"$f":"表格2[[#This Row],[產品]]","v":"-小獅王-超柔無垢海綿快拆旋轉奶瓶刷-"},{"$f":"表格2[[#This Row],[單價]]","v":0},{"$f":"表格2[[#This Row],[入貨價]]","v":146},{"$f":"SUMIF(資料庫!D:D,庫存計算!C279,資料庫!E:E)","v":0}]
[{"$f":"表格2[[#This Row],[貨源]]","v":0},{"$f":"表格2[[#This Row],[編號]]","v":"SW1468"},{"$f":"表格2[[#This Row],[產品]]","v":"-小獅王-超柔無垢海綿旋轉奶瓶刷-"},{"$f":"表格2[[#This Row],[單價]]","v":0},{"$f":"表格2[[#This Row],[入貨價]]","v":128},{"$f":"SUMIF(資料庫!D:D,庫存計算!C280,資料庫!E:E)","v":0}]
[{"$f":"表格2[[#This Row],[貨源]]","v":0},{"$f":"表格2[[#This Row],[編號]]","v":"SW1469"},{"$f":"表格2[[#This Row],[產品]]","v":"-小獅王-超柔無垢海綿奶嘴刷(2入)-"},{"$f":"表格2[[#This Row],[單價]]","v":0},{"$f":"表格2[[#This Row],[入貨價]]","v":88},{"$f":"SUMIF(資料庫!D:D,庫存計算!C281,資料庫!E:E)","v":0}]
[{"$f":"表格2[[#This Row],[貨源]]","v":0},{"$f":"表格2[[#This Row],[編號]]","v":"SW1470"},{"$f":"表格2[[#This Row],[產品]]","v":"-小獅王-超柔無垢海綿快拆旋轉奶瓶刷替換刷頭(1入)-"},{"$f":"表格2[[#This Row],[單價]]","v":0},{"$f":"表格2[[#This Row],[入貨價]]","v":41},{"$f":"SUMIF(資料庫!D:D,庫存計算!C282,資料庫!E:E)","v":0}]
[{"$f":"表格2[[#This Row],[貨源]]","v":0},{"$f":"表格2[[#This Row],[編號]]","v":"SW1471"},{"$f":"表格2[[#This Row],[產品]]","v":"-小獅王-超柔無垢海綿旋轉奶瓶刷替換包(2入)-"},{"$f":"表格2[[#This Row],[單價]]","v":0},{"$f":"表格2[[#This Row],[入貨價]]","v":47},{"$f":"SUMIF(資料庫!D:D,庫存計算!C283,資料庫!E:E)","v":0}]
[{"$f":"表格2[[#This Row],[貨源]]","v":0},{"$f":"表格2[[#This Row],[編號]]","v":"SW1472"},{"$f":"表格2[[#This Row],[產品]]","v":"-小獅王-超柔無垢海綿奶嘴刷替換包(3入)-"},{"$f":"表格2[[#This Row],[單價]]","v":0},{"$f":"表格2[[#This Row],[入貨價]]","v":30},{"$f":"SUMIF(資料庫!D:D,庫存計算!C284,資料庫!E:E)","v":0}]
[{"$f":"表格2[[#This Row],[貨源]]","v":0},{"$f":"表格2[[#This Row],[編號]]","v":"SW1473"},{"$f":"表格2[[#This Row],[產品]]","v":"-小獅王-超柔無垢海綿旋轉奶瓶刷組-"},{"$f":"表格2[[#This Row],[單價]]","v":0},{"$f":"表格2[[#This Row],[入貨價]]","v":128},{"$f":"SUMIF(資料庫!D:D,庫存計算!C285,資料庫!E:E)","v":0}]
[{"$f":"表格2[[#This Row],[貨源]]","v":0},{"$f":"表格2[[#This Row],[編號]]","v":"SW1660"},{"$f":"表格2[[#This Row],[產品]]","v":"-小獅王-平安御守香火袋-恐龍樂園(藍)-"},{"$f":"表格2[[#This Row],[單價]]","v":55},{"$f":"表格2[[#This Row],[入貨價]]","v":112},{"$f":"SUMIF(資料庫!D:D,庫存計算!C286,資料庫!E:E)","v":0}]
[{"$f":"表格2[[#This Row],[貨源]]","v":0},{"$f":"表格2[[#This Row],[編號]]","v":"SW1661"},{"$f":"表格2[[#This Row],[產品]]","v":"-小獅王-平安御守香火袋-蜜桃菠菠(粉)-"},{"$f":"表格2[[#This Row],[單價]]","v":55},{"$f":"表格2[[#This Row],[入貨價]]","v":112},{"$f":"SUMIF(資料庫!D:D,庫存計算!C287,資料庫!E:E)","v":0}]
[{"$f":"表格2[[#This Row],[貨源]]","v":0},{"$f":"表格2[[#This Row],[編號]]","v":"SW1662"},{"$f":"表格2[[#This Row],[產品]]","v":"-小獅王-平安御守香火袋-小鳥星球(綠)-"},{"$f":"表格2[[#This Row],[單價]]","v":55},{"$f":"表格2[[#This Row],[入貨價]]","v":112},{"$f":"SUMIF(資料庫!D:D,庫存計算!C288,資料庫!E:E)","v":0}]
[{"$f":"表格2[[#This Row],[貨源]]","v":0},{"$f":"表格2[[#This Row],[編號]]","v":"SW1663"},{"$f":"表格2[[#This Row],[產品]]","v":"-小獅王-平安御守香火袋-奶油字母(杏)-"},{"$f":"表格2[[#This Row],[單價]]","v":55},{"$f":"表格2[[#This Row],[入貨價]]","v":112},{"$f":"SUMIF(資料庫!D:D,庫存計算!C289,資料庫!E:E)","v":0}]
[{"$f":"表格2[[#This Row],[貨源]]","v":0},{"$f":"表格2[[#This Row],[編號]]","v":"SW1710"},{"$f":"表格2[[#This Row],[產品]]","v":"-小獅王-蘊蜜夜光奶嘴帶-晨藍-"},{"$f":"表格2[[#This Row],[單價]]","v":49},{"$f":"表格2[[#This Row],[入貨價]]","v":81},{"$f":"SUMIF(資料庫!D:D,庫存計算!C290,資料庫!E:E)","v":0}]
[{"$f":"表格2[[#This Row],[貨源]]","v":0},{"$f":"表格2[[#This Row],[編號]]","v":"SW1711"},{"$f":"表格2[[#This Row],[產品]]","v":"-小獅王-蘊蜜夜光奶嘴帶-栗粉-"},{"$f":"表格2[[#This Row],[單價]]","v":49},{"$f":"表格2[[#This Row],[入貨價]]","v":81},{"$f":"SUMIF(資料庫!D:D,庫存計算!C291,資料庫!E:E)","v":0}]
[{"$f":"表格2[[#This Row],[貨源]]","v":0},{"$f":"表格2[[#This Row],[編號]]","v":"SW1712"},{"$f":"表格2[[#This Row],[產品]]","v":"-小獅王-蘊蜜夜光奶嘴帶-杏茶-"},{"$f":"表格2[[#This Row],[單價]]","v":49},{"$f":"表格2[[#This Row],[入貨價]]","v":81},{"$f":"SUMIF(資料庫!D:D,庫存計算!C292,資料庫!E:E)","v":0}]
[{"$f":"表格2[[#This Row],[貨源]]","v":0},{"$f":"表格2[[#This Row],[編號]]","v":"SW1714"},{"$f":"表格2[[#This Row],[產品]]","v":"-小獅王-蘊蜜夜光奶嘴帶-綠沐-"},{"$f":"表格2[[#This Row],[單價]]","v":49},{"$f":"表格2[[#This Row],[入貨價]]","v":81},{"$f":"SUMIF(資料庫!D:D,庫存計算!C293,資料庫!E:E)","v":0}]
[{"$f":"表格2[[#This Row],[貨源]]","v":0},{"$f":"表格2[[#This Row],[編號]]","v":"SW1720"},{"$f":"表格2[[#This Row],[產品]]","v":"-小獅王-蘊蜜萬用防掉雙頭夾(晨藍)-"},{"$f":"表格2[[#This Row],[單價]]","v":45},{"$f":"表格2[[#This Row],[入貨價]]","v":98},{"$f":"SUMIF(資料庫!D:D,庫存計算!C294,資料庫!E:E)","v":0}]
[{"$f":"表格2[[#This Row],[貨源]]","v":0},{"$f":"表格2[[#This Row],[編號]]","v":"SW1721"},{"$f":"表格2[[#This Row],[產品]]","v":"-小獅王-蘊蜜萬用防掉雙頭夾(栗粉)-"},{"$f":"表格2[[#This Row],[單價]]","v":45},{"$f":"表格2[[#This Row],[入貨價]]","v":98},{"$f":"SUMIF(資料庫!D:D,庫存計算!C295,資料庫!E:E)","v":0}]
[{"$f":"表格2[[#This Row],[貨源]]","v":0},{"$f":"表格2[[#This Row],[編號]]","v":"SW1722"},{"$f":"表格2[[#This Row],[產品]]","v":"-小獅王-蘊蜜萬用防掉雙頭夾(杏茶)-"},{"$f":"表格2[[#This Row],[單價]]","v":45},{"$f":"表格2[[#This Row],[入貨價]]","v":98},{"$f":"SUMIF(資料庫!D:D,庫存計算!C296,資料庫!E:E)","v":0}]
[{"$f":"表格2[[#This Row],[貨源]]","v":0},{"$f":"表格2[[#This Row],[編號]]","v":"SW1723"},{"$f":"表格2[[#This Row],[產品]]","v":"-小獅王-蘊蜜萬用防掉雙頭夾(紫芙)-"},{"$f":"表格2[[#This Row],[單價]]","v":45},{"$f":"表格2[[#This Row],[入貨價]]","v":98},{"$f":"SUMIF(資料庫!D:D,庫存計算!C297,資料庫!E:E)","v":0}]
[{"$f":"表格2[[#This Row],[貨源]]","v":0},{"$f":"表格2[[#This Row],[編號]]","v":"SW1724"},{"$f":"表格2[[#This Row],[產品]]","v":"-小獅王-蘊蜜萬用防掉雙頭夾(綠沐)-"},{"$f":"表格2[[#This Row],[單價]]","v":45},{"$f":"表格2[[#This Row],[入貨價]]","v":98},{"$f":"SUMIF(資料庫!D:D,庫存計算!C298,資料庫!E:E)","v":0}]
[{"$f":"表格2[[#This Row],[貨源]]","v":0},{"$f":"表格2[[#This Row],[編號]]","v":"SW1910"},{"$f":"表格2[[#This Row],[產品]]","v":"安撫奶嘴-小獅王-蘊蜜超柔拇指安撫奶嘴(晨藍)-初生-"},{"$f":"表格2[[#This Row],[單價]]","v":45},{"$f":"表格2[[#This Row],[入貨價]]","v":74},{"$f":"SUMIF(資料庫!D:D,庫存計算!C299,資料庫!E:E)","v":0}]
[{"$f":"表格2[[#This Row],[貨源]]","v":0},{"$f":"表格2[[#This Row],[編號]]","v":"SW1911"},{"$f":"表格2[[#This Row],[產品]]","v":"安撫奶嘴-小獅王-蘊蜜超柔拇指安撫奶嘴(栗粉)-初生-"},{"$f":"表格2[[#This Row],[單價]]","v":45},{"$f":"表格2[[#This Row],[入貨價]]","v":74},{"$f":"SUMIF(資料庫!D:D,庫存計算!C300,資料庫!E:E)","v":0}]
[{"$f":"表格2[[#This Row],[貨源]]","v":0},{"$f":"表格2[[#This Row],[編號]]","v":"SW1912"},{"$f":"表格2[[#This Row],[產品]]","v":"安撫奶嘴-小獅王-蘊蜜超柔拇指安撫奶嘴(杏茶)-初生-"},{"$f":"表格2[[#This Row],[單價]]","v":45},{"$f":"表格2[[#This Row],[入貨價]]","v":74},{"$f":"SUMIF(資料庫!D:D,庫存計算!C301,資料庫!E:E)","v":0}]
[{"$f":"表格2[[#This Row],[貨源]]","v":0},{"$f":"表格2[[#This Row],[編號]]","v":"SW1914"},{"$f":"表格2[[#This Row],[產品]]","v":"安撫奶嘴-小獅王-蘊蜜超柔拇指安撫奶嘴(綠沐)-初生-"},{"$f":"表格2[[#This Row],[單價]]","v":45},{"$f":"表格2[[#This Row],[入貨價]]","v":74},{"$f":"SUMIF(資料庫!D:D,庫存計算!C302,資料庫!E:E)","v":0}]
[{"$f":"表格2[[#This Row],[貨源]]","v":0},{"$f":"表格2[[#This Row],[編號]]","v":"SW1920"},{"$f":"表格2[[#This Row],[產品]]","v":"安撫奶嘴-小獅王-蘊蜜超柔拇指安撫奶嘴(晨藍)-較大-"},{"$f":"表格2[[#This Row],[單價]]","v":45},{"$f":"表格2[[#This Row],[入貨價]]","v":74},{"$f":"SUMIF(資料庫!D:D,庫存計算!C303,資料庫!E:E)","v":0}]
[{"$f":"表格2[[#This Row],[貨源]]","v":0},{"$f":"表格2[[#This Row],[編號]]","v":"SW1921"},{"$f":"表格2[[#This Row],[產品]]","v":"安撫奶嘴-小獅王-蘊蜜超柔拇指安撫奶嘴(栗粉)-較大-"},{"$f":"表格2[[#This Row],[單價]]","v":45},{"$f":"表格2[[#This Row],[入貨價]]","v":74},{"$f":"SUMIF(資料庫!D:D,庫存計算!C304,資料庫!E:E)","v":0}]
[{"$f":"表格2[[#This Row],[貨源]]","v":0},{"$f":"表格2[[#This Row],[編號]]","v":"SW1922"},{"$f":"表格2[[#This Row],[產品]]","v":"安撫奶嘴-小獅王-蘊蜜超柔拇指安撫奶嘴(杏茶)-較大-"},{"$f":"表格2[[#This Row],[單價]]","v":45},{"$f":"表格2[[#This Row],[入貨價]]","v":74},{"$f":"SUMIF(資料庫!D:D,庫存計算!C305,資料庫!E:E)","v":0}]
[{"$f":"表格2[[#This Row],[貨源]]","v":0},{"$f":"表格2[[#This Row],[編號]]","v":"SW1924"},{"$f":"表格2[[#This Row],[產品]]","v":"安撫奶嘴-小獅王-蘊蜜超柔拇指安撫奶嘴(綠沐)-較大-"},{"$f":"表格2[[#This Row],[單價]]","v":45},{"$f":"表格2[[#This Row],[入貨價]]","v":74},{"$f":"SUMIF(資料庫!D:D,庫存計算!C306,資料庫!E:E)","v":0}]
[{"$f":"表格2[[#This Row],[貨源]]","v":0},{"$f":"表格2[[#This Row],[編號]]","v":"SW1930"},{"$f":"表格2[[#This Row],[產品]]","v":"安撫奶嘴-小獅王-蘊蜜超柔拇指安撫奶嘴(晨藍)-耐咬較大型-"},{"$f":"表格2[[#This Row],[單價]]","v":45},{"$f":"表格2[[#This Row],[入貨價]]","v":74},{"$f":"SUMIF(資料庫!D:D,庫存計算!C307,資料庫!E:E)","v":0}]
[{"$f":"表格2[[#This Row],[貨源]]","v":0},{"$f":"表格2[[#This Row],[編號]]","v":"SW1931"},{"$f":"表格2[[#This Row],[產品]]","v":"安撫奶嘴-小獅王-蘊蜜超柔拇指安撫奶嘴(栗粉)-耐咬較大型-"},{"$f":"表格2[[#This Row],[單價]]","v":45},{"$f":"表格2[[#This Row],[入貨價]]","v":74},{"$f":"SUMIF(資料庫!D:D,庫存計算!C308,資料庫!E:E)","v":0}]
[{"$f":"表格2[[#This Row],[貨源]]","v":0},{"$f":"表格2[[#This Row],[編號]]","v":"SW1932"},{"$f":"表格2[[#This Row],[產品]]","v":"安撫奶嘴-小獅王-蘊蜜超柔拇指安撫奶嘴(杏茶)-耐咬較大型-"},{"$f":"表格2[[#This Row],[單價]]","v":45},{"$f":"表格2[[#This Row],[入貨價]]","v":74},{"$f":"SUMIF(資料庫!D:D,庫存計算!C309,資料庫!E:E)","v":0}]
[{"$f":"表格2[[#This Row],[貨源]]","v":0},{"$f":"表格2[[#This Row],[編號]]","v":"SW1934"},{"$f":"表格2[[#This Row],[產品]]","v":"安撫奶嘴-小獅王-蘊蜜超柔拇指安撫奶嘴(綠沐)-耐咬較大型-"},{"$f":"表格2[[#This Row],[單價]]","v":45},{"$f":"表格2[[#This Row],[入貨價]]","v":74},{"$f":"SUMIF(資料庫!D:D,庫存計算!C310,資料庫!E:E)","v":0}]
[{"$f":"表格2[[#This Row],[貨源]]","v":0},{"$f":"表格2[[#This Row],[編號]]","v":"SW3420"},{"$f":"表格2[[#This Row],[產品]]","v":"食物剪刀-小獅王-嬰兒食物金剛剪(晨藍)-"},{"$f":"表格2[[#This Row],[單價]]","v":69},{"$f":"表格2[[#This Row],[入貨價]]","v":170},{"$f":"SUMIF(資料庫!D:D,庫存計算!C311,資料庫!E:E)","v":0}]
[{"$f":"表格2[[#This Row],[貨源]]","v":0},{"$f":"表格2[[#This Row],[編號]]","v":"SW3421"},{"$f":"表格2[[#This Row],[產品]]","v":"食物剪刀-小獅王-嬰兒食物金剛剪(栗粉)-"},{"$f":"表格2[[#This Row],[單價]]","v":69},{"$f":"表格2[[#This Row],[入貨價]]","v":170},{"$f":"SUMIF(資料庫!D:D,庫存計算!C312,資料庫!E:E)","v":0}]
[{"$f":"表格2[[#This Row],[貨源]]","v":0},{"$f":"表格2[[#This Row],[編號]]","v":"SW3422"},{"$f":"表格2[[#This Row],[產品]]","v":"食物剪刀-小獅王-嬰兒食物金剛剪(杏茶)-"},{"$f":"表格2[[#This Row],[單價]]","v":69},{"$f":"表格2[[#This Row],[入貨價]]","v":170},{"$f":"SUMIF(資料庫!D:D,庫存計算!C313,資料庫!E:E)","v":0}]
[{"$f":"表格2[[#This Row],[貨源]]","v":0},{"$f":"表格2[[#This Row],[編號]]","v":"SW3430"},{"$f":"表格2[[#This Row],[產品]]","v":"-小獅王-美味軟質湯匙(晨藍)-"},{"$f":"表格2[[#This Row],[單價]]","v":45},{"$f":"表格2[[#This Row],[入貨價]]","v":67},{"$f":"SUMIF(資料庫!D:D,庫存計算!C314,資料庫!E:E)","v":0}]
[{"$f":"表格2[[#This Row],[貨源]]","v":0},{"$f":"表格2[[#This Row],[編號]]","v":"SW3431"},{"$f":"表格2[[#This Row],[產品]]","v":"-小獅王-美味軟質湯匙(栗粉)-"},{"$f":"表格2[[#This Row],[單價]]","v":45},{"$f":"表格2[[#This Row],[入貨價]]","v":67},{"$f":"SUMIF(資料庫!D:D,庫存計算!C315,資料庫!E:E)","v":0}]
[{"$f":"表格2[[#This Row],[貨源]]","v":0},{"$f":"表格2[[#This Row],[編號]]","v":"SW3432"},{"$f":"表格2[[#This Row],[產品]]","v":"-小獅王-美味軟質湯匙(杏茶)-"},{"$f":"表格2[[#This Row],[單價]]","v":45},{"$f":"表格2[[#This Row],[入貨價]]","v":67},{"$f":"SUMIF(資料庫!D:D,庫存計算!C316,資料庫!E:E)","v":0}]
[{"$f":"表格2[[#This Row],[貨源]]","v":0},{"$f":"表格2[[#This Row],[編號]]","v":"SW3440"},{"$f":"表格2[[#This Row],[產品]]","v":"-小獅王-美味曲奇吸盤碗-晨藍-"},{"$f":"表格2[[#This Row],[單價]]","v":85},{"$f":"表格2[[#This Row],[入貨價]]","v":170},{"$f":"SUMIF(資料庫!D:D,庫存計算!C317,資料庫!E:E)","v":0}]
[{"$f":"表格2[[#This Row],[貨源]]","v":0},{"$f":"表格2[[#This Row],[編號]]","v":"SW3441"},{"$f":"表格2[[#This Row],[產品]]","v":"-小獅王-美味曲奇吸盤碗-栗粉-"},{"$f":"表格2[[#This Row],[單價]]","v":85},{"$f":"表格2[[#This Row],[入貨價]]","v":170},{"$f":"SUMIF(資料庫!D:D,庫存計算!C318,資料庫!E:E)","v":0}]
[{"$f":"表格2[[#This Row],[貨源]]","v":0},{"$f":"表格2[[#This Row],[編號]]","v":"SW3442"},{"$f":"表格2[[#This Row],[產品]]","v":"-小獅王-美味曲奇吸盤碗-杏茶-"},{"$f":"表格2[[#This Row],[單價]]","v":85},{"$f":"表格2[[#This Row],[入貨價]]","v":170},{"$f":"SUMIF(資料庫!D:D,庫存計算!C319,資料庫!E:E)","v":0}]
[{"$f":"表格2[[#This Row],[貨源]]","v":0},{"$f":"表格2[[#This Row],[編號]]","v":"SW3450"},{"$f":"表格2[[#This Row],[產品]]","v":"-小獅王-美味漢堡吸盤碗-晨藍-"},{"$f":"表格2[[#This Row],[單價]]","v":85},{"$f":"表格2[[#This Row],[入貨價]]","v":161},{"$f":"SUMIF(資料庫!D:D,庫存計算!C320,資料庫!E:E)","v":0}]
[{"$f":"表格2[[#This Row],[貨源]]","v":0},{"$f":"表格2[[#This Row],[編號]]","v":"SW3451"},{"$f":"表格2[[#This Row],[產品]]","v":"-小獅王-美味漢堡吸盤碗-栗粉-"},{"$f":"表格2[[#This Row],[單價]]","v":85},{"$f":"表格2[[#This Row],[入貨價]]","v":161},{"$f":"SUMIF(資料庫!D:D,庫存計算!C321,資料庫!E:E)","v":0}]
[{"$f":"表格2[[#This Row],[貨源]]","v":0},{"$f":"表格2[[#This Row],[編號]]","v":"SW3452"},{"$f":"表格2[[#This Row],[產品]]","v":"-小獅王-美味漢堡吸盤碗-杏茶-"},{"$f":"表格2[[#This Row],[單價]]","v":85},{"$f":"表格2[[#This Row],[入貨價]]","v":161},{"$f":"SUMIF(資料庫!D:D,庫存計算!C322,資料庫!E:E)","v":0}]
[{"$f":"表格2[[#This Row],[貨源]]","v":0},{"$f":"表格2[[#This Row],[編號]]","v":"SW3470"},{"$f":"表格2[[#This Row],[產品]]","v":"-小獅王-美味學習叉匙組-晨藍-"},{"$f":"表格2[[#This Row],[單價]]","v":45},{"$f":"表格2[[#This Row],[入貨價]]","v":54},{"$f":"SUMIF(資料庫!D:D,庫存計算!C323,資料庫!E:E)","v":0}]
[{"$f":"表格2[[#This Row],[貨源]]","v":0},{"$f":"表格2[[#This Row],[編號]]","v":"SW3471"},{"$f":"表格2[[#This Row],[產品]]","v":"-小獅王-美味學習叉匙組-栗粉-"},{"$f":"表格2[[#This Row],[單價]]","v":45},{"$f":"表格2[[#This Row],[入貨價]]","v":54},{"$f":"SUMIF(資料庫!D:D,庫存計算!C324,資料庫!E:E)","v":0}]
[{"$f":"表格2[[#This Row],[貨源]]","v":0},{"$f":"表格2[[#This Row],[編號]]","v":"SW3472"},{"$f":"表格2[[#This Row],[產品]]","v":"-小獅王-美味學習叉匙組-杏茶-"},{"$f":"表格2[[#This Row],[單價]]","v":45},{"$f":"表格2[[#This Row],[入貨價]]","v":54},{"$f":"SUMIF(資料庫!D:D,庫存計算!C325,資料庫!E:E)","v":0}]
[{"$f":"表格2[[#This Row],[貨源]]","v":0},{"$f":"表格2[[#This Row],[編號]]","v":"SW3480"},{"$f":"表格2[[#This Row],[產品]]","v":"-小獅王-美味兒童叉匙組-晨藍-"},{"$f":"表格2[[#This Row],[單價]]","v":45},{"$f":"表格2[[#This Row],[入貨價]]","v":81},{"$f":"SUMIF(資料庫!D:D,庫存計算!C326,資料庫!E:E)","v":0}]
[{"$f":"表格2[[#This Row],[貨源]]","v":0},{"$f":"表格2[[#This Row],[編號]]","v":"SW3481"},{"$f":"表格2[[#This Row],[產品]]","v":"-小獅王-美味兒童叉匙組-栗粉 -"},{"$f":"表格2[[#This Row],[單價]]","v":45},{"$f":"表格2[[#This Row],[入貨價]]","v":81},{"$f":"SUMIF(資料庫!D:D,庫存計算!C327,資料庫!E:E)","v":0}]
[{"$f":"表格2[[#This Row],[貨源]]","v":0},{"$f":"表格2[[#This Row],[編號]]","v":"SW3482"},{"$f":"表格2[[#This Row],[產品]]","v":"-小獅王-美味兒童叉匙組-杏茶-"},{"$f":"表格2[[#This Row],[單價]]","v":45},{"$f":"表格2[[#This Row],[入貨價]]","v":81},{"$f":"SUMIF(資料庫!D:D,庫存計算!C328,資料庫!E:E)","v":0}]
[{"$f":"表格2[[#This Row],[貨源]]","v":0},{"$f":"表格2[[#This Row],[編號]]","v":"SW3490"},{"$f":"表格2[[#This Row],[產品]]","v":"-小獅王-美味軟糖湯匙組-晨藍-"},{"$f":"表格2[[#This Row],[單價]]","v":45},{"$f":"表格2[[#This Row],[入貨價]]","v":98},{"$f":"SUMIF(資料庫!D:D,庫存計算!C329,資料庫!E:E)","v":0}]
[{"$f":"表格2[[#This Row],[貨源]]","v":0},{"$f":"表格2[[#This Row],[編號]]","v":"SW3491"},{"$f":"表格2[[#This Row],[產品]]","v":"-小獅王-美味軟糖湯匙組-栗粉-"},{"$f":"表格2[[#This Row],[單價]]","v":45},{"$f":"表格2[[#This Row],[入貨價]]","v":98},{"$f":"SUMIF(資料庫!D:D,庫存計算!C330,資料庫!E:E)","v":0}]
[{"$f":"表格2[[#This Row],[貨源]]","v":0},{"$f":"表格2[[#This Row],[編號]]","v":"SW3492"},{"$f":"表格2[[#This Row],[產品]]","v":"-小獅王-美味軟糖湯匙組-杏茶-"},{"$f":"表格2[[#This Row],[單價]]","v":45},{"$f":"表格2[[#This Row],[入貨價]]","v":98},{"$f":"SUMIF(資料庫!D:D,庫存計算!C331,資料庫!E:E)","v":0}]
[{"$f":"表格2[[#This Row],[貨源]]","v":0},{"$f":"表格2[[#This Row],[編號]]","v":"SW6120"},{"$f":"表格2[[#This Row],[產品]]","v":"PPSU 普通奶樽-小獅王-蘊蜜鉑金PPSU寬口防脹氣奶瓶200ml(晨藍)-圓S"},{"$f":"表格2[[#This Row],[單價]]","v":115},{"$f":"表格2[[#This Row],[入貨價]]","v":267},{"$f":"SUMIF(資料庫!D:D,庫存計算!C332,資料庫!E:E)","v":0}]
[{"$f":"表格2[[#This Row],[貨源]]","v":0},{"$f":"表格2[[#This Row],[編號]]","v":"SW6121"},{"$f":"表格2[[#This Row],[產品]]","v":"PPSU 普通奶樽-小獅王-蘊蜜鉑金PPSU寬口防脹氣奶瓶200ml(栗粉)-圓S"},{"$f":"表格2[[#This Row],[單價]]","v":115},{"$f":"表格2[[#This Row],[入貨價]]","v":267},{"$f":"SUMIF(資料庫!D:D,庫存計算!C333,資料庫!E:E)","v":0}]
[{"$f":"表格2[[#This Row],[貨源]]","v":0},{"$f":"表格2[[#This Row],[編號]]","v":"SW6122"},{"$f":"表格2[[#This Row],[產品]]","v":"PPSU 普通奶樽-小獅王-蘊蜜鉑金PPSU寬口防脹氣奶瓶200ml(杏茶)-圓S"},{"$f":"表格2[[#This Row],[單價]]","v":115},{"$f":"表格2[[#This Row],[入貨價]]","v":267},{"$f":"SUMIF(資料庫!D:D,庫存計算!C334,資料庫!E:E)","v":0}]
[{"$f":"表格2[[#This Row],[貨源]]","v":0},{"$f":"表格2[[#This Row],[編號]]","v":"SW6123"},{"$f":"表格2[[#This Row],[產品]]","v":"PPSU 普通奶樽-小獅王-蘊蜜鉑金PPSU寬口防脹氣奶瓶200ml(紫芙)-圓S"},{"$f":"表格2[[#This Row],[單價]]","v":115},{"$f":"表格2[[#This Row],[入貨價]]","v":267},{"$f":"SUMIF(資料庫!D:D,庫存計算!C335,資料庫!E:E)","v":0}]
[{"$f":"表格2[[#This Row],[貨源]]","v":0},{"$f":"表格2[[#This Row],[編號]]","v":"SW6124"},{"$f":"表格2[[#This Row],[產品]]","v":"PPSU 普通奶樽-小獅王-蘊蜜鉑金PPSU寬口防脹氣奶瓶200ml(綠沐)-圓S"},{"$f":"表格2[[#This Row],[單價]]","v":115},{"$f":"表格2[[#This Row],[入貨價]]","v":267},{"$f":"SUMIF(資料庫!D:D,庫存計算!C336,資料庫!E:E)","v":0}]
[{"$f":"表格2[[#This Row],[貨源]]","v":0},{"$f":"表格2[[#This Row],[編號]]","v":"SW6130"},{"$f":"表格2[[#This Row],[產品]]","v":"PPSU 普通奶樽-小獅王-蘊蜜鉑金PPSU寬口防脹氣奶瓶270ml(晨藍)-圓S"},{"$f":"表格2[[#This Row],[單價]]","v":128},{"$f":"表格2[[#This Row],[入貨價]]","v":290},{"$f":"SUMIF(資料庫!D:D,庫存計算!C337,資料庫!E:E)","v":0}]
[{"$f":"表格2[[#This Row],[貨源]]","v":0},{"$f":"表格2[[#This Row],[編號]]","v":"SW6131"},{"$f":"表格2[[#This Row],[產品]]","v":"PPSU 普通奶樽-小獅王-蘊蜜鉑金PPSU寬口防脹氣奶瓶270ml(栗粉)-十字M"},{"$f":"表格2[[#This Row],[單價]]","v":128},{"$f":"表格2[[#This Row],[入貨價]]","v":290},{"$f":"SUMIF(資料庫!D:D,庫存計算!C338,資料庫!E:E)","v":0}]
[{"$f":"表格2[[#This Row],[貨源]]","v":0},{"$f":"表格2[[#This Row],[編號]]","v":"SW6132"},{"$f":"表格2[[#This Row],[產品]]","v":"PPSU 普通奶樽-小獅王-蘊蜜鉑金PPSU寬口防脹氣奶瓶270ml(杏茶)-十字M"},{"$f":"表格2[[#This Row],[單價]]","v":128},{"$f":"表格2[[#This Row],[入貨價]]","v":290},{"$f":"SUMIF(資料庫!D:D,庫存計算!C339,資料庫!E:E)","v":0}]
[{"$f":"表格2[[#This Row],[貨源]]","v":0},{"$f":"表格2[[#This Row],[編號]]","v":"SW6133"},{"$f":"表格2[[#This Row],[產品]]","v":"PPSU 普通奶樽-小獅王-蘊蜜鉑金PPSU寬口防脹氣奶瓶270ml(紫芙)-十字M"},{"$f":"表格2[[#This Row],[單價]]","v":128},{"$f":"表格2[[#This Row],[入貨價]]","v":290},{"$f":"SUMIF(資料庫!D:D,庫存計算!C340,資料庫!E:E)","v":0}]
[{"$f":"表格2[[#This Row],[貨源]]","v":0},{"$f":"表格2[[#This Row],[編號]]","v":"SW6134"},{"$f":"表格2[[#This Row],[產品]]","v":"PPSU 普通奶樽-小獅王-蘊蜜鉑金PPSU寬口防脹氣奶瓶270ml(綠沐)-十字M"},{"$f":"表格2[[#This Row],[單價]]","v":128},{"$f":"表格2[[#This Row],[入貨價]]","v":290},{"$f":"SUMIF(資料庫!D:D,庫存計算!C341,資料庫!E:E)","v":0}]
[{"$f":"表格2[[#This Row],[貨源]]","v":0},{"$f":"表格2[[#This Row],[編號]]","v":"SW6150"},{"$f":"表格2[[#This Row],[產品]]","v":"PPSU 普通奶樽-小獅王-蘊蜜鉑金PPSU寬口防脹氣奶瓶360ml(晨藍)-十字M"},{"$f":"表格2[[#This Row],[單價]]","v":135},{"$f":"表格2[[#This Row],[入貨價]]","v":312},{"$f":"SUMIF(資料庫!D:D,庫存計算!C342,資料庫!E:E)","v":0}]
[{"$f":"表格2[[#This Row],[貨源]]","v":0},{"$f":"表格2[[#This Row],[編號]]","v":"SW6151"},{"$f":"表格2[[#This Row],[產品]]","v":"PPSU 普通奶樽-小獅王-蘊蜜鉑金PPSU寬口防脹氣奶瓶360ml(栗粉)-十字M"},{"$f":"表格2[[#This Row],[單價]]","v":135},{"$f":"表格2[[#This Row],[入貨價]]","v":312},{"$f":"SUMIF(資料庫!D:D,庫存計算!C343,資料庫!E:E)","v":0}]
[{"$f":"表格2[[#This Row],[貨源]]","v":0},{"$f":"表格2[[#This Row],[編號]]","v":"SW6152"},{"$f":"表格2[[#This Row],[產品]]","v":"PPSU 普通奶樽-小獅王-蘊蜜鉑金PPSU寬口防脹氣奶瓶360ml(杏茶)-十字M"},{"$f":"表格2[[#This Row],[單價]]","v":135},{"$f":"表格2[[#This Row],[入貨價]]","v":312},{"$f":"SUMIF(資料庫!D:D,庫存計算!C344,資料庫!E:E)","v":0}]
[{"$f":"表格2[[#This Row],[貨源]]","v":0},{"$f":"表格2[[#This Row],[編號]]","v":"SW6153"},{"$f":"表格2[[#This Row],[產品]]","v":"PPSU 普通奶樽-小獅王-蘊蜜鉑金PPSU寬口防脹氣奶瓶360ml(紫芙)-十字M"},{"$f":"表格2[[#This Row],[單價]]","v":135},{"$f":"表格2[[#This Row],[入貨價]]","v":312},{"$f":"SUMIF(資料庫!D:D,庫存計算!C345,資料庫!E:E)","v":0}]
[{"$f":"表格2[[#This Row],[貨源]]","v":0},{"$f":"表格2[[#This Row],[編號]]","v":"SW6154"},{"$f":"表格2[[#This Row],[產品]]","v":"PPSU 普通奶樽-小獅王-蘊蜜鉑金PPSU寬口防脹氣奶瓶360ml(綠沐)-十字M"},{"$f":"表格2[[#This Row],[單價]]","v":135},{"$f":"表格2[[#This Row],[入貨價]]","v":312},{"$f":"SUMIF(資料庫!D:D,庫存計算!C346,資料庫!E:E)","v":0}]
[{"$f":"表格2[[#This Row],[貨源]]","v":0},{"$f":"表格2[[#This Row],[編號]]","v":"SW6160"},{"$f":"表格2[[#This Row],[產品]]","v":"把手奶樽-小獅王-蘊蜜鉑金PPSU寬口吸管把手防脹氣奶瓶200ml(晨藍)-十字S"},{"$f":"表格2[[#This Row],[單價]]","v":135},{"$f":"表格2[[#This Row],[入貨價]]","v":299},{"$f":"SUMIF(資料庫!D:D,庫存計算!C347,資料庫!E:E)","v":0}]
[{"$f":"表格2[[#This Row],[貨源]]","v":0},{"$f":"表格2[[#This Row],[編號]]","v":"SW6161"},{"$f":"表格2[[#This Row],[產品]]","v":"把手奶樽-小獅王-蘊蜜鉑金PPSU寬口吸管把手防脹氣奶瓶200ml(栗粉)-十字S"},{"$f":"表格2[[#This Row],[單價]]","v":135},{"$f":"表格2[[#This Row],[入貨價]]","v":299},{"$f":"SUMIF(資料庫!D:D,庫存計算!C348,資料庫!E:E)","v":0}]
[{"$f":"表格2[[#This Row],[貨源]]","v":0},{"$f":"表格2[[#This Row],[編號]]","v":"SW6162"},{"$f":"表格2[[#This Row],[產品]]","v":"把手奶樽-小獅王-蘊蜜鉑金PPSU寬口吸管把手防脹氣奶瓶200ml(杏茶)-十字S"},{"$f":"表格2[[#This Row],[單價]]","v":135},{"$f":"表格2[[#This Row],[入貨價]]","v":299},{"$f":"SUMIF(資料庫!D:D,庫存計算!C349,資料庫!E:E)","v":0}]
[{"$f":"表格2[[#This Row],[貨源]]","v":0},{"$f":"表格2[[#This Row],[編號]]","v":"SW6164"},{"$f":"表格2[[#This Row],[產品]]","v":"把手奶樽-小獅王-蘊蜜鉑金PPSU寬口吸管把手防脹氣奶瓶200ml(綠沐)-十字S"},{"$f":"表格2[[#This Row],[單價]]","v":135},{"$f":"表格2[[#This Row],[入貨價]]","v":299},{"$f":"SUMIF(資料庫!D:D,庫存計算!C350,資料庫!E:E)","v":0}]
[{"$f":"表格2[[#This Row],[貨源]]","v":0},{"$f":"表格2[[#This Row],[編號]]","v":"SW6170"},{"$f":"表格2[[#This Row],[產品]]","v":"把手奶樽-小獅王-蘊蜜鉑金PPSU寬口吸管把手防脹氣奶瓶270ml(晨藍)-十字M"},{"$f":"表格2[[#This Row],[單價]]","v":140},{"$f":"表格2[[#This Row],[入貨價]]","v":321},{"$f":"SUMIF(資料庫!D:D,庫存計算!C351,資料庫!E:E)","v":0}]
[{"$f":"表格2[[#This Row],[貨源]]","v":0},{"$f":"表格2[[#This Row],[編號]]","v":"SW6171"},{"$f":"表格2[[#This Row],[產品]]","v":"把手奶樽-小獅王-蘊蜜鉑金PPSU寬口吸管把手防脹氣奶瓶270ml(栗粉)-十字M"},{"$f":"表格2[[#This Row],[單價]]","v":140},{"$f":"表格2[[#This Row],[入貨價]]","v":321},{"$f":"SUMIF(資料庫!D:D,庫存計算!C352,資料庫!E:E)","v":0}]
[{"$f":"表格2[[#This Row],[貨源]]","v":0},{"$f":"表格2[[#This Row],[編號]]","v":"SW6172"},{"$f":"表格2[[#This Row],[產品]]","v":"把手奶樽-小獅王-蘊蜜鉑金PPSU寬口吸管把手防脹氣奶瓶270ml(杏茶)-十字M"},{"$f":"表格2[[#This Row],[單價]]","v":140},{"$f":"表格2[[#This Row],[入貨價]]","v":321},{"$f":"SUMIF(資料庫!D:D,庫存計算!C353,資料庫!E:E)","v":0}]
[{"$f":"表格2[[#This Row],[貨源]]","v":0},{"$f":"表格2[[#This Row],[編號]]","v":"SW6174"},{"$f":"表格2[[#This Row],[產品]]","v":"把手奶樽-小獅王-蘊蜜鉑金PPSU寬口吸管把手防脹氣奶瓶270ml(綠沐)-十字M"},{"$f":"表格2[[#This Row],[單價]]","v":140},{"$f":"表格2[[#This Row],[入貨價]]","v":321},{"$f":"SUMIF(資料庫!D:D,庫存計算!C354,資料庫!E:E)","v":0}]
[{"$f":"表格2[[#This Row],[貨源]]","v":0},{"$f":"表格2[[#This Row],[編號]]","v":"SW6180"},{"$f":"表格2[[#This Row],[產品]]","v":"把手奶樽-小獅王-蘊蜜鉑金PPSU寬口吸管把手防脹氣奶瓶360ml(晨藍)-十字M"},{"$f":"表格2[[#This Row],[單價]]","v":148},{"$f":"表格2[[#This Row],[入貨價]]","v":343},{"$f":"SUMIF(資料庫!D:D,庫存計算!C355,資料庫!E:E)","v":0}]
[{"$f":"表格2[[#This Row],[貨源]]","v":0},{"$f":"表格2[[#This Row],[編號]]","v":"SW6181"},{"$f":"表格2[[#This Row],[產品]]","v":"把手奶樽-小獅王-蘊蜜鉑金PPSU寬口吸管把手防脹氣奶瓶360ml(栗粉)-十字M"},{"$f":"表格2[[#This Row],[單價]]","v":148},{"$f":"表格2[[#This Row],[入貨價]]","v":343},{"$f":"SUMIF(資料庫!D:D,庫存計算!C356,資料庫!E:E)","v":0}]
[{"$f":"表格2[[#This Row],[貨源]]","v":0},{"$f":"表格2[[#This Row],[編號]]","v":"SW6182"},{"$f":"表格2[[#This Row],[產品]]","v":"把手奶樽-小獅王-蘊蜜鉑金PPSU寬口吸管把手防脹氣奶瓶360ml(杏茶)-十字M"},{"$f":"表格2[[#This Row],[單價]]","v":148},{"$f":"表格2[[#This Row],[入貨價]]","v":343},{"$f":"SUMIF(資料庫!D:D,庫存計算!C357,資料庫!E:E)","v":0}]
[{"$f":"表格2[[#This Row],[貨源]]","v":0},{"$f":"表格2[[#This Row],[編號]]","v":"SW6184"},{"$f":"表格2[[#This Row],[產品]]","v":"把手奶樽-小獅王-蘊蜜鉑金PPSU寬口吸管把手防脹氣奶瓶360ml(綠沐)-十字M"},{"$f":"表格2[[#This Row],[單價]]","v":148},{"$f":"表格2[[#This Row],[入貨價]]","v":343},{"$f":"SUMIF(資料庫!D:D,庫存計算!C358,資料庫!E:E)","v":0}]
[{"$f":"表格2[[#This Row],[貨源]]","v":0},{"$f":"表格2[[#This Row],[編號]]","v":"SW6331"},{"$f":"表格2[[#This Row],[產品]]","v":"奶樽嘴-小獅王-超柔防脹氣寬口十字奶嘴S-4入(0個月以上)-"},{"$f":"表格2[[#This Row],[單價]]","v":85},{"$f":"表格2[[#This Row],[入貨價]]","v":161},{"$f":"SUMIF(資料庫!D:D,庫存計算!C359,資料庫!E:E)","v":0}]
[{"$f":"表格2[[#This Row],[貨源]]","v":0},{"$f":"表格2[[#This Row],[編號]]","v":"SW6332"},{"$f":"表格2[[#This Row],[產品]]","v":"奶樽嘴-小獅王-超柔防脹氣寬口十字奶嘴M-4入(3個月以上)-"},{"$f":"表格2[[#This Row],[單價]]","v":85},{"$f":"表格2[[#This Row],[入貨價]]","v":161},{"$f":"SUMIF(資料庫!D:D,庫存計算!C360,資料庫!E:E)","v":0}]
[{"$f":"表格2[[#This Row],[貨源]]","v":0},{"$f":"表格2[[#This Row],[編號]]","v":"SW6333"},{"$f":"表格2[[#This Row],[產品]]","v":"奶樽嘴-小獅王-超柔防脹氣寬口十字奶嘴L-4入(6個月以上)-"},{"$f":"表格2[[#This Row],[單價]]","v":85},{"$f":"表格2[[#This Row],[入貨價]]","v":161},{"$f":"SUMIF(資料庫!D:D,庫存計算!C361,資料庫!E:E)","v":0}]
[{"$f":"表格2[[#This Row],[貨源]]","v":0},{"$f":"表格2[[#This Row],[編號]]","v":"SW6334"},{"$f":"表格2[[#This Row],[產品]]","v":"奶樽嘴-小獅王-超柔防脹氣寬口十字奶嘴XL-4入(12個月以上)-"},{"$f":"表格2[[#This Row],[單價]]","v":85},{"$f":"表格2[[#This Row],[入貨價]]","v":161},{"$f":"SUMIF(資料庫!D:D,庫存計算!C362,資料庫!E:E)","v":0}]
[{"$f":"表格2[[#This Row],[貨源]]","v":0},{"$f":"表格2[[#This Row],[編號]]","v":"SW6335"},{"$f":"表格2[[#This Row],[產品]]","v":"奶樽嘴-小獅王-超柔防脹氣寬口圓孔奶嘴S-4入(0個月以上)-"},{"$f":"表格2[[#This Row],[單價]]","v":85},{"$f":"表格2[[#This Row],[入貨價]]","v":161},{"$f":"SUMIF(資料庫!D:D,庫存計算!C363,資料庫!E:E)","v":0}]
[{"$f":"表格2[[#This Row],[貨源]]","v":0},{"$f":"表格2[[#This Row],[編號]]","v":"SW6336"},{"$f":"表格2[[#This Row],[產品]]","v":"奶樽嘴-小獅王-超柔防脹氣寬口圓孔奶嘴M-4入(3個月以上)-"},{"$f":"表格2[[#This Row],[單價]]","v":85},{"$f":"表格2[[#This Row],[入貨價]]","v":161},{"$f":"SUMIF(資料庫!D:D,庫存計算!C364,資料庫!E:E)","v":0}]
[{"$f":"表格2[[#This Row],[貨源]]","v":0},{"$f":"表格2[[#This Row],[編號]]","v":"SW6337"},{"$f":"表格2[[#This Row],[產品]]","v":"奶樽嘴-小獅王-超柔防脹氣寬口圓孔奶嘴L-4入(6個月以上)-"},{"$f":"表格2[[#This Row],[單價]]","v":85},{"$f":"表格2[[#This Row],[入貨價]]","v":161},{"$f":"SUMIF(資料庫!D:D,庫存計算!C365,資料庫!E:E)","v":0}]
[{"$f":"表格2[[#This Row],[貨源]]","v":0},{"$f":"表格2[[#This Row],[編號]]","v":"SW6338"},{"$f":"表格2[[#This Row],[產品]]","v":"奶樽嘴-小獅王-超柔防脹氣寬口圓孔奶嘴SS-4入(初生學習)-"},{"$f":"表格2[[#This Row],[單價]]","v":85},{"$f":"表格2[[#This Row],[入貨價]]","v":161},{"$f":"SUMIF(資料庫!D:D,庫存計算!C366,資料庫!E:E)","v":0}]
[{"$f":"表格2[[#This Row],[貨源]]","v":0},{"$f":"表格2[[#This Row],[編號]]","v":"SW6940"},{"$f":"表格2[[#This Row],[產品]]","v":"玻璃奶樽-小獅王-蘊蜜質金玻璃寬口防脹氣奶瓶180ml(晨藍)-新生專用-"},{"$f":"表格2[[#This Row],[單價]]","v":0},{"$f":"表格2[[#This Row],[入貨價]]","v":174},{"$f":"SUMIF(資料庫!D:D,庫存計算!C367,資料庫!E:E)","v":0}]
[{"$f":"表格2[[#This Row],[貨源]]","v":0},{"$f":"表格2[[#This Row],[編號]]","v":"SW6941"},{"$f":"表格2[[#This Row],[產品]]","v":"玻璃奶樽-小獅王-蘊蜜質金玻璃寬口防脹氣奶瓶180ml(栗粉)-新生專用-"},{"$f":"表格2[[#This Row],[單價]]","v":0},{"$f":"表格2[[#This Row],[入貨價]]","v":174},{"$f":"SUMIF(資料庫!D:D,庫存計算!C368,資料庫!E:E)","v":0}]
[{"$f":"表格2[[#This Row],[貨源]]","v":0},{"$f":"表格2[[#This Row],[編號]]","v":"SW6942"},{"$f":"表格2[[#This Row],[產品]]","v":"玻璃奶樽-小獅王-蘊蜜質金玻璃寬口防脹氣奶瓶180ml(杏茶)-新生專用-"},{"$f":"表格2[[#This Row],[單價]]","v":0},{"$f":"表格2[[#This Row],[入貨價]]","v":174},{"$f":"SUMIF(資料庫!D:D,庫存計算!C369,資料庫!E:E)","v":0}]
[{"$f":"表格2[[#This Row],[貨源]]","v":0},{"$f":"表格2[[#This Row],[編號]]","v":"SW6943"},{"$f":"表格2[[#This Row],[產品]]","v":"玻璃奶樽-小獅王-蘊蜜質金玻璃寬口防脹氣奶瓶180ml(紫芙)-新生專用-"},{"$f":"表格2[[#This Row],[單價]]","v":0},{"$f":"表格2[[#This Row],[入貨價]]","v":174},{"$f":"SUMIF(資料庫!D:D,庫存計算!C370,資料庫!E:E)","v":0}]
[{"$f":"表格2[[#This Row],[貨源]]","v":0},{"$f":"表格2[[#This Row],[編號]]","v":"SW6944"},{"$f":"表格2[[#This Row],[產品]]","v":"玻璃奶樽-小獅王-蘊蜜質金玻璃寬口防脹氣奶瓶180ml(綠沐)-新生專用-"},{"$f":"表格2[[#This Row],[單價]]","v":0},{"$f":"表格2[[#This Row],[入貨價]]","v":174},{"$f":"SUMIF(資料庫!D:D,庫存計算!C371,資料庫!E:E)","v":0}]
[{"$f":"表格2[[#This Row],[貨源]]","v":0},{"$f":"表格2[[#This Row],[編號]]","v":"SW6950"},{"$f":"表格2[[#This Row],[產品]]","v":"玻璃奶樽-小獅王-蘊蜜質金玻璃寬口防脹氣奶瓶270ml(晨藍)-新生專用-"},{"$f":"表格2[[#This Row],[單價]]","v":0},{"$f":"表格2[[#This Row],[入貨價]]","v":178},{"$f":"SUMIF(資料庫!D:D,庫存計算!C372,資料庫!E:E)","v":0}]
[{"$f":"表格2[[#This Row],[貨源]]","v":0},{"$f":"表格2[[#This Row],[編號]]","v":"SW6951"},{"$f":"表格2[[#This Row],[產品]]","v":"玻璃奶樽-小獅王-蘊蜜質金玻璃寬口防脹氣奶瓶270ml(栗粉)-新生專用-"},{"$f":"表格2[[#This Row],[單價]]","v":0},{"$f":"表格2[[#This Row],[入貨價]]","v":178},{"$f":"SUMIF(資料庫!D:D,庫存計算!C373,資料庫!E:E)","v":0}]
[{"$f":"表格2[[#This Row],[貨源]]","v":0},{"$f":"表格2[[#This Row],[編號]]","v":"SW6952"},{"$f":"表格2[[#This Row],[產品]]","v":"玻璃奶樽-小獅王-蘊蜜質金玻璃寬口防脹氣奶瓶270ml(杏茶)-新生專用-"},{"$f":"表格2[[#This Row],[單價]]","v":0},{"$f":"表格2[[#This Row],[入貨價]]","v":178},{"$f":"SUMIF(資料庫!D:D,庫存計算!C374,資料庫!E:E)","v":0}]
[{"$f":"表格2[[#This Row],[貨源]]","v":0},{"$f":"表格2[[#This Row],[編號]]","v":"SW6953"},{"$f":"表格2[[#This Row],[產品]]","v":"玻璃奶樽-小獅王-蘊蜜質金玻璃寬口防脹氣奶瓶270ml(紫芙)-新生專用-"},{"$f":"表格2[[#This Row],[單價]]","v":0},{"$f":"表格2[[#This Row],[入貨價]]","v":178},{"$f":"SUMIF(資料庫!D:D,庫存計算!C375,資料庫!E:E)","v":0}]
[{"$f":"表格2[[#This Row],[貨源]]","v":0},{"$f":"表格2[[#This Row],[編號]]","v":"SW6954"},{"$f":"表格2[[#This Row],[產品]]","v":"玻璃奶樽-小獅王-蘊蜜質金玻璃寬口防脹氣奶瓶270ml(綠沐)-新生專用-"},{"$f":"表格2[[#This Row],[單價]]","v":0},{"$f":"表格2[[#This Row],[入貨價]]","v":178},{"$f":"SUMIF(資料庫!D:D,庫存計算!C376,資料庫!E:E)","v":0}]
[{"$f":"表格2[[#This Row],[貨源]]","v":0},{"$f":"表格2[[#This Row],[編號]]","v":"SW7010"},{"$f":"表格2[[#This Row],[產品]]","v":"配件1-小獅王-蘊蜜寬口奶瓶儲乳片5入-"},{"$f":"表格2[[#This Row],[單價]]","v":28},{"$f":"表格2[[#This Row],[入貨價]]","v":85},{"$f":"SUMIF(資料庫!D:D,庫存計算!C377,資料庫!E:E)","v":0}]
[{"$f":"表格2[[#This Row],[貨源]]","v":0},{"$f":"表格2[[#This Row],[編號]]","v":"SW7011"},{"$f":"表格2[[#This Row],[產品]]","v":"配件5-小獅王-蘊蜜寬口奶瓶蝶型吸管組-"},{"$f":"表格2[[#This Row],[單價]]","v":35},{"$f":"表格2[[#This Row],[入貨價]]","v":49},{"$f":"SUMIF(資料庫!D:D,庫存計算!C378,資料庫!E:E)","v":0}]
[{"$f":"表格2[[#This Row],[貨源]]","v":0},{"$f":"表格2[[#This Row],[編號]]","v":"SW7012"},{"$f":"表格2[[#This Row],[產品]]","v":"配件6-小獅王-蘊蜜寬口奶瓶防漏學習吸管組-"},{"$f":"表格2[[#This Row],[單價]]","v":38},{"$f":"表格2[[#This Row],[入貨價]]","v":74},{"$f":"SUMIF(資料庫!D:D,庫存計算!C379,資料庫!E:E)","v":0}]
[{"$f":"表格2[[#This Row],[貨源]]","v":0},{"$f":"表格2[[#This Row],[編號]]","v":"SW7013"},{"$f":"表格2[[#This Row],[產品]]","v":"配件7-小獅王-蘊蜜寬口防漏滑蓋吸管組-"},{"$f":"表格2[[#This Row],[單價]]","v":55},{"$f":"表格2[[#This Row],[入貨價]]","v":116},{"$f":"SUMIF(資料庫!D:D,庫存計算!C380,資料庫!E:E)","v":0}]
[{"$f":"表格2[[#This Row],[貨源]]","v":0},{"$f":"表格2[[#This Row],[編號]]","v":"SW7014"},{"$f":"表格2[[#This Row],[產品]]","v":"-小獅王-蘊蜜寬口防漏滑蓋矽膠墊圈-"},{"$f":"表格2[[#This Row],[單價]]","v":28},{"$f":"表格2[[#This Row],[入貨價]]","v":30},{"$f":"SUMIF(資料庫!D:D,庫存計算!C381,資料庫!E:E)","v":0}]
[{"$f":"表格2[[#This Row],[貨源]]","v":0},{"$f":"表格2[[#This Row],[編號]]","v":"SW7015"},{"$f":"表格2[[#This Row],[產品]]","v":"吸管刷-小獅王-蘊蜜清潔刷6入-"},{"$f":"表格2[[#This Row],[單價]]","v":38},{"$f":"表格2[[#This Row],[入貨價]]","v":63},{"$f":"SUMIF(資料庫!D:D,庫存計算!C382,資料庫!E:E)","v":0}]
[{"$f":"表格2[[#This Row],[貨源]]","v":0},{"$f":"表格2[[#This Row],[編號]]","v":"SW7020"},{"$f":"表格2[[#This Row],[產品]]","v":"配件3-小獅王-蘊蜜寬口奶瓶瓶蓋組(晨藍)-"},{"$f":"表格2[[#This Row],[單價]]","v":18},{"$f":"表格2[[#This Row],[入貨價]]","v":27},{"$f":"SUMIF(資料庫!D:D,庫存計算!C383,資料庫!E:E)","v":0}]
[{"$f":"表格2[[#This Row],[貨源]]","v":0},{"$f":"表格2[[#This Row],[編號]]","v":"SW7021"},{"$f":"表格2[[#This Row],[產品]]","v":"配件3-小獅王-蘊蜜寬口奶瓶瓶蓋組(栗粉)-"},{"$f":"表格2[[#This Row],[單價]]","v":18},{"$f":"表格2[[#This Row],[入貨價]]","v":27},{"$f":"SUMIF(資料庫!D:D,庫存計算!C384,資料庫!E:E)","v":0}]
[{"$f":"表格2[[#This Row],[貨源]]","v":0},{"$f":"表格2[[#This Row],[編號]]","v":"SW7022"},{"$f":"表格2[[#This Row],[產品]]","v":"配件3-小獅王-蘊蜜寬口奶瓶瓶蓋組(杏茶)-"},{"$f":"表格2[[#This Row],[單價]]","v":18},{"$f":"表格2[[#This Row],[入貨價]]","v":27},{"$f":"SUMIF(資料庫!D:D,庫存計算!C385,資料庫!E:E)","v":0}]
[{"$f":"表格2[[#This Row],[貨源]]","v":0},{"$f":"表格2[[#This Row],[編號]]","v":"SW7023"},{"$f":"表格2[[#This Row],[產品]]","v":"配件3-小獅王-蘊蜜寬口奶瓶瓶蓋組(紫芙)-"},{"$f":"表格2[[#This Row],[單價]]","v":18},{"$f":"表格2[[#This Row],[入貨價]]","v":27},{"$f":"SUMIF(資料庫!D:D,庫存計算!C386,資料庫!E:E)","v":0}]
[{"$f":"表格2[[#This Row],[貨源]]","v":0},{"$f":"表格2[[#This Row],[編號]]","v":"SW7024"},{"$f":"表格2[[#This Row],[產品]]","v":"配件3-小獅王-蘊蜜寬口奶瓶瓶蓋組(綠沐)-"},{"$f":"表格2[[#This Row],[單價]]","v":18},{"$f":"表格2[[#This Row],[入貨價]]","v":27},{"$f":"SUMIF(資料庫!D:D,庫存計算!C387,資料庫!E:E)","v":0}]
[{"$f":"表格2[[#This Row],[貨源]]","v":0},{"$f":"表格2[[#This Row],[編號]]","v":"SW7025"},{"$f":"表格2[[#This Row],[產品]]","v":"配件3-小獅王-蘊蜜寬口奶瓶瓶蓋組(蒔黑)-"},{"$f":"表格2[[#This Row],[單價]]","v":18},{"$f":"表格2[[#This Row],[入貨價]]","v":27},{"$f":"SUMIF(資料庫!D:D,庫存計算!C388,資料庫!E:E)","v":0}]
[{"$f":"表格2[[#This Row],[貨源]]","v":0},{"$f":"表格2[[#This Row],[編號]]","v":"SW7026"},{"$f":"表格2[[#This Row],[產品]]","v":"配件3-小獅王-蘊蜜寬口奶瓶瓶蓋組(苜白)-"},{"$f":"表格2[[#This Row],[單價]]","v":18},{"$f":"表格2[[#This Row],[入貨價]]","v":27},{"$f":"SUMIF(資料庫!D:D,庫存計算!C389,資料庫!E:E)","v":0}]
[{"$f":"表格2[[#This Row],[貨源]]","v":0},{"$f":"表格2[[#This Row],[編號]]","v":"SW7030"},{"$f":"表格2[[#This Row],[產品]]","v":"配件4-小獅王-蘊蜜寬口奶瓶防滑把手(晨藍)-"},{"$f":"表格2[[#This Row],[單價]]","v":18},{"$f":"表格2[[#This Row],[入貨價]]","v":27},{"$f":"SUMIF(資料庫!D:D,庫存計算!C390,資料庫!E:E)","v":0}]
[{"$f":"表格2[[#This Row],[貨源]]","v":0},{"$f":"表格2[[#This Row],[編號]]","v":"SW7031"},{"$f":"表格2[[#This Row],[產品]]","v":"配件4-小獅王-蘊蜜寬口奶瓶防滑把手(栗粉)-"},{"$f":"表格2[[#This Row],[單價]]","v":18},{"$f":"表格2[[#This Row],[入貨價]]","v":27},{"$f":"SUMIF(資料庫!D:D,庫存計算!C391,資料庫!E:E)","v":0}]
[{"$f":"表格2[[#This Row],[貨源]]","v":0},{"$f":"表格2[[#This Row],[編號]]","v":"SW7032"},{"$f":"表格2[[#This Row],[產品]]","v":"配件4-小獅王-蘊蜜寬口奶瓶防滑把手(杏茶)-"},{"$f":"表格2[[#This Row],[單價]]","v":18},{"$f":"表格2[[#This Row],[入貨價]]","v":27},{"$f":"SUMIF(資料庫!D:D,庫存計算!C392,資料庫!E:E)","v":0}]
[{"$f":"表格2[[#This Row],[貨源]]","v":0},{"$f":"表格2[[#This Row],[編號]]","v":"SW7033"},{"$f":"表格2[[#This Row],[產品]]","v":"配件4-小獅王-蘊蜜寬口奶瓶防滑把手(紫芙)-"},{"$f":"表格2[[#This Row],[單價]]","v":18},{"$f":"表格2[[#This Row],[入貨價]]","v":27},{"$f":"SUMIF(資料庫!D:D,庫存計算!C393,資料庫!E:E)","v":0}]
[{"$f":"表格2[[#This Row],[貨源]]","v":0},{"$f":"表格2[[#This Row],[編號]]","v":"SW7034"},{"$f":"表格2[[#This Row],[產品]]","v":"配件4-小獅王-蘊蜜寬口奶瓶防滑把手(綠沐)-"},{"$f":"表格2[[#This Row],[單價]]","v":18},{"$f":"表格2[[#This Row],[入貨價]]","v":27},{"$f":"SUMIF(資料庫!D:D,庫存計算!C394,資料庫!E:E)","v":0}]
[{"$f":"表格2[[#This Row],[貨源]]","v":0},{"$f":"表格2[[#This Row],[編號]]","v":"SW7035"},{"$f":"表格2[[#This Row],[產品]]","v":"配件4-小獅王-蘊蜜寬口奶瓶防滑把手(蒔黑)-"},{"$f":"表格2[[#This Row],[單價]]","v":18},{"$f":"表格2[[#This Row],[入貨價]]","v":27},{"$f":"SUMIF(資料庫!D:D,庫存計算!C395,資料庫!E:E)","v":0}]
[{"$f":"表格2[[#This Row],[貨源]]","v":0},{"$f":"表格2[[#This Row],[編號]]","v":"SW7036"},{"$f":"表格2[[#This Row],[產品]]","v":"配件4-小獅王-蘊蜜寬口奶瓶防滑把手(苜白)-"},{"$f":"表格2[[#This Row],[單價]]","v":18},{"$f":"表格2[[#This Row],[入貨價]]","v":27},{"$f":"SUMIF(資料庫!D:D,庫存計算!C396,資料庫!E:E)","v":0}]
[{"$f":"表格2[[#This Row],[貨源]]","v":0},{"$f":"表格2[[#This Row],[編號]]","v":"SW7040"},{"$f":"表格2[[#This Row],[產品]]","v":"配件2-小獅王-蘊蜜寬口奶瓶萬用蓋(晨藍)-"},{"$f":"表格2[[#This Row],[單價]]","v":18},{"$f":"表格2[[#This Row],[入貨價]]","v":30},{"$f":"SUMIF(資料庫!D:D,庫存計算!C397,資料庫!E:E)","v":0}]
[{"$f":"表格2[[#This Row],[貨源]]","v":0},{"$f":"表格2[[#This Row],[編號]]","v":"SW7041"},{"$f":"表格2[[#This Row],[產品]]","v":"配件2-小獅王-蘊蜜寬口奶瓶萬用蓋(栗粉)-"},{"$f":"表格2[[#This Row],[單價]]","v":18},{"$f":"表格2[[#This Row],[入貨價]]","v":30},{"$f":"SUMIF(資料庫!D:D,庫存計算!C398,資料庫!E:E)","v":0}]
[{"$f":"表格2[[#This Row],[貨源]]","v":0},{"$f":"表格2[[#This Row],[編號]]","v":"SW7042"},{"$f":"表格2[[#This Row],[產品]]","v":"配件2-小獅王-蘊蜜寬口奶瓶萬用蓋(杏茶)-"},{"$f":"表格2[[#This Row],[單價]]","v":18},{"$f":"表格2[[#This Row],[入貨價]]","v":30},{"$f":"SUMIF(資料庫!D:D,庫存計算!C399,資料庫!E:E)","v":0}]
[{"$f":"表格2[[#This Row],[貨源]]","v":0},{"$f":"表格2[[#This Row],[編號]]","v":"SW7043"},{"$f":"表格2[[#This Row],[產品]]","v":"配件2-小獅王-蘊蜜寬口奶瓶萬用蓋(紫芙)-"},{"$f":"表格2[[#This Row],[單價]]","v":18},{"$f":"表格2[[#This Row],[入貨價]]","v":30},{"$f":"SUMIF(資料庫!D:D,庫存計算!C400,資料庫!E:E)","v":0}]
[{"$f":"表格2[[#This Row],[貨源]]","v":0},{"$f":"表格2[[#This Row],[編號]]","v":"SW7044"},{"$f":"表格2[[#This Row],[產品]]","v":"配件2-小獅王-蘊蜜寬口奶瓶萬用蓋(綠沐)-"},{"$f":"表格2[[#This Row],[單價]]","v":18},{"$f":"表格2[[#This Row],[入貨價]]","v":30},{"$f":"SUMIF(資料庫!D:D,庫存計算!C401,資料庫!E:E)","v":0}]
[{"$f":"表格2[[#This Row],[貨源]]","v":0},{"$f":"表格2[[#This Row],[編號]]","v":"SW7045"},{"$f":"表格2[[#This Row],[產品]]","v":"配件2-小獅王-蘊蜜寬口奶瓶萬用蓋(蒔黑)-"},{"$f":"表格2[[#This Row],[單價]]","v":18},{"$f":"表格2[[#This Row],[入貨價]]","v":30},{"$f":"SUMIF(資料庫!D:D,庫存計算!C402,資料庫!E:E)","v":0}]
[{"$f":"表格2[[#This Row],[貨源]]","v":0},{"$f":"表格2[[#This Row],[編號]]","v":"SW7046"},{"$f":"表格2[[#This Row],[產品]]","v":"配件2-小獅王-蘊蜜寬口奶瓶萬用蓋(苜白)-"},{"$f":"表格2[[#This Row],[單價]]","v":18},{"$f":"表格2[[#This Row],[入貨價]]","v":30},{"$f":"SUMIF(資料庫!D:D,庫存計算!C403,資料庫!E:E)","v":0}]
[{"$f":"表格2[[#This Row],[貨源]]","v":0},{"$f":"表格2[[#This Row],[編號]]","v":"SW7050"},{"$f":"表格2[[#This Row],[產品]]","v":"配件7-小獅王-蘊蜜寬口防漏滑蓋把手吸管組(晨藍)-"},{"$f":"表格2[[#This Row],[單價]]","v":55},{"$f":"表格2[[#This Row],[入貨價]]","v":112},{"$f":"SUMIF(資料庫!D:D,庫存計算!C404,資料庫!E:E)","v":0}]
[{"$f":"表格2[[#This Row],[貨源]]","v":0},{"$f":"表格2[[#This Row],[編號]]","v":"SW7051"},{"$f":"表格2[[#This Row],[產品]]","v":"配件7-小獅王-蘊蜜寬口防漏滑蓋把手吸管組(栗粉)-"},{"$f":"表格2[[#This Row],[單價]]","v":55},{"$f":"表格2[[#This Row],[入貨價]]","v":112},{"$f":"SUMIF(資料庫!D:D,庫存計算!C405,資料庫!E:E)","v":0}]
[{"$f":"表格2[[#This Row],[貨源]]","v":0},{"$f":"表格2[[#This Row],[編號]]","v":"SW7052"},{"$f":"表格2[[#This Row],[產品]]","v":"配件7-小獅王-蘊蜜寬口防漏滑蓋把手吸管組(杏茶)-"},{"$f":"表格2[[#This Row],[單價]]","v":55},{"$f":"表格2[[#This Row],[入貨價]]","v":112},{"$f":"SUMIF(資料庫!D:D,庫存計算!C406,資料庫!E:E)","v":0}]
[{"$f":"表格2[[#This Row],[貨源]]","v":0},{"$f":"表格2[[#This Row],[編號]]","v":"SW7053"},{"$f":"表格2[[#This Row],[產品]]","v":"配件7-小獅王-蘊蜜寬口防漏滑蓋把手吸管組(紫芙)-"},{"$f":"表格2[[#This Row],[單價]]","v":55},{"$f":"表格2[[#This Row],[入貨價]]","v":112},{"$f":"SUMIF(資料庫!D:D,庫存計算!C407,資料庫!E:E)","v":0}]
[{"$f":"表格2[[#This Row],[貨源]]","v":0},{"$f":"表格2[[#This Row],[編號]]","v":"SW7054"},{"$f":"表格2[[#This Row],[產品]]","v":"配件7-小獅王-蘊蜜寬口防漏滑蓋把手吸管組(綠沐)-"},{"$f":"表格2[[#This Row],[單價]]","v":55},{"$f":"表格2[[#This Row],[入貨價]]","v":112},{"$f":"SUMIF(資料庫!D:D,庫存計算!C408,資料庫!E:E)","v":0}]
[{"$f":"表格2[[#This Row],[貨源]]","v":0},{"$f":"表格2[[#This Row],[編號]]","v":"SW7055"},{"$f":"表格2[[#This Row],[產品]]","v":"配件7-小獅王-蘊蜜寬口防漏滑蓋把手吸管組(蒔黑)-"},{"$f":"表格2[[#This Row],[單價]]","v":55},{"$f":"表格2[[#This Row],[入貨價]]","v":112},{"$f":"SUMIF(資料庫!D:D,庫存計算!C409,資料庫!E:E)","v":0}]
[{"$f":"表格2[[#This Row],[貨源]]","v":0},{"$f":"表格2[[#This Row],[編號]]","v":"SW7056"},{"$f":"表格2[[#This Row],[產品]]","v":"配件7-小獅王-蘊蜜寬口防漏滑蓋把手吸管組(苜白)-"},{"$f":"表格2[[#This Row],[單價]]","v":55},{"$f":"表格2[[#This Row],[入貨價]]","v":112},{"$f":"SUMIF(資料庫!D:D,庫存計算!C410,資料庫!E:E)","v":0}]
[{"$f":"表格2[[#This Row],[貨源]]","v":0},{"$f":"表格2[[#This Row],[編號]]","v":"SW7060"},{"$f":"表格2[[#This Row],[產品]]","v":"配件8-小獅王-蘊蜜寬口即飲杯蓋組(晨藍)-"},{"$f":"表格2[[#This Row],[單價]]","v":48},{"$f":"表格2[[#This Row],[入貨價]]","v":98},{"$f":"SUMIF(資料庫!D:D,庫存計算!C411,資料庫!E:E)","v":0}]
[{"$f":"表格2[[#This Row],[貨源]]","v":0},{"$f":"表格2[[#This Row],[編號]]","v":"SW7061"},{"$f":"表格2[[#This Row],[產品]]","v":"配件8-小獅王-蘊蜜寬口即飲杯蓋組(栗粉)-"},{"$f":"表格2[[#This Row],[單價]]","v":48},{"$f":"表格2[[#This Row],[入貨價]]","v":98},{"$f":"SUMIF(資料庫!D:D,庫存計算!C412,資料庫!E:E)","v":0}]
[{"$f":"表格2[[#This Row],[貨源]]","v":0},{"$f":"表格2[[#This Row],[編號]]","v":"SW7062"},{"$f":"表格2[[#This Row],[產品]]","v":"配件8-小獅王-蘊蜜寬口即飲杯蓋組(杏茶)-"},{"$f":"表格2[[#This Row],[單價]]","v":48},{"$f":"表格2[[#This Row],[入貨價]]","v":98},{"$f":"SUMIF(資料庫!D:D,庫存計算!C413,資料庫!E:E)","v":0}]
[{"$f":"表格2[[#This Row],[貨源]]","v":0},{"$f":"表格2[[#This Row],[編號]]","v":"SW7063"},{"$f":"表格2[[#This Row],[產品]]","v":"配件8-小獅王-蘊蜜寬口即飲杯蓋組(紫芙)-"},{"$f":"表格2[[#This Row],[單價]]","v":48},{"$f":"表格2[[#This Row],[入貨價]]","v":98},{"$f":"SUMIF(資料庫!D:D,庫存計算!C414,資料庫!E:E)","v":0}]
[{"$f":"表格2[[#This Row],[貨源]]","v":0},{"$f":"表格2[[#This Row],[編號]]","v":"SW7064"},{"$f":"表格2[[#This Row],[產品]]","v":"配件8-小獅王-蘊蜜寬口即飲杯蓋組(綠沐)-"},{"$f":"表格2[[#This Row],[單價]]","v":48},{"$f":"表格2[[#This Row],[入貨價]]","v":98},{"$f":"SUMIF(資料庫!D:D,庫存計算!C415,資料庫!E:E)","v":0}]
[{"$f":"表格2[[#This Row],[貨源]]","v":0},{"$f":"表格2[[#This Row],[編號]]","v":"SW7065"},{"$f":"表格2[[#This Row],[產品]]","v":"配件8-小獅王-蘊蜜寬口即飲杯蓋組(蒔黑)-"},{"$f":"表格2[[#This Row],[單價]]","v":48},{"$f":"表格2[[#This Row],[入貨價]]","v":98},{"$f":"SUMIF(資料庫!D:D,庫存計算!C416,資料庫!E:E)","v":0}]
[{"$f":"表格2[[#This Row],[貨源]]","v":0},{"$f":"表格2[[#This Row],[編號]]","v":"SW7066"},{"$f":"表格2[[#This Row],[產品]]","v":"配件8-小獅王-蘊蜜寬口即飲杯蓋組(苜白)-"},{"$f":"表格2[[#This Row],[單價]]","v":48},{"$f":"表格2[[#This Row],[入貨價]]","v":98},{"$f":"SUMIF(資料庫!D:D,庫存計算!C417,資料庫!E:E)","v":0}]
[{"$f":"表格2[[#This Row],[貨源]]","v":0},{"$f":"表格2[[#This Row],[編號]]","v":"SW8110"},{"$f":"表格2[[#This Row],[產品]]","v":"學習水杯-小獅王-蘊蜜鉑金PPSU防漏滑蓋學習水杯270ml(晨藍)-"},{"$f":"表格2[[#This Row],[單價]]","v":155},{"$f":"表格2[[#This Row],[入貨價]]","v":379},{"$f":"SUMIF(資料庫!D:D,庫存計算!C418,資料庫!E:E)","v":0}]
[{"$f":"表格2[[#This Row],[貨源]]","v":0},{"$f":"表格2[[#This Row],[編號]]","v":"SW8111"},{"$f":"表格2[[#This Row],[產品]]","v":"學習水杯-小獅王-蘊蜜鉑金PPSU防漏滑蓋學習水杯270ml(栗粉)-"},{"$f":"表格2[[#This Row],[單價]]","v":155},{"$f":"表格2[[#This Row],[入貨價]]","v":379},{"$f":"SUMIF(資料庫!D:D,庫存計算!C419,資料庫!E:E)","v":0}]
[{"$f":"表格2[[#This Row],[貨源]]","v":0},{"$f":"表格2[[#This Row],[編號]]","v":"SW8112"},{"$f":"表格2[[#This Row],[產品]]","v":"學習水杯-小獅王-蘊蜜鉑金PPSU防漏滑蓋學習水杯270ml(杏茶)-"},{"$f":"表格2[[#This Row],[單價]]","v":155},{"$f":"表格2[[#This Row],[入貨價]]","v":379},{"$f":"SUMIF(資料庫!D:D,庫存計算!C420,資料庫!E:E)","v":0}]
[{"$f":"表格2[[#This Row],[貨源]]","v":0},{"$f":"表格2[[#This Row],[編號]]","v":"SW8113"},{"$f":"表格2[[#This Row],[產品]]","v":"學習水杯-小獅王-蘊蜜鉑金PPSU防漏滑蓋學習水杯270ml(紫芙)-"},{"$f":"表格2[[#This Row],[單價]]","v":155},{"$f":"表格2[[#This Row],[入貨價]]","v":379},{"$f":"SUMIF(資料庫!D:D,庫存計算!C421,資料庫!E:E)","v":0}]
[{"$f":"表格2[[#This Row],[貨源]]","v":0},{"$f":"表格2[[#This Row],[編號]]","v":"SW8114"},{"$f":"表格2[[#This Row],[產品]]","v":"學習水杯-小獅王-蘊蜜鉑金PPSU防漏滑蓋學習水杯270ml(綠沐)-"},{"$f":"表格2[[#This Row],[單價]]","v":155},{"$f":"表格2[[#This Row],[入貨價]]","v":379},{"$f":"SUMIF(資料庫!D:D,庫存計算!C422,資料庫!E:E)","v":0}]
[{"$f":"表格2[[#This Row],[貨源]]","v":"TBRAND"},{"$f":"表格2[[#This Row],[編號]]","v":"TESTING"},{"$f":"表格2[[#This Row],[產品]]","v":"TES-90-Y"},{"$f":"表格2[[#This Row],[單價]]","v":10},{"$f":"表格2[[#This Row],[入貨價]]","v":50},{"$f":"SUMIF(資料庫!D:D,庫存計算!C423,資料庫!E:E)","v":0}]
[{"$f":"表格2[[#This Row],[貨源]]","v":"LATIV"},{"$f":"表格2[[#This Row],[編號]]","v":"T0016"},{"$f":"表格2[[#This Row],[產品]]","v":"台SANRIO三色衛衣-100-紫"},{"$f":"表格2[[#This Row],[單價]]","v":109},{"$f":"表格2[[#This Row],[入貨價]]","v":0},{"$f":"SUMIF(資料庫!D:D,庫存計算!C424,資料庫!E:E)","v":0}]
[{"$f":"表格2[[#This Row],[貨源]]","v":"LATIV"},{"$f":"表格2[[#This Row],[編號]]","v":"T0018"},{"$f":"表格2[[#This Row],[產品]]","v":"台防滑襪-SET B-M"},{"$f":"表格2[[#This Row],[單價]]","v":55},{"$f":"表格2[[#This Row],[入貨價]]","v":0},{"$f":"SUMIF(資料庫!D:D,庫存計算!C425,資料庫!E:E)","v":0}]
[{"$f":"表格2[[#This Row],[貨源]]","v":"LATIV"},{"$f":"表格2[[#This Row],[編號]]","v":"T005"},{"$f":"表格2[[#This Row],[產品]]","v":"台小飛象外套-90-白"},{"$f":"表格2[[#This Row],[單價]]","v":95},{"$f":"表格2[[#This Row],[入貨價]]","v":0},{"$f":"SUMIF(資料庫!D:D,庫存計算!C426,資料庫!E:E)","v":0}]
[{"$f":"表格2[[#This Row],[貨源]]","v":"LATIV"},{"$f":"表格2[[#This Row],[編號]]","v":"T0014"},{"$f":"表格2[[#This Row],[產品]]","v":"台LINE奶茶衛衣-100-白"},{"$f":"表格2[[#This Row],[單價]]","v":109},{"$f":"表格2[[#This Row],[入貨價]]","v":0},{"$f":"SUMIF(資料庫!D:D,庫存計算!C427,資料庫!E:E)","v":0}]
[{"$f":"表格2[[#This Row],[貨源]]","v":"LATIV"},{"$f":"表格2[[#This Row],[編號]]","v":"T0016"},{"$f":"表格2[[#This Row],[產品]]","v":"台SANRIO三色衛衣-90-紫"},{"$f":"表格2[[#This Row],[單價]]","v":109},{"$f":"表格2[[#This Row],[入貨價]]","v":0},{"$f":"SUMIF(資料庫!D:D,庫存計算!C428,資料庫!E:E)","v":0}]
[{"$f":"表格2[[#This Row],[貨源]]","v":"LATIV"},{"$f":"表格2[[#This Row],[編號]]","v":"T005"},{"$f":"表格2[[#This Row],[產品]]","v":"台小飛象外套-90-粉"},{"$f":"表格2[[#This Row],[單價]]","v":95},{"$f":"表格2[[#This Row],[入貨價]]","v":0},{"$f":"SUMIF(資料庫!D:D,庫存計算!C429,資料庫!E:E)","v":0}]
[{"$f":"表格2[[#This Row],[貨源]]","v":"LATIV"},{"$f":"表格2[[#This Row],[編號]]","v":"T0010"},{"$f":"表格2[[#This Row],[產品]]","v":"台連身扣鏤小仙子-90-紫"},{"$f":"表格2[[#This Row],[單價]]","v":109},{"$f":"表格2[[#This Row],[入貨價]]","v":0},{"$f":"SUMIF(資料庫!D:D,庫存計算!C430,資料庫!E:E)","v":0}]
[{"$f":"表格2[[#This Row],[貨源]]","v":"LATIV"},{"$f":"表格2[[#This Row],[編號]]","v":"T0011"},{"$f":"表格2[[#This Row],[產品]]","v":"台連身扣鏤小飛象-90-黃"},{"$f":"表格2[[#This Row],[單價]]","v":109},{"$f":"表格2[[#This Row],[入貨價]]","v":0},{"$f":"SUMIF(資料庫!D:D,庫存計算!C431,資料庫!E:E)","v":0}]
[{"$f":"表格2[[#This Row],[貨源]]","v":"LATIV"},{"$f":"表格2[[#This Row],[編號]]","v":"T0014"},{"$f":"表格2[[#This Row],[產品]]","v":"台LINE奶茶衛衣-80-白"},{"$f":"表格2[[#This Row],[單價]]","v":109},{"$f":"表格2[[#This Row],[入貨價]]","v":0},{"$f":"SUMIF(資料庫!D:D,庫存計算!C432,資料庫!E:E)","v":0}]
[{"$f":"表格2[[#This Row],[貨源]]","v":"LATIV"},{"$f":"表格2[[#This Row],[編號]]","v":"T0018"},{"$f":"表格2[[#This Row],[產品]]","v":"台防滑襪-SET B-S"},{"$f":"表格2[[#This Row],[單價]]","v":55},{"$f":"表格2[[#This Row],[入貨價]]","v":0},{"$f":"SUMIF(資料庫!D:D,庫存計算!C433,資料庫!E:E)","v":0}]
[{"$f":"表格2[[#This Row],[貨源]]","v":"LATIV"},{"$f":"表格2[[#This Row],[編號]]","v":"T0013"},{"$f":"表格2[[#This Row],[產品]]","v":"台三件套小飛象-80-"},{"$f":"表格2[[#This Row],[單價]]","v":145},{"$f":"表格2[[#This Row],[入貨價]]","v":0},{"$f":"SUMIF(資料庫!D:D,庫存計算!C434,資料庫!E:E)","v":0}]
[{"$f":"表格2[[#This Row],[貨源]]","v":"LATIV"},{"$f":"表格2[[#This Row],[編號]]","v":"T0014"},{"$f":"表格2[[#This Row],[產品]]","v":"台魚魚上衣-80-藍白"},{"$f":"表格2[[#This Row],[單價]]","v":89},{"$f":"表格2[[#This Row],[入貨價]]","v":0},{"$f":"SUMIF(資料庫!D:D,庫存計算!C435,資料庫!E:E)","v":0}]
[{"$f":"表格2[[#This Row],[貨源]]","v":"LATIV"},{"$f":"表格2[[#This Row],[編號]]","v":"T005"},{"$f":"表格2[[#This Row],[產品]]","v":"台小飛象外套-100-粉"},{"$f":"表格2[[#This Row],[單價]]","v":95},{"$f":"表格2[[#This Row],[入貨價]]","v":0},{"$f":"SUMIF(資料庫!D:D,庫存計算!C436,資料庫!E:E)","v":0}]
[{"$f":"表格2[[#This Row],[貨源]]","v":0},{"$f":"表格2[[#This Row],[編號]]","v":0},{"$f":"表格2[[#This Row],[產品]]","v":"--"},{"$f":"表格2[[#This Row],[單價]]","v":0},{"$f":"表格2[[#This Row],[入貨價]]","v":0},{"$f":"SUMIF(資料庫!D:D,庫存計算!C437,資料庫!E:E)","v":0}]
[{"$f":"表格2[[#This Row],[貨源]]","v":0},{"$f":"表格2[[#This Row],[編號]]","v":0},{"$f":"表格2[[#This Row],[產品]]","v":"--"},{"$f":"表格2[[#This Row],[單價]]","v":0},{"$f":"表格2[[#This Row],[入貨價]]","v":0},{"$f":"SUMIF(資料庫!D:D,庫存計算!C438,資料庫!E:E)","v":0}]
[{"$f":"表格2[[#This Row],[貨源]]","v":0},{"$f":"表格2[[#This Row],[編號]]","v":0},{"$f":"表格2[[#This Row],[產品]]","v":"--"},{"$f":"表格2[[#This Row],[單價]]","v":0},{"$f":"表格2[[#This Row],[入貨價]]","v":0},{"$f":"SUMIF(資料庫!D:D,庫存計算!C439,資料庫!E:E)","v":0}]
[{"$f":"表格2[[#This Row],[貨源]]","v":0},{"$f":"表格2[[#This Row],[編號]]","v":0},{"$f":"表格2[[#This Row],[產品]]","v":"--"},{"$f":"表格2[[#This Row],[單價]]","v":0},{"$f":"表格2[[#This Row],[入貨價]]","v":0},{"$f":"SUMIF(資料庫!D:D,庫存計算!C440,資料庫!E:E)","v":0}]
[{"$f":"表格2[[#This Row],[貨源]]","v":0},{"$f":"表格2[[#This Row],[編號]]","v":0},{"$f":"表格2[[#This Row],[產品]]","v":"--"},{"$f":"表格2[[#This Row],[單價]]","v":0},{"$f":"表格2[[#This Row],[入貨價]]","v":0},{"$f":"SUMIF(資料庫!D:D,庫存計算!C441,資料庫!E:E)","v":0}]
[{"$f":"表格2[[#This Row],[貨源]]","v":{"$error":"#VALUE!"}},{"$f":"表格2[[#This Row],[編號]]","v":{"$error":"#VALUE!"}},{"$f":"表格2[[#This Row],[產品]]","v":{"$error":"#VALUE!"}},{"$f":"表格2[[#This Row],[單價]]","v":{"$error":"#VALUE!"}},{"$f":"表格2[[#This Row],[入貨價]]","v":{"$error":"#VALUE!"}},{"$f":"SUMIF(資料庫!D:D,庫存計算!C442,資料庫!E:E)","v":0}]
[{"$f":"表格2[[#This Row],[貨源]]","v":{"$error":"#VALUE!"}},{"$f":"表格2[[#This Row],[編號]]","v":{"$error":"#VALUE!"}},{"$f":"表格2[[#This Row],[產品]]","v":{"$error":"#VALUE!"}},{"$f":"表格2[[#This Row],[單價]]","v":{"$error":"#VALUE!"}},{"$f":"表格2[[#This Row],[入貨價]]","v":{"$error":"#VALUE!"}},{"$f":"SUMIF(資料庫!D:D,庫存計算!C443,資料庫!E:E)","v":0}]
[{"$f":"表格2[[#This Row],[貨源]]","v":{"$error":"#VALUE!"}},{"$f":"表格2[[#This Row],[編號]]","v":{"$error":"#VALUE!"}},{"$f":"表格2[[#This Row],[產品]]","v":{"$error":"#VALUE!"}},{"$f":"表格2[[#This Row],[單價]]","v":{"$error":"#VALUE!"}},{"$f":"表格2[[#This Row],[入貨價]]","v":{"$error":"#VALUE!"}},{"$f":"SUMIF(資料庫!D:D,庫存計算!C444,資料庫!E:E)","v":0}]
[{"$f":"表格2[[#This Row],[貨源]]","v":{"$error":"#VALUE!"}},{"$f":"表格2[[#This Row],[編號]]","v":{"$error":"#VALUE!"}},{"$f":"表格2[[#This Row],[產品]]","v":{"$error":"#VALUE!"}},{"$f":"表格2[[#This Row],[單價]]","v":{"$error":"#VALUE!"}},{"$f":"表格2[[#This Row],[入貨價]]","v":{"$error":"#VALUE!"}},{"$f":"SUMIF(資料庫!D:D,庫存計算!C445,資料庫!E:E)","v":0}]
[{"$f":"表格2[[#This Row],[貨源]]","v":{"$error":"#VALUE!"}},{"$f":"表格2[[#This Row],[編號]]","v":{"$error":"#VALUE!"}},{"$f":"表格2[[#This Row],[產品]]","v":{"$error":"#VALUE!"}},{"$f":"表格2[[#This Row],[單價]]","v":{"$error":"#VALUE!"}},{"$f":"表格2[[#This Row],[入貨價]]","v":{"$error":"#VALUE!"}},{"$f":"SUMIF(資料庫!D:D,庫存計算!C446,資料庫!E:E)","v":0}]
[{"$f":"表格2[[#This Row],[貨源]]","v":{"$error":"#VALUE!"}},{"$f":"表格2[[#This Row],[編號]]","v":{"$error":"#VALUE!"}},{"$f":"表格2[[#This Row],[產品]]","v":{"$error":"#VALUE!"}},{"$f":"表格2[[#This Row],[單價]]","v":{"$error":"#VALUE!"}},{"$f":"表格2[[#This Row],[入貨價]]","v":{"$error":"#VALUE!"}},{"$f":"SUMIF(資料庫!D:D,庫存計算!C447,資料庫!E:E)","v":0}]
[{"$f":"表格2[[#This Row],[貨源]]","v":{"$error":"#VALUE!"}},{"$f":"表格2[[#This Row],[編號]]","v":{"$error":"#VALUE!"}},{"$f":"表格2[[#This Row],[產品]]","v":{"$error":"#VALUE!"}},{"$f":"表格2[[#This Row],[單價]]","v":{"$error":"#VALUE!"}},{"$f":"表格2[[#This Row],[入貨價]]","v":{"$error":"#VALUE!"}},{"$f":"SUMIF(資料庫!D:D,庫存計算!C448,資料庫!E:E)","v":0}]
[{"$f":"表格2[[#This Row],[貨源]]","v":{"$error":"#VALUE!"}},{"$f":"表格2[[#This Row],[編號]]","v":{"$error":"#VALUE!"}},{"$f":"表格2[[#This Row],[產品]]","v":{"$error":"#VALUE!"}},{"$f":"表格2[[#This Row],[單價]]","v":{"$error":"#VALUE!"}},{"$f":"表格2[[#This Row],[入貨價]]","v":{"$error":"#VALUE!"}},{"$f":"SUMIF(資料庫!D:D,庫存計算!C449,資料庫!E:E)","v":0}]
[{"$f":"表格2[[#This Row],[貨源]]","v":{"$error":"#VALUE!"}},{"$f":"表格2[[#This Row],[編號]]","v":{"$error":"#VALUE!"}},{"$f":"表格2[[#This Row],[產品]]","v":{"$error":"#VALUE!"}},{"$f":"表格2[[#This Row],[單價]]","v":{"$error":"#VALUE!"}},{"$f":"表格2[[#This Row],[入貨價]]","v":{"$error":"#VALUE!"}},{"$f":"SUMIF(資料庫!D:D,庫存計算!C450,資料庫!E:E)","v":0}]
[{"$f":"表格2[[#This Row],[貨源]]","v":{"$error":"#VALUE!"}},{"$f":"表格2[[#This Row],[編號]]","v":{"$error":"#VALUE!"}},{"$f":"表格2[[#This Row],[產品]]","v":{"$error":"#VALUE!"}},{"$f":"表格2[[#This Row],[單價]]","v":{"$error":"#VALUE!"}},{"$f":"表格2[[#This Row],[入貨價]]","v":{"$error":"#VALUE!"}},{"$f":"SUMIF(資料庫!D:D,庫存計算!C451,資料庫!E:E)","v":0}]
[{"$f":"表格2[[#This Row],[貨源]]","v":{"$error":"#VALUE!"}},{"$f":"表格2[[#This Row],[編號]]","v":{"$error":"#VALUE!"}},{"$f":"表格2[[#This Row],[產品]]","v":{"$error":"#VALUE!"}},{"$f":"表格2[[#This Row],[單價]]","v":{"$error":"#VALUE!"}},{"$f":"表格2[[#This Row],[入貨價]]","v":{"$error":"#VALUE!"}},{"$f":"SUMIF(資料庫!D:D,庫存計算!C452,資料庫!E:E)","v":0}]
[{"$f":"表格2[[#This Row],[貨源]]","v":{"$error":"#VALUE!"}},{"$f":"表格2[[#This Row],[編號]]","v":{"$error":"#VALUE!"}},{"$f":"表格2[[#This Row],[產品]]","v":{"$error":"#VALUE!"}},{"$f":"表格2[[#This Row],[單價]]","v":{"$error":"#VALUE!"}},{"$f":"表格2[[#This Row],[入貨價]]","v":{"$error":"#VALUE!"}},{"$f":"SUMIF(資料庫!D:D,庫存計算!C453,資料庫!E:E)","v":0}]
[{"$f":"表格2[[#This Row],[貨源]]","v":{"$error":"#VALUE!"}},{"$f":"表格2[[#This Row],[編號]]","v":{"$error":"#VALUE!"}},{"$f":"表格2[[#This Row],[產品]]","v":{"$error":"#VALUE!"}},{"$f":"表格2[[#This Row],[單價]]","v":{"$error":"#VALUE!"}},{"$f":"表格2[[#This Row],[入貨價]]","v":{"$error":"#VALUE!"}},{"$f":"SUMIF(資料庫!D:D,庫存計算!C454,資料庫!E:E)","v":0}]
[{"$f":"表格2[[#This Row],[貨源]]","v":{"$error":"#VALUE!"}},{"$f":"表格2[[#This Row],[編號]]","v":{"$error":"#VALUE!"}},{"$f":"表格2[[#This Row],[產品]]","v":{"$error":"#VALUE!"}},{"$f":"表格2[[#This Row],[單價]]","v":{"$error":"#VALUE!"}},{"$f":"表格2[[#This Row],[入貨價]]","v":{"$error":"#VALUE!"}},{"$f":"SUMIF(資料庫!D:D,庫存計算!C455,資料庫!E:E)","v":0}]
[{"$f":"表格2[[#This Row],[貨源]]","v":{"$error":"#VALUE!"}},{"$f":"表格2[[#This Row],[編號]]","v":{"$error":"#VALUE!"}},{"$f":"表格2[[#This Row],[產品]]","v":{"$error":"#VALUE!"}},{"$f":"表格2[[#This Row],[單價]]","v":{"$error":"#VALUE!"}},{"$f":"表格2[[#This Row],[入貨價]]","v":{"$error":"#VALUE!"}},{"$f":"SUMIF(資料庫!D:D,庫存計算!C456,資料庫!E:E)","v":0}]
[{"$f":"表格2[[#This Row],[貨源]]","v":{"$error":"#VALUE!"}},{"$f":"表格2[[#This Row],[編號]]","v":{"$error":"#VALUE!"}},{"$f":"表格2[[#This Row],[產品]]","v":{"$error":"#VALUE!"}},{"$f":"表格2[[#This Row],[單價]]","v":{"$error":"#VALUE!"}},{"$f":"表格2[[#This Row],[入貨價]]","v":{"$error":"#VALUE!"}},{"$f":"SUMIF(資料庫!D:D,庫存計算!C457,資料庫!E:E)","v":0}]
[{"$f":"表格2[[#This Row],[貨源]]","v":{"$error":"#VALUE!"}},{"$f":"表格2[[#This Row],[編號]]","v":{"$error":"#VALUE!"}},{"$f":"表格2[[#This Row],[產品]]","v":{"$error":"#VALUE!"}},{"$f":"表格2[[#This Row],[單價]]","v":{"$error":"#VALUE!"}},{"$f":"表格2[[#This Row],[入貨價]]","v":{"$error":"#VALUE!"}},{"$f":"SUMIF(資料庫!D:D,庫存計算!C458,資料庫!E:E)","v":0}]
[{"$f":"表格2[[#This Row],[貨源]]","v":{"$error":"#VALUE!"}},{"$f":"表格2[[#This Row],[編號]]","v":{"$error":"#VALUE!"}},{"$f":"表格2[[#This Row],[產品]]","v":{"$error":"#VALUE!"}},{"$f":"表格2[[#This Row],[單價]]","v":{"$error":"#VALUE!"}},{"$f":"表格2[[#This Row],[入貨價]]","v":{"$error":"#VALUE!"}},{"$f":"SUMIF(資料庫!D:D,庫存計算!C459,資料庫!E:E)","v":0}]
[{"$f":"表格2[[#This Row],[貨源]]","v":{"$error":"#VALUE!"}},{"$f":"表格2[[#This Row],[編號]]","v":{"$error":"#VALUE!"}},{"$f":"表格2[[#This Row],[產品]]","v":{"$error":"#VALUE!"}},{"$f":"表格2[[#This Row],[單價]]","v":{"$error":"#VALUE!"}},{"$f":"表格2[[#This Row],[入貨價]]","v":{"$error":"#VALUE!"}},{"$f":"SUMIF(資料庫!D:D,庫存計算!C460,資料庫!E:E)","v":0}]
[{"$f":"表格2[[#This Row],[貨源]]","v":{"$error":"#VALUE!"}},{"$f":"表格2[[#This Row],[編號]]","v":{"$error":"#VALUE!"}},{"$f":"表格2[[#This Row],[產品]]","v":{"$error":"#VALUE!"}},{"$f":"表格2[[#This Row],[單價]]","v":{"$error":"#VALUE!"}},{"$f":"表格2[[#This Row],[入貨價]]","v":{"$error":"#VALUE!"}},{"$f":"SUMIF(資料庫!D:D,庫存計算!C461,資料庫!E:E)","v":0}]
[{"$f":"表格2[[#This Row],[貨源]]","v":{"$error":"#VALUE!"}},{"$f":"表格2[[#This Row],[編號]]","v":{"$error":"#VALUE!"}},{"$f":"表格2[[#This Row],[產品]]","v":{"$error":"#VALUE!"}},{"$f":"表格2[[#This Row],[單價]]","v":{"$error":"#VALUE!"}},{"$f":"表格2[[#This Row],[入貨價]]","v":{"$error":"#VALUE!"}},{"$f":"SUMIF(資料庫!D:D,庫存計算!C462,資料庫!E:E)","v":0}]
[{"$f":"表格2[[#This Row],[貨源]]","v":{"$error":"#VALUE!"}},{"$f":"表格2[[#This Row],[編號]]","v":{"$error":"#VALUE!"}},{"$f":"表格2[[#This Row],[產品]]","v":{"$error":"#VALUE!"}},{"$f":"表格2[[#This Row],[單價]]","v":{"$error":"#VALUE!"}},{"$f":"表格2[[#This Row],[入貨價]]","v":{"$error":"#VALUE!"}},{"$f":"SUMIF(資料庫!D:D,庫存計算!C463,資料庫!E:E)","v":0}]
[{"$f":"表格2[[#This Row],[貨源]]","v":{"$error":"#VALUE!"}},{"$f":"表格2[[#This Row],[編號]]","v":{"$error":"#VALUE!"}},{"$f":"表格2[[#This Row],[產品]]","v":{"$error":"#VALUE!"}},{"$f":"表格2[[#This Row],[單價]]","v":{"$error":"#VALUE!"}},{"$f":"表格2[[#This Row],[入貨價]]","v":{"$error":"#VALUE!"}},{"$f":"SUMIF(資料庫!D:D,庫存計算!C464,資料庫!E:E)","v":0}]
[{"$f":"表格2[[#This Row],[貨源]]","v":{"$error":"#VALUE!"}},{"$f":"表格2[[#This Row],[編號]]","v":{"$error":"#VALUE!"}},{"$f":"表格2[[#This Row],[產品]]","v":{"$error":"#VALUE!"}},{"$f":"表格2[[#This Row],[單價]]","v":{"$error":"#VALUE!"}},{"$f":"表格2[[#This Row],[入貨價]]","v":{"$error":"#VALUE!"}},{"$f":"SUMIF(資料庫!D:D,庫存計算!C465,資料庫!E:E)","v":0}]
[{"$f":"表格2[[#This Row],[貨源]]","v":{"$error":"#VALUE!"}},{"$f":"表格2[[#This Row],[編號]]","v":{"$error":"#VALUE!"}},{"$f":"表格2[[#This Row],[產品]]","v":{"$error":"#VALUE!"}},{"$f":"表格2[[#This Row],[單價]]","v":{"$error":"#VALUE!"}},{"$f":"表格2[[#This Row],[入貨價]]","v":{"$error":"#VALUE!"}},{"$f":"SUMIF(資料庫!D:D,庫存計算!C466,資料庫!E:E)","v":0}]
[{"$f":"表格2[[#This Row],[貨源]]","v":{"$error":"#VALUE!"}},{"$f":"表格2[[#This Row],[編號]]","v":{"$error":"#VALUE!"}},{"$f":"表格2[[#This Row],[產品]]","v":{"$error":"#VALUE!"}},{"$f":"表格2[[#This Row],[單價]]","v":{"$error":"#VALUE!"}},{"$f":"表格2[[#This Row],[入貨價]]","v":{"$error":"#VALUE!"}},{"$f":"SUMIF(資料庫!D:D,庫存計算!C467,資料庫!E:E)","v":0}]
[{"$f":"表格2[[#This Row],[貨源]]","v":{"$error":"#VALUE!"}},{"$f":"表格2[[#This Row],[編號]]","v":{"$error":"#VALUE!"}},{"$f":"表格2[[#This Row],[產品]]","v":{"$error":"#VALUE!"}},{"$f":"表格2[[#This Row],[單價]]","v":{"$error":"#VALUE!"}},{"$f":"表格2[[#This Row],[入貨價]]","v":{"$error":"#VALUE!"}},{"$f":"SUMIF(資料庫!D:D,庫存計算!C468,資料庫!E:E)","v":0}]
[{"$f":"表格2[[#This Row],[貨源]]","v":{"$error":"#VALUE!"}},{"$f":"表格2[[#This Row],[編號]]","v":{"$error":"#VALUE!"}},{"$f":"表格2[[#This Row],[產品]]","v":{"$error":"#VALUE!"}},{"$f":"表格2[[#This Row],[單價]]","v":{"$error":"#VALUE!"}},{"$f":"表格2[[#This Row],[入貨價]]","v":{"$error":"#VALUE!"}},{"$f":"SUMIF(資料庫!D:D,庫存計算!C469,資料庫!E:E)","v":0}]
[{"$f":"表格2[[#This Row],[貨源]]","v":{"$error":"#VALUE!"}},{"$f":"表格2[[#This Row],[編號]]","v":{"$error":"#VALUE!"}},{"$f":"表格2[[#This Row],[產品]]","v":{"$error":"#VALUE!"}},{"$f":"表格2[[#This Row],[單價]]","v":{"$error":"#VALUE!"}},{"$f":"表格2[[#This Row],[入貨價]]","v":{"$error":"#VALUE!"}},{"$f":"SUMIF(資料庫!D:D,庫存計算!C470,資料庫!E:E)","v":0}]
[{"$f":"表格2[[#This Row],[貨源]]","v":{"$error":"#VALUE!"}},{"$f":"表格2[[#This Row],[編號]]","v":{"$error":"#VALUE!"}},{"$f":"表格2[[#This Row],[產品]]","v":{"$error":"#VALUE!"}},{"$f":"表格2[[#This Row],[單價]]","v":{"$error":"#VALUE!"}},{"$f":"表格2[[#This Row],[入貨價]]","v":{"$error":"#VALUE!"}},{"$f":"SUMIF(資料庫!D:D,庫存計算!C471,資料庫!E:E)","v":0}]
[{"$f":"表格2[[#This Row],[貨源]]","v":{"$error":"#VALUE!"}},{"$f":"表格2[[#This Row],[編號]]","v":{"$error":"#VALUE!"}},{"$f":"表格2[[#This Row],[產品]]","v":{"$error":"#VALUE!"}},{"$f":"表格2[[#This Row],[單價]]","v":{"$error":"#VALUE!"}},{"$f":"表格2[[#This Row],[入貨價]]","v":{"$error":"#VALUE!"}},{"$f":"SUMIF(資料庫!D:D,庫存計算!C472,資料庫!E:E)","v":0}]
[{"$f":"表格2[[#This Row],[貨源]]","v":{"$error":"#VALUE!"}},{"$f":"表格2[[#This Row],[編號]]","v":{"$error":"#VALUE!"}},{"$f":"表格2[[#This Row],[產品]]","v":{"$error":"#VALUE!"}},{"$f":"表格2[[#This Row],[單價]]","v":{"$error":"#VALUE!"}},{"$f":"表格2[[#This Row],[入貨價]]","v":{"$error":"#VALUE!"}},{"$f":"SUMIF(資料庫!D:D,庫存計算!C473,資料庫!E:E)","v":0}]
[{"$f":"表格2[[#This Row],[貨源]]","v":{"$error":"#VALUE!"}},{"$f":"表格2[[#This Row],[編號]]","v":{"$error":"#VALUE!"}},{"$f":"表格2[[#This Row],[產品]]","v":{"$error":"#VALUE!"}},{"$f":"表格2[[#This Row],[單價]]","v":{"$error":"#VALUE!"}},{"$f":"表格2[[#This Row],[入貨價]]","v":{"$error":"#VALUE!"}},{"$f":"SUMIF(資料庫!D:D,庫存計算!C474,資料庫!E:E)","v":0}]
[{"$f":"表格2[[#This Row],[貨源]]","v":{"$error":"#VALUE!"}},{"$f":"表格2[[#This Row],[編號]]","v":{"$error":"#VALUE!"}},{"$f":"表格2[[#This Row],[產品]]","v":{"$error":"#VALUE!"}},{"$f":"表格2[[#This Row],[單價]]","v":{"$error":"#VALUE!"}},{"$f":"表格2[[#This Row],[入貨價]]","v":{"$error":"#VALUE!"}},{"$f":"SUMIF(資料庫!D:D,庫存計算!C475,資料庫!E:E)","v":0}]
[{"$f":"表格2[[#This Row],[貨源]]","v":{"$error":"#VALUE!"}},{"$f":"表格2[[#This Row],[編號]]","v":{"$error":"#VALUE!"}},{"$f":"表格2[[#This Row],[產品]]","v":{"$error":"#VALUE!"}},{"$f":"表格2[[#This Row],[單價]]","v":{"$error":"#VALUE!"}},{"$f":"表格2[[#This Row],[入貨價]]","v":{"$error":"#VALUE!"}},{"$f":"SUMIF(資料庫!D:D,庫存計算!C476,資料庫!E:E)","v":0}]
[{"$f":"表格2[[#This Row],[貨源]]","v":{"$error":"#VALUE!"}},{"$f":"表格2[[#This Row],[編號]]","v":{"$error":"#VALUE!"}},{"$f":"表格2[[#This Row],[產品]]","v":{"$error":"#VALUE!"}},{"$f":"表格2[[#This Row],[單價]]","v":{"$error":"#VALUE!"}},{"$f":"表格2[[#This Row],[入貨價]]","v":{"$error":"#VALUE!"}},{"$f":"SUMIF(資料庫!D:D,庫存計算!C477,資料庫!E:E)","v":0}]
[{"$f":"表格2[[#This Row],[貨源]]","v":{"$error":"#VALUE!"}},{"$f":"表格2[[#This Row],[編號]]","v":{"$error":"#VALUE!"}},{"$f":"表格2[[#This Row],[產品]]","v":{"$error":"#VALUE!"}},{"$f":"表格2[[#This Row],[單價]]","v":{"$error":"#VALUE!"}},{"$f":"表格2[[#This Row],[入貨價]]","v":{"$error":"#VALUE!"}},{"$f":"SUMIF(資料庫!D:D,庫存計算!C478,資料庫!E:E)","v":0}]
[{"$f":"表格2[[#This Row],[貨源]]","v":{"$error":"#VALUE!"}},{"$f":"表格2[[#This Row],[編號]]","v":{"$error":"#VALUE!"}},{"$f":"表格2[[#This Row],[產品]]","v":{"$error":"#VALUE!"}},{"$f":"表格2[[#This Row],[單價]]","v":{"$error":"#VALUE!"}},{"$f":"表格2[[#This Row],[入貨價]]","v":{"$error":"#VALUE!"}},{"$f":"SUMIF(資料庫!D:D,庫存計算!C479,資料庫!E:E)","v":0}]
[{"$f":"表格2[[#This Row],[貨源]]","v":{"$error":"#VALUE!"}},{"$f":"表格2[[#This Row],[編號]]","v":{"$error":"#VALUE!"}},{"$f":"表格2[[#This Row],[產品]]","v":{"$error":"#VALUE!"}},{"$f":"表格2[[#This Row],[單價]]","v":{"$error":"#VALUE!"}},{"$f":"表格2[[#This Row],[入貨價]]","v":{"$error":"#VALUE!"}},{"$f":"SUMIF(資料庫!D:D,庫存計算!C480,資料庫!E:E)","v":0}]
[{"$f":"表格2[[#This Row],[貨源]]","v":{"$error":"#VALUE!"}},{"$f":"表格2[[#This Row],[編號]]","v":{"$error":"#VALUE!"}},{"$f":"表格2[[#This Row],[產品]]","v":{"$error":"#VALUE!"}},{"$f":"表格2[[#This Row],[單價]]","v":{"$error":"#VALUE!"}},{"$f":"表格2[[#This Row],[入貨價]]","v":{"$error":"#VALUE!"}},{"$f":"SUMIF(資料庫!D:D,庫存計算!C481,資料庫!E:E)","v":0}]
[{"$f":"表格2[[#This Row],[貨源]]","v":{"$error":"#VALUE!"}},{"$f":"表格2[[#This Row],[編號]]","v":{"$error":"#VALUE!"}},{"$f":"表格2[[#This Row],[產品]]","v":{"$error":"#VALUE!"}},{"$f":"表格2[[#This Row],[單價]]","v":{"$error":"#VALUE!"}},{"$f":"表格2[[#This Row],[入貨價]]","v":{"$error":"#VALUE!"}},{"$f":"SUMIF(資料庫!D:D,庫存計算!C482,資料庫!E:E)","v":0}]
[{"$f":"表格2[[#This Row],[貨源]]","v":{"$error":"#VALUE!"}},{"$f":"表格2[[#This Row],[編號]]","v":{"$error":"#VALUE!"}},{"$f":"表格2[[#This Row],[產品]]","v":{"$error":"#VALUE!"}},{"$f":"表格2[[#This Row],[單價]]","v":{"$error":"#VALUE!"}},{"$f":"表格2[[#This Row],[入貨價]]","v":{"$error":"#VALUE!"}},{"$f":"SUMIF(資料庫!D:D,庫存計算!C483,資料庫!E:E)","v":0}]
[{"$f":"表格2[[#This Row],[貨源]]","v":{"$error":"#VALUE!"}},{"$f":"表格2[[#This Row],[編號]]","v":{"$error":"#VALUE!"}},{"$f":"表格2[[#This Row],[產品]]","v":{"$error":"#VALUE!"}},{"$f":"表格2[[#This Row],[單價]]","v":{"$error":"#VALUE!"}},{"$f":"表格2[[#This Row],[入貨價]]","v":{"$error":"#VALUE!"}},{"$f":"SUMIF(資料庫!D:D,庫存計算!C484,資料庫!E:E)","v":0}]
[{"$f":"表格2[[#This Row],[貨源]]","v":{"$error":"#VALUE!"}},{"$f":"表格2[[#This Row],[編號]]","v":{"$error":"#VALUE!"}},{"$f":"表格2[[#This Row],[產品]]","v":{"$error":"#VALUE!"}},{"$f":"表格2[[#This Row],[單價]]","v":{"$error":"#VALUE!"}},{"$f":"表格2[[#This Row],[入貨價]]","v":{"$error":"#VALUE!"}},{"$f":"SUMIF(資料庫!D:D,庫存計算!C485,資料庫!E:E)","v":0}]
[{"$f":"表格2[[#This Row],[貨源]]","v":{"$error":"#VALUE!"}},{"$f":"表格2[[#This Row],[編號]]","v":{"$error":"#VALUE!"}},{"$f":"表格2[[#This Row],[產品]]","v":{"$error":"#VALUE!"}},{"$f":"表格2[[#This Row],[單價]]","v":{"$error":"#VALUE!"}},{"$f":"表格2[[#This Row],[入貨價]]","v":{"$error":"#VALUE!"}},{"$f":"SUMIF(資料庫!D:D,庫存計算!C486,資料庫!E:E)","v":0}]
[{"$f":"表格2[[#This Row],[貨源]]","v":{"$error":"#VALUE!"}},{"$f":"表格2[[#This Row],[編號]]","v":{"$error":"#VALUE!"}},{"$f":"表格2[[#This Row],[產品]]","v":{"$error":"#VALUE!"}},{"$f":"表格2[[#This Row],[單價]]","v":{"$error":"#VALUE!"}},{"$f":"表格2[[#This Row],[入貨價]]","v":{"$error":"#VALUE!"}},{"$f":"SUMIF(資料庫!D:D,庫存計算!C487,資料庫!E:E)","v":0}]
[{"$f":"表格2[[#This Row],[貨源]]","v":{"$error":"#VALUE!"}},{"$f":"表格2[[#This Row],[編號]]","v":{"$error":"#VALUE!"}},{"$f":"表格2[[#This Row],[產品]]","v":{"$error":"#VALUE!"}},{"$f":"表格2[[#This Row],[單價]]","v":{"$error":"#VALUE!"}},{"$f":"表格2[[#This Row],[入貨價]]","v":{"$error":"#VALUE!"}},{"$f":"SUMIF(資料庫!D:D,庫存計算!C488,資料庫!E:E)","v":0}]
[{"$f":"表格2[[#This Row],[貨源]]","v":{"$error":"#VALUE!"}},{"$f":"表格2[[#This Row],[編號]]","v":{"$error":"#VALUE!"}},{"$f":"表格2[[#This Row],[產品]]","v":{"$error":"#VALUE!"}},{"$f":"表格2[[#This Row],[單價]]","v":{"$error":"#VALUE!"}},{"$f":"表格2[[#This Row],[入貨價]]","v":{"$error":"#VALUE!"}},{"$f":"SUMIF(資料庫!D:D,庫存計算!C489,資料庫!E:E)","v":0}]
[{"$f":"表格2[[#This Row],[貨源]]","v":{"$error":"#VALUE!"}},{"$f":"表格2[[#This Row],[編號]]","v":{"$error":"#VALUE!"}},{"$f":"表格2[[#This Row],[產品]]","v":{"$error":"#VALUE!"}},{"$f":"表格2[[#This Row],[單價]]","v":{"$error":"#VALUE!"}},{"$f":"表格2[[#This Row],[入貨價]]","v":{"$error":"#VALUE!"}},{"$f":"SUMIF(資料庫!D:D,庫存計算!C490,資料庫!E:E)","v":0}]
[{"$f":"表格2[[#This Row],[貨源]]","v":{"$error":"#VALUE!"}},{"$f":"表格2[[#This Row],[編號]]","v":{"$error":"#VALUE!"}},{"$f":"表格2[[#This Row],[產品]]","v":{"$error":"#VALUE!"}},{"$f":"表格2[[#This Row],[單價]]","v":{"$error":"#VALUE!"}},{"$f":"表格2[[#This Row],[入貨價]]","v":{"$error":"#VALUE!"}},{"$f":"SUMIF(資料庫!D:D,庫存計算!C491,資料庫!E:E)","v":0}]
[{"$f":"表格2[[#This Row],[貨源]]","v":{"$error":"#VALUE!"}},{"$f":"表格2[[#This Row],[編號]]","v":{"$error":"#VALUE!"}},{"$f":"表格2[[#This Row],[產品]]","v":{"$error":"#VALUE!"}},{"$f":"表格2[[#This Row],[單價]]","v":{"$error":"#VALUE!"}},{"$f":"表格2[[#This Row],[入貨價]]","v":{"$error":"#VALUE!"}},{"$f":"SUMIF(資料庫!D:D,庫存計算!C492,資料庫!E:E)","v":0}]
[{"$f":"表格2[[#This Row],[貨源]]","v":{"$error":"#VALUE!"}},{"$f":"表格2[[#This Row],[編號]]","v":{"$error":"#VALUE!"}},{"$f":"表格2[[#This Row],[產品]]","v":{"$error":"#VALUE!"}},{"$f":"表格2[[#This Row],[單價]]","v":{"$error":"#VALUE!"}},{"$f":"表格2[[#This Row],[入貨價]]","v":{"$error":"#VALUE!"}},{"$f":"SUMIF(資料庫!D:D,庫存計算!C493,資料庫!E:E)","v":0}]
[{"$f":"表格2[[#This Row],[貨源]]","v":{"$error":"#VALUE!"}},{"$f":"表格2[[#This Row],[編號]]","v":{"$error":"#VALUE!"}},{"$f":"表格2[[#This Row],[產品]]","v":{"$error":"#VALUE!"}},{"$f":"表格2[[#This Row],[單價]]","v":{"$error":"#VALUE!"}},{"$f":"表格2[[#This Row],[入貨價]]","v":{"$error":"#VALUE!"}},{"$f":"SUMIF(資料庫!D:D,庫存計算!C494,資料庫!E:E)","v":0}]
[{"$f":"表格2[[#This Row],[貨源]]","v":{"$error":"#VALUE!"}},{"$f":"表格2[[#This Row],[編號]]","v":{"$error":"#VALUE!"}},{"$f":"表格2[[#This Row],[產品]]","v":{"$error":"#VALUE!"}},{"$f":"表格2[[#This Row],[單價]]","v":{"$error":"#VALUE!"}},{"$f":"表格2[[#This Row],[入貨價]]","v":{"$error":"#VALUE!"}},{"$f":"SUMIF(資料庫!D:D,庫存計算!C495,資料庫!E:E)","v":0}]
[{"$f":"表格2[[#This Row],[貨源]]","v":{"$error":"#VALUE!"}},{"$f":"表格2[[#This Row],[編號]]","v":{"$error":"#VALUE!"}},{"$f":"表格2[[#This Row],[產品]]","v":{"$error":"#VALUE!"}},{"$f":"表格2[[#This Row],[單價]]","v":{"$error":"#VALUE!"}},{"$f":"表格2[[#This Row],[入貨價]]","v":{"$error":"#VALUE!"}},{"$f":"SUMIF(資料庫!D:D,庫存計算!C496,資料庫!E:E)","v":0}]
[{"$f":"表格2[[#This Row],[貨源]]","v":{"$error":"#VALUE!"}},{"$f":"表格2[[#This Row],[編號]]","v":{"$error":"#VALUE!"}},{"$f":"表格2[[#This Row],[產品]]","v":{"$error":"#VALUE!"}},{"$f":"表格2[[#This Row],[單價]]","v":{"$error":"#VALUE!"}},{"$f":"表格2[[#This Row],[入貨價]]","v":{"$error":"#VALUE!"}},{"$f":"SUMIF(資料庫!D:D,庫存計算!C497,資料庫!E:E)","v":0}]
[{"$f":"表格2[[#This Row],[貨源]]","v":{"$error":"#VALUE!"}},{"$f":"表格2[[#This Row],[編號]]","v":{"$error":"#VALUE!"}},{"$f":"表格2[[#This Row],[產品]]","v":{"$error":"#VALUE!"}},{"$f":"表格2[[#This Row],[單價]]","v":{"$error":"#VALUE!"}},{"$f":"表格2[[#This Row],[入貨價]]","v":{"$error":"#VALUE!"}},{"$f":"SUMIF(資料庫!D:D,庫存計算!C498,資料庫!E:E)","v":0}]
[{"$f":"表格2[[#This Row],[貨源]]","v":{"$error":"#VALUE!"}},{"$f":"表格2[[#This Row],[編號]]","v":{"$error":"#VALUE!"}},{"$f":"表格2[[#This Row],[產品]]","v":{"$error":"#VALUE!"}},{"$f":"表格2[[#This Row],[單價]]","v":{"$error":"#VALUE!"}},{"$f":"表格2[[#This Row],[入貨價]]","v":{"$error":"#VALUE!"}},{"$f":"SUMIF(資料庫!D:D,庫存計算!C499,資料庫!E:E)","v":0}]
[{"$f":"表格2[[#This Row],[貨源]]","v":{"$error":"#VALUE!"}},{"$f":"表格2[[#This Row],[編號]]","v":{"$error":"#VALUE!"}},{"$f":"表格2[[#This Row],[產品]]","v":{"$error":"#VALUE!"}},{"$f":"表格2[[#This Row],[單價]]","v":{"$error":"#VALUE!"}},{"$f":"表格2[[#This Row],[入貨價]]","v":{"$error":"#VALUE!"}},{"$f":"SUMIF(資料庫!D:D,庫存計算!C500,資料庫!E:E)","v":0}]
[{"$f":"表格2[[#This Row],[貨源]]","v":{"$error":"#VALUE!"}},{"$f":"表格2[[#This Row],[編號]]","v":{"$error":"#VALUE!"}},{"$f":"表格2[[#This Row],[產品]]","v":{"$error":"#VALUE!"}},{"$f":"表格2[[#This Row],[單價]]","v":{"$error":"#VALUE!"}},{"$f":"表格2[[#This Row],[入貨價]]","v":{"$error":"#VALUE!"}},{"$f":"SUMIF(資料庫!D:D,庫存計算!C501,資料庫!E:E)","v":0}]
[{"$f":"表格2[[#This Row],[貨源]]","v":{"$error":"#VALUE!"}},{"$f":"表格2[[#This Row],[編號]]","v":{"$error":"#VALUE!"}},{"$f":"表格2[[#This Row],[產品]]","v":{"$error":"#VALUE!"}},{"$f":"表格2[[#This Row],[單價]]","v":{"$error":"#VALUE!"}},{"$f":"表格2[[#This Row],[入貨價]]","v":{"$error":"#VALUE!"}},{"$f":"SUMIF(資料庫!D:D,庫存計算!C502,資料庫!E:E)","v":0}]
[{"$f":"表格2[[#This Row],[貨源]]","v":{"$error":"#VALUE!"}},{"$f":"表格2[[#This Row],[編號]]","v":{"$error":"#VALUE!"}},{"$f":"表格2[[#This Row],[產品]]","v":{"$error":"#VALUE!"}},{"$f":"表格2[[#This Row],[單價]]","v":{"$error":"#VALUE!"}},{"$f":"表格2[[#This Row],[入貨價]]","v":{"$error":"#VALUE!"}},{"$f":"SUMIF(資料庫!D:D,庫存計算!C503,資料庫!E:E)","v":0}]
[{"$f":"表格2[[#This Row],[貨源]]","v":{"$error":"#VALUE!"}},null,{"$f":"表格2[[#This Row],[產品]]","v":{"$error":"#VALUE!"}},{"$f":"表格2[[#This Row],[單價]]","v":{"$error":"#VALUE!"}},{"$f":"表格2[[#This Row],[入貨價]]","v":{"$error":"#VALUE!"}},{"$f":"SUMIF(資料庫!D:D,庫存計算!C504,資料庫!E:E)","v":0}]
[{"$f":"表格2[[#This Row],[貨源]]","v":{"$error":"#VALUE!"}},null,{"$f":"表格2[[#This Row],[產品]]","v":{"$error":"#VALUE!"}},{"$f":"表格2[[#This Row],[單價]]","v":{"$error":"#VALUE!"}},{"$f":"表格2[[#This Row],[入貨價]]","v":{"$error":"#VALUE!"}},{"$f":"SUMIF(資料庫!D:D,庫存計算!C505,資料庫!E:E)","v":0}]
[{"$f":"表格2[[#This Row],[貨源]]","v":{"$error":"#VALUE!"}},null,{"$f":"表格2[[#This Row],[產品]]","v":{"$error":"#VALUE!"}},{"$f":"表格2[[#This Row],[單價]]","v":{"$error":"#VALUE!"}},{"$f":"表格2[[#This Row],[入貨價]]","v":{"$error":"#VALUE!"}},{"$f":"SUMIF(資料庫!D:D,庫存計算!C506,資料庫!E:E)","v":0}]
[{"$f":"表格2[[#This Row],[貨源]]","v":{"$error":"#VALUE!"}},null,{"$f":"表格2[[#This Row],[產品]]","v":{"$error":"#VALUE!"}},{"$f":"表格2[[#This Row],[單價]]","v":{"$error":"#VALUE!"}},{"$f":"表格2[[#This Row],[入貨價]]","v":{"$error":"#VALUE!"}},{"$f":"SUMIF(資料庫!D:D,庫存計算!C507,資料庫!E:E)","v":0}]
[{"$f":"表格2[[#This Row],[貨源]]","v":{"$error":"#VALUE!"}},null,{"$f":"表格2[[#This Row],[產品]]","v":{"$error":"#VALUE!"}},{"$f":"表格2[[#This Row],[單價]]","v":{"$error":"#VALUE!"}},{"$f":"表格2[[#This Row],[入貨價]]","v":{"$error":"#VALUE!"}},{"$f":"SUMIF(資料庫!D:D,庫存計算!C508,資料庫!E:E)","v":0}]
[{"$f":"表格2[[#This Row],[貨源]]","v":{"$error":"#VALUE!"}},null,{"$f":"表格2[[#This Row],[產品]]","v":{"$error":"#VALUE!"}},{"$f":"表格2[[#This Row],[單價]]","v":{"$error":"#VALUE!"}},{"$f":"表格2[[#This Row],[入貨價]]","v":{"$error":"#VALUE!"}},{"$f":"SUMIF(資料庫!D:D,庫存計算!C509,資料庫!E:E)","v":0}]
[{"$f":"表格2[[#This Row],[貨源]]","v":{"$error":"#VALUE!"}},null,{"$f":"表格2[[#This Row],[產品]]","v":{"$error":"#VALUE!"}},{"$f":"表格2[[#This Row],[單價]]","v":{"$error":"#VALUE!"}},{"$f":"表格2[[#This Row],[入貨價]]","v":{"$error":"#VALUE!"}},{"$f":"SUMIF(資料庫!D:D,庫存計算!C510,資料庫!E:E)","v":0}]
[{"$f":"表格2[[#This Row],[貨源]]","v":{"$error":"#VALUE!"}},null,{"$f":"表格2[[#This Row],[產品]]","v":{"$error":"#VALUE!"}},{"$f":"表格2[[#This Row],[單價]]","v":{"$error":"#VALUE!"}},{"$f":"表格2[[#This Row],[入貨價]]","v":{"$error":"#VALUE!"}},{"$f":"SUMIF(資料庫!D:D,庫存計算!C511,資料庫!E:E)","v":0}]
[{"$f":"表格2[[#This Row],[貨源]]","v":{"$error":"#VALUE!"}},null,{"$f":"表格2[[#This Row],[產品]]","v":{"$error":"#VALUE!"}},{"$f":"表格2[[#This Row],[單價]]","v":{"$error":"#VALUE!"}},{"$f":"表格2[[#This Row],[入貨價]]","v":{"$error":"#VALUE!"}},{"$f":"SUMIF(資料庫!D:D,庫存計算!C512,資料庫!E:E)","v":0}]
[{"$f":"表格2[[#This Row],[貨源]]","v":{"$error":"#VALUE!"}},null,{"$f":"表格2[[#This Row],[產品]]","v":{"$error":"#VALUE!"}},{"$f":"表格2[[#This Row],[單價]]","v":{"$error":"#VALUE!"}},{"$f":"表格2[[#This Row],[入貨價]]","v":{"$error":"#VALUE!"}},{"$f":"SUMIF(資料庫!D:D,庫存計算!C513,資料庫!E:E)","v":0}]
[{"$f":"表格2[[#This Row],[貨源]]","v":{"$error":"#VALUE!"}},null,{"$f":"表格2[[#This Row],[產品]]","v":{"$error":"#VALUE!"}},{"$f":"表格2[[#This Row],[單價]]","v":{"$error":"#VALUE!"}},{"$f":"表格2[[#This Row],[入貨價]]","v":{"$error":"#VALUE!"}},{"$f":"SUMIF(資料庫!D:D,庫存計算!C514,資料庫!E:E)","v":0}]
[{"$f":"表格2[[#This Row],[貨源]]","v":{"$error":"#VALUE!"}},null,{"$f":"表格2[[#This Row],[產品]]","v":{"$error":"#VALUE!"}},{"$f":"表格2[[#This Row],[單價]]","v":{"$error":"#VALUE!"}},{"$f":"表格2[[#This Row],[入貨價]]","v":{"$error":"#VALUE!"}},{"$f":"SUMIF(資料庫!D:D,庫存計算!C515,資料庫!E:E)","v":0}]
[{"$f":"表格2[[#This Row],[貨源]]","v":{"$error":"#VALUE!"}},null,{"$f":"表格2[[#This Row],[產品]]","v":{"$error":"#VALUE!"}},{"$f":"表格2[[#This Row],[單價]]","v":{"$error":"#VALUE!"}},{"$f":"表格2[[#This Row],[入貨價]]","v":{"$error":"#VALUE!"}},{"$f":"SUMIF(資料庫!D:D,庫存計算!C516,資料庫!E:E)","v":0}]
[{"$f":"表格2[[#This Row],[貨源]]","v":{"$error":"#VALUE!"}},null,{"$f":"表格2[[#This Row],[產品]]","v":{"$error":"#VALUE!"}},{"$f":"表格2[[#This Row],[單價]]","v":{"$error":"#VALUE!"}},{"$f":"表格2[[#This Row],[入貨價]]","v":{"$error":"#VALUE!"}},{"$f":"SUMIF(資料庫!D:D,庫存計算!C517,資料庫!E:E)","v":0}]
[{"$f":"表格2[[#This Row],[貨源]]","v":{"$error":"#VALUE!"}},null,{"$f":"表格2[[#This Row],[產品]]","v":{"$error":"#VALUE!"}},{"$f":"表格2[[#This Row],[單價]]","v":{"$error":"#VALUE!"}},{"$f":"表格2[[#This Row],[入貨價]]","v":{"$error":"#VALUE!"}},{"$f":"SUMIF(資料庫!D:D,庫存計算!C518,資料庫!E:E)","v":0}]
[{"$f":"表格2[[#This Row],[貨源]]","v":{"$error":"#VALUE!"}},null,{"$f":"表格2[[#This Row],[產品]]","v":{"$error":"#VALUE!"}},{"$f":"表格2[[#This Row],[單價]]","v":{"$error":"#VALUE!"}},{"$f":"表格2[[#This Row],[入貨價]]","v":{"$error":"#VALUE!"}},{"$f":"SUMIF(資料庫!D:D,庫存計算!C519,資料庫!E:E)","v":0}]
[{"$f":"表格2[[#This Row],[貨源]]","v":{"$error":"#VALUE!"}},null,{"$f":"表格2[[#This Row],[產品]]","v":{"$error":"#VALUE!"}},{"$f":"表格2[[#This Row],[單價]]","v":{"$error":"#VALUE!"}},{"$f":"表格2[[#This Row],[入貨價]]","v":{"$error":"#VALUE!"}},{"$f":"SUMIF(資料庫!D:D,庫存計算!C520,資料庫!E:E)","v":0}]
[{"$f":"表格2[[#This Row],[貨源]]","v":{"$error":"#VALUE!"}},null,{"$f":"表格2[[#This Row],[產品]]","v":{"$error":"#VALUE!"}},{"$f":"表格2[[#This Row],[單價]]","v":{"$error":"#VALUE!"}},{"$f":"表格2[[#This Row],[入貨價]]","v":{"$error":"#VALUE!"}},{"$f":"SUMIF(資料庫!D:D,庫存計算!C521,資料庫!E:E)","v":0}]
[{"$f":"表格2[[#This Row],[貨源]]","v":{"$error":"#VALUE!"}},null,{"$f":"表格2[[#This Row],[產品]]","v":{"$error":"#VALUE!"}},{"$f":"表格2[[#This Row],[單價]]","v":{"$error":"#VALUE!"}},{"$f":"表格2[[#This Row],[入貨價]]","v":{"$error":"#VALUE!"}},{"$f":"SUMIF(資料庫!D:D,庫存計算!C522,資料庫!E:E)","v":0}]
[{"$f":"表格2[[#This Row],[貨源]]","v":{"$error":"#VALUE!"}},null,{"$f":"表格2[[#This Row],[產品]]","v":{"$error":"#VALUE!"}},{"$f":"表格2[[#This Row],[單價]]","v":{"$error":"#VALUE!"}},{"$f":"表格2[[#This Row],[入貨價]]","v":{"$error":"#VALUE!"}},{"$f":"SUMIF(資料庫!D:D,庫存計算!C523,資料庫!E:E)","v":0}]
[{"$f":"表格2[[#This Row],[貨源]]","v":{"$error":"#VALUE!"}},null,{"$f":"表格2[[#This Row],[產品]]","v":{"$error":"#VALUE!"}},{"$f":"表格2[[#This Row],[單價]]","v":{"$error":"#VALUE!"}},{"$f":"表格2[[#This Row],[入貨價]]","v":{"$error":"#VALUE!"}},{"$f":"SUMIF(資料庫!D:D,庫存計算!C524,資料庫!E:E)","v":0}]
[{"$f":"表格2[[#This Row],[貨源]]","v":{"$error":"#VALUE!"}},null,{"$f":"表格2[[#This Row],[產品]]","v":{"$error":"#VALUE!"}},{"$f":"表格2[[#This Row],[單價]]","v":{"$error":"#VALUE!"}},{"$f":"表格2[[#This Row],[入貨價]]","v":{"$error":"#VALUE!"}},{"$f":"SUMIF(資料庫!D:D,庫存計算!C525,資料庫!E:E)","v":0}]